{"text_format":"1","workbook":"xlsx","n_sheets":15,"sheets":["Results","Texture Calculator","raw files","4446 ","4447","4448 ","4449 ","4450","4450a","4451 ","4452 ","4453","4454","Calculations","Sheet1"],"not_rendered":{"charts":23,"images":1,"macros":1,"external_links":0,"defined_names":0,"comments":0,"pivot_tables":0},"unopened":[{"sheet":"4446 ","index":3,"reason":"not_a_worksheet"},{"sheet":"4447","index":4,"reason":"not_a_worksheet"},{"sheet":"4448 ","index":5,"reason":"not_a_worksheet"},{"sheet":"4449 ","index":6,"reason":"not_a_worksheet"},{"sheet":"4450","index":7,"reason":"not_a_worksheet"},{"sheet":"4450a","index":8,"reason":"not_a_worksheet"},{"sheet":"4451 ","index":9,"reason":"not_a_worksheet"},{"sheet":"4452 ","index":10,"reason":"not_a_worksheet"},{"sheet":"4453","index":11,"reason":"not_a_worksheet"},{"sheet":"4454","index":12,"reason":"not_a_worksheet"}],"bounds":{"document_bytes":16777216,"sheet_cells":100000,"rows_first":2000,"rows_last":500,"rows_between":2000,"halvings":0,"cell_chars":16384,"cell_head_chars":4096},"cells_cut":0,"cells_raw":0,"read":"whole","date_system":"1900"}

{"sheet":"Results","index":0,"n_rows":93,"n_cols":87,"rows_kept":93,"cut":false,"hidden":false,"merged":[[7,2,7,5],[8,2,8,5]]}
["Soil Lab, Geological Survey of Israel"]
["Particle Size Analysis by laser diffraction,  Instrument:  Mastersizer 2000"]
["Aviv Lee Zada"]
["Sample description: dune sand"]
["Samples ID's: [4446-4454]"]
[]
[]
["Particle",null,{"$f":"'raw files'!C1","v":"[4446] Chile_NN3 bulk - a - Average"},null,null,null,null,null,null,"Particle",null,{"$f":"'raw files'!I1","v":"[4447] NN4 bulk - a - Average"},null,null,null,null,null,null,"Particle",null,{"$f":"'raw files'!O1","v":"[4448] Chile_NN6 bulk - c - Average"},null,null,null,null,null,null,"Particle",null,{"$f":"'raw files'!V1","v":"[4449] Chile_NN9 bulk - a - Average"},null,null,null,null,null,null,"Particle",null,{"$f":"'raw files'!AB1","v":"[4450] CNN-12 bulk - a - Average"},null,null,null,null,null,null,"Particle",null,{"$f":"'raw files'!AH1","v":"[4450a] CNN-12 bulk - a - Average"},null,null,null,null,null,null,"Particle",null,{"$f":"'raw files'!AN1","v":"[4451] Chile_CNN_11 bulk - b - Average"},null,null,null,null,null,null,"Particle",null,{"$f":"'raw files'!AT1","v":"[4452] Chile_CNN_10 bulk - a - Average"},null,null,null,null,null,null,"Particle",null,{"$f":"'raw files'!AZ1","v":"[4453] Chile_Amboy_1 bulk - c - Average"},null,null,null,null,null,"Particle",null,{"$f":"'raw files'!BF1","v":"[4454] Amboy 3 bulk - a - Average"}]
["Diameter",null,"Differential Volume (%)",null,null,null,null,null,null,"Diameter",null,"Differential Volume (%)",null,null,null,null,null,null,"Diameter",null,"Differential Volume (%)",null,null,null,null,null,null,"Diameter",null,"Differential Volume (%)",null,null,null,null,null,null,"Diameter",null,"Differential Volume (%)",null,null,null,null,null,null,"Diameter",null,"Differential Volume (%)",null,null,null,null,null,null,"Diameter",null,"Differential Volume (%)",null,null,null,null,null,null,"Diameter",null,"Differential Volume (%)",null,null,null,null,null,null,"Diameter",null,"Differential Volume (%)",null,null,null,null,null,"Diameter",null,"Differential Volume (%)"]
["Range (mm)","Size Class","Rep. 1","Rep. 2","Rep. 3","Average","SE",null,null,"Range (mm)","Size Class","Rep. 1","Rep. 2","Rep. 3","Average","SE",null,null,"Range (mm)","Size Class","Rep. 1","Rep. 2","Rep. 3","Average","SE",null,null,"Range (mm)","Size Class","Rep. 1","Rep. 2","Rep. 3","Average","SE",null,null,"Range (mm)","Size Class","Rep. 1","Rep. 2","Rep. 3","Average","SE",null,null,"Range (mm)","Size Class","Rep. 1","Rep. 2","Rep. 3","Average","SE",null,null,"Range (mm)","Size Class","Rep. 1","Rep. 2","Rep. 3","Average","SE",null,null,"Range (mm)","Size Class","Rep. 1","Rep. 2","Rep. 3","Average","SE",null,"Range (mm)","Size Class","Rep. 1","Rep. 2","Rep. 3","Average","SE",null,null,"Range (mm)","Size Class","Rep. 1","Rep. 2","Rep. 3","Average","SE"]
["< 6","Clay",{"$f":"'raw files'!C13","v":1.7250000000000001},{"$f":"'raw files'!D13","v":1.036},{"$f":"'raw files'!E13","v":0},{"$f":"AVERAGE(C11:E11)","v":0.92033333333333334},{"$f":"(STDEV(C11:E11))/SQRT(3)","v":0.50131172382505118},null,null,"< 6","Clay",{"$f":"'raw files'!I13","v":0.54600000000000004},{"$f":"'raw files'!J13","v":1.579},{"$f":"'raw files'!K13","v":1.83},{"$f":"AVERAGE(L11,N11)","v":1.1880000000000002},{"$f":"(STDEV(L11:N11))/SQRT(3)","v":0.39290555834421309},null,null,"< 6","Clay",{"$f":"'raw files'!O13","v":0.433},{"$f":"'raw files'!P13","v":0},{"$f":"'raw files'!Q13","v":0.108},{"$f":"AVERAGE(U11:W11)","v":0.18033333333333335},{"$f":"(STDEV(U11:W11))/SQRT(3)","v":0.13012344566261344},null,null,"< 6","Clay",{"$f":"'raw files'!V13","v":0},{"$f":"'raw files'!W13","v":0.19500000000000001},{"$f":"'raw files'!X13","v":0.38800000000000001},{"$f":"AVERAGE(AD11:AF11)","v":0.19433333333333333},{"$f":"(STDEV(AD11:AF11))/SQRT(3)","v":0.11200644822707508},null,null,"< 6","Clay",{"$f":"'raw files'!AB13","v":0.83799999999999997},{"$f":"'raw files'!AC13","v":1.073},{"$f":"'raw files'!AD13","v":1.3280000000000001},{"$f":"AVERAGE(AM11:AO11)","v":1.0796666666666666},{"$f":"(STDEV(AM11:AO11))/SQRT(3)","v":0.14149008602882576},null,null,"< 6","Clay",{"$f":"'raw files'!AH13","v":0.89900000000000002},{"$f":"'raw files'!AI13","v":1.1579999999999999},{"$f":"'raw files'!AJ13","v":1.53},{"$f":"AVERAGE(AV11:AX11)","v":1.1956666666666667},{"$f":"(STDEV(AV11:AX11))/SQRT(3)","v":0.18312503318164297},null,null,"< 6","Clay",{"$f":"'raw files'!AN13","v":0},{"$f":"'raw files'!AO13","v":0},{"$f":"'raw files'!AP13","v":0},{"$f":"AVERAGE(BE11:BG11)","v":0},{"$f":"(STDEV(BE11:BG11))/SQRT(3)","v":0},null,null,"< 6","Clay",{"$f":"'raw files'!AT13","v":0},{"$f":"'raw files'!AU13","v":0},{"$f":"'raw files'!AV13","v":0.13600000000000001},{"$f":"AVERAGE(BN11:BP11)","v":4.5333333333333337E-2},{"$f":"(STDEV(BN11:BP11))/SQRT(3)","v":4.533333333333333E-2},null,"< 6","Clay",{"$f":"'raw files'!AZ13","v":2.7090000000000001},{"$f":"'raw files'!BA13","v":3.1789999999999998},{"$f":"'raw files'!BB13","v":3.9279999999999999},{"$f":"AVERAGE(BV11:BX11)","v":3.2719999999999998},{"$f":"(STDEV(BV11:BX11))/SQRT(3)","v":0.35495398762844432},null,null,"< 6","Clay",{"$f":"'raw files'!BF13","v":19.053999999999998},{"$f":"'raw files'!BG13","v":18.564},{"$f":"'raw files'!BH13","v":19.234999999999999},{"$f":"AVERAGE(CE11:CG11)","v":18.950999999999997},{"$f":"(STDEV(CE11:CG11))/SQRT(3)","v":0.20043037028687349}]
["6 - 63","Silt",{"$f":"'raw files'!C14","v":2.9990000000000001},{"$f":"'raw files'!D14","v":2.3380000000000001},{"$f":"'raw files'!E14","v":1.478},{"$f":"AVERAGE(C12:E12)","v":2.2716666666666665},{"$f":"(STDEV(C12:E12))/SQRT(3)","v":0.44032576324555234},null,null,"6 - 63","Silt",{"$f":"'raw files'!I14","v":1.702},{"$f":"'raw files'!J14","v":3.0059999999999998},{"$f":"'raw files'!K14","v":3.2959999999999998},{"$f":"AVERAGE(L12,N12)","v":2.4989999999999997},{"$f":"(STDEV(L12:N12))/SQRT(3)","v":0.49020131918767179},null,null,"6 - 63","Silt",{"$f":"'raw files'!O14","v":1.867},{"$f":"'raw files'!P14","v":0.64800000000000002},{"$f":"'raw files'!Q14","v":1.1479999999999999},{"$f":"AVERAGE(U12:W12)","v":1.2210000000000001},{"$f":"(STDEV(U12:W12))/SQRT(3)","v":0.35378289010823166},null,null,"6 - 63","Silt",{"$f":"'raw files'!V14","v":0.50600000000000001},{"$f":"'raw files'!W14","v":0.76700000000000002},{"$f":"'raw files'!X14","v":1.1100000000000001},{"$f":"AVERAGE(AD12:AF12)","v":0.79433333333333334},{"$f":"(STDEV(AD12:AF12))/SQRT(3)","v":0.17489457141692866},null,null,"6 - 63","Silt",{"$f":"'raw files'!AB14","v":1.97},{"$f":"'raw files'!AC14","v":2.29},{"$f":"'raw files'!AD14","v":2.4670000000000001},{"$f":"AVERAGE(AM12:AO12)","v":2.2423333333333333},{"$f":"(STDEV(AM12:AO12))/SQRT(3)","v":0.14543765369088957},null,null,"6 - 63","Silt",{"$f":"'raw files'!AH14","v":4.1429999999999998},{"$f":"'raw files'!AI14","v":4.7279999999999998},{"$f":"'raw files'!AJ14","v":5.46},{"$f":"AVERAGE(AV12:AX12)","v":4.7770000000000001},{"$f":"(STDEV(AV12:AX12))/SQRT(3)","v":0.3809737523767191},null,null,"6 - 63","Silt",{"$f":"'raw files'!AN14","v":0},{"$f":"'raw files'!AO14","v":0},{"$f":"'raw files'!AP14","v":0},{"$f":"AVERAGE(BE12:BG12)","v":0},{"$f":"(STDEV(BE12:BG12))/SQRT(3)","v":0},null,null,"6 - 63","Silt",{"$f":"'raw files'!AT14","v":9.6000000000000002E-2},{"$f":"'raw files'!AU14","v":0},{"$f":"'raw files'!AV14","v":0.318},{"$f":"AVERAGE(BN12:BP12)","v":0.13800000000000001},{"$f":"(STDEV(BN12:BP12))/SQRT(3)","v":9.4170058935948431E-2},null,"6 - 63","Silt",{"$f":"'raw files'!AZ14","v":7.67},{"$f":"'raw files'!BA14","v":8.1760000000000002},{"$f":"'raw files'!BB14","v":10.491},{"$f":"AVERAGE(BV12:BX12)","v":8.7789999999999999},{"$f":"(STDEV(BV12:BX12))/SQRT(3)","v":0.86837338359332861},null,null,"6 - 63","Silt",{"$f":"'raw files'!BF14","v":48.353000000000002},{"$f":"'raw files'!BG14","v":44.244999999999997},{"$f":"'raw files'!BH14","v":47.73},{"$f":"AVERAGE(CE12:CG12)","v":46.776000000000003},{"$f":"(STDEV(CE12:CG12))/SQRT(3)","v":1.2782152922467074}]
["63 - 2000","Sand",{"$f":"'raw files'!C15","v":95.275999999999996},{"$f":"'raw files'!D15","v":96.626000000000005},{"$f":"'raw files'!E15","v":98.522000000000006},96.807999999999993,{"$f":"(STDEV(C13:E13))/SQRT(3)","v":0.94144782117757586},null,null,"63 - 2000","Sand",{"$f":"'raw files'!I15","v":97.751999999999995},{"$f":"'raw files'!J15","v":95.415000000000006},{"$f":"'raw files'!K15","v":94.875},96.313500000000005,{"$f":"(STDEV(L13:N13))/SQRT(3)","v":0.88287088523747126},null,null,"63 - 2000","Sand",{"$f":"'raw files'!O15","v":97.698999999999998},{"$f":"'raw files'!P15","v":99.352000000000004},{"$f":"'raw files'!Q15","v":98.744},98.598333333333315,{"$f":"(STDEV(U13:W13))/SQRT(3)","v":0.48270637497804608},null,null,"63 - 2000","Sand",{"$f":"'raw files'!V15","v":99.494},{"$f":"'raw files'!W15","v":99.037999999999997},{"$f":"'raw files'!X15","v":98.501999999999995},99.011333333333326,{"$f":"(STDEV(AD13:AF13))/SQRT(3)","v":0.28667596884132412},null,null,"63 - 2000","Sand",{"$f":"'raw files'!AB15","v":97.191000000000003},{"$f":"'raw files'!AC15","v":96.637},{"$f":"'raw files'!AD15","v":96.203999999999994},96.677333333333323,0.28563515967829645,null,null,"63 - 2000","Sand",{"$f":"'raw files'!AH15","v":94.957999999999998},{"$f":"'raw files'!AI15","v":94.114000000000004},{"$f":"'raw files'!AJ15","v":93.01},94.027333333333331,0.56400630414128261,null,null,"63 - 2000","Sand",{"$f":"'raw files'!AN15","v":100},{"$f":"'raw files'!AO15","v":100},{"$f":"'raw files'!AP15","v":100},100,{"$f":"(STDEV(BE13:BG13))/SQRT(3)","v":0},null,null,"63 - 2000","Sand",{"$f":"'raw files'!AT15","v":99.903999999999996},{"$f":"'raw files'!AU15","v":100},{"$f":"'raw files'!AV15","v":99.546000000000006},99.816666666666663,0.13814163424221687,null,"63 - 2000","Sand",{"$f":"'raw files'!AZ15","v":89.620999999999995},{"$f":"'raw files'!BA15","v":88.644999999999996},{"$f":"'raw files'!BB15","v":85.581000000000003},87.948999999999998,{"$f":"(STDEV(BV13:BX13))/SQRT(3)","v":1.2170609406818247},null,null,"63 - 2000","Sand",{"$f":"'raw files'!BF15","v":32.591999999999999},{"$f":"'raw files'!BG15","v":37.19},{"$f":"'raw files'!BH15","v":33.034999999999997},34.272333333333329,{"$f":"(STDEV(CE13:CG13))/SQRT(3)","v":1.4644277987588796}]
["63 - 125","VF Sand",{"$f":"'raw files'!C16","v":10.462},{"$f":"'raw files'!D16","v":10.518000000000001},{"$f":"'raw files'!E16","v":11.602},10.860666666666667,0.37101901718255786,null,null,"63 - 125","VF Sand",{"$f":"'raw files'!I16","v":9.0389999999999997},{"$f":"'raw files'!J16","v":13.03},{"$f":"'raw files'!K16","v":14.422000000000001},11.730499999999999,1.6131823965207548,null,null,"63 - 125","VF Sand",{"$f":"'raw files'!O16","v":8.8610000000000007},{"$f":"'raw files'!P16","v":7.6909999999999998},{"$f":"'raw files'!Q16","v":8.423},8.3250000000000011,0.3412858039825275,null,null,"63 - 125","VF Sand",{"$f":"'raw files'!V16","v":2.91},{"$f":"'raw files'!W16","v":3.38},{"$f":"'raw files'!X16","v":3.9950000000000001},3.4283333333333332,0.31414345626020984,null,null,"63 - 125","VF Sand",{"$f":"'raw files'!AB16","v":5.2480000000000002},{"$f":"'raw files'!AC16","v":5.3040000000000003},{"$f":"'raw files'!AD16","v":5.2750000000000004},5.2756666666666669,1.6169243780846554E-2,null,null,"63 - 125","VF Sand",{"$f":"'raw files'!AH16","v":8.8989999999999991},{"$f":"'raw files'!AI16","v":10.292999999999999},{"$f":"'raw files'!AJ16","v":10.103},9.7650000000000006,0.43646000198567275,null,null,"63 - 125","VF Sand",{"$f":"'raw files'!AN16","v":0.41699999999999998},{"$f":"'raw files'!AO16","v":1.67},{"$f":"'raw files'!AP16","v":0.73599999999999999},{"$f":"AVERAGE(BE14:BG14)","v":0.94099999999999984},{"$f":"(STDEV(BE14:BG14))/SQRT(3)","v":0.37595256793022908},null,null,"63 - 125","VF Sand",{"$f":"'raw files'!AT16","v":1.68},{"$f":"'raw files'!AU16","v":2.1110000000000002},{"$f":"'raw files'!AV16","v":1.0089999999999999},{"$f":"AVERAGE(BN14:BP14)","v":1.6000000000000003},{"$f":"(STDEV(BN14:BP14))/SQRT(3)","v":0.32062491065625759},null,"63 - 125","VF Sand",{"$f":"'raw files'!AZ16","v":14.867000000000001},{"$f":"'raw files'!BA16","v":13.363},{"$f":"'raw files'!BB16","v":16.428999999999998},14.886333333333333,0.88513074991463492,null,null,"63 - 125","VF Sand",{"$f":"'raw files'!BF16","v":18.355},{"$f":"'raw files'!BG16","v":16.437000000000001},{"$f":"'raw files'!BH16","v":18.989000000000001},17.927000000000003,0.76715144093805443]
["125 - 250","F Sand",{"$f":"'raw files'!C17","v":44.176000000000002},{"$f":"'raw files'!D17","v":48.674999999999997},{"$f":"'raw files'!E17","v":46.393000000000001},46.414666666666669,1.2987946121094132,null,null,"125 - 250","F Sand",{"$f":"'raw files'!I17","v":33.241},{"$f":"'raw files'!J17","v":40.006999999999998},{"$f":"'raw files'!K17","v":45.021999999999998},39.131500000000003,3.4133800615291281,null,null,"125 - 250","F Sand",{"$f":"'raw files'!O17","v":23.207999999999998},{"$f":"'raw files'!P17","v":23.07},{"$f":"'raw files'!Q17","v":23.841000000000001},23.373000000000001,0.23736680475584668,null,null,"125 - 250","F Sand",{"$f":"'raw files'!V17","v":22.974},{"$f":"'raw files'!W17","v":23.606999999999999},{"$f":"'raw files'!X17","v":26.507000000000001},24.362666666666669,1.0876268252995198,null,null,"125 - 250","F Sand",{"$f":"'raw files'!AB17","v":10.614000000000001},{"$f":"'raw files'!AC17","v":9.9710000000000001},{"$f":"'raw files'!AD17","v":9.9090000000000007},10.164666666666667,0.22537844716042502,null,null,"125 - 250","F Sand",{"$f":"'raw files'!AH17","v":16.937000000000001},{"$f":"'raw files'!AI17","v":20.593},{"$f":"'raw files'!AJ17","v":18.966000000000001},18.832000000000001,1.0575208429782048,null,null,"125 - 250","F Sand",{"$f":"'raw files'!AN17","v":2.5960000000000001},{"$f":"'raw files'!AO17","v":7.5010000000000003},{"$f":"'raw files'!AP17","v":4.0670000000000002},{"$f":"AVERAGE(BE15:BG15)","v":4.7213333333333338},{"$f":"(STDEV(BE15:BG15))/SQRT(3)","v":1.453257299234302},null,null,"125 - 250","F Sand",{"$f":"'raw files'!AT17","v":5.2750000000000004},{"$f":"'raw files'!AU17","v":8.1980000000000004},{"$f":"'raw files'!AV17","v":3.2229999999999999},5.5653333333333341,1.4434768596844361,null,"125 - 250","F Sand",{"$f":"'raw files'!AZ17","v":30.858000000000001},{"$f":"'raw files'!BA17","v":26.164999999999999},{"$f":"'raw files'!BB17","v":27.664000000000001},28.228999999999999,1.3838931798854037,null,null,"125 - 250","F Sand",{"$f":"'raw files'!BF17","v":9.0709999999999997},{"$f":"'raw files'!BG17","v":8.2530000000000001},{"$f":"'raw files'!BH17","v":9.5440000000000005},8.9559999999999995,0.37708929092899657]
["250 - 500","M Sand",{"$f":"'raw files'!C18","v":25.882999999999999},{"$f":"'raw files'!D18","v":27.917000000000002},{"$f":"'raw files'!E18","v":21.943000000000001},25.247666666666664,1.753558794122525,null,null,"250 - 500","M Sand",{"$f":"'raw files'!I18","v":24.106999999999999},{"$f":"'raw files'!J18","v":23.661000000000001},{"$f":"'raw files'!K18","v":24.219000000000001},24.163,0.17042821884235512,null,null,"250 - 500","M Sand",{"$f":"'raw files'!O18","v":21.748999999999999},{"$f":"'raw files'!P18","v":19.117999999999999},{"$f":"'raw files'!Q18","v":19.561},20.142666666666667,0.81328394658801528,null,null,"250 - 500","M Sand",{"$f":"'raw files'!V18","v":35.195999999999998},{"$f":"'raw files'!W18","v":32.476999999999997},{"$f":"'raw files'!X18","v":36.287999999999997},34.653666666666666,1.1330672726914519,null,null,"250 - 500","M Sand",{"$f":"'raw files'!AB18","v":10.603},{"$f":"'raw files'!AC18","v":12.601000000000001},{"$f":"'raw files'!AD18","v":11.917},11.707000000000001,0.58625250532513762,null,null,"250 - 500","M Sand",{"$f":"'raw files'!AH18","v":15.475},{"$f":"'raw files'!AI18","v":18.032},{"$f":"'raw files'!AJ18","v":17.754999999999999},17.087333333333333,0.81012269303962714,null,null,"250 - 500","M Sand",{"$f":"'raw files'!AN18","v":9.7739999999999991},{"$f":"'raw files'!AO18","v":9.6679999999999993},{"$f":"'raw files'!AP18","v":8.09},9.1773333333333333,0.54452711390506303,null,null,"250 - 500","M Sand",{"$f":"'raw files'!AT18","v":9.1609999999999996},{"$f":"'raw files'!AU18","v":11.281000000000001},{"$f":"'raw files'!AV18","v":8.4420000000000002},9.6280000000000001,0.85216332550358387,null,"250 - 500","M Sand",{"$f":"'raw files'!AZ18","v":32.241},{"$f":"'raw files'!BA18","v":31.907},{"$f":"'raw files'!BB18","v":30.428999999999998},31.525666666666666,0.55674570297199266,null,null,"250 - 500","M Sand",{"$f":"'raw files'!BF18","v":3.52},{"$f":"'raw files'!BG18","v":3.83},{"$f":"'raw files'!BH18","v":3.419},3.5896666666666666,0.12365318884327696]
["500 - 1000","C Sand",{"$f":"'raw files'!C19","v":8.266},{"$f":"'raw files'!D19","v":6.0810000000000004},{"$f":"'raw files'!E19","v":7.9390000000000001},7.4286666666666674,0.68041319145876789,null,null,"500 - 1000","C Sand",{"$f":"'raw files'!I19","v":18.974},{"$f":"'raw files'!J19","v":11.987},{"$f":"'raw files'!K19","v":7.0940000000000003},13.034000000000001,3.4471728996381961,null,null,"500 - 1000","C Sand",{"$f":"'raw files'!O19","v":28.274999999999999},{"$f":"'raw files'!P19","v":27.605},{"$f":"'raw files'!Q19","v":27.332999999999998},27.737666666666666,0.27990553962205011,null,null,"500 - 1000","C Sand",{"$f":"'raw files'!V19","v":27.588999999999999},{"$f":"'raw files'!W19","v":27.2},{"$f":"'raw files'!X19","v":23.593},26.127333333333336,1.2721326363412124,null,null,"500 - 1000","C Sand",{"$f":"'raw files'!AB19","v":37.805},{"$f":"'raw files'!AC19","v":39.682000000000002},{"$f":"'raw files'!AD19","v":38.761000000000003},38.749333333333333,0.54187462674599551,null,null,"500 - 1000","C Sand",{"$f":"'raw files'!AH19","v":30.995999999999999},{"$f":"'raw files'!AI19","v":27.286999999999999},{"$f":"'raw files'!AJ19","v":27.849},28.710666666666668,1.1541262688477565,null,null,"500 - 1000","C Sand",{"$f":"'raw files'!AN19","v":43},{"$f":"'raw files'!AO19","v":39.384},{"$f":"'raw files'!AP19","v":41.326999999999998},41.237000000000002,1.0448188040676398,null,null,"500 - 1000","C Sand",{"$f":"'raw files'!AT19","v":41.801000000000002},{"$f":"'raw files'!AU19","v":38.847000000000001},{"$f":"'raw files'!AV19","v":43.393000000000001},41.347000000000001,1.3318052910742368,null,"500 - 1000","C Sand",{"$f":"'raw files'!AZ19","v":10.978},{"$f":"'raw files'!BA19","v":15.423999999999999},{"$f":"'raw files'!BB19","v":10.962},12.454666666666668,1.4846738512024857,null,null,"500 - 1000","C Sand",{"$f":"'raw files'!BF19","v":1.645},{"$f":"'raw files'!BG19","v":6.0979999999999999},{"$f":"'raw files'!BH19","v":1.0820000000000001},2.9416666666666669,1.5865131928575662]
["1000 - 2000","VC Sand",{"$f":"'raw files'!C20","v":6.4880000000000004},{"$f":"'raw files'!D20","v":3.4350000000000001},{"$f":"'raw files'!E20","v":10.645},6.855999999999999,2.0894650830615333,null,null,"1000 - 2000","VC Sand",{"$f":"'raw files'!I20","v":12.391999999999999},{"$f":"'raw files'!J20","v":6.73},{"$f":"'raw files'!K20","v":4.117},8.2545000000000002,2.4422398417117916,null,null,"1000 - 2000","VC Sand",{"$f":"'raw files'!O20","v":15.606},{"$f":"'raw files'!P20","v":21.869},{"$f":"'raw files'!Q20","v":19.585999999999999},19.020333333333333,1.829961414286583,null,null,"1000 - 2000","VC Sand",{"$f":"'raw files'!V20","v":10.824999999999999},{"$f":"'raw files'!W20","v":12.374000000000001},{"$f":"'raw files'!X20","v":8.1189999999999998},10.439333333333332,1.2433570596485095,null,null,"1000 - 2000","VC Sand",{"$f":"'raw files'!AB20","v":32.921999999999997},{"$f":"'raw files'!AC20","v":29.079000000000001},{"$f":"'raw files'!AD20","v":30.343},30.781333333333333,1.1308204003190672,null,null,"1000 - 2000","VC Sand",{"$f":"'raw files'!AH20","v":22.652000000000001},{"$f":"'raw files'!AI20","v":17.908999999999999},{"$f":"'raw files'!AJ20","v":18.337},19.632666666666665,1.5147140911002981,null,null,"1000 - 2000","VC Sand",{"$f":"'raw files'!AN20","v":44.213000000000001},{"$f":"'raw files'!AO20","v":41.777999999999999},{"$f":"'raw files'!AP20","v":45.780999999999999},43.923999999999999,1.1645661567009982,null,null,"1000 - 2000","VC Sand",{"$f":"'raw files'!AT20","v":41.987000000000002},{"$f":"'raw files'!AU20","v":39.563000000000002},{"$f":"'raw files'!AV20","v":43.478999999999999},41.676333333333339,1.1410739580665996,null,"1000 - 2000","VC Sand",{"$f":"'raw files'!AZ20","v":0.67700000000000005},{"$f":"'raw files'!BA20","v":1.7869999999999999},{"$f":"'raw files'!BB20","v":9.8000000000000004E-2},0.85399999999999998,0.49553910037453147,null,null,"1000 - 2000","VC Sand",{"$f":"'raw files'!BF20","v":0},{"$f":"'raw files'!BG20","v":2.5720000000000001},{"$f":"'raw files'!BH20","v":0},0.85733333333333339,0.85733333333333328]
[null,null,null,"Textural Class:",null,{"$f":"'Texture Calculator'!N4","v":"SAND"},null,null,null,null,null,null,"Textural Class:",null,{"$f":"'Texture Calculator'!N5","v":"SAND"},null,null,null,null,null,null,"Textural Class:",{"$f":"'Texture Calculator'!N6","v":"SAND"},null,null,null,null,null,null,null,"Textural Class:",{"$f":"'Texture Calculator'!N7","v":"SAND"},null,null,null,null,null,null,"Textural Class:",null,{"$f":"'Texture Calculator'!N8","v":"SAND"},null,null,null,null,null,null,"Textural Class:",null,{"$f":"'Texture Calculator'!N9","v":"SAND"},null,null,null,null,null,null,"Textural Class:",null,{"$f":"'Texture Calculator'!N10","v":"SAND"},null,null,null,null,null,"Textural Class:",null,{"$f":"'Texture Calculator'!N11","v":"SAND"},null,null,null,null,null,null,"Textural Class:",null,{"$f":"'Texture Calculator'!N12","v":"SAND"},null,null,null,null,null,"Textural Class:",null,{"$f":"'Texture Calculator'!N13","v":"LOAM"}]
[null,null,null,"avg mode:",null,{"$f":"AVERAGE('raw files'!C6:E6)","v":197.958},null,null,null,null,null,null,"avg mode:",null,{"$f":"AVERAGE('raw files'!I6:K6)","v":192.70699999999999},null,null,null,null,null,null,"avg mode:",null,{"$f":"AVERAGE('raw files'!O6:Q6)","v":864.39966666666669},null,null,null,null,null,null,"avg mode:",null,{"$f":"AVERAGE('raw files'!V6:W6)","v":326.3005},null,null,null,null,null,"avg mode:",null,{"$f":"AVERAGE('raw files'!AF6:AH6)","v":899.89800000000002},null,null,null,null,null,null,"avg mode:",null,{"$f":"AVERAGE('raw files'!AH6:AJ6)","v":863.80499999999995},null,null,null,null,null,null,"avg mode:",null,{"$f":"AVERAGE('raw files'!AN6:AP6)","v":1073.1090000000002},null,null,null,null,null,"avg mode:",null,{"$f":"AVERAGE('raw files'!AU6:AV6)","v":1050.7294999999999},null,null,null,null,null,null,"avg mode:",null,{"$f":"AVERAGE('raw files'!AZ6:BB6)","v":290.43866666666668},null,null,null,null,null,null,"avg mode:",null,{"$f":"AVERAGE('raw files'!BF6:BH6)","v":78.099666666666664}]
[]
[]
[]
[]
[]
[]
[]
[]
[]
[]
[null,null,null,null,null,null,null,null,null,null,null,null,null,null,null,null,null,"Clay","Silt"]
[null,null,null,null,null,null,null,null,null,null,null,null,null,null,null,null,0,6,63]
[null,null,null,null,null,null,null,null,null,null,null,null,null,null,null,null,16,6,63]
[]
[]
[]
[]
[]
[]
[]
[]
[]
[]
[]
[]
[]
[]
[]
[]
[]
[]
[]
[]
[]
[]
[]
[]
[]
[]
[]
[]
[]
[]
[]
[]
[]
[]
[]
[]
["# lab","total weight (gr)",">2mm weight (gr)"]
[4415,10.946999999999999,0.66500000000000004]
[4416,88.929000000000002,21.414000000000001]
[4419,8.5359999999999996,0.65800000000000003]
[4420,86.884,5.0860000000000003]
[4424,98.031000000000006,3.9209999999999998]
[4428,96.981999999999999,17.027999999999999]
[4428,77.745000000000005,9.9190000000000005]
[4429,111.033,3.5169999999999999]
[4433,50.493000000000002,28.960999999999999]
[4434,70.075000000000003,30.187999999999999]
[4435,97.980999999999995,41.110999999999997]
[4436,70.891000000000005,44.57]
[4437,78.117999999999995,0.96799999999999997]
[4439,65.536000000000001,23.669]
[4440,105.363,24.613]
[4441,78.715000000000003,6.3559999999999999]
[4445,110.97,55.33]
[4450,67.569999999999993,7.8]
[4451,85.799000000000007,11.29]
[4454,90,33.616]
["4427a",105.277,4.5199999999999996]
["4433a",94.379000000000005,21.16]
["4450a",73.308000000000007,45.371000000000002]

{"sheet":"Texture Calculator","index":1,"n_rows":54,"n_cols":14,"rows_kept":54,"cut":false,"hidden":false,"merged":[[9,7,9,12],[32,7,32,12],[33,7,33,12],[34,7,34,12],[47,1,48,2],[10,7,10,12],[11,7,11,12],[19,7,19,12],[35,7,35,12],[0,1,0,7],[27,7,27,12],[28,7,28,12],[22,7,22,12],[8,7,8,12],[24,7,24,12],[26,7,26,12],[2,1,2,2],[2,3,2,4],[2,5,2,6],[6,7,6,12],[2,7,2,12],[3,7,3,12],[4,7,4,12],[5,7,5,12],[7,7,7,12],[12,7,12,12],[13,7,13,12],[14,7,14,12],[15,7,15,12],[16,7,16,12],[17,7,17,12],[18,7,18,12],[20,7,20,12],[21,7,21,12],[25,7,25,12],[23,7,23,12],[29,7,29,12],[30,7,30,12],[31,7,31,12]]}
[null,"Enter your data into the yellow highlighted cells",null,null,null,null,null,null,"Password = Texture"]
[]
[null,"Sand",null,"Clay",null,"Silt",null,"USDA Texture"]
[4446,"% Sand 1",{"$f":"Results!$F$13/100","v":0.96807999999999994},"%Clay 1",{"$f":"Results!$F$11/100","v":9.2033333333333342E-3},"% Silt 1",{"$f":"1-C4-E4","v":2.2716666666666725E-2},{"$f":"GRAIN(C4,E4,G4)","v":"SAND"},null,null,null,null,null,{"$f":"H4","v":"SAND"}]
[4447,"% Sand 2",{"$f":"Results!$O$13/100","v":0.96313500000000007},"%Clay 2",{"$f":"Results!$O$11/100","v":1.1880000000000002E-2},"% Silt 2",{"$f":"1-C5-E5","v":2.4984999999999924E-2},{"$f":"GRAIN(C5,E5,G5)","v":"SAND"},null,null,null,null,null,{"$f":"H5","v":"SAND"}]
[4448,"% Sand 3",{"$f":"Results!$X$13/100","v":0.9859833333333331},"%Clay 3",{"$f":"Results!X11/100","v":1.8033333333333334E-3},"% Silt 3",{"$f":"1-C6-E6","v":1.2213333333333565E-2},"SAND",null,null,null,null,null,{"$f":"H6","v":"SAND"}]
[4449,"% Sand 4",{"$f":"Results!$AG$13/100","v":0.99011333333333329},"%Clay 4",{"$f":"Results!$AG$11/100","v":1.9433333333333334E-3},"% Silt 4",{"$f":"1-C7-E7","v":7.9433333333333769E-3},{"$f":"GRAIN(C7,E7,G7)","v":"SAND"},null,null,null,null,null,{"$f":"H7","v":"SAND"}]
[4450,"% Sand 5",{"$f":"Results!$AP$13/100","v":0.96677333333333326},"%Clay 5",{"$f":"Results!$AP$11/100","v":1.0796666666666666E-2},"% Silt 5",{"$f":"1-C8-E8","v":2.2430000000000071E-2},{"$f":"GRAIN(C8,E8,G8)","v":"SAND"},null,null,null,null,null,{"$f":"H8","v":"SAND"}]
["4450a","% Sand 6",{"$f":"Results!$AY$13/100","v":0.94027333333333329},"%Clay 6",{"$f":"Results!$AY$11/100","v":1.1956666666666666E-2},"% Silt 6",{"$f":"1-C9-E9","v":4.7770000000000042E-2},{"$f":"GRAIN(C9,E9,G9)","v":"SAND"},null,null,null,null,null,"SAND"]
[4451,"% Sand 7",{"$f":"Results!$BH$13/100","v":1},"%Clay 7",{"$f":"Results!$BH$11/100","v":0},"% Silt 7",0,"SAND",null,null,null,null,null,"SAND"]
[4452,"% Sand 8",{"$f":"Results!$BQ$13/100","v":0.99816666666666665},"%Clay 8",{"$f":"Results!$BQ$11/100","v":4.5333333333333337E-4},"% Silt 8",{"$f":"1-C11-E11","v":1.3800000000000201E-3},{"$f":"GRAIN(C11,E11,G11)","v":"SAND"},null,null,null,null,null,"SAND"]
[4453,"% Sand 9",{"$f":"Results!$BY$13/100","v":0.87948999999999999},"%Clay 9",{"$f":"Results!$BY$11/100","v":3.2719999999999999E-2},"% Silt 9",8.7790000000000007E-2,"SAND",null,null,null,null,null,"SAND"]
[4454,"% Sand 11",{"$f":"Results!$CH$13/100","v":0.34272333333333327},"%Clay 11",{"$f":"Results!$CH$11/100","v":0.18950999999999996},"% Silt 11",{"$f":"1-C13-E13","v":0.46776666666666677},{"$f":"GRAIN(C13,E13,G13)","v":"LOAM"},null,null,null,null,null,"LOAM"]
[null,"% Sand 12",{"$f":"Results!#REF!/100","v":{"$error":"#REF!"}},"%Clay 12",{"$f":"Results!#REF!/100","v":{"$error":"#REF!"}},"% Silt 12",{"$error":"#REF!"},{"$error":"#VALUE!"}]
[null,"% Sand 13",{"$f":"Results!#REF!/100","v":{"$error":"#REF!"}},"%Clay 13",{"$f":"Results!#REF!/100","v":{"$error":"#REF!"}},"% Silt 13",{"$error":"#REF!"},{"$error":"#VALUE!"}]
[null,"% Sand 14",{"$f":"Results!#REF!/100","v":{"$error":"#REF!"}},"%Clay 14",{"$f":"Results!#REF!/100","v":{"$error":"#REF!"}},"% Silt 14",{"$error":"#REF!"},{"$error":"#VALUE!"}]
[null,"% Sand 15",{"$f":"Results!#REF!/100","v":{"$error":"#REF!"}},"%Clay 15",{"$f":"Results!#REF!/100","v":{"$error":"#REF!"}},"% Silt 15",{"$error":"#REF!"},{"$error":"#VALUE!"}]
[null,"% Sand 16",{"$f":"Results!#REF!/100","v":{"$error":"#REF!"}},"%Clay 16",{"$f":"Results!#REF!/100","v":{"$error":"#REF!"}},"% Silt 16",{"$f":"1-C18-E18","v":{"$error":"#REF!"}},{"$f":"GRAIN(C18,E18,G18)","v":{"$error":"#VALUE!"}}]
[null,"% Sand 17",{"$f":"Results!#REF!/100","v":{"$error":"#REF!"}},"%Clay 17",{"$f":"Results!#REF!/100","v":{"$error":"#REF!"}},"% Silt 17",{"$f":"1-C19-E19","v":{"$error":"#REF!"}},{"$f":"GRAIN(C19,E19,G19)","v":{"$error":"#VALUE!"}}]
[null,"% Sand 18",{"$f":"Results!#REF!/100","v":{"$error":"#REF!"}},"%Clay 18",{"$f":"Results!#REF!/100","v":{"$error":"#REF!"}},"% Silt 18",{"$f":"1-C20-E20","v":{"$error":"#REF!"}},{"$f":"GRAIN(C20,E20,G20)","v":{"$error":"#VALUE!"}}]
[null,"% Sand 19",{"$f":"Results!#REF!/100","v":{"$error":"#REF!"}},"%Clay 19",{"$f":"Results!#REF!/100","v":{"$error":"#REF!"}},"% Silt 19",{"$error":"#REF!"},{"$error":"#VALUE!"}]
[null,"% Sand 20",{"$f":"Results!#REF!/100","v":{"$error":"#REF!"}},"%Clay 20",{"$f":"Results!#REF!/100","v":{"$error":"#REF!"}},"% Silt 20",{"$error":"#REF!"},{"$f":"GRAIN(C22,E22,G22)","v":{"$error":"#VALUE!"}}]
[null,"% Sand 21",{"$f":"Results!#REF!/100","v":{"$error":"#REF!"}},"%Clay 21",{"$f":"Results!#REF!/100","v":{"$error":"#REF!"}},"% Silt 21",{"$f":"1-C23-E23","v":{"$error":"#REF!"}},{"$f":"GRAIN(C23,E23,G23)","v":{"$error":"#VALUE!"}}]
[null,"% Sand 22",{"$f":"Results!#REF!/100","v":{"$error":"#REF!"}},"%Clay 22",{"$f":"Results!#REF!/100","v":{"$error":"#REF!"}},"% Silt 22",{"$error":"#REF!"},{"$error":"#VALUE!"}]
[null,"% Sand 23",{"$f":"Results!#REF!/100","v":{"$error":"#REF!"}},"%Clay 23",{"$f":"Results!#REF!/100","v":{"$error":"#REF!"}},"% Silt 23",{"$error":"#REF!"},{"$error":"#VALUE!"}]
[null,"% Sand 24",{"$f":"Results!#REF!/100","v":{"$error":"#REF!"}},"%Clay 24",{"$f":"Results!#REF!/100","v":{"$error":"#REF!"}},"% Silt 24",{"$f":"1-C26-E26","v":{"$error":"#REF!"}},{"$f":"GRAIN(C26,E26,G26)","v":{"$error":"#VALUE!"}}]
[null,"% Sand 25",{"$f":"Results!#REF!/100","v":{"$error":"#REF!"}},"%Clay 25",{"$f":"Results!#REF!/100","v":{"$error":"#REF!"}},"% Silt 25",{"$f":"1-C27-E27","v":{"$error":"#REF!"}},{"$f":"GRAIN(C27,E27,G27)","v":{"$error":"#VALUE!"}}]
[null,"% Sand 26",{"$f":"Results!#REF!/100","v":{"$error":"#REF!"}},"%Clay 26",{"$f":"Results!#REF!/100","v":{"$error":"#REF!"}},"% Silt 26",{"$error":"#REF!"},{"$error":"#VALUE!"}]
[null,"% Sand 27",{"$f":"Results!#REF!/100","v":{"$error":"#REF!"}},"%Clay 27",{"$f":"Results!#REF!/100","v":{"$error":"#REF!"}},"% Silt 27",{"$error":"#REF!"},{"$error":"#VALUE!"}]
[null,"% Sand 28",{"$f":"Results!#REF!/100","v":{"$error":"#REF!"}},"%Clay 28",{"$f":"Results!#REF!/100","v":{"$error":"#REF!"}},"% Silt 28",{"$f":"1-C30-E30","v":{"$error":"#REF!"}},{"$f":"GRAIN(C30,E30,G30)","v":{"$error":"#VALUE!"}}]
[null,"% Sand 29",{"$f":"Results!#REF!/100","v":{"$error":"#REF!"}},"%Clay 29",{"$f":"Results!#REF!/100","v":{"$error":"#REF!"}},"% Silt 29",{"$error":"#REF!"},{"$error":"#VALUE!"}]
[null,"% Sand 30",{"$f":"Results!#REF!/100","v":{"$error":"#REF!"}},"%Clay 30",{"$f":"Results!#REF!/100","v":{"$error":"#REF!"}},"% Silt 30",{"$error":"#REF!"},{"$error":"#VALUE!"}]
[null,"% Sand 31",{"$f":"Results!#REF!/100","v":{"$error":"#REF!"}},"%Clay 31",{"$f":"Results!#REF!/100","v":{"$error":"#REF!"}},"% Silt 31",{"$error":"#REF!"},{"$error":"#VALUE!"}]
[null,"% Sand 32",{"$f":"Results!#REF!/100","v":{"$error":"#REF!"}},"%Clay 32",{"$f":"Results!#REF!/100","v":{"$error":"#REF!"}},"% Silt 32",{"$error":"#REF!"},{"$f":"GRAIN(C34,E34,G34)","v":{"$error":"#VALUE!"}}]
[null,"% Sand 33",{"$f":"Results!#REF!/100","v":{"$error":"#REF!"}},"%Clay 33",{"$f":"Results!#REF!/100","v":{"$error":"#REF!"}},"% Silt 33",{"$error":"#REF!"},{"$error":"#VALUE!"}]
[null,"% Sand 34",{"$f":"Results!#REF!/100","v":{"$error":"#REF!"}},"%Clay 34",{"$f":"Results!#REF!/100","v":{"$error":"#REF!"}},"% Silt 34",{"$f":"1-C36-E36","v":{"$error":"#REF!"}},{"$f":"GRAIN(C36,E36,G36)","v":{"$error":"#VALUE!"}}]
[]
[]
[]
[null,null,null,{"$f":"A4","v":4446},{"$f":"(1.095-(C4*0.0104*100))-((0.52)*(0.0099*E4*100))","v":8.3458923999999962E-2},{"$f":"0.145+(0.0099*E4*100)","v":0.15411130000000001}]
[null,null,null,4447,8.7223775999999961E-2,0.15676119999999999]
[null,null,null,4448,6.8648977333333597E-2,0.14678529999999998]
[null,null,null,4449,6.428170533333355E-2,0.1469239]
[null,null,null,4450,8.3997609333333445E-2,0.15568869999999999]
[null,null,null,"4450a",0.11096044133333335,0.15683709999999998]
[null,null,null,4451,5.4999999999999938E-2,0.14499999999999999]
[null,null,null,4452,5.6673290666666661E-2,0.14544879999999999]
[null,null,null,{"$f":"A12","v":4453},0.163486144,0.17739279999999999]
[null,null,null,4454,{"$f":"(1.095-(C13*0.0104*100))-((0.52)*(0.0099*E13*100))","v":0.64100798533333336},{"$f":"0.145+(0.0099*E13*100)","v":0.33261489999999994}]
[]
[]
[]
[null,null,null,null,0.52500000000000002]
[null,null,null,null,1.04]

{"sheet":"raw files","index":2,"n_rows":121,"n_cols":75,"rows_kept":121,"cut":false,"hidden":false,"merged":[]}
["Sample Name",null,"[4446] Chile_NN3 bulk - a - Average","[4446] Chile_NN3 bulk - b - Average","[4446] Chile_NN3 bulk - c - Average",null,"Sample Name",null,"[4447] NN4 bulk - a - Average","[4447] NN4 bulk - b - Average","[4447] NN4 bulk - c - Average",null,"Sample Name",null,"[4448] Chile_NN6 bulk - c - Average","[4448] Chile_NN6 bulk - e - Average","[4448] Chile_NN6 bulk - g - Average",null,null,"Sample Name",null,"[4449] Chile_NN9 bulk - a - Average","[4449] Chile_NN9 bulk - c - Average","[4449] Chile_NN9 bulk - d - Average",null,"Sample Name",null,"[4450] CNN-12 bulk - a - Average","[4450] CNN-12 bulk - b - Average","[4450] CNN-12 bulk - c - Average",null,"Sample Name",null,"[4450a] CNN-12 bulk - a - Average","[4450a] CNN-12 bulk - b - Average","[4450a] CNN-12 bulk - e+f new Averaged Result",null,"Sample Name",null,"[4451] Chile_CNN_11 bulk - b - Average","[4451] Chile_CNN_11 bulk - d - Average","[4451] Chile_CNN_11 bulk - e - Average",null,"Sample Name",null,"[4452] Chile_CNN_10 bulk - a - Average","[4452] Chile_CNN_10 bulk - b - Average","[4452] Chile_CNN_10 bulk - c - Average",null,"Sample Name",null,"[4453] Chile_Amboy_1 bulk - c - Average","[4453] Chile_Amboy_1 bulk - d - Average","[4453] Chile_Amboy_1 bulk - f - Average",null,"Sample Name",null,"[4454] Amboy 3 bulk - a - Average","[4454] Amboy 3 bulk - b - Average","[4454] Amboy 3 bulk - c+d new Averaged Result"]
["Analysis date and time",null,"éåí ùðé 26 àåâåñè 2019 13:39:40","éåí ùðé 26 àåâåñè 2019 13:47:28","éåí ùðé 26 àåâåñè 2019 13:56:49",null,"Analysis date and time",null,"éåí øáéòé 04 ñôèîáø 2019 10:53:48","éåí øáéòé 04 ñôèîáø 2019 11:04:56","éåí øáéòé 04 ñôèîáø 2019 11:07:59",null,"Analysis date and time",null,"éåí ùðé 26 àåâåñè 2019 14:24:27","éåí ùðé 26 àåâåñè 2019 14:48:54","éåí ùðé 26 àåâåñè 2019 15:06:02",null,null,"Analysis date and time",null,"éåí ùðé 26 àåâåñè 2019 15:20:07","éåí ùðé 26 àåâåñè 2019 15:32:47","éåí ùðé 26 àåâåñè 2019 15:44:40",null,"Analysis date and time",null,"éåí øáéòé 04 ñôèîáø 2019 11:37:19","éåí øáéòé 04 ñôèîáø 2019 11:45:42","éåí øáéòé 04 ñôèîáø 2019 11:58:47",null,"Analysis date and time",null,"éåí øáéòé 04 ñôèîáø 2019 12:18:06","éåí øáéòé 04 ñôèîáø 2019 12:22:06","éåí øáéòé 04 ñôèîáø 2019 12:43:05",null,"Analysis date and time",null,"éåí ùðé 26 àåâåñè 2019 16:37:51","éåí ùðé 26 àåâåñè 2019 16:52:24","éåí ùðé 26 àåâåñè 2019 17:31:58",null,"Analysis date and time",null,"éåí ùðé 26 àåâåñè 2019 15:56:42","éåí ùðé 26 àåâåñè 2019 16:03:52","éåí ùðé 26 àåâåñè 2019 16:15:31",null,"Analysis date and time",null,"éåí øàùåï 01 ñôèîáø 2019 14:26:28","éåí øàùåï 01 ñôèîáø 2019 14:40:14","éåí øàùåï 01 ñôèîáø 2019 15:05:38",null,"Analysis date and time",null,"éåí øáéòé 04 ñôèîáø 2019 09:52:12","éåí øáéòé 04 ñôèîáø 2019 09:55:55","éåí øáéòé 04 ñôèîáø 2019 10:02:51"]
["Operator name",null,"Sadimentary","Sadimentary","Sadimentary",null,"Operator name",null,"Yael","Yael","Yael",null,"Operator name",null,"Sadimentary","Sadimentary","Sadimentary",null,null,"Operator name",null,"Sadimentary","Sadimentary","Sadimentary",null,"Operator name",null,"Yael","Yael","Yael",null,"Operator name",null,"Yael","Yael","Yael",null,"Operator name",null,"Sadimentary","Sadimentary","Sadimentary",null,"Operator name",null,"Sadimentary","Sadimentary","Sadimentary",null,"Operator name",null,"Yael","Yael","Yael",null,"Operator name",null,"Yael","Yael","Yael"]
["Obscuration",null,12.07,11.14,10.71,null,"Obscuration",null,8.67,8.5,8.34,null,"Obscuration",null,10.29,11.91,11.5,null,null,"Obscuration",null,7.89,8.81,8.07,null,"Obscuration",null,7.09,9.23,12.76,null,"Obscuration",null,11.67,10.91,8.17,null,"Obscuration",null,9.83,9.33,10.039999999999999,null,"Obscuration",null,7.68,9.9600000000000009,7.59,null,"Obscuration",null,10.47,12.56,10.01,null,"Obscuration",null,11.12,10.92,10.63]
["Residual",null,0.63500000000000001,0.64400000000000002,0.70499999999999996,null,"Residual",null,0.56200000000000006,0.60399999999999998,0.59699999999999998,null,"Residual",null,0.66400000000000003,0.84699999999999998,0.81,null,null,"Residual",null,0.59199999999999997,0.72799999999999998,0.57299999999999995,null,"Residual",null,1.84,1.389,1.2629999999999999,null,"Residual",null,1.0469999999999999,0.79900000000000004,0.78500000000000003,null,"Residual",null,2.4409999999999998,1.915,2.64,null,"Residual",null,1.796,1.84,2.1880000000000002,null,"Residual",null,0.221,0.20899999999999999,0.23400000000000001,null,"Residual",null,0.498,0.41399999999999998,0.47699999999999998]
["Mode",null,200.101,200.40799999999999,193.36500000000001,null,"Mode",null,199.31,189.572,189.239,null,"Mode",null,751.7,949.93899999999996,891.56,null,null,"Mode",null,346.13499999999999,306.46600000000001,303,null,"Mode",null,977.43499999999995,897.22900000000004,927.61,null,"Mode",null,899.89800000000002,847.05799999999999,844.45899999999995,null,"Mode",null,1064.684,1067.4690000000001,1087.174,null,"Mode",null,1045.828,1058.29,1043.1690000000001,null,"Mode",null,266.93,310.91500000000002,293.471,null,"Mode",null,77.27,76.861000000000004,80.168000000000006]
["Skewness",null,2.4420000000000002,3.1480000000000001,2.0459999999999998,null,"Skewness",null,1.4379999999999999,2.1120000000000001,2.83,null,"Skewness",null,1.0149999999999999,0.80500000000000005,0.88600000000000001,null,null,"Skewness",null,1.389,1.2949999999999999,1.6120000000000001,null,"Skewness",null,0.24199999999999999,0.33700000000000002,0.30099999999999999,null,"Skewness",null,0.64600000000000002,0.89400000000000002,0.85299999999999998,null,"Skewness",null,0.248,0.13300000000000001,0.13600000000000001,null,"Skewness",null,0.16,0.186,0.17899999999999999,null,"Skewness",null,1.4730000000000001,1.5880000000000001,1.008,null,"Skewness",null,3.5139999999999998,3.258,3.214]
["Kurtosis",null,6.0670000000000002,11.845000000000001,3.34,null,"Kurtosis",null,1.3660000000000001,4.4569999999999999,9.1940000000000008,null,"Kurtosis",null,0.33200000000000002,-0.31900000000000001,-0.121,null,null,"Kurtosis",null,1.7,1.2629999999999999,2.6989999999999998,null,"Kurtosis",null,-0.72099999999999997,-0.57999999999999996,-0.64200000000000002,null,"Kurtosis",null,-0.48199999999999998,-4.7E-2,-0.12,null,"Kurtosis",null,-0.56899999999999995,-0.66100000000000003,-0.55500000000000005,null,"Kurtosis",null,-0.56200000000000006,-0.69899999999999995,-0.47899999999999998,null,"Kurtosis",null,3.4540000000000002,3.907,0.79900000000000004,null,"Kurtosis",null,15.362,11.493,13.154]
["d (0.1)",null,107.92,113.39400000000001,116.346,null,"d (0.1)",null,120.099,100.764,97.061000000000007,null,"d (0.1)",null,119.498,132.935,126.473,null,null,"d (0.1)",null,166.54900000000001,159.06200000000001,150.303,null,"d (0.1)",null,141.791,136.94300000000001,133.398,null,"d (0.1)",null,102.76,94.320999999999998,87.298000000000002,null,"d (0.1)",null,452.75299999999999,270.15800000000002,438.36900000000003,null,"d (0.1)",null,361.65300000000002,243.84299999999999,442.69600000000003,null,"d (0.1)",null,60.945999999999998,55.396999999999998,41.484000000000002,null,"d (0.1)",null,2.9060000000000001,2.911,2.8580000000000001]
["d (0.5)",null,217.78800000000001,211.80099999999999,217.66499999999999,null,"d (0.5)",null,281.416,219.04900000000001,200.80099999999999,null,"d (0.5)",null,416.42399999999998,491,448.96600000000001,null,null,"d (0.5)",null,396.91699999999997,397.58499999999998,347.923,null,"d (0.5)",null,777.66499999999996,729.19,742.779,null,"d (0.5)",null,557.12900000000002,422.91199999999998,440.40300000000002,null,"d (0.5)",null,933.92600000000004,901.76700000000005,952.37699999999995,null,"d (0.5)",null,906.59,870.47699999999998,926.37,null,"d (0.5)",null,222.34200000000001,245.30099999999999,206.989,null,"d (0.5)",null,29.888000000000002,35.031999999999996,30.114000000000001]
["d (0.9)",null,751.67899999999997,484.20699999999999,1034.326,null,"d (0.9)",null,1091.1990000000001,823.73400000000004,549.60400000000004,null,"d (0.9)",null,1171.6669999999999,1317.7570000000001,1269.269,null,null,"d (0.9)",null,1029.8579999999999,1082.74,921.08100000000002,null,"d (0.9)",null,1442.931,1393.0940000000001,1412.114,null,"d (0.9)",null,1318.067,1230.4659999999999,1239.961,null,"d (0.9)",null,1544.2529999999999,1526.934,1553.6220000000001,null,"d (0.9)",null,1526.174,1512.171,1534.606,null,"d (0.9)",null,526.98400000000004,620.60900000000004,516.36500000000001,null,"d (0.9)",null,156.64500000000001,411.24099999999999,152.733]
["Specific surface area",null,9.2299999999999993E-2,5.5599999999999997E-2,3.1800000000000002E-2,null,"Specific surface area",null,3.7699999999999997E-2,7.9200000000000007E-2,9.3700000000000006E-2,null,"Specific surface area",null,3.2599999999999997E-2,2.1000000000000001E-2,2.4500000000000001E-2,null,null,"Specific surface area",null,1.9300000000000001E-2,2.3199999999999998E-2,3.0099999999999998E-2,null,"Specific surface area",null,4.0099999999999997E-2,4.8599999999999997E-2,6.25E-2,null,"Specific surface area",null,4.7300000000000002E-2,6.1499999999999999E-2,7.85E-2,null,"Specific surface area",null,8.1700000000000002E-3,1.0200000000000001E-2,8.5199999999999998E-3,null,"Specific surface area",null,9.8399999999999998E-3,1.09E-2,1.2E-2,null,"Specific surface area",null,0.13,0.14899999999999999,0.182,null,"Specific surface area",null,0.79800000000000004,0.78300000000000003,0.80800000000000005]
["Result Below 6.000 µm",null,1.7250000000000001,1.036,0,null,"Result Below 6.000 µm",null,0.54600000000000004,1.579,1.83,null,"Result Below 6.000 µm",null,0.433,0,0.108,null,null,"Result Below 6.000 µm",null,0,0.19500000000000001,0.38800000000000001,null,"Result Below 6.000 µm",null,0.83799999999999997,1.073,1.3280000000000001,null,"Result Below 6.000 µm",null,0.89900000000000002,1.1579999999999999,1.53,null,"Result Below 6.000 µm",null,0,0,0,null,"Result Below 6.000 µm",null,0,0,0.13600000000000001,null,"Result Below 6.000 µm",null,2.7090000000000001,3.1789999999999998,3.9279999999999999,null,"Result Below 6.000 µm",null,19.053999999999998,18.564,19.234999999999999]
["Result 6.00µm-63.00µm",null,2.9990000000000001,2.3380000000000001,1.478,null,"Result 6.00µm-63.00µm",null,1.702,3.0059999999999998,3.2959999999999998,null,"Result 6.00µm-63.00µm",null,1.867,0.64800000000000002,1.1479999999999999,null,null,"Result 6.00µm-63.00µm",null,0.50600000000000001,0.76700000000000002,1.1100000000000001,null,"Result 6.00µm-63.00µm",null,1.97,2.29,2.4670000000000001,null,"Result 6.00µm-63.00µm",null,4.1429999999999998,4.7279999999999998,5.46,null,"Result 6.00µm-63.00µm",null,0,0,0,null,"Result 6.00µm-63.00µm",null,9.6000000000000002E-2,0,0.318,null,"Result 6.00µm-63.00µm",null,7.67,8.1760000000000002,10.491,null,"Result 6.00µm-63.00µm",null,48.353000000000002,44.244999999999997,47.73]
["Result 63.00µm-2000.00µm",null,95.275999999999996,96.626000000000005,98.522000000000006,null,"Result 63.00µm-2000.00µm",null,97.751999999999995,95.415000000000006,94.875,null,"Result 63.00µm-2000.00µm",null,97.698999999999998,99.352000000000004,98.744,null,null,"Result 63.00µm-2000.00µm",null,99.494,99.037999999999997,98.501999999999995,null,"Result 63.00µm-2000.00µm",null,97.191000000000003,96.637,96.203999999999994,null,"Result 63.00µm-2000.00µm",null,94.957999999999998,94.114000000000004,93.01,null,"Result 63.00µm-2000.00µm",null,100,100,100,null,"Result 63.00µm-2000.00µm",null,99.903999999999996,100,99.546000000000006,null,"Result 63.00µm-2000.00µm",null,89.620999999999995,88.644999999999996,85.581000000000003,null,"Result 63.00µm-2000.00µm",null,32.591999999999999,37.19,33.034999999999997]
["Result 63.00µm-125.00µm",null,10.462,10.518000000000001,11.602,null,"Result 63.00µm-125.00µm",null,9.0389999999999997,13.03,14.422000000000001,null,"Result 63.00µm-125.00µm",null,8.8610000000000007,7.6909999999999998,8.423,null,null,"Result 63.00µm-125.00µm",null,2.91,3.38,3.9950000000000001,null,"Result 63.00µm-125.00µm",null,5.2480000000000002,5.3040000000000003,5.2750000000000004,null,"Result 63.00µm-125.00µm",null,8.8989999999999991,10.292999999999999,10.103,null,"Result 63.00µm-125.00µm",null,0.41699999999999998,1.67,0.73599999999999999,null,"Result 63.00µm-125.00µm",null,1.68,2.1110000000000002,1.0089999999999999,null,"Result 63.00µm-125.00µm",null,14.867000000000001,13.363,16.428999999999998,null,"Result 63.00µm-125.00µm",null,18.355,16.437000000000001,18.989000000000001]
["Result 125.00µm-250.00µm",null,44.176000000000002,48.674999999999997,46.393000000000001,null,"Result 125.00µm-250.00µm",null,33.241,40.006999999999998,45.021999999999998,null,"Result 125.00µm-250.00µm",null,23.207999999999998,23.07,23.841000000000001,null,null,"Result 125.00µm-250.00µm",null,22.974,23.606999999999999,26.507000000000001,null,"Result 125.00µm-250.00µm",null,10.614000000000001,9.9710000000000001,9.9090000000000007,null,"Result 125.00µm-250.00µm",null,16.937000000000001,20.593,18.966000000000001,null,"Result 125.00µm-250.00µm",null,2.5960000000000001,7.5010000000000003,4.0670000000000002,null,"Result 125.00µm-250.00µm",null,5.2750000000000004,8.1980000000000004,3.2229999999999999,null,"Result 125.00µm-250.00µm",null,30.858000000000001,26.164999999999999,27.664000000000001,null,"Result 125.00µm-250.00µm",null,9.0709999999999997,8.2530000000000001,9.5440000000000005]
["Result 250.00µm-500.00µm",null,25.882999999999999,27.917000000000002,21.943000000000001,null,"Result 250.00µm-500.00µm",null,24.106999999999999,23.661000000000001,24.219000000000001,null,"Result 250.00µm-500.00µm",null,21.748999999999999,19.117999999999999,19.561,null,null,"Result 250.00µm-500.00µm",null,35.195999999999998,32.476999999999997,36.287999999999997,null,"Result 250.00µm-500.00µm",null,10.603,12.601000000000001,11.917,null,"Result 250.00µm-500.00µm",null,15.475,18.032,17.754999999999999,null,"Result 250.00µm-500.00µm",null,9.7739999999999991,9.6679999999999993,8.09,null,"Result 250.00µm-500.00µm",null,9.1609999999999996,11.281000000000001,8.4420000000000002,null,"Result 250.00µm-500.00µm",null,32.241,31.907,30.428999999999998,null,"Result 250.00µm-500.00µm",null,3.52,3.83,3.419]
["Result 500.00µm-1000.00µm",null,8.266,6.0810000000000004,7.9390000000000001,null,"Result 500.00µm-1000.00µm",null,18.974,11.987,7.0940000000000003,null,"Result 500.00µm-1000.00µm",null,28.274999999999999,27.605,27.332999999999998,null,null,"Result 500.00µm-1000.00µm",null,27.588999999999999,27.2,23.593,null,"Result 500.00µm-1000.00µm",null,37.805,39.682000000000002,38.761000000000003,null,"Result 500.00µm-1000.00µm",null,30.995999999999999,27.286999999999999,27.849,null,"Result 500.00µm-1000.00µm",null,43,39.384,41.326999999999998,null,"Result 500.00µm-1000.00µm",null,41.801000000000002,38.847000000000001,43.393000000000001,null,"Result 500.00µm-1000.00µm",null,10.978,15.423999999999999,10.962,null,"Result 500.00µm-1000.00µm",null,1.645,6.0979999999999999,1.0820000000000001]
["Result 1000.00µm-2000.00µm",null,6.4880000000000004,3.4350000000000001,10.645,null,"Result 1000.00µm-2000.00µm",null,12.391999999999999,6.73,4.117,null,"Result 1000.00µm-2000.00µm",null,15.606,21.869,19.585999999999999,null,null,"Result 1000.00µm-2000.00µm",null,10.824999999999999,12.374000000000001,8.1189999999999998,null,"Result 1000.00µm-2000.00µm",null,32.921999999999997,29.079000000000001,30.343,null,"Result 1000.00µm-2000.00µm",null,22.652000000000001,17.908999999999999,18.337,null,"Result 1000.00µm-2000.00µm",null,44.213000000000001,41.777999999999999,45.780999999999999,null,"Result 1000.00µm-2000.00µm",null,41.987000000000002,39.563000000000002,43.478999999999999,null,"Result 1000.00µm-2000.00µm",null,0.67700000000000005,1.7869999999999999,9.8000000000000004E-2,null,"Result 1000.00µm-2000.00µm",null,0,2.5720000000000001,0]
["Result Between User Sizes (Sizes in um)",0.01,null,null,null,null,"Result Between User Sizes (Sizes in um)",0.01,null,null,null,null,"Result Between User Sizes (Sizes in um)",0.01,null,null,null,null,null,"Result Between User Sizes (Sizes in um)",0.01,null,null,null,null,"Result Between User Sizes (Sizes in um)",0.01,null,null,null,null,"Result Between User Sizes (Sizes in um)",0.01,null,null,null,null,"Result Between User Sizes (Sizes in um)",0.01,null,null,null,null,"Result Between User Sizes (Sizes in um)",0.01,null,null,null,null,"Result Between User Sizes (Sizes in um)",0.01,null,null,null,null,"Result Between User Sizes (Sizes in um)",0.01,null,null,null,null,null,null,null,"Result Between User Sizes (Sizes in um)",4446,4447,4448,4449,4450,"4450a",4451,4452,4453,4454]
[null,1.1481999999999999E-2,0,0,0,null,null,1.1481999999999999E-2,0,0,0,null,null,1.1481999999999999E-2,0,0,0,null,null,null,1.1481999999999999E-2,0,0,0,null,null,1.1481999999999999E-2,0,0,0,null,null,1.1481999999999999E-2,0,0,0,null,null,1.1481999999999999E-2,0,0,0,null,null,1.1481999999999999E-2,0,0,0,null,null,1.1481999999999999E-2,0,0,0,null,null,1.1481999999999999E-2,0,0,0,null,null,null,null,1.1481999999999999E-2,{"$f":"AVERAGE(C22:E22)","v":0},{"$f":"AVERAGE(I22:K22)","v":0},{"$f":"AVERAGE(O22:Q22)","v":0},{"$f":"AVERAGE(V22:X22)","v":0},{"$f":"AVERAGE(AB22:AD22)","v":0},{"$f":"AVERAGE(AH22:AJ22)","v":0},{"$f":"AVERAGE(AN22:AP22)","v":0},{"$f":"AVERAGE(AT22:AV22)","v":0},{"$f":"AVERAGE(AZ22:BB22)","v":0},{"$f":"AVERAGE(BF22:BH22)","v":0}]
[null,1.3183E-2,0,0,0,null,null,1.3183E-2,0,0,0,null,null,1.3183E-2,0,0,0,null,null,null,1.3183E-2,0,0,0,null,null,1.3183E-2,0,0,0,null,null,1.3183E-2,0,0,0,null,null,1.3183E-2,0,0,0,null,null,1.3183E-2,0,0,0,null,null,1.3183E-2,0,0,0,null,null,1.3183E-2,0,0,0,null,null,null,null,1.3183E-2,{"$f":"AVERAGE(C23:E23)","v":0},{"$f":"AVERAGE(I23:K23)","v":0},{"$f":"AVERAGE(O23:Q23)","v":0},{"$f":"AVERAGE(V23:X23)","v":0},{"$f":"AVERAGE(AB23:AD23)","v":0},{"$f":"AVERAGE(AH23:AJ23)","v":0},{"$f":"AVERAGE(AN23:AP23)","v":0},{"$f":"AVERAGE(AT23:AV23)","v":0},{"$f":"AVERAGE(AZ23:BB23)","v":0},{"$f":"AVERAGE(BF23:BH23)","v":0}]
[null,1.5136E-2,0,0,0,null,null,1.5136E-2,0,0,0,null,null,1.5136E-2,0,0,0,null,null,null,1.5136E-2,0,0,0,null,null,1.5136E-2,0,0,0,null,null,1.5136E-2,0,0,0,null,null,1.5136E-2,0,0,0,null,null,1.5136E-2,0,0,0,null,null,1.5136E-2,0,0,0,null,null,1.5136E-2,0,0,0,null,null,null,null,1.5136E-2,0,0,0,0,0,0,0,0,0,0]
[null,1.7378000000000001E-2,0,0,0,null,null,1.7378000000000001E-2,0,0,0,null,null,1.7378000000000001E-2,0,0,0,null,null,null,1.7378000000000001E-2,0,0,0,null,null,1.7378000000000001E-2,0,0,0,null,null,1.7378000000000001E-2,0,0,0,null,null,1.7378000000000001E-2,0,0,0,null,null,1.7378000000000001E-2,0,0,0,null,null,1.7378000000000001E-2,0,0,0,null,null,1.7378000000000001E-2,0,0,0,null,null,null,null,1.7378000000000001E-2,0,0,0,0,0,0,0,0,0,0]
[null,1.9952999999999999E-2,0,0,0,null,null,1.9952999999999999E-2,0,0,0,null,null,1.9952999999999999E-2,0,0,0,null,null,null,1.9952999999999999E-2,0,0,0,null,null,1.9952999999999999E-2,0,0,0,null,null,1.9952999999999999E-2,0,0,0,null,null,1.9952999999999999E-2,0,0,0,null,null,1.9952999999999999E-2,0,0,0,null,null,1.9952999999999999E-2,0,0,0,null,null,1.9952999999999999E-2,0,0,0,null,null,null,null,1.9952999999999999E-2,0,0,0,0,0,0,0,0,0,0]
[null,2.2908999999999999E-2,0,0,0,null,null,2.2908999999999999E-2,0,0,0,null,null,2.2908999999999999E-2,0,0,0,null,null,null,2.2908999999999999E-2,0,0,0,null,null,2.2908999999999999E-2,0,0,0,null,null,2.2908999999999999E-2,0,0,0,null,null,2.2908999999999999E-2,0,0,0,null,null,2.2908999999999999E-2,0,0,0,null,null,2.2908999999999999E-2,0,0,0,null,null,2.2908999999999999E-2,0,0,0,null,null,null,null,2.2908999999999999E-2,0,0,0,0,0,0,0,0,0,0]
[null,2.6303E-2,0,0,0,null,null,2.6303E-2,0,0,0,null,null,2.6303E-2,0,0,0,null,null,null,2.6303E-2,0,0,0,null,null,2.6303E-2,0,0,0,null,null,2.6303E-2,0,0,0,null,null,2.6303E-2,0,0,0,null,null,2.6303E-2,0,0,0,null,null,2.6303E-2,0,0,0,null,null,2.6303E-2,0,0,0,null,null,null,null,2.6303E-2,0,0,0,0,0,0,0,0,0,0]
[null,3.0200000000000001E-2,0,0,0,null,null,3.0200000000000001E-2,0,0,0,null,null,3.0200000000000001E-2,0,0,0,null,null,null,3.0200000000000001E-2,0,0,0,null,null,3.0200000000000001E-2,0,0,0,null,null,3.0200000000000001E-2,0,0,0,null,null,3.0200000000000001E-2,0,0,0,null,null,3.0200000000000001E-2,0,0,0,null,null,3.0200000000000001E-2,0,0,0,null,null,3.0200000000000001E-2,0,0,0,null,null,null,null,3.0200000000000001E-2,0,0,0,0,0,0,0,0,0,0]
[null,3.4674000000000003E-2,0,0,0,null,null,3.4674000000000003E-2,0,0,0,null,null,3.4674000000000003E-2,0,0,0,null,null,null,3.4674000000000003E-2,0,0,0,null,null,3.4674000000000003E-2,0,0,0,null,null,3.4674000000000003E-2,0,0,0,null,null,3.4674000000000003E-2,0,0,0,null,null,3.4674000000000003E-2,0,0,0,null,null,3.4674000000000003E-2,0,0,0,null,null,3.4674000000000003E-2,0,0,0,null,null,null,null,3.4674000000000003E-2,0,0,0,0,0,0,0,0,0,0]
[null,3.9810999999999999E-2,0,0,0,null,null,3.9810999999999999E-2,0,0,0,null,null,3.9810999999999999E-2,0,0,0,null,null,null,3.9810999999999999E-2,0,0,0,null,null,3.9810999999999999E-2,0,0,0,null,null,3.9810999999999999E-2,0,0,0,null,null,3.9810999999999999E-2,0,0,0,null,null,3.9810999999999999E-2,0,0,0,null,null,3.9810999999999999E-2,0,0,0,null,null,3.9810999999999999E-2,0,0,0,null,null,null,null,3.9810999999999999E-2,0,0,0,0,0,0,0,0,0,0]
[null,4.5709E-2,0,0,0,null,null,4.5709E-2,0,0,0,null,null,4.5709E-2,0,0,0,null,null,null,4.5709E-2,0,0,0,null,null,4.5709E-2,0,0,0,null,null,4.5709E-2,0,0,0,null,null,4.5709E-2,0,0,0,null,null,4.5709E-2,0,0,0,null,null,4.5709E-2,0,0,0,null,null,4.5709E-2,0,0,0,null,null,null,null,4.5709E-2,0,0,0,0,0,0,0,0,0,0]
[null,5.2481E-2,0,0,0,null,null,5.2481E-2,0,0,0,null,null,5.2481E-2,0,0,0,null,null,null,5.2481E-2,0,0,0,null,null,5.2481E-2,0,0,0,null,null,5.2481E-2,0,0,0,null,null,5.2481E-2,0,0,0,null,null,5.2481E-2,0,0,0,null,null,5.2481E-2,0,0,0,null,null,5.2481E-2,0,0,0,null,null,null,null,5.2481E-2,0,0,0,0,0,0,0,0,0,0]
[null,6.0255999999999997E-2,0,0,0,null,null,6.0255999999999997E-2,0,0,0,null,null,6.0255999999999997E-2,0,0,0,null,null,null,6.0255999999999997E-2,0,0,0,null,null,6.0255999999999997E-2,0,0,0,null,null,6.0255999999999997E-2,0,0,0,null,null,6.0255999999999997E-2,0,0,0,null,null,6.0255999999999997E-2,0,0,0,null,null,6.0255999999999997E-2,0,0,0,null,null,6.0255999999999997E-2,0,0,0,null,null,null,null,6.0255999999999997E-2,0,0,0,0,0,0,0,0,0,0]
[null,6.9182999999999995E-2,0,0,0,null,null,6.9182999999999995E-2,0,0,0,null,null,6.9182999999999995E-2,0,0,0,null,null,null,6.9182999999999995E-2,0,0,0,null,null,6.9182999999999995E-2,0,0,0,null,null,6.9182999999999995E-2,0,0,0,null,null,6.9182999999999995E-2,0,0,0,null,null,6.9182999999999995E-2,0,0,0,null,null,6.9182999999999995E-2,0,0,0,null,null,6.9182999999999995E-2,0,0,0,null,null,null,null,6.9182999999999995E-2,0,0,0,0,0,0,0,0,0,0]
[null,7.9433000000000004E-2,0,0,0,null,null,7.9433000000000004E-2,0,0,0,null,null,7.9433000000000004E-2,0,0,0,null,null,null,7.9433000000000004E-2,0,0,0,null,null,7.9433000000000004E-2,0,0,0,null,null,7.9433000000000004E-2,0,0,0,null,null,7.9433000000000004E-2,0,0,0,null,null,7.9433000000000004E-2,0,0,0,null,null,7.9433000000000004E-2,0,0,0,null,null,7.9433000000000004E-2,0,0,0,null,null,null,null,7.9433000000000004E-2,0,0,0,0,0,0,0,0,0,0]
[null,9.1201000000000004E-2,0,0,0,null,null,9.1201000000000004E-2,0,0,0,null,null,9.1201000000000004E-2,0,0,0,null,null,null,9.1201000000000004E-2,0,0,0,null,null,9.1201000000000004E-2,0,0,0,null,null,9.1201000000000004E-2,0,0,0,null,null,9.1201000000000004E-2,0,0,0,null,null,9.1201000000000004E-2,0,0,0,null,null,9.1201000000000004E-2,0,0,0,null,null,9.1201000000000004E-2,0,0,0,null,null,null,null,9.1201000000000004E-2,0,0,0,0,0,0,0,0,0,0]
[null,0.104713,0,0,0,null,null,0.104713,0,0,0,null,null,0.104713,0,0,0,null,null,null,0.104713,0,0,0,null,null,0.104713,0,0,0,null,null,0.104713,0,0,0,null,null,0.104713,0,0,0,null,null,0.104713,0,0,0,null,null,0.104713,0,0,0,null,null,0.104713,0,0,0,null,null,null,null,0.104713,0,0,0,0,0,0,0,0,0,0]
[null,0.120226,0,0,0,null,null,0.120226,0,0,0,null,null,0.120226,0,0,0,null,null,null,0.120226,0,0,0,null,null,0.120226,0,0,0,null,null,0.120226,0,0,0,null,null,0.120226,0,0,0,null,null,0.120226,0,0,0,null,null,0.120226,0,0,0,null,null,0.120226,0,0,0,null,null,null,null,0.120226,0,0,0,0,0,0,0,0,0,0]
[null,0.13803799999999999,0,0,0,null,null,0.13803799999999999,0,0,0,null,null,0.13803799999999999,0,0,0,null,null,null,0.13803799999999999,0,0,0,null,null,0.13803799999999999,0,0,0,null,null,0.13803799999999999,0,0,0,null,null,0.13803799999999999,0,0,0,null,null,0.13803799999999999,0,0,0,null,null,0.13803799999999999,0,0,0,null,null,0.13803799999999999,0,0,0,null,null,null,null,0.13803799999999999,0,0,0,0,0,0,0,0,0,0]
[null,0.15848899999999999,0,0,0,null,null,0.15848899999999999,0,0,0,null,null,0.15848899999999999,0,0,0,null,null,null,0.15848899999999999,0,0,0,null,null,0.15848899999999999,0,0,0,null,null,0.15848899999999999,0,0,0,null,null,0.15848899999999999,0,0,0,null,null,0.15848899999999999,0,0,0,null,null,0.15848899999999999,0,0,0,null,null,0.15848899999999999,0,0,0,null,null,null,null,0.15848899999999999,0,0,0,0,0,0,0,0,0,0]
[null,0.18196999999999999,0,0,0,null,null,0.18196999999999999,0,0,0,null,null,0.18196999999999999,0,0,0,null,null,null,0.18196999999999999,0,0,0,null,null,0.18196999999999999,0,0,0,null,null,0.18196999999999999,0,0,0,null,null,0.18196999999999999,0,0,0,null,null,0.18196999999999999,0,0,0,null,null,0.18196999999999999,0,0,0,null,null,0.18196999999999999,0,0,0,null,null,null,null,0.18196999999999999,0,0,0,0,0,0,0,0,0,0]
[null,0.20893,0,0,0,null,null,0.20893,0,0,0,null,null,0.20893,0,0,0,null,null,null,0.20893,0,0,0,null,null,0.20893,0,0,0,null,null,0.20893,0,0,0,null,null,0.20893,0,0,0,null,null,0.20893,0,0,0,null,null,0.20893,0,0,0,null,null,0.20893,0,0,0,null,null,null,null,0.20893,0,0,0,0,0,0,0,0,0,0]
[null,0.23988300000000001,0,0,0,null,null,0.23988300000000001,0,0,0,null,null,0.23988300000000001,0,0,0,null,null,null,0.23988300000000001,0,0,0,null,null,0.23988300000000001,0,0,0,null,null,0.23988300000000001,0,0,0,null,null,0.23988300000000001,0,0,0,null,null,0.23988300000000001,0,0,0,null,null,0.23988300000000001,0,0,0,null,null,0.23988300000000001,0,0,0,null,null,null,null,0.23988300000000001,0,0,0,0,0,0,0,0,0,0]
[null,0.27542299999999997,0,0,0,null,null,0.27542299999999997,0,0,0,null,null,0.27542299999999997,0,0,0,null,null,null,0.27542299999999997,0,0,0,null,null,0.27542299999999997,0,0,0,null,null,0.27542299999999997,0,0,0,null,null,0.27542299999999997,0,0,0,null,null,0.27542299999999997,0,0,0,null,null,0.27542299999999997,0,0,0,null,null,0.27542299999999997,0,0,0,null,null,null,null,0.27542299999999997,0,0,0,0,0,0,0,0,0,0]
[null,0.31622800000000001,0,0,0,null,null,0.31622800000000001,0,0,0,null,null,0.31622800000000001,0,0,0,null,null,null,0.31622800000000001,0,0,0,null,null,0.31622800000000001,0,0,0,null,null,0.31622800000000001,0,0,0,null,null,0.31622800000000001,0,0,0,null,null,0.31622800000000001,0,0,0,null,null,0.31622800000000001,0,0,0,null,null,0.31622800000000001,0,0,0,null,null,null,null,0.31622800000000001,0,0,0,0,0,0,0,0,0,0]
[null,0.36307800000000001,0,0,0,null,null,0.36307800000000001,0,0,0,null,null,0.36307800000000001,0,0,0,null,null,null,0.36307800000000001,0,0,0,null,null,0.36307800000000001,0,0,0,null,null,0.36307800000000001,0,0,0,null,null,0.36307800000000001,0,0,0,null,null,0.36307800000000001,0,0,0,null,null,0.36307800000000001,0,0,0,null,null,0.36307800000000001,0,0,0,null,null,null,null,0.36307800000000001,0,0,0,0,0,0,0,0,0,0]
[null,0.41686899999999999,0,0,0,null,null,0.41686899999999999,0,0,0,null,null,0.41686899999999999,0,0,0,null,null,null,0.41686899999999999,0,0,0,null,null,0.41686899999999999,0,0,0,null,null,0.41686899999999999,0,0,0,null,null,0.41686899999999999,0,0,0,null,null,0.41686899999999999,0,0,0,null,null,0.41686899999999999,0,0,0,null,null,0.41686899999999999,0,0,0,null,null,null,null,0.41686899999999999,0,0,0,0,0,0,0,0,0,0]
[null,0.47863,0,0,0,null,null,0.47863,0,0,0,null,null,0.47863,0,0,0,null,null,null,0.47863,0,0,0,null,null,0.47863,0,0,0,null,null,0.47863,0,0,0,null,null,0.47863,0,0,0,null,null,0.47863,0,0,0,null,null,0.47863,0,0,0,null,null,0.47863,0.14069300000000001,0.154755,0.14752299999999999,null,null,null,null,0.47863,0,0,0,0,0,0,0,0,0,0.14765700000000001]
[null,0.54954099999999995,3.2509000000000003E-2,0,0,null,null,0.54954099999999995,0,0,0,null,null,0.54954099999999995,0,0,0,null,null,null,0.54954099999999995,0,0,0,null,null,0.54954099999999995,0,0,1.9268E-2,null,null,0.54954099999999995,0,0,0,null,null,0.54954099999999995,0,0,0,null,null,0.54954099999999995,0,0,0,null,null,0.54954099999999995,0,3.3258000000000003E-2,5.8790000000000002E-2,null,null,0.54954099999999995,0.25969300000000001,0.27649000000000001,0.26939200000000002,null,null,null,null,0.54954099999999995,1.0836333333333335E-2,0,0,0,6.4226666666666668E-3,0,0,0,3.0682666666666667E-2,0.26852500000000007]
[null,0.63095699999999999,4.5149000000000002E-2,0,0,null,null,0.63095699999999999,0,1.4507000000000001E-2,1.2803E-2,null,null,0.63095699999999999,0,0,0,null,null,null,0.63095699999999999,0,0,0,null,null,0.63095699999999999,0,0,2.6943999999999999E-2,null,null,0.63095699999999999,0,0,1.3119E-2,null,null,0.63095699999999999,0,0,0,null,null,0.63095699999999999,0,0,0,null,null,0.63095699999999999,4.8078000000000003E-2,6.9260000000000002E-2,8.7679000000000007E-2,null,null,0.63095699999999999,0.38103799999999999,0.39760899999999999,0.39278600000000002,null,null,null,null,0.63095699999999999,1.5049666666666668E-2,9.1033333333333331E-3,0,0,8.9813333333333325E-3,4.3730000000000002E-3,0,0,6.8338999999999997E-2,0.39047766666666667]
[null,0.72443599999999997,4.7049000000000001E-2,0,0,null,null,0.72443599999999997,0,2.1801999999999998E-2,3.3567E-2,null,null,0.72443599999999997,0,0,0,null,null,null,0.72443599999999997,0,0,0,null,null,0.72443599999999997,0,1.2179000000000001E-2,2.9416999999999999E-2,null,null,0.72443599999999997,0,1.2569E-2,3.5859000000000002E-2,null,null,0.72443599999999997,0,0,0,null,null,0.72443599999999997,0,0,0,null,null,0.72443599999999997,7.3258000000000004E-2,8.5662000000000002E-2,0.10446999999999999,null,null,0.72443599999999997,0.46822599999999998,0.48306300000000002,0.48093999999999998,null,null,null,null,0.72443599999999997,1.5682999999999999E-2,1.8456333333333335E-2,0,0,1.3865333333333334E-2,1.6142666666666666E-2,0,0,8.7796666666666676E-2,0.47740966666666668]
[null,0.83176399999999995,5.2669000000000001E-2,0,0,null,null,0.83176399999999995,0,2.2695E-2,5.4560999999999998E-2,null,null,0.83176399999999995,0,0,0,null,null,null,0.83176399999999995,0,0,0,null,null,0.83176399999999995,1.0286999999999999E-2,2.1276E-2,3.1850000000000003E-2,null,null,0.83176399999999995,0,2.128E-2,4.3432999999999999E-2,null,null,0.83176399999999995,0,0,0,null,null,0.83176399999999995,0,0,0,null,null,0.83176399999999995,8.1991999999999995E-2,9.5590999999999995E-2,0.116729,null,null,0.83176399999999995,0.54239300000000001,0.55523699999999998,0.55566599999999999,null,null,null,null,0.83176399999999995,1.7556333333333334E-2,2.5751999999999997E-2,0,0,2.1137666666666666E-2,2.1570999999999996E-2,0,0,9.8104000000000011E-2,0.55109866666666674]
[null,0.95499299999999998,5.1014999999999998E-2,0,0,null,null,0.95499299999999998,0,2.171E-2,6.5791000000000002E-2,null,null,0.95499299999999998,0,0,0,null,null,null,0.95499299999999998,0,0,0,null,null,0.95499299999999998,2.1146000000000002E-2,2.0393000000000001E-2,3.3187000000000001E-2,null,null,0.95499299999999998,0,1.9675999999999999E-2,4.1355999999999997E-2,null,null,0.95499299999999998,0,0,0,null,null,0.95499299999999998,0,0,0,null,null,0.95499299999999998,8.6817000000000005E-2,0.104188,0.127112,null,null,0.95499299999999998,0.59798799999999996,0.60884700000000003,0.61140499999999998,null,null,null,null,0.95499299999999998,1.7004999999999999E-2,2.9166999999999998E-2,0,0,2.4908666666666673E-2,2.0343999999999998E-2,0,0,0.10603899999999999,0.60607999999999995]
[null,1.0964780000000001,5.1282000000000001E-2,0,0,null,null,1.0964780000000001,0,3.1281999999999997E-2,6.3417000000000001E-2,null,null,1.0964780000000001,0,0,0,null,null,null,1.0964780000000001,0,0,0,null,null,1.0964780000000001,1.9601E-2,2.2373000000000001E-2,3.2185999999999999E-2,null,null,1.0964780000000001,0,2.0129999999999999E-2,4.4753000000000001E-2,null,null,1.0964780000000001,0,0,0,null,null,1.0964780000000001,0,0,0,null,null,1.0964780000000001,9.4175999999999996E-2,0.11172799999999999,0.13615099999999999,null,null,1.0964780000000001,0.64807499999999996,0.656806,0.66142999999999996,null,null,null,null,1.0964780000000001,1.7094000000000002E-2,3.1566333333333335E-2,0,0,2.4720000000000002E-2,2.1627666666666667E-2,0,0,0.11401833333333333,0.65543699999999994]
[null,1.2589250000000001,5.1333999999999998E-2,0,0,null,null,1.2589250000000001,0,4.9803E-2,6.6866999999999996E-2,null,null,1.2589250000000001,0,0,0,null,null,null,1.2589250000000001,0,0,0,null,null,1.2589250000000001,2.0988E-2,2.1006E-2,3.8619000000000001E-2,null,null,1.2589250000000001,0,2.0688000000000002E-2,4.3215999999999997E-2,null,null,1.2589250000000001,0,0,0,null,null,1.2589250000000001,0,0,0,null,null,1.2589250000000001,0.10147,0.120627,0.147013,null,null,1.2589250000000001,0.701233,0.70723000000000003,0.71440700000000001,null,null,null,null,1.2589250000000001,1.7111333333333333E-2,3.8890000000000001E-2,0,0,2.6871000000000003E-2,2.1301333333333335E-2,0,0,0.12303666666666667,0.70762333333333327]
[null,1.4454400000000001,5.0479000000000003E-2,0,0,null,null,1.4454400000000001,0,6.8057000000000006E-2,7.0802000000000004E-2,null,null,1.4454400000000001,0,0,0,null,null,null,1.4454400000000001,0,0,0,null,null,1.4454400000000001,2.1788999999999999E-2,2.7855000000000001E-2,5.6288999999999999E-2,null,null,1.4454400000000001,0,2.0473999999999999E-2,4.5186999999999998E-2,null,null,1.4454400000000001,0,0,0,null,null,1.4454400000000001,0,0,0,null,null,1.4454400000000001,0.11226999999999999,0.13275799999999999,0.16200500000000001,null,null,1.4454400000000001,0.76870400000000005,0.77066199999999996,0.78166199999999997,null,null,null,null,1.4454400000000001,1.6826333333333336E-2,4.6286333333333339E-2,0,0,3.5311000000000002E-2,2.1887E-2,0,0,0.13567766666666667,0.77367600000000003]
[null,1.6595869999999999,5.8427E-2,0,0,null,null,1.6595869999999999,0,7.2306999999999996E-2,7.8551999999999997E-2,null,null,1.6595869999999999,0,0,0,null,null,null,1.6595869999999999,0,0,0,null,null,1.6595869999999999,2.3663E-2,4.6580999999999997E-2,5.5489999999999998E-2,null,null,1.6595869999999999,0,2.6183999999999999E-2,5.3304999999999998E-2,null,null,1.6595869999999999,0,0,0,null,null,1.6595869999999999,0,0,0,null,null,1.6595869999999999,0.12687300000000001,0.14901600000000001,0.182222,null,null,1.6595869999999999,0.85499000000000003,0.85109299999999999,0.86773299999999998,null,null,null,null,1.6595869999999999,1.9475666666666665E-2,5.0286333333333329E-2,0,0,4.1911333333333335E-2,2.6496333333333334E-2,0,0,0.15270366666666668,0.85793866666666663]
[null,1.9054610000000001,8.8152999999999995E-2,5.8022999999999998E-2,0,null,null,1.9054610000000001,0,8.3636000000000002E-2,9.0010000000000007E-2,null,null,1.9054610000000001,0,0,0,null,null,null,1.9054610000000001,0,0,0,null,null,1.9054610000000001,2.5905999999999998E-2,5.0081000000000001E-2,6.2617000000000006E-2,null,null,1.9054610000000001,4.7744000000000002E-2,4.8141999999999997E-2,7.9797000000000007E-2,null,null,1.9054610000000001,0,0,0,null,null,1.9054610000000001,0,0,0,null,null,1.9054610000000001,0.14529900000000001,0.16928699999999999,0.207452,null,null,1.9054610000000001,0.960229,0.94835999999999998,0.97273699999999996,null,null,null,null,1.9054610000000001,4.8725333333333336E-2,5.788200000000001E-2,0,0,4.6201333333333337E-2,5.8561000000000002E-2,0,0,0.17401266666666668,0.96044200000000002]
[null,2.1877620000000002,9.8152000000000003E-2,5.8640999999999999E-2,0,null,null,2.1877620000000002,1.9713999999999999E-2,9.7240999999999994E-2,0.104783,null,null,2.1877620000000002,0,0,0,null,null,null,2.1877620000000002,0,0,2.7067000000000001E-2,null,null,2.1877620000000002,2.9232999999999999E-2,7.5476000000000001E-2,8.6624999999999994E-2,null,null,2.1877620000000002,6.7556000000000005E-2,7.6531000000000002E-2,9.1472999999999999E-2,null,null,2.1877620000000002,0,0,0,null,null,2.1877620000000002,0,0,0,null,null,2.1877620000000002,0.165933,0.191882,0.23552000000000001,null,null,2.1877620000000002,1.0773140000000001,1.05565,1.089502,null,null,null,null,2.1877620000000002,5.2264333333333336E-2,7.3912666666666668E-2,0,9.0223333333333336E-3,6.3778000000000001E-2,7.8520000000000006E-2,0,0,0.19777833333333331,1.0741553333333334]
[null,2.5118860000000001,0.112246,8.8736999999999996E-2,0,null,null,2.5118860000000001,2.2287000000000001E-2,0.11305999999999999,0.121896,null,null,2.5118860000000001,1.8360000000000001E-2,0,0,null,null,null,2.5118860000000001,0,0,2.9479999999999999E-2,null,null,2.5118860000000001,6.8542000000000006E-2,8.4295999999999996E-2,9.5628000000000005E-2,null,null,2.5118860000000001,7.9227000000000006E-2,8.9943999999999996E-2,0.106076,null,null,2.5118860000000001,0,0,0,null,null,2.5118860000000001,0,0,0,null,null,2.5118860000000001,0.18688399999999999,0.21481600000000001,0.26392399999999999,null,null,2.5118860000000001,1.1996279999999999,1.166814,1.211295,null,null,null,null,2.5118860000000001,6.6994333333333336E-2,8.5747666666666666E-2,6.1200000000000004E-3,9.8266666666666658E-3,8.2822000000000007E-2,9.1749000000000011E-2,0,0,0.22187466666666666,1.1925790000000001]
[null,2.8840309999999998,0.12795200000000001,0.10613300000000001,0,null,null,2.8840309999999998,4.6718999999999997E-2,0.129695,0.13997799999999999,null,null,2.8840309999999998,4.1010999999999999E-2,0,0,null,null,null,2.8840309999999998,0,0,3.2847000000000001E-2,null,null,2.8840309999999998,8.1234000000000001E-2,9.3128000000000002E-2,0.10463699999999999,null,null,2.8840309999999998,9.0842999999999993E-2,0.10316599999999999,0.12116499999999999,null,null,2.8840309999999998,0,0,0,null,null,2.8840309999999998,0,0,1.5185000000000001E-2,null,null,2.8840309999999998,0.20627499999999999,0.236148,0.29028500000000002,null,null,2.8840309999999998,1.32283,1.2779480000000001,1.3335840000000001,null,null,null,null,2.8840309999999998,7.8028333333333338E-2,0.105464,1.3670333333333333E-2,1.0949E-2,9.2999666666666661E-2,0.10505799999999998,0,5.0616666666666666E-3,0.24423600000000001,1.3114540000000001]
[null,3.3113109999999999,0.143483,0.12028899999999999,0,null,null,3.3113109999999999,7.4410000000000004E-2,0.14552000000000001,0.15732399999999999,null,null,3.3113109999999999,4.7717000000000002E-2,0,1.3041000000000001E-2,null,null,null,3.3113109999999999,0,1.1431E-2,3.5431999999999998E-2,null,null,3.3113109999999999,8.6708999999999994E-2,0.10222299999999999,0.11365,null,null,3.3113109999999999,0.102286,0.116398,0.135074,null,null,3.3113109999999999,0,0,0,null,null,3.3113109999999999,0,0,2.1047E-2,null,null,3.3113109999999999,0.222717,0.25443199999999999,0.31289400000000001,null,null,3.3113109999999999,1.4457100000000001,1.388026,1.4549319999999999,null,null,null,null,3.3113109999999999,8.7924000000000002E-2,0.12575133333333333,2.0252666666666669E-2,1.5621000000000001E-2,0.10086066666666667,0.11791933333333333,0,7.0156666666666666E-3,0.2633476666666667,1.4295559999999998]
[null,3.8018939999999999,0.15742300000000001,0.134218,0,null,null,3.8018939999999999,8.8067000000000006E-2,0.158725,0.17194100000000001,null,null,3.8018939999999999,6.6182000000000005E-2,0,2.1600999999999999E-2,null,null,null,3.8018939999999999,0,3.5014000000000003E-2,5.1482E-2,null,null,3.8018939999999999,9.4700000000000006E-2,0.109588,0.120868,null,null,3.8018939999999999,0.111583,0.12700400000000001,0.146867,null,null,3.8018939999999999,0,0,0,null,null,3.8018939999999999,0,0,2.1506999999999998E-2,null,null,3.8018939999999999,0.23542099999999999,0.26881899999999997,0.33082600000000001,null,null,3.8018939999999999,1.5693839999999999,1.498059,1.576274,null,null,null,null,3.8018939999999999,9.7213666666666684E-2,0.13957766666666668,2.9260999999999999E-2,2.8832E-2,0.10838533333333333,0.12848466666666666,0,7.1689999999999992E-3,0.27835533333333334,1.5479056666666666]
[null,4.3651580000000001,0.167492,0.14315700000000001,0,null,null,4.3651580000000001,9.0437000000000003E-2,0.167271,0.18158099999999999,null,null,4.3651580000000001,8.0574000000000007E-2,0,2.1828E-2,null,null,null,4.3651580000000001,0,4.4567000000000002E-2,6.4545000000000005E-2,null,null,4.3651580000000001,9.9303000000000002E-2,0.114953,0.125918,null,null,4.3651580000000001,0.118274,0.13467599999999999,0.15548400000000001,null,null,4.3651580000000001,0,0,0,null,null,4.3651580000000001,0,0,2.3293000000000001E-2,null,null,4.3651580000000001,0.24412300000000001,0.27898699999999999,0.34383599999999997,null,null,4.3651580000000001,1.695354,1.6093550000000001,1.699084,null,null,null,null,4.3651580000000001,0.10354966666666666,0.14642966666666665,3.4134000000000005E-2,3.6370666666666669E-2,0.11339133333333333,0.13614466666666666,0,7.764333333333334E-3,0.28898200000000002,1.6679310000000001]
[null,5.0118720000000003,0.171872,0.145841,0,null,null,5.0118720000000003,9.2566999999999997E-2,0.16957800000000001,0.18443799999999999,null,null,5.0118720000000003,7.8387999999999999E-2,0,2.2113000000000001E-2,null,null,null,5.0118720000000003,0,4.4248000000000003E-2,6.4017000000000004E-2,null,null,5.0118720000000003,0.10208399999999999,0.117756,0.12829499999999999,null,null,5.0118720000000003,0.121917,0.13885500000000001,0.160805,null,null,5.0118720000000003,0,0,0,null,null,5.0118720000000003,0,0,2.3939999999999999E-2,null,null,5.0118720000000003,0.24933900000000001,0.28544199999999997,0.352713,null,null,5.0118720000000003,1.828074,1.7258290000000001,1.8279540000000001,null,null,null,null,5.0118720000000003,0.10590433333333334,0.14886099999999999,3.3500333333333333E-2,3.6088333333333333E-2,0.116045,0.14052566666666666,0,7.9799999999999992E-3,0.29583133333333334,1.7939523333333334]
[null,5.7543990000000003,0.169074,0.14058899999999999,0,null,null,5.7543990000000003,8.7123000000000006E-2,0.16472899999999999,0.179394,null,null,5.7543990000000003,7.8403E-2,0,2.2787999999999999E-2,null,null,null,5.7543990000000003,0,4.6761999999999998E-2,6.4311999999999994E-2,null,null,5.7543990000000003,0.102309,0.118108,0.12814999999999999,null,null,5.7543990000000003,0.122893,0.140012,0.163299,null,null,5.7543990000000003,0,0,0,null,null,5.7543990000000003,0,0,2.4073000000000001E-2,null,null,5.7543990000000003,0.25188700000000003,0.28896699999999997,0.35854799999999998,null,null,5.7543990000000003,1.968072,1.847979,1.963921,null,null,null,null,5.7543990000000003,0.10322100000000001,0.14374866666666666,3.3730333333333334E-2,3.7024666666666664E-2,0.11618899999999999,0.142068,0,8.024333333333333E-3,0.29980066666666666,1.9266573333333332]
[null,6.6069339999999999,0.15876299999999999,0.126443,0,null,null,6.6069339999999999,8.0856999999999998E-2,0.15304300000000001,0.16667499999999999,null,null,6.6069339999999999,6.7470000000000002E-2,0,1.2696000000000001E-2,null,null,null,6.6069339999999999,0,4.4326999999999998E-2,6.2937000000000007E-2,null,null,6.6069339999999999,0.100745,0.116676,0.12620000000000001,null,null,6.6069339999999999,0.122449,0.139569,0.164545,null,null,6.6069339999999999,0,0,0,null,null,6.6069339999999999,0,0,2.3550999999999999E-2,null,null,6.6069339999999999,0.252996,0.29075200000000001,0.36293999999999998,null,null,6.6069339999999999,2.1182979999999998,1.9784660000000001,2.110519,null,null,null,null,6.6069339999999999,9.5068666666666649E-2,0.133525,2.6721999999999999E-2,3.5754666666666664E-2,0.11454033333333334,0.14218766666666666,0,7.8503333333333324E-3,0.30222933333333329,2.0690943333333336]
[null,7.5857760000000001,0.14264199999999999,0.107311,0,null,null,7.5857760000000001,6.1159999999999999E-2,0.13696700000000001,0.14885799999999999,null,null,7.5857760000000001,4.1646000000000002E-2,0,0,null,null,null,7.5857760000000001,0,3.0547000000000001E-2,5.3383E-2,null,null,7.5857760000000001,9.8519999999999996E-2,0.114777,0.123819,null,null,7.5857760000000001,0.122709,0.139962,0.16695699999999999,null,null,7.5857760000000001,0,0,0,null,null,7.5857760000000001,0,0,2.2242999999999999E-2,null,null,7.5857760000000001,0.25381300000000001,0.291798,0.36712499999999998,null,null,7.5857760000000001,2.2729840000000001,2.1123669999999999,2.2626469999999999,null,null,null,null,7.5857760000000001,8.3317666666666665E-2,0.11566166666666666,1.3882E-2,2.7976666666666667E-2,0.11237200000000001,0.14320933333333333,0,7.4143333333333327E-3,0.30424533333333331,2.215999333333333]
[null,8.7096359999999997,0.124058,8.2322000000000006E-2,0,null,null,8.7096359999999997,2.2766999999999999E-2,0.120425,0.13020300000000001,null,null,8.7096359999999997,2.2228000000000001E-2,0,0,null,null,null,8.7096359999999997,0,0,3.0456E-2,null,null,8.7096359999999997,9.7308000000000006E-2,0.114144,0.122749,null,null,8.7096359999999997,0.126527,0.14446600000000001,0.173767,null,null,8.7096359999999997,0,0,0,null,null,8.7096359999999997,0,0,2.1127E-2,null,null,8.7096359999999997,0.255274,0.29280600000000001,0.37197200000000002,null,null,8.7096359999999997,2.4293459999999998,2.2473290000000001,2.4177529999999998,null,null,null,null,8.7096359999999997,6.8793333333333331E-2,9.113166666666668E-2,7.4093333333333337E-3,1.0152E-2,0.11140033333333332,0.14825333333333335,0,7.0423333333333336E-3,0.30668400000000001,2.3648093333333331]
[null,10,0.109331,4.8002000000000003E-2,0,null,null,10,2.1755E-2,0.109863,0.117868,null,null,10,2.2889E-2,0,0,null,null,null,10,0,0,2.7026000000000001E-2,null,null,10,9.9066000000000001E-2,0.11669599999999999,0.124901,null,null,10,0.13678999999999999,0.15639800000000001,0.188002,null,null,10,0,0,0,null,null,10,0,0,1.9418000000000001E-2,null,null,10,0.257741,0.29384399999999999,0.377218,null,null,10,2.573582,2.3714689999999998,2.5618270000000001,null,null,null,null,10,5.2444333333333336E-2,8.3162E-2,7.6296666666666665E-3,9.0086666666666666E-3,0.11355433333333333,0.16039666666666666,0,6.4726666666666674E-3,0.30960100000000002,2.5022926666666665]
[null,11.481536,0.10546,4.3628E-2,0,null,null,11.481536,2.0562E-2,0.11201,0.11942,null,null,11.481536,4.2188000000000003E-2,0,0,null,null,null,11.481536,0,0,2.2901999999999999E-2,null,null,11.481536,0.105644,0.124155,0.131941,null,null,11.481536,0.15637699999999999,0.17907699999999999,0.21270700000000001,null,null,11.481536,0,0,0,null,null,11.481536,0,0,1.8693000000000001E-2,null,null,11.481536,0.26111499999999999,0.29449500000000001,0.38195400000000002,null,null,11.481536,2.6983130000000002,2.478456,2.6866439999999998,null,null,null,null,11.481536,4.9695999999999997E-2,8.3997333333333327E-2,1.4062666666666668E-2,7.6339999999999993E-3,0.12058000000000001,0.18272033333333335,0,6.2310000000000004E-3,0.31252133333333332,2.6211376666666664]
[null,13.182567000000001,0.11970699999999999,7.1737999999999996E-2,0,null,null,13.182567000000001,4.5267000000000002E-2,0.13284299999999999,0.14176,null,null,13.182567000000001,7.3135000000000006E-2,0,1.6542999999999999E-2,null,null,null,13.182567000000001,0,0,2.2839999999999999E-2,null,null,13.182567000000001,0.117794,0.13698199999999999,0.14430799999999999,null,null,13.182567000000001,0.185724,0.21299799999999999,0.24796599999999999,null,null,13.182567000000001,0,0,0,null,null,13.182567000000001,0,0,1.8877000000000001E-2,null,null,13.182567000000001,0.26468999999999998,0.29406300000000002,0.38448399999999999,null,null,13.182567000000001,2.7888950000000001,2.5557820000000002,2.7762690000000001,null,null,null,null,13.182567000000001,6.3814999999999997E-2,0.10662333333333333,2.9892666666666668E-2,7.6133333333333331E-3,0.13302800000000001,0.21556266666666668,0,6.2923333333333338E-3,0.31441233333333335,2.706982]
[null,15.135612,0.15712799999999999,0.11215899999999999,6.1546999999999998E-2,null,null,15.135612,9.3558000000000002E-2,0.175842,0.18906100000000001,null,null,15.135612,0.102563,3.5909000000000003E-2,6.2239000000000003E-2,null,null,null,15.135612,0,0,2.1957000000000001E-2,null,null,15.135612,0.135355,0.15471099999999999,0.16153400000000001,null,null,15.135612,0.224328,0.257581,0.29300199999999998,null,null,15.135612,0,0,0,null,null,15.135612,0,0,2.0250000000000001E-2,null,null,15.135612,0.26793800000000001,0.29220400000000002,0.38367099999999998,null,null,15.135612,2.8413050000000002,2.600139,2.825186,null,null,null,null,15.135612,0.110278,0.15282033333333334,6.6903666666666681E-2,7.319E-3,0.15053333333333332,0.25830366666666665,0,6.7499999999999999E-3,0.31460433333333332,2.7555433333333337]
[null,17.378008000000001,0.21602299999999999,0.172518,0.12847500000000001,null,null,17.378008000000001,0.14275199999999999,0.23702999999999999,0.25725399999999998,null,null,17.378008000000001,0.13877700000000001,7.3515999999999998E-2,0.111539,null,null,null,17.378008000000001,0,2.3477999999999999E-2,6.2496999999999997E-2,null,null,17.378008000000001,0.15534400000000001,0.17407600000000001,0.18044099999999999,null,null,17.378008000000001,0.266787,0.306585,0.34159800000000001,null,null,17.378008000000001,0,0,0,null,null,17.378008000000001,0,0,2.2877999999999999E-2,null,null,17.378008000000001,0.27074399999999998,0.28968500000000003,0.37981599999999999,null,null,17.378008000000001,2.85398,2.6104210000000001,2.8307000000000002,null,null,null,null,17.378008000000001,0.17233866666666667,0.2123453333333333,0.107944,2.8658333333333331E-2,0.16995366666666667,0.30499000000000004,0,7.626E-3,0.313415,2.7650336666666671]
[null,19.952622999999999,0.28922900000000001,0.24807699999999999,0.212954,null,null,19.952622999999999,0.19584499999999999,0.30726300000000001,0.33641300000000002,null,null,19.952622999999999,0.17963000000000001,9.8543000000000006E-2,0.147229,null,null,null,19.952622999999999,2.0309000000000001E-2,7.3027999999999996E-2,0.101065,null,null,19.952622999999999,0.17351,0.190691,0.196796,null,null,19.952622999999999,0.30658600000000003,0.35247699999999998,0.38664399999999999,null,null,19.952622999999999,0,0,0,null,null,19.952622999999999,1.0238000000000001E-2,0,2.6283999999999998E-2,null,null,19.952622999999999,0.27456900000000001,0.28907100000000002,0.37594100000000003,null,null,19.952622999999999,2.835709,2.5943930000000002,2.8009140000000001,null,null,null,null,19.952622999999999,0.25008666666666668,0.2798403333333333,0.14180066666666666,6.4800666666666673E-2,0.186999,0.34856899999999996,0,1.2173999999999999E-2,0.31319366666666665,2.7436720000000001]
[null,22.908677000000001,0.358261,0.31742900000000002,0.27668399999999999,null,null,22.908677000000001,0.24385100000000001,0.36711700000000003,0.40491899999999997,null,null,22.908677000000001,0.21284500000000001,0.12388,0.18272099999999999,null,null,null,22.908677000000001,7.3884000000000005E-2,0.11007500000000001,0.12953500000000001,null,null,22.908677000000001,0.18323200000000001,0.19817599999999999,0.20444599999999999,null,null,22.908677000000001,0.33372800000000002,0.38368799999999997,0.41742800000000002,null,null,22.908677000000001,0,0,0,null,null,22.908677000000001,2.3480000000000001E-2,0,2.946E-2,null,null,22.908677000000001,0.28296500000000002,0.29549399999999998,0.37907200000000002,null,null,22.908677000000001,2.803229,2.5666250000000002,2.7534429999999999,null,null,null,null,22.908677000000001,0.31745800000000002,0.33862900000000001,0.17314866666666665,0.10449800000000002,0.19528466666666666,0.37828133333333341,0,1.7646666666666668E-2,0.31917700000000004,2.707765666666667]
[null,26.302679999999999,0.40141900000000003,0.35676200000000002,0.30846400000000002,null,null,26.302679999999999,0.26818500000000001,0.39536199999999999,0.43876100000000001,null,null,26.302679999999999,0.22827600000000001,0.129108,0.19690199999999999,null,null,null,26.302679999999999,0.10675,0.137548,0.158386,null,null,26.302679999999999,0.17874599999999999,0.19119900000000001,0.198298,null,null,26.302679999999999,0.34010400000000002,0.39080199999999998,0.42565799999999998,null,null,26.302679999999999,0,0,0,null,null,26.302679999999999,2.3389E-2,0,3.1302000000000003E-2,null,null,26.302679999999999,0.30269099999999999,0.31708500000000001,0.40072000000000002,null,null,26.302679999999999,2.778616,2.5461740000000002,2.7122030000000001,null,null,null,null,26.302679999999999,0.35554833333333336,0.36743600000000004,0.18476200000000001,0.13422800000000001,0.18941433333333332,0.38552133333333333,0,1.8230333333333335E-2,0.34016533333333338,2.6789976666666671]
[null,30.199517,0.39146500000000001,0.34185399999999999,0.28670400000000001,null,null,30.199517,0.25295099999999998,0.36917499999999998,0.411881,null,null,30.199517,0.21460199999999999,0.11583499999999999,0.18153,null,null,null,30.199517,0.12167699999999999,0.14946599999999999,0.168379,null,null,30.199517,0.15554499999999999,0.166468,0.175175,null,null,30.199517,0.32135399999999997,0.368705,0.407306,null,null,30.199517,0,0,0,null,null,30.199517,2.4933E-2,0,2.9994E-2,null,null,30.199517,0.343136,0.36395499999999997,0.455758,null,null,30.199517,2.786225,2.5538759999999998,2.7051620000000001,null,null,null,null,30.199517,0.34000766666666671,0.34466899999999995,0.17065566666666665,0.14650733333333332,0.16572933333333331,0.36578833333333333,0,1.8309000000000002E-2,0.38761633333333334,2.6817543333333336]
[null,34.673684999999999,0.31783899999999998,0.251884,0.17678099999999999,null,null,34.673684999999999,0.19011900000000001,0.282586,0.31610700000000003,null,null,34.673684999999999,0.17383100000000001,5.6691999999999999E-2,0.13251099999999999,null,null,null,34.673684999999999,0.115938,0.136211,0.155276,null,null,34.673684999999999,0.117531,0.128077,0.13922000000000001,null,null,34.673684999999999,0.28137400000000001,0.32177699999999998,0.36743500000000001,null,null,34.673684999999999,0,0,0,null,null,34.673684999999999,1.4449E-2,0,2.5995999999999998E-2,null,null,34.673684999999999,0.41711399999999998,0.44838800000000001,0.56201000000000001,null,null,34.673684999999999,2.8467150000000001,2.6071270000000002,2.757069,null,null,null,null,34.673684999999999,0.24883466666666665,0.26293733333333336,0.12101133333333332,0.13580833333333334,0.128276,0.32352866666666663,0,1.3481666666666664E-2,0.47583733333333339,2.7369703333333333]
[null,39.810716999999997,0.15712100000000001,9.8017000000000007E-2,2.5999000000000001E-2,null,null,39.810716999999997,8.1625000000000003E-2,0.12906300000000001,0.14407600000000001,null,null,39.810716999999997,0.105169,0,5.5086999999999997E-2,null,null,null,39.810716999999997,6.7502000000000006E-2,7.5539999999999996E-2,0.10061299999999999,null,null,39.810716999999997,6.8069000000000005E-2,8.2463999999999996E-2,9.6374000000000001E-2,null,null,39.810716999999997,0.23588899999999999,0.26805499999999999,0.323708,null,null,39.810716999999997,0,0,0,null,null,39.810716999999997,0,0,1.503E-2,null,null,39.810716999999997,0.53796999999999995,0.58107399999999998,0.73490599999999995,null,null,39.810716999999997,2.9711780000000001,2.7146940000000002,2.8832610000000001,null,null,null,null,39.810716999999997,9.3712333333333342E-2,0.11825466666666667,5.341866666666667E-2,8.1218333333333337E-2,8.2302333333333325E-2,0.27588399999999996,0,5.0099999999999997E-3,0.61798333333333322,2.8563776666666669]
[null,45.708818999999998,0,0,0,null,null,45.708818999999998,0,0,0,null,null,45.708818999999998,1.9376999999999998E-2,0,0,null,null,null,45.708818999999998,0,0,1.1377999999999999E-2,null,null,45.708818999999998,1.6213999999999999E-2,4.0895000000000001E-2,5.8681999999999998E-2,null,null,45.708818999999998,0.21260100000000001,0.23942099999999999,0.30631399999999998,null,null,45.708818999999998,0,0,0,null,null,45.708818999999998,0,0,0,null,null,45.708818999999998,0.71975199999999995,0.77110599999999996,0.98643400000000003,null,null,45.708818999999998,3.157626,2.8738109999999999,3.084762,null,null,null,null,45.708818999999998,0,0,6.4589999999999995E-3,3.7926666666666664E-3,3.8596999999999999E-2,0.25277866666666665,0,0,0.82576399999999994,3.0387330000000001]
[null,52.480746000000003,0,0,0,null,null,52.480746000000003,0,0,0,null,null,52.480746000000003,2.0021000000000001E-2,0,1.073E-3,null,null,null,52.480746000000003,0,0,0,null,null,52.480746000000003,2.3366000000000001E-2,5.2047999999999997E-2,7.4912000000000006E-2,null,null,52.480746000000003,0.24895,0.279138,0.35518,null,null,52.480746000000003,0,0,0,null,null,52.480746000000003,0,0,0,null,null,52.480746000000003,0.97356100000000001,1.022281,1.3193969999999999,null,null,52.480746000000003,3.3868239999999998,3.067008,3.3431060000000001,null,null,null,null,52.480746000000003,0,0,7.0313333333333339E-3,0,5.0108666666666669E-2,0.29442266666666667,0,0,1.1050796666666667,3.2656460000000003]
[null,60.255958999999997,0,0,0,null,null,60.255958999999997,0,0,0,null,null,60.255958999999997,0.13653000000000001,0,1.1412E-2,null,null,null,60.255958999999997,0,0,0,null,null,60.255958999999997,0.109364,0.14507500000000001,0.16272800000000001,null,null,60.255958999999997,0.384407,0.43310199999999999,0.51147799999999999,null,null,60.255958999999997,0,0,0,null,null,60.255958999999997,0,0,0,null,null,60.255958999999997,1.305636,1.3321080000000001,1.725344,null,null,60.255958999999997,3.6227510000000001,3.2632340000000002,3.6200269999999999,null,null,null,null,60.255958999999997,0,0,4.9314000000000004E-2,0,0.13905566666666669,0.44299566666666673,0,0,1.4543626666666667,3.5020039999999999]
[null,69.183097000000004,7.6360000000000004E-3,0,0,null,null,69.183097000000004,9.2442999999999997E-2,0.263517,0.26595600000000003,null,null,69.183097000000004,0.38587199999999999,0.151976,0.25584499999999999,null,null,null,69.183097000000004,0,0,0,null,null,69.183097000000004,0.27448499999999998,0.31596200000000002,0.329206,null,null,69.183097000000004,0.65096100000000001,0.73903399999999997,0.80757599999999996,null,null,69.183097000000004,0,0,0,null,null,69.183097000000004,0,0,0,null,null,69.183097000000004,1.7193780000000001,1.695149,2.188679,null,null,69.183097000000004,3.8188930000000001,3.4237289999999998,3.8642210000000001,null,null,null,null,69.183097000000004,2.5453333333333335E-3,0.20730533333333334,0.26456433333333335,0,0.30655099999999996,0.73252366666666668,0,0,1.8677353333333333,3.7022809999999997]
[null,79.432822999999999,0.42553000000000002,0.29721700000000001,0.43930900000000001,null,null,79.432822999999999,0.51201799999999997,0.93883499999999998,1.0063329999999999,null,null,79.432822999999999,0.81925499999999996,0.56319399999999997,0.69247599999999998,null,null,null,79.432822999999999,0,0,5.7616000000000001E-2,null,null,79.432822999999999,0.54013900000000004,0.58084599999999997,0.58724200000000004,null,null,79.432822999999999,1.0559350000000001,1.2068920000000001,1.248831,null,null,79.432822999999999,0,2.5274999999999999E-2,0,null,null,79.432822999999999,7.7237E-2,9.3029000000000001E-2,3.2607999999999998E-2,null,null,79.432822999999999,2.2071689999999999,2.0978349999999999,2.6806969999999999,null,null,79.432822999999999,3.9228040000000002,3.5058699999999998,4.0157350000000003,null,null,null,null,79.432822999999999,0.38735199999999997,0.81906200000000007,0.6916416666666666,1.9205333333333335E-2,0.56940900000000005,1.1705526666666668,8.4250000000000002E-3,6.7624666666666666E-2,2.3285670000000001,3.8148029999999999]
[null,91.201083999999994,1.3420300000000001,1.2345630000000001,1.5177039999999999,null,null,91.201083999999994,1.2673540000000001,1.9794700000000001,2.1716929999999999,null,null,91.201083999999994,1.4487669999999999,1.1862820000000001,1.3305979999999999,null,null,null,91.201083999999994,0.191722,0.26992500000000003,0.39664500000000003,null,null,91.201083999999994,0.90162699999999996,0.93113699999999999,0.92784199999999994,null,null,91.201083999999994,1.583251,1.820465,1.8160620000000001,null,null,91.201083999999994,2.7899E-2,0.15875400000000001,5.6974999999999998E-2,null,null,91.201083999999994,0.25457600000000002,0.26281100000000002,0.138213,null,null,91.201083999999994,2.7666080000000002,2.5346419999999998,3.181311,null,null,91.201083999999994,3.8920400000000002,3.4755029999999998,4.0249969999999999,null,null,null,null,91.201083999999994,{"$f":"AVERAGE(C87:E87)","v":1.3647656666666668},{"$f":"AVERAGE(I87:K87)","v":1.8061723333333333},{"$f":"AVERAGE(O87:Q87)","v":1.3218823333333332},{"$f":"AVERAGE(V87:X87)","v":0.28609733333333337},{"$f":"AVERAGE(AB87:AD87)","v":0.92020200000000008},{"$f":"AVERAGE(AH87:AJ87)","v":1.7399259999999999},{"$f":"AVERAGE(AN87:AP87)","v":8.1209333333333342E-2},{"$f":"AVERAGE(AT87:AV87)","v":0.21853333333333336},{"$f":"AVERAGE(AZ87:BB87)","v":2.8275203333333336},{"$f":"AVERAGE(BF87:BH87)","v":3.7975133333333333}]
[null,104.712855,2.6894179999999999,2.6889409999999998,3.0132460000000001,null,null,104.712855,2.3166039999999999,3.3330129999999998,3.6950729999999998,null,null,104.712855,2.2212459999999998,1.9756039999999999,2.1377350000000002,null,null,null,104.712855,0.72690200000000005,0.86012999999999995,1.002839,null,null,104.712855,1.315407,1.3209070000000001,1.307776,null,null,104.712855,2.1705390000000002,2.510783,2.4419369999999998,null,null,104.712855,9.3917E-2,0.45436900000000002,0.17138500000000001,null,null,104.712855,0.44285400000000003,0.56420400000000004,0.27340100000000001,null,null,104.712855,3.3782190000000001,2.9922279999999999,3.6631040000000001,null,null,104.712855,3.7041469999999999,3.3141820000000002,3.86273,null,null,null,null,104.712855,2.7972016666666666,3.1148966666666666,2.1115283333333332,0.86329033333333338,1.3146966666666666,2.3744196666666664,0.23989033333333334,0.42681966666666665,3.3445170000000002,3.627019666666667]
[null,120.226443,4.4198430000000002,4.6179629999999996,4.8969310000000004,null,null,120.226443,3.6016080000000001,4.8862459999999999,5.4550999999999998,null,null,120.226443,3.0656699999999999,2.8645749999999999,3.0368909999999998,null,null,null,120.226443,1.4342410000000001,1.6283879999999999,1.842511,null,null,120.226443,1.72977,1.6980660000000001,1.677305,null,null,120.226443,2.7473100000000001,3.200304,3.0530400000000002,null,null,120.226443,0.21659300000000001,0.75691699999999995,0.37166300000000002,null,null,120.226443,0.675149,0.88061199999999995,0.42049999999999998,null,null,120.226443,4.0401680000000004,3.477579,4.1257539999999997,null,null,120.226443,3.3606379999999998,3.0212940000000001,3.5275150000000002,null,null,null,null,120.226443,4.6449123333333331,4.6476513333333331,2.9890453333333333,1.6350466666666668,1.7017136666666666,3.0002180000000003,0.44839099999999998,0.65875366666666668,3.881167,3.3031489999999999]
[null,138.03842599999999,6.2824229999999996,6.7479969999999998,6.8740300000000003,null,null,138.03842599999999,4.9299780000000002,6.3993349999999998,7.1791179999999999,null,null,138.03842599999999,3.8497569999999999,3.7140029999999999,3.8902109999999999,null,null,null,138.03842599999999,2.32917,2.5692680000000001,2.867216,null,null,138.03842599999999,2.065849,1.9885200000000001,1.9650650000000001,null,null,138.03842599999999,3.2128369999999999,3.7753290000000002,3.5468649999999999,null,null,138.03842599999999,0.318824,1.0924959999999999,0.55107499999999998,null,null,138.03842599999999,0.88886200000000004,1.2197979999999999,0.55774699999999999,null,null,138.03842599999999,4.7221399999999996,3.9827859999999999,4.5622990000000003,null,null,138.03842599999999,2.9041389999999998,2.6289889999999998,3.0621269999999998,null,null,null,null,138.03842599999999,6.6348166666666666,6.1694769999999997,3.8179903333333329,2.5885513333333336,2.006478,3.5116770000000002,0.65413166666666667,0.88880233333333336,4.4224083333333333,2.8650850000000001]
[null,158.48931899999999,8.0241009999999999,8.7726579999999998,8.6595960000000005,null,null,158.48931899999999,6.1247829999999999,7.6678319999999998,8.6321270000000005,null,null,158.48931899999999,4.4739120000000003,4.4128749999999997,4.5854540000000004,null,null,null,158.48931899999999,3.3531170000000001,3.6028500000000001,4.0095770000000002,null,null,158.48931899999999,2.2669790000000001,2.1431809999999998,2.1229969999999998,null,null,158.48931899999999,3.5027979999999999,4.1639559999999998,3.8623059999999998,null,null,158.48931899999999,0.42548200000000003,1.385623,0.72958699999999999,null,null,158.48931899999999,1.052613,1.5127729999999999,0.65569299999999997,null,null,158.48931899999999,5.4177540000000004,4.521922,4.9936829999999999,null,null,158.48931899999999,2.3819180000000002,2.1724130000000001,2.5170889999999999,null,null,null,null,158.48931899999999,8.4854516666666679,7.4749140000000009,4.4907469999999998,3.6551813333333336,2.1777189999999997,3.8430199999999997,0.84689733333333328,1.073693,4.9777863333333334,2.3571399999999998]
[null,181.97008600000001,9.2845379999999995,10.255105,9.8653779999999998,null,null,181.97008600000001,6.954542,8.448601,9.5293569999999992,null,null,181.97008600000001,4.8358470000000002,4.8369780000000002,4.9993800000000004,null,null,null,181.97008600000001,4.3865670000000003,4.5940950000000003,5.1263249999999996,null,null,181.97008600000001,2.2909959999999998,2.1341109999999999,2.1215799999999998,null,null,181.97008600000001,3.5731090000000001,4.3114330000000001,3.9600110000000002,null,null,181.97008600000001,0.50807999999999998,1.5826020000000001,0.85206000000000004,null,null,181.97008600000001,1.1281159999999999,1.7095819999999999,0.69177999999999995,null,null,181.97008600000001,6.0728609999999996,5.0724119999999999,5.414828,null,null,181.97008600000001,1.8741909999999999,1.71719,1.978737,null,null,null,null,181.97008600000001,9.801673666666666,8.3108333333333331,4.8907350000000003,4.7023289999999998,2.182229,3.9481843333333333,0.98091399999999995,1.1764926666666666,5.5200336666666665,1.856706]
[null,208.92961299999999,9.8510670000000005,10.930479999999999,10.268164000000001,null,null,208.92961299999999,7.3067780000000004,8.6355789999999999,9.7383570000000006,null,null,208.92961299999999,4.9190170000000002,4.9478660000000003,5.0945520000000002,null,null,null,208.92961299999999,5.355836,5.4599260000000003,6.1309889999999996,null,null,208.92961299999999,2.1444549999999998,1.983225,1.97834,null,null,208.92961299999999,3.441173,4.2314679999999996,3.8640509999999999,null,null,208.92961299999999,0.57303700000000002,1.6538820000000001,0.90708599999999995,null,null,208.92961299999999,1.111005,1.789209,0.66761800000000004,null,null,208.92961299999999,6.6547419999999997,5.6255990000000002,5.8298050000000003,null,null,208.92961299999999,1.4244270000000001,1.3010919999999999,1.495822,null,null,null,null,208.92961299999999,10.349903666666668,8.560238,4.9871450000000008,5.648917,2.0353400000000001,3.8455639999999995,1.0446683333333333,1.1892773333333333,6.0367153333333334,1.4071136666666668]
[null,239.88329200000001,9.6058109999999992,10.654771999999999,9.7683560000000007,null,null,239.88329200000001,7.1443300000000001,8.2168569999999992,9.2324369999999991,null,null,239.88329200000001,4.76661,4.766616,4.8945819999999998,null,null,null,239.88329200000001,6.1448159999999996,6.0930710000000001,6.8963919999999996,null,null,239.88329200000001,1.8887849999999999,1.7679769999999999,1.763655,null,null,239.88329200000001,3.1795239999999998,3.989951,3.647418,null,null,239.88329200000001,0.63920299999999997,1.6038650000000001,0.89984500000000001,null,null,239.88329200000001,1.032454,1.763951,0.61677000000000004,null,null,239.88329200000001,7.0797869999999996,6.1189340000000003,6.1936549999999997,null,null,239.88329200000001,1.083081,0.97553400000000001,1.124932,null,null,null,null,239.88329200000001,10.009646333333333,8.1978746666666655,4.809269333333333,6.3780929999999998,1.8068056666666665,3.6056310000000003,1.0476376666666667,1.1377249999999999,6.4641253333333326,1.0611823333333332]
[null,275.42286999999999,8.621632,9.5196640000000006,8.4659080000000007,null,null,275.42286999999999,6.5557239999999997,7.3001339999999999,8.1217419999999994,null,null,275.42286999999999,4.485608,4.3864580000000002,4.4949579999999996,null,null,null,275.42286999999999,6.72194,6.4784860000000002,7.3868929999999997,null,null,275.42286999999999,1.6228089999999999,1.599839,1.581547,null,null,275.42286999999999,2.8918339999999998,3.6850510000000001,3.4080089999999998,null,null,275.42286999999999,0.75743099999999997,1.487311,0.87668599999999997,null,null,275.42286999999999,0.96412600000000004,1.693681,0.60772999999999999,null,null,275.42286999999999,7.289695,6.5037820000000002,6.4605860000000002,null,null,275.42286999999999,0.85137200000000002,0.75405500000000003,0.86947799999999997,null,null,null,null,275.42286999999999,8.8690680000000004,7.3258666666666663,4.4556746666666669,6.8624396666666669,1.6013983333333333,3.3282980000000002,1.040476,1.0885123333333333,6.7513543333333326,0.82496833333333341]
[null,316.22776599999997,7.1514430000000004,7.8311710000000003,6.6696270000000002,null,null,316.22776599999997,5.7324299999999999,6.1130940000000002,6.6602119999999996,null,null,316.22776599999997,4.2241359999999997,3.9599929999999999,4.0521940000000001,null,null,null,316.22776599999997,7.0575599999999996,6.6242369999999999,7.577242,null,null,316.22776599999997,1.487773,1.619364,1.5674920000000001,null,null,316.22776599999997,2.710267,3.4415450000000001,3.2593239999999999,null,null,316.22776599999997,0.99689099999999997,1.409321,0.92239199999999999,null,null,316.22776599999997,1.014381,1.6784030000000001,0.73954799999999998,null,null,316.22776599999997,7.2226150000000002,6.7042669999999998,6.5561030000000002,null,null,316.22776599999997,0.72570599999999996,0.65117999999999998,0.72639200000000004,null,null,null,null,316.22776599999997,7.2174136666666682,6.168578666666666,4.0787743333333326,7.0863463333333341,1.5582096666666665,3.137045333333333,1.1095346666666666,1.1441106666666667,6.8276616666666667,0.7010926666666667]
[null,363.07805500000001,5.4785250000000003,5.9244320000000004,4.7112629999999998,null,null,363.07805500000001,4.867915,4.8700349999999997,5.0890680000000001,null,null,363.07805500000001,4.1082700000000001,3.632174,3.7144460000000001,null,null,null,363.07805500000001,7.1801579999999996,6.5933739999999998,7.5004059999999999,null,null,363.07805500000001,1.6194170000000001,1.9525710000000001,1.845963,null,null,363.07805500000001,2.7420960000000001,3.3571339999999998,3.2834810000000001,null,null,363.07805500000001,1.449781,1.503582,1.1529160000000001,null,null,363.07805500000001,1.3069930000000001,1.8383160000000001,1.1284719999999999,null,null,363.07805500000001,6.8537710000000001,6.6722659999999996,6.4208439999999998,null,null,363.07805500000001,0.676983,0.659273,0.66335900000000003,null,null,null,null,363.07805500000001,5.3714066666666662,4.942339333333333,3.8182966666666669,7.091312666666667,1.8059836666666669,3.1275703333333333,1.3687596666666666,1.4245936666666665,6.6489603333333323,0.66653833333333334]
[null,416.86938300000003,3.93668,4.1762360000000003,2.9600629999999999,null,null,416.86938300000003,4.1585890000000001,3.8015859999999999,3.681362,null,null,416.86938300000003,4.2176910000000003,3.5301070000000001,3.6110139999999999,null,null,null,416.86938300000003,7.1259129999999997,6.459435,7.2089999999999996,null,null,416.86938300000003,2.122214,2.6699009999999999,2.4943979999999999,null,null,416.86938300000003,3.0538249999999998,3.4949439999999998,3.5205099999999998,null,null,416.86938300000003,2.188739,1.9048350000000001,1.685065,null,null,416.86938300000003,1.9439919999999999,2.2831929999999998,1.8668009999999999,null,null,416.86938300000003,6.2095690000000001,6.3839589999999999,6.0215949999999996,null,null,416.86938300000003,0.67006100000000002,0.75944999999999996,0.64074500000000001,null,null,null,null,416.86938300000003,3.6909930000000002,3.8805123333333333,3.7862706666666668,6.9314493333333331,2.4288376666666665,3.3564263333333333,1.926213,2.0313286666666666,6.2050409999999987,0.69008533333333333]
[null,478.63009199999999,2.7212269999999998,2.788926,1.5247230000000001,null,null,478.63009199999999,3.7035100000000001,3.0212400000000001,2.5797560000000002,null,null,478.63009199999999,4.5522840000000002,3.710779,3.7966000000000002,null,null,null,478.63009199999999,6.9353790000000002,6.282743,6.7588280000000003,null,null,478.63009199999999,3.047031,3.7791109999999999,3.5332560000000002,null,null,478.63009199999999,3.6534680000000002,3.8612579999999999,3.9596619999999998,null,null,478.63009199999999,3.2777759999999998,2.7221579999999999,2.62479,null,null,478.63009199999999,2.99675,3.0961810000000001,3.0222419999999999,null,null,478.63009199999999,5.344284,5.8482580000000004,5.3573490000000001,null,null,478.63009199999999,0.66456300000000001,0.92071599999999998,0.61631400000000003,null,null,null,null,478.63009199999999,2.3449586666666664,3.101502,4.0198876666666665,6.6589833333333344,3.4531326666666669,3.8247959999999996,2.874908,3.0383910000000003,5.5166303333333326,0.73386433333333334]
[null,549.54087400000003,1.9437439999999999,1.8637239999999999,0.92613100000000004,null,null,549.54087400000003,3.533131,2.5719949999999998,1.859993,null,null,549.54087400000003,5.0273000000000003,4.1555299999999997,4.2436790000000002,null,null,null,549.54087400000003,6.6395189999999999,6.0954940000000004,6.2082689999999996,null,null,549.54087400000003,4.3382360000000002,5.1678579999999998,4.8707469999999997,null,null,549.54087400000003,4.4680970000000002,4.3959650000000003,4.5302819999999997,null,null,549.54087400000003,4.7020949999999999,3.9765190000000001,3.9978449999999999,null,null,549.54087400000003,4.4390689999999999,4.2787309999999996,4.5645800000000003,null,null,549.54087400000003,4.3611269999999998,5.1193520000000001,4.4873820000000002,null,null,549.54087400000003,0.625749,1.098552,0.54677100000000001,null,null,null,null,549.54087400000003,1.5778663333333334,2.6550396666666667,4.4755029999999998,6.3144273333333336,4.7922803333333333,4.4647813333333337,4.2254863333333335,4.42746,4.6559536666666661,0.75702400000000003]
[null,630.95734400000003,1.5719110000000001,1.3465229999999999,1.019147,null,null,630.95734400000003,3.59063,2.3930319999999998,1.4791939999999999,null,null,630.95734400000003,5.5100939999999996,4.7809970000000002,4.8531209999999998,null,null,null,630.95734400000003,6.247922,5.8883020000000004,5.5939329999999998,null,null,630.95734400000003,5.8673729999999997,6.659618,6.351197,null,null,630.95734400000003,5.3793369999999996,4.9977790000000004,5.1341229999999998,null,null,630.95734400000003,6.399877,5.6098840000000001,5.7618299999999998,null,null,630.95734400000003,6.1786789999999998,5.7690349999999997,6.4007350000000001,null,null,630.95734400000003,3.3493909999999998,4.2611210000000002,3.4839889999999998,null,null,630.95734400000003,0.52876599999999996,1.2443770000000001,0.43478800000000001,null,null,null,null,630.95734400000003,1.312527,2.4876186666666666,5.0480706666666668,5.9100523333333328,6.292729333333333,5.1704129999999999,5.9238636666666666,6.1161496666666659,3.6981669999999998,0.7359770000000001]
[null,724.43596000000002,1.5035350000000001,1.122274,1.3316479999999999,null,null,724.43596000000002,3.7666339999999998,2.3746489999999998,1.3402579999999999,null,null,724.43596000000002,5.8489699999999996,5.4494899999999999,5.4688840000000001,null,null,null,724.43596000000002,5.7639959999999997,5.6276830000000002,4.9408200000000004,null,null,724.43596000000002,7.4051809999999998,7.9997319999999998,7.7360040000000003,null,null,724.43596000000002,6.2202739999999999,5.5299579999999997,5.6476639999999998,null,null,724.43596000000002,8.2047640000000008,7.4348520000000002,7.7425490000000003,null,null,724.43596000000002,8.0109270000000006,7.3985570000000003,8.3216769999999993,null,null,724.43596000000002,2.3427479999999998,3.3577819999999998,2.468566,null,null,724.43596000000002,0.38739899999999999,1.316991,0.217143,null,null,null,null,724.43596000000002,1.3191523333333335,2.4938470000000001,5.5891146666666662,5.4441663333333326,7.7136390000000006,5.7992986666666662,7.7940550000000002,7.9103870000000001,2.7230319999999999,0.64051100000000005]
[null,831.76377100000002,1.599915,1.0538829999999999,1.815401,null,null,831.76377100000002,3.931978,2.3923969999999999,1.320133,null,null,831.76377100000002,5.9292999999999996,6.0128019999999998,5.9304420000000002,null,null,null,831.76377100000002,5.1877719999999998,5.2717330000000002,4.2771489999999996,null,null,831.76377100000002,8.694979,8.9457100000000001,8.7856719999999999,null,null,831.76377100000002,6.8297480000000004,5.8646050000000001,5.9610349999999999,null,null,831.76377100000002,9.8946850000000008,9.1890669999999997,9.6815160000000002,null,null,831.76377100000002,9.6836199999999995,8.9408600000000007,10.067591999999999,null,null,831.76377100000002,1.4490229999999999,2.4345819999999998,1.4199600000000001,null,null,831.76377100000002,0.212813,1.2761629999999999,6.7385E-2,null,null,null,null,831.76377100000002,1.489733,2.5481693333333335,5.9575146666666656,4.9122180000000002,8.8087870000000006,6.2184626666666665,9.5884226666666663,9.5640239999999981,1.767855,0.518787]
[null,954.99258599999996,1.7302649999999999,1.029639,2.2977319999999999,null,null,954.99258599999996,3.973579,2.3484250000000002,1.3149599999999999,null,null,954.99258599999996,5.6978059999999999,6.3338859999999997,6.1057139999999999,null,null,null,954.99258599999996,4.5319130000000003,4.7944889999999996,3.5809859999999998,null,null,954.99258599999996,9.4875889999999998,9.3099109999999996,9.2969570000000008,null,null,954.99258599999996,7.0752309999999996,5.9051080000000002,5.9924030000000004,null,null,954.99258599999996,11.197198999999999,10.557948,11.248763,null,null,954.99258599999996,10.916043,10.125591,11.346558999999999,null,null,954.99258599999996,0.811948,1.5751440000000001,0.523752,null,null,954.99258599999996,9.5102999999999993E-2,1.1395109999999999,0,null,null,null,null,954.99258599999996,1.6858786666666665,2.5456546666666666,6.0458019999999992,4.3024626666666661,9.3648189999999989,6.3242473333333331,11.001303333333334,10.796064333333334,0.97028133333333333,0.41153799999999996]
[null,1096.478196,1.794465,0.98579899999999998,2.6429339999999999,null,null,1096.478196,3.8205239999999998,2.1925590000000001,1.2611760000000001,null,null,1096.478196,5.1735930000000003,6.3139050000000001,5.9245419999999998,null,null,null,1096.478196,3.8279100000000001,4.2012369999999999,2.8456169999999998,null,null,1096.478196,9.6050760000000004,9.0141240000000007,9.1577149999999996,null,null,1096.478196,6.8837380000000001,5.6094439999999999,5.7045000000000003,null,null,1096.478196,11.842445,11.24485,12.1121,null,null,1096.478196,11.45701,10.694212,11.897451999999999,null,null,1096.478196,0.37959700000000002,0.99044600000000005,0.199127,null,null,1096.478196,0,0.99715100000000001,0,null,null,null,null,1096.478196,1.8077326666666664,2.4247529999999999,5.8040133333333337,3.624921333333333,9.2589716666666657,6.0658940000000001,11.733131666666665,11.349558,0.52305666666666673,0.33238366666666669]
[null,1258.9254120000001,1.732459,0.91246300000000002,2.7437589999999998,null,null,1258.9254120000001,3.4458730000000002,1.919367,1.135872,null,null,1258.9254120000001,4.4183349999999999,5.8969319999999996,5.3770930000000003,null,null,null,1258.9254120000001,3.1049090000000001,3.5132829999999999,2.3159179999999999,null,null,1258.9254120000001,8.9766549999999992,8.0917259999999995,8.3607089999999999,null,null,1258.9254120000001,6.2456399999999999,4.9871840000000001,5.0998210000000004,null,null,1258.9254120000001,11.613663000000001,11.034114000000001,12.009262,null,null,1258.9254120000001,11.127836,10.450324,11.538209999999999,null,null,1258.9254120000001,0.263569,0.59723999999999999,0,null,null,1258.9254120000001,0,0.78942999999999997,0,null,null,null,null,1258.9254120000001,1.796227,2.1670373333333335,5.230786666666666,2.9780366666666667,8.4763633333333335,5.4442149999999998,11.552346333333332,11.038790000000001,0.28693633333333329,0.26314333333333334]
[null,1445.4397710000001,1.522203,0.79663600000000001,2.539917,null,null,1445.4397710000001,2.8622030000000001,1.545671,0.94454499999999997,null,null,1445.4397710000001,3.515028,5.0720299999999998,4.5033399999999997,null,null,null,1445.4397710000001,2.3903189999999999,2.765695,1.80376,null,null,1445.4397710000001,7.6486260000000001,6.6684669999999997,6.9959220000000002,null,null,1445.4397710000001,5.213349,4.0952260000000003,4.220065,null,null,1445.4397710000001,10.38251,9.8257580000000004,10.793158999999999,null,null,1445.4397710000001,9.8466830000000005,9.2929490000000001,10.192387999999999,null,null,1445.4397710000001,0.151174,0.300784,0,null,null,1445.4397710000001,0,0.54806900000000003,0,null,null,null,null,1445.4397710000001,1.6195853333333332,1.7841396666666665,4.3634659999999998,2.3199246666666666,7.1043383333333336,4.509546666666667,10.333809,9.7773400000000006,0.15065266666666666,0.18268966666666667]
[null,1659.5869070000001,1.1838649999999999,0.62296700000000005,2.0521229999999999,null,null,1659.5869070000001,2.1201349999999999,1.0808869999999999,0.70658900000000002,null,null,1659.5869070000001,2.5419109999999998,3.903559,3.3907440000000002,null,null,null,1659.5869070000001,1.6970510000000001,1.9921869999999999,1.289223,null,null,1659.5869070000001,5.8014739999999998,4.9320589999999997,5.240011,null,null,1659.5869070000001,3.9014880000000001,3.0273180000000002,3.1307830000000001,null,null,1659.5869070000001,8.2331500000000002,7.7396880000000001,8.5669660000000007,null,null,1659.5869070000001,7.7280439999999997,7.3205030000000004,7.9873750000000001,null,null,1659.5869070000001,3.8142000000000002E-2,0.176255,0,null,null,1659.5869070000001,0,0.35652,0,null,null,null,null,1659.5869070000001,1.2863183333333332,1.3025370000000001,3.2787380000000002,1.6594870000000002,5.3245146666666665,3.353196333333333,8.1799346666666661,7.6786406666666664,7.1465666666666663E-2,0.11884]
[null,1905.460718,0.68703800000000004,0.36438399999999999,1.2221599999999999,null,null,1905.460718,1.173459,0.60020499999999999,0.40272799999999997,null,null,1905.460718,1.4180649999999999,2.264173,1.9399729999999999,null,null,null,1905.460718,0.93897299999999995,1.110452,0.71587999999999996,null,null,1905.460718,3.3225419999999999,2.783061,2.9809909999999999,null,null,1905.460718,2.2183350000000002,1.705687,1.7319340000000001,null,null,1905.460718,4.8724150000000002,4.5474930000000002,5.0588290000000002,null,null,1905.460718,4.5322889999999996,4.3032830000000004,4.680523,null,null,1905.460718,0,8.2878999999999994E-2,0,null,null,1905.460718,0,0.181921,0,null,null,null,null,1905.460718,0.75786066666666674,0.725464,1.8740703333333333,0.92176833333333319,3.0288646666666668,1.8853186666666666,4.826245666666666,4.5053650000000003,2.7626333333333333E-2,6.0640333333333331E-2]
[null,2187.7616240000002,0.164488,8.7811E-2,0.29714299999999999,null,null,2187.7616240000002,0.27067000000000002,0.14523,9.5901E-2,null,null,2187.7616240000002,0.333843,0.54373199999999999,0.46267399999999997,null,null,null,2187.7616240000002,0.220334,0.26140600000000003,0.168155,null,null,2187.7616240000002,0.79168799999999995,0.65843399999999996,0.70824900000000002,null,null,2187.7616240000002,0.52682700000000005,0.402644,0.398345,null,null,2187.7616240000002,1.1835439999999999,1.0988359999999999,1.2256579999999999,null,null,2187.7616240000002,1.0942050000000001,1.0402130000000001,1.129634,null,null,2187.7616240000002,0,2.172E-2,0,null,null,2187.7616240000002,0,4.9662999999999999E-2,0,null,null,null,null,2187.7616240000002,0.18314733333333333,0.17060033333333335,0.44674966666666666,0.21663166666666669,0.7194569999999999,0.44260533333333335,1.169346,1.0880173333333334,7.2399999999999999E-3,1.6554333333333334E-2]
[null,2511.8864319999998,0,0,0,null,null,2511.8864319999998,0,0,0,null,null,2511.8864319999998,0,0,0,null,null,null,2511.8864319999998,0,0,0,null,null,2511.8864319999998,0,0,0,null,null,2511.8864319999998,0,0,0,null,null,2511.8864319999998,0,0,0,null,null,2511.8864319999998,0,0,0,null,null,2511.8864319999998,0,0,0,null,null,2511.8864319999998,0,0,0,null,null,null,null,2511.8864319999998,0,0,0,0,0,0,0,0,0,0]
[null,2884.0315030000002,0,0,0,null,null,2884.0315030000002,0,0,0,null,null,2884.0315030000002,0,0,0,null,null,null,2884.0315030000002,0,0,0,null,null,2884.0315030000002,0,0,0,null,null,2884.0315030000002,0,0,0,null,null,2884.0315030000002,0,0,0,null,null,2884.0315030000002,0,0,0,null,null,2884.0315030000002,0,0,0,null,null,2884.0315030000002,0,0,0,null,null,null,null,2884.0315030000002,0,0,0,0,0,0,0,0,0,0]
[null,3311.3112150000002,0,0,0,null,null,3311.3112150000002,0,0,0,null,null,3311.3112150000002,0,0,0,null,null,null,3311.3112150000002,0,0,0,null,null,3311.3112150000002,0,0,0,null,null,3311.3112150000002,0,0,0,null,null,3311.3112150000002,0,0,0,null,null,3311.3112150000002,0,0,0,null,null,3311.3112150000002,0,0,0,null,null,3311.3112150000002,0,0,0,null,null,null,null,3311.3112150000002,0,0,0,0,0,0,0,0,0,0]
[null,3801.893963,0,0,0,null,null,3801.893963,0,0,0,null,null,3801.893963,0,0,0,null,null,null,3801.893963,0,0,0,null,null,3801.893963,0,0,0,null,null,3801.893963,0,0,0,null,null,3801.893963,0,0,0,null,null,3801.893963,0,0,0,null,null,3801.893963,0,0,0,null,null,3801.893963,0,0,0,null,null,null,null,3801.893963,0,0,0,0,0,0,0,0,0,0]
[null,4365.1583220000002,0,0,0,null,null,4365.1583220000002,0,0,0,null,null,4365.1583220000002,0,0,0,null,null,null,4365.1583220000002,0,0,0,null,null,4365.1583220000002,0,0,0,null,null,4365.1583220000002,0,0,0,null,null,4365.1583220000002,0,0,0,null,null,4365.1583220000002,0,0,0,null,null,4365.1583220000002,0,0,0,null,null,4365.1583220000002,0,0,0,null,null,null,null,4365.1583220000002,0,0,0,0,0,0,0,0,0,0]
[null,5011.8723360000004,0,0,0,null,null,5011.8723360000004,0,0,0,null,null,5011.8723360000004,0,0,0,null,null,null,5011.8723360000004,0,0,0,null,null,5011.8723360000004,0,0,0,null,null,5011.8723360000004,0,0,0,null,null,5011.8723360000004,0,0,0,null,null,5011.8723360000004,0,0,0,null,null,5011.8723360000004,0,0,0,null,null,5011.8723360000004,0,0,0,null,null,null,null,5011.8723360000004,0,0,0,0,0,0,0,0,0,0]
[null,5754.3993730000002,0,0,0,null,null,5754.3993730000002,0,0,0,null,null,5754.3993730000002,0,0,0,null,null,null,5754.3993730000002,0,0,0,null,null,5754.3993730000002,0,0,0,null,null,5754.3993730000002,0,0,0,null,null,5754.3993730000002,0,0,0,null,null,5754.3993730000002,0,0,0,null,null,5754.3993730000002,0,0,0,null,null,5754.3993730000002,0,0,0,null,null,null,null,5754.3993730000002,0,0,0,0,0,0,0,0,0,0]
[null,6606.9344799999999,0,0,0,null,null,6606.9344799999999,0,0,0,null,null,6606.9344799999999,0,0,0,null,null,null,6606.9344799999999,0,0,0,null,null,6606.9344799999999,0,0,0,null,null,6606.9344799999999,0,0,0,null,null,6606.9344799999999,0,0,0,null,null,6606.9344799999999,0,0,0,null,null,6606.9344799999999,0,0,0,null,null,6606.9344799999999,0,0,0,null,null,null,null,6606.9344799999999,0,0,0,0,0,0,0,0,0,0]
[null,7585.7757499999998,0,0,0,null,null,7585.7757499999998,0,0,0,null,null,7585.7757499999998,0,0,0,null,null,null,7585.7757499999998,0,0,0,null,null,7585.7757499999998,0,0,0,null,null,7585.7757499999998,0,0,0,null,null,7585.7757499999998,0,0,0,null,null,7585.7757499999998,0,0,0,null,null,7585.7757499999998,0,0,0,null,null,7585.7757499999998,0,0,0,null,null,null,null,7585.7757499999998,0,0,0,0,0,0,0,0,0,0]
[null,8709.6358999999993,0,0,0,null,null,8709.6358999999993,0,0,0,null,null,8709.6358999999993,0,0,0,null,null,null,8709.6358999999993,0,0,0,null,null,8709.6358999999993,0,0,0,null,null,8709.6358999999993,0,0,0,null,null,8709.6358999999993,0,0,0,null,null,8709.6358999999993,0,0,0,null,null,8709.6358999999993,0,0,0,null,null,8709.6358999999993,0,0,0,null,null,null,null,8709.6358999999993,0,0,0,0,0,0,0,0,0,0]
[null,10000,0,0,0,null,null,10000,0,0,0,null,null,10000,0,0,0,null,null,null,10000,0,0,0,null,null,10000,0,0,0,null,null,10000,0,0,0,null,null,10000,0,0,0,null,null,10000,0,0,0,null,null,10000,0,0,0,null,null,10000,0,0,0,null,null,null,null,10000,0,0,0,0,0,0,0,0,0,0]

{"sheet":"Calculations","index":13,"n_rows":50,"n_cols":12,"rows_kept":50,"cut":false,"hidden":true,"merged":[[0,0,0,1],[16,0,16,1],[26,0,26,1],[35,0,35,1],[0,3,0,4],[16,3,16,4],[26,3,26,4],[35,3,35,4],[0,6,0,7],[16,6,16,7],[26,6,26,7],[35,6,35,7],[0,9,0,10],[16,9,16,10],[26,9,26,10],[35,9,35,10]]}
["Basics",null,null,"Basics",null,null,"Basics",null,null,"Basics"]
[{"$f":"IF('Texture Calculator'!$G$4+1.5*'Texture Calculator'!$E$4<0.15,1,0)","v":1},"((silt + 1.5*clay) < 15)","SAND",{"$f":"IF('Texture Calculator'!$G$5+1.5*'Texture Calculator'!$E$5<0.15,1,0)","v":1},"((silt + 1.5*clay) < 15)","SAND",{"$f":"IF('Texture Calculator'!$G$6+1.5*'Texture Calculator'!$E$6<0.15,1,0)","v":1},"((silt + 1.5*clay) < 15)","SAND",{"$f":"IF('Texture Calculator'!$G$7+1.5*'Texture Calculator'!$E$7<0.15,1,0)","v":1},"((silt + 1.5*clay) < 15)","SAND"]
[{"$f":"IF(AND('Texture Calculator'!$G$4+1.5*'Texture Calculator'!$E$4>=0.15, 'Texture Calculator'!$G$4+2*'Texture Calculator'!$E$4<0.3), 2, 0)","v":0},"((silt + 1.5*clay >= 15) && (silt + 2*clay < 30))","LOAMY SAND",{"$f":"IF(AND('Texture Calculator'!$G$5+1.5*'Texture Calculator'!$E$5>=0.15, 'Texture Calculator'!$G$5+2*'Texture Calculator'!$E$5<0.3), 2, 0)","v":0},"((silt + 1.5*clay >= 15) && (silt + 2*clay < 30))","LOAMY SAND",{"$f":"IF(AND('Texture Calculator'!$G$6+1.5*'Texture Calculator'!$E$6>=0.15, 'Texture Calculator'!$G$6+2*'Texture Calculator'!$E$6<0.3), 2, 0)","v":0},"((silt + 1.5*clay >= 15) && (silt + 2*clay < 30))","LOAMY SAND",{"$f":"IF(AND('Texture Calculator'!$G$7+1.5*'Texture Calculator'!$E$7>=0.15, 'Texture Calculator'!$G$7+2*'Texture Calculator'!$E$7<0.3), 2, 0)","v":0},"((silt + 1.5*clay >= 15) && (silt + 2*clay < 30))","LOAMY SAND"]
[{"$f":"IF(OR(AND('Texture Calculator'!$E$4>=0.07, 'Texture Calculator'!$E$4<0.2,'Texture Calculator'!$C$4>0.52,'Texture Calculator'!$G$4+2*'Texture Calculator'!$E$4>=0.3), AND('Texture Calculator'!$E$4<0.07, 'Texture Calculator'!$G$4<0.5, 'Texture Calculator'!$G$4+2*'Texture Calculator'!$E$4>=0.3)), 3,0)","v":0},"((clay >= 7 && clay < 20) && (sand > 52) && ((silt + 2*clay) >= 30) || (clay < 7 && silt < 50 && (silt+2*clay)>=30))","SANDY LOAM",{"$f":"IF(OR(AND('Texture Calculator'!$E$5>=0.07, 'Texture Calculator'!$E$5<0.2,'Texture Calculator'!$C$5>0.52,'Texture Calculator'!$G$5+2*'Texture Calculator'!$E$5>=0.3), AND('Texture Calculator'!$E$5<0.07, 'Texture Calculator'!$G$5<0.5, 'Texture Calculator'!$G$5+2*'Texture Calculator'!$E$5>=0.3)), 3,0)","v":0},"((clay >= 7 && clay < 20) && (sand > 52) && ((silt + 2*clay) >= 30) || (clay < 7 && silt < 50 && (silt+2*clay)>=30))","SANDY LOAM",{"$f":"IF(OR(AND('Texture Calculator'!$E$6>=0.07, 'Texture Calculator'!$E$6<0.2,'Texture Calculator'!$C$6>0.52,'Texture Calculator'!$G$6+2*'Texture Calculator'!$E$6>=0.3), AND('Texture Calculator'!$E$6<0.07, 'Texture Calculator'!$G$6<0.5, 'Texture Calculator'!$G$6+2*'Texture Calculator'!$E$6>=0.3)), 3,0)","v":0},"((clay >= 7 && clay < 20) && (sand > 52) && ((silt + 2*clay) >= 30) || (clay < 7 && silt < 50 && (silt+2*clay)>=30))","SANDY LOAM",{"$f":"IF(OR(AND('Texture Calculator'!$E$7>=0.07, 'Texture Calculator'!$E$7<0.2,'Texture Calculator'!$C$7>0.52,'Texture Calculator'!$G$7+2*'Texture Calculator'!$E$7>=0.3), AND('Texture Calculator'!$E$7<0.07, 'Texture Calculator'!$G$7<0.5, 'Texture Calculator'!$G$7+2*'Texture Calculator'!$E$7>=0.3)), 3,0)","v":0},"((clay >= 7 && clay < 20) && (sand > 52) && ((silt + 2*clay) >= 30) || (clay < 7 && silt < 50 && (silt+2*clay)>=30))","SANDY LOAM"]
[{"$f":"IF(AND('Texture Calculator'!$E$4>=0.07, 'Texture Calculator'!$E$4<0.27, 'Texture Calculator'!$G$4>=0.28, 'Texture Calculator'!$G$4<0.5, 'Texture Calculator'!$C$4<=0.52), 4, 0)","v":0},"((clay >= 7 && clay < 27) && (silt >= 28 && silt < 50) && (sand <= 52))","LOAM",{"$f":"IF(AND('Texture Calculator'!$E$5>=0.07, 'Texture Calculator'!$E$5<0.27, 'Texture Calculator'!$G$5>=0.28, 'Texture Calculator'!$G$5<0.5, 'Texture Calculator'!$C$5<=0.52), 4, 0)","v":0},"((clay >= 7 && clay < 27) && (silt >= 28 && silt < 50) && (sand <= 52))","LOAM",{"$f":"IF(AND('Texture Calculator'!$E$6>=0.07, 'Texture Calculator'!$E$6<0.27, 'Texture Calculator'!$G$6>=0.28, 'Texture Calculator'!$G$6<0.5, 'Texture Calculator'!$C$6<=0.52), 4, 0)","v":0},"((clay >= 7 && clay < 27) && (silt >= 28 && silt < 50) && (sand <= 52))","LOAM",{"$f":"IF(AND('Texture Calculator'!$E$7>=0.07, 'Texture Calculator'!$E$7<0.27, 'Texture Calculator'!$G$7>=0.28, 'Texture Calculator'!$G$7<0.5, 'Texture Calculator'!$C$7<=0.52), 4, 0)","v":0},"((clay >= 7 && clay < 27) && (silt >= 28 && silt < 50) && (sand <= 52))","LOAM"]
[{"$f":"IF(OR(AND('Texture Calculator'!$G$4>=0.5, 'Texture Calculator'!$E$4>=0.12,'Texture Calculator'!$E$4<0.27), AND('Texture Calculator'!$G$4>=0.5,'Texture Calculator'!$G$4<0.8,'Texture Calculator'!$E$4<0.12)), 5,0)","v":0},"((silt >= 50 && (clay >= 12 && clay < 27)) || ((silt >= 50 && silt < 80) && clay < 12))","SILT LOAM",{"$f":"IF(OR(AND('Texture Calculator'!$G$5>=0.5, 'Texture Calculator'!$E$5>=0.12,'Texture Calculator'!$E$5<0.27), AND('Texture Calculator'!$G$5>=0.5,'Texture Calculator'!$G$5<0.8,'Texture Calculator'!$E$5<0.12)), 5,0)","v":0},"((silt >= 50 && (clay >= 12 && clay < 27)) || ((silt >= 50 && silt < 80) && clay < 12))","SILT LOAM",{"$f":"IF(OR(AND('Texture Calculator'!$G$6>=0.5, 'Texture Calculator'!$E$6>=0.12,'Texture Calculator'!$E$6<0.27), AND('Texture Calculator'!$G$6>=0.5,'Texture Calculator'!$G$6<0.8,'Texture Calculator'!$E$6<0.12)), 5,0)","v":0},"((silt >= 50 && (clay >= 12 && clay < 27)) || ((silt >= 50 && silt < 80) && clay < 12))","SILT LOAM",{"$f":"IF(OR(AND('Texture Calculator'!$G$7>=0.5, 'Texture Calculator'!$E$7>=0.12,'Texture Calculator'!$E$7<0.27), AND('Texture Calculator'!$G$7>=0.5,'Texture Calculator'!$G$7<0.8,'Texture Calculator'!$E$7<0.12)), 5,0)","v":0},"((silt >= 50 && (clay >= 12 && clay < 27)) || ((silt >= 50 && silt < 80) && clay < 12))","SILT LOAM"]
[{"$f":"IF(AND('Texture Calculator'!$G$4>=0.8, 'Texture Calculator'!$E$4<0.12), 6, 0)","v":0},"(silt >= 80 && clay < 12)","SILT",{"$f":"IF(AND('Texture Calculator'!$G$5>=0.8, 'Texture Calculator'!$E$5<0.12), 6, 0)","v":0},"(silt >= 80 && clay < 12)","SILT",{"$f":"IF(AND('Texture Calculator'!$G$6>=0.8, 'Texture Calculator'!$E$6<0.12), 6, 0)","v":0},"(silt >= 80 && clay < 12)","SILT",{"$f":"IF(AND('Texture Calculator'!$G$7>=0.8, 'Texture Calculator'!$E$7<0.12), 6, 0)","v":0},"(silt >= 80 && clay < 12)","SILT"]
[{"$f":"IF(AND('Texture Calculator'!$E$4>=0.2, 'Texture Calculator'!$E$4<0.35, 'Texture Calculator'!$G$4<0.28, 'Texture Calculator'!$C$4>0.45), 7, 0)","v":0},"((clay >= 20 && clay < 35) && (silt < 28) && (sand > 45)) ","SANDY CLAY LOAM",{"$f":"IF(AND('Texture Calculator'!$E$5>=0.2, 'Texture Calculator'!$E$5<0.35, 'Texture Calculator'!$G$5<0.28, 'Texture Calculator'!$C$5>0.45), 7, 0)","v":0},"((clay >= 20 && clay < 35) && (silt < 28) && (sand > 45)) ","SANDY CLAY LOAM",{"$f":"IF(AND('Texture Calculator'!$E$6>=0.2, 'Texture Calculator'!$E$6<0.35, 'Texture Calculator'!$G$6<0.28, 'Texture Calculator'!$C$6>0.45), 7, 0)","v":0},"((clay >= 20 && clay < 35) && (silt < 28) && (sand > 45)) ","SANDY CLAY LOAM",{"$f":"IF(AND('Texture Calculator'!$E$7>=0.2, 'Texture Calculator'!$E$7<0.35, 'Texture Calculator'!$G$7<0.28, 'Texture Calculator'!$C$7>0.45), 7, 0)","v":0},"((clay >= 20 && clay < 35) && (silt < 28) && (sand > 45)) ","SANDY CLAY LOAM"]
[{"$f":"IF(AND('Texture Calculator'!$E$4>=0.27, 'Texture Calculator'!$E$4<0.4, 'Texture Calculator'!$C$4>0.2, 'Texture Calculator'!$C$4<=0.45), 8, 0)","v":0},"((clay >= 27 && clay < 40) && (sand > 20 && sand <= 45))","CLAY LOAM",{"$f":"IF(AND('Texture Calculator'!$E$5>=0.27, 'Texture Calculator'!$E$5<0.4, 'Texture Calculator'!$C$5>0.2, 'Texture Calculator'!$C$5<=0.45), 8, 0)","v":0},"((clay >= 27 && clay < 40) && (sand > 20 && sand <= 45))","CLAY LOAM",{"$f":"IF(AND('Texture Calculator'!$E$6>=0.27, 'Texture Calculator'!$E$6<0.4, 'Texture Calculator'!$C$6>0.2, 'Texture Calculator'!$C$6<=0.45), 8, 0)","v":0},"((clay >= 27 && clay < 40) && (sand > 20 && sand <= 45))","CLAY LOAM",{"$f":"IF(AND('Texture Calculator'!$E$7>=0.27, 'Texture Calculator'!$E$7<0.4, 'Texture Calculator'!$C$7>0.2, 'Texture Calculator'!$C$7<=0.45), 8, 0)","v":0},"((clay >= 27 && clay < 40) && (sand > 20 && sand <= 45))","CLAY LOAM"]
[{"$f":"IF(AND('Texture Calculator'!$E$4>=0.27, 'Texture Calculator'!$E$4<0.4, 'Texture Calculator'!$C$4<=0.2), 9, 0)","v":0},"((clay >= 27 && clay < 40) && (sand  <= 20))","SILTY CLAY LOAM",{"$f":"IF(AND('Texture Calculator'!$E$5>=0.27, 'Texture Calculator'!$E$5<0.4, 'Texture Calculator'!$C$5<=0.2), 9, 0)","v":0},"((clay >= 27 && clay < 40) && (sand  <= 20))","SILTY CLAY LOAM",{"$f":"IF(AND('Texture Calculator'!$E$6>=0.27, 'Texture Calculator'!$E$6<0.4, 'Texture Calculator'!$C$6<=0.2), 9, 0)","v":0},"((clay >= 27 && clay < 40) && (sand  <= 20))","SILTY CLAY LOAM",{"$f":"IF(AND('Texture Calculator'!$E$7>=0.27, 'Texture Calculator'!$E$7<0.4, 'Texture Calculator'!$C$7<=0.2), 9, 0)","v":0},"((clay >= 27 && clay < 40) && (sand  <= 20))","SILTY CLAY LOAM"]
[{"$f":"IF(AND('Texture Calculator'!$E$4>=0.35, 'Texture Calculator'!$C$4>0.45), 10, 0)","v":0},"(clay >= 35 && sand > 45)","SANDY CLAY",{"$f":"IF(AND('Texture Calculator'!$E$5>=0.35, 'Texture Calculator'!$C$5>0.45), 10, 0)","v":0},"(clay >= 35 && sand > 45)","SANDY CLAY",{"$f":"IF(AND('Texture Calculator'!$E$6>=0.35, 'Texture Calculator'!$C$6>0.45), 10, 0)","v":0},"(clay >= 35 && sand > 45)","SANDY CLAY",{"$f":"IF(AND('Texture Calculator'!$E$7>=0.35, 'Texture Calculator'!$C$7>0.45), 10, 0)","v":0},"(clay >= 35 && sand > 45)","SANDY CLAY"]
[{"$f":"IF(AND('Texture Calculator'!$E$4>=0.4, 'Texture Calculator'!$G$4>=0.4), 11, 0)","v":0},"(clay >= 40 && silt >= 40)","SILTY CLAY",{"$f":"IF(AND('Texture Calculator'!$E$5>=0.4, 'Texture Calculator'!$G$5>=0.4), 11, 0)","v":0},"(clay >= 40 && silt >= 40)","SILTY CLAY",{"$f":"IF(AND('Texture Calculator'!$E$6>=0.4, 'Texture Calculator'!$G$6>=0.4), 11, 0)","v":0},"(clay >= 40 && silt >= 40)","SILTY CLAY",{"$f":"IF(AND('Texture Calculator'!$E$7>=0.4, 'Texture Calculator'!$G$7>=0.4), 11, 0)","v":0},"(clay >= 40 && silt >= 40)","SILTY CLAY"]
[{"$f":"IF(AND('Texture Calculator'!$E$4>=0.4, 'Texture Calculator'!$C$4<=0.45,'Texture Calculator'!$G$4<0.4), 12, 0)","v":0},"(clay >= 40 && sand <= 45 && silt < 40)","CLAY",{"$f":"IF(AND('Texture Calculator'!$E$5>=0.4, 'Texture Calculator'!$C$5<=0.45,'Texture Calculator'!$G$5<0.4), 12, 0)","v":0},"(clay >= 40 && sand <= 45 && silt < 40)","CLAY",{"$f":"IF(AND('Texture Calculator'!$E$6>=0.4, 'Texture Calculator'!$C$6<=0.45,'Texture Calculator'!$G$6<0.4), 12, 0)","v":0},"(clay >= 40 && sand <= 45 && silt < 40)","CLAY",{"$f":"IF(AND('Texture Calculator'!$E$7>=0.4, 'Texture Calculator'!$C$7<=0.45,'Texture Calculator'!$G$7<0.4), 12, 0)","v":0},"(clay >= 40 && sand <= 45 && silt < 40)","CLAY"]
[{"$f":"SUM(A2:A13)","v":1},null,null,{"$f":"SUM(D2:D13)","v":1},null,null,{"$f":"SUM(G2:G13)","v":1},null,null,{"$f":"SUM(J2:J13)","v":1}]
[]
[]
["Sand",null,null,"Sand",null,null,"Sand",null,null,"Sand"]
[{"$f":"IF(AND(SUM('Texture Calculator'!$C$13:$C$17)='Texture Calculator'!$C$4, 'Texture Calculator'!$C$13+'Texture Calculator'!$C$14>=0.25, 'Texture Calculator'!$C$15<0.5, 'Texture Calculator'!$C$16<0.5, 'Texture Calculator'!$C$17<0.5), 1, 0)","v":{"$error":"#REF!"}},"vcscs >= 25 && ms < 50 && fs < 50 && vfs < 50","COARSE SAND",{"$f":"IF(AND(SUM('Texture Calculator'!$C$26:$C$49)='Texture Calculator'!$C$5, 'Texture Calculator'!$C$26+'Texture Calculator'!#REF!>=0.25, 'Texture Calculator'!#REF!<0.5, 'Texture Calculator'!#REF!<0.5, 'Texture Calculator'!#REF!<0.5), 1, 0)","v":{"$error":"#REF!"}},"vcscs >= 25 && ms < 50 && fs < 50 && vfs < 50","COARSE SAND",{"$f":"IF(AND(SUM('Texture Calculator'!#REF!)='Texture Calculator'!$C$6, 'Texture Calculator'!#REF!+'Texture Calculator'!#REF!>=0.25, 'Texture Calculator'!#REF!<0.5, 'Texture Calculator'!#REF!<0.5, 'Texture Calculator'!#REF!<0.5), 1, 0)","v":{"$error":"#REF!"}},"vcscs >= 25 && ms < 50 && fs < 50 && vfs < 50","COARSE SAND",{"$f":"IF(AND(SUM('Texture Calculator'!$C$50:$C$55)='Texture Calculator'!$C$7, 'Texture Calculator'!#REF!+'Texture Calculator'!#REF!>=0.25, 'Texture Calculator'!$C$53<0.5, 'Texture Calculator'!$C$54<0.5, 'Texture Calculator'!$C$55<0.5), 1, 0)","v":{"$error":"#REF!"}},"vcscs >= 25 && ms < 50 && fs < 50 && vfs < 50","COARSE SAND"]
[{"$f":"IF(AND(SUM('Texture Calculator'!$C$13:$C$17)='Texture Calculator'!$C$4,SUM($A$18) = 0, 'Texture Calculator'!$C$13+'Texture Calculator'!$C$14+'Texture Calculator'!$C$15>=0.25, 'Texture Calculator'!$C$13+'Texture Calculator'!$C$14<0.25, 'Texture Calculator'!$C$16<0.5,'Texture Calculator'!$C$17<0.5), 2, 0)","v":{"$error":"#REF!"}},"vcscsms >= 25 && vcscs < 25 && fs < 50 && vfs < 50","SAND",{"$f":"IF(AND(SUM('Texture Calculator'!$C$26:$C$49)='Texture Calculator'!$C$5,SUM($D$18) = 0, 'Texture Calculator'!$C$26+'Texture Calculator'!#REF!+'Texture Calculator'!#REF!>=0.25, 'Texture Calculator'!$C$26+'Texture Calculator'!#REF!<0.25, 'Texture Calculator'!#REF!<0.5,'Texture Calculator'!#REF!<0.5), 2, 0)","v":{"$error":"#REF!"}},"vcscsms >= 25 && vcscs < 25 && fs < 50 && vfs < 50","SAND",{"$f":"IF(AND(SUM('Texture Calculator'!#REF!)='Texture Calculator'!$C$6,SUM($G$18) = 0, 'Texture Calculator'!#REF!+'Texture Calculator'!#REF!+'Texture Calculator'!#REF!>=0.25, 'Texture Calculator'!#REF!+'Texture Calculator'!#REF!<0.25, 'Texture Calculator'!#REF!<0.5,'Texture Calculator'!#REF!<0.5), 2, 0)","v":{"$error":"#REF!"}},"vcscsms >= 25 && vcscs < 25 && fs < 50 && vfs < 50","SAND",{"$f":"IF(AND(SUM('Texture Calculator'!$C$50:$C$55)='Texture Calculator'!$C$7,SUM($J$18) = 0, 'Texture Calculator'!#REF!+'Texture Calculator'!#REF!+'Texture Calculator'!$C$53>=0.25, 'Texture Calculator'!#REF!+'Texture Calculator'!#REF!<0.25, 'Texture Calculator'!$C$54<0.5,'Texture Calculator'!$C$55<0.5), 2, 0)","v":{"$error":"#REF!"}},"vcscsms >= 25 && vcscs < 25 && fs < 50 && vfs < 50","SAND"]
[{"$f":"IF(AND(SUM('Texture Calculator'!$C$13:$C$17)='Texture Calculator'!$C$4,SUM($A$18:$A$19) = 0, 'Texture Calculator'!$C$15>=0.5, 'Texture Calculator'!$C$13+'Texture Calculator'!$C$14>=0.25), 3, 0)","v":{"$error":"#REF!"}},"ms >= 50 && vcscs >= 25","SAND",{"$f":"IF(AND(SUM('Texture Calculator'!$C$26:$C$49)='Texture Calculator'!$C$5,SUM($D$18:$D$19) = 0, 'Texture Calculator'!#REF!>=0.5, 'Texture Calculator'!$C$26+'Texture Calculator'!#REF!>=0.25), 3, 0)","v":{"$error":"#REF!"}},"ms >= 50 && vcscs >= 25","SAND",{"$f":"IF(AND(SUM('Texture Calculator'!#REF!)='Texture Calculator'!$C$6,SUM($G$18:$G$19) = 0, 'Texture Calculator'!#REF!>=0.5, 'Texture Calculator'!#REF!+'Texture Calculator'!#REF!>=0.25), 3, 0)","v":{"$error":"#REF!"}},"ms >= 50 && vcscs >= 25","SAND",{"$f":"IF(AND(SUM('Texture Calculator'!$C$50:$C$55)='Texture Calculator'!$C$7,SUM($J$18:$J$19) = 0, 'Texture Calculator'!$C$53>=0.5, 'Texture Calculator'!#REF!+'Texture Calculator'!#REF!>=0.25), 3, 0)","v":{"$error":"#REF!"}},"ms >= 50 && vcscs >= 25","SAND"]
[{"$f":"IF(AND(SUM('Texture Calculator'!$C$13:$C$17)='Texture Calculator'!$C$4,SUM($A$18:$A$20) = 0, 'Texture Calculator'!$C$16>=0.5, 'Texture Calculator'!$C$16>'Texture Calculator'!$C$17), 4, 0)","v":{"$error":"#REF!"}},"fs >= 50 && fs > vfs","FINE SAND",{"$f":"IF(AND(SUM('Texture Calculator'!$C$26:$C$49)='Texture Calculator'!$C$5,SUM($D$18:$D$20) = 0, 'Texture Calculator'!#REF!>=0.5, 'Texture Calculator'!#REF!>'Texture Calculator'!#REF!), 4, 0)","v":{"$error":"#REF!"}},"fs >= 50 && fs > vfs","FINE SAND",{"$f":"IF(AND(SUM('Texture Calculator'!#REF!)='Texture Calculator'!$C$6,SUM($G$18:$G$20) = 0, 'Texture Calculator'!#REF!>=0.5, 'Texture Calculator'!#REF!>'Texture Calculator'!#REF!), 4, 0)","v":{"$error":"#REF!"}},"fs >= 50 && fs > vfs","FINE SAND",{"$f":"IF(AND(SUM('Texture Calculator'!$C$50:$C$55)='Texture Calculator'!$C$7,SUM($J$18:$J$20) = 0, 'Texture Calculator'!$C$54>=0.5, 'Texture Calculator'!$C$54>'Texture Calculator'!$C$55), 4, 0)","v":{"$error":"#REF!"}},"fs >= 50 && fs > vfs","FINE SAND"]
[{"$f":"IF(AND(SUM('Texture Calculator'!$C$13:$C$17)='Texture Calculator'!$C$4,SUM($A$18:$A$21) = 0, 'Texture Calculator'!$C$13+'Texture Calculator'!$C$14+'Texture Calculator'!$C$15<0.25, 'Texture Calculator'!$C$17<0.5), 5, 0)","v":{"$error":"#REF!"}},"vcscsms < 25 && vfs < 50","FINE SAND",{"$f":"IF(AND(SUM('Texture Calculator'!$C$26:$C$49)='Texture Calculator'!$C$5,SUM($D$18:$D$21) = 0, 'Texture Calculator'!$C$26+'Texture Calculator'!#REF!+'Texture Calculator'!#REF!<0.25, 'Texture Calculator'!#REF!<0.5), 5, 0)","v":{"$error":"#REF!"}},"vcscsms < 25 && vfs < 50","FINE SAND",{"$f":"IF(AND(SUM('Texture Calculator'!#REF!)='Texture Calculator'!$C$6,SUM($G$18:$G$21) = 0, 'Texture Calculator'!#REF!+'Texture Calculator'!#REF!+'Texture Calculator'!#REF!<0.25, 'Texture Calculator'!#REF!<0.5), 5, 0)","v":{"$error":"#REF!"}},"vcscsms < 25 && vfs < 50","FINE SAND",{"$f":"IF(AND(SUM('Texture Calculator'!$C$50:$C$55)='Texture Calculator'!$C$7,SUM($J$18:$J$21) = 0, 'Texture Calculator'!#REF!+'Texture Calculator'!#REF!+'Texture Calculator'!$C$53<0.25, 'Texture Calculator'!$C$55<0.5), 5, 0)","v":{"$error":"#REF!"}},"vcscsms < 25 && vfs < 50","FINE SAND"]
[{"$f":"IF(AND(SUM('Texture Calculator'!$C$13:$C$17)='Texture Calculator'!$C$4,SUM($A$18:$A$22) = 0, 'Texture Calculator'!$C$17>=0.5), 6, 0)","v":{"$error":"#REF!"}},"vfs >= 50","VERY FINE SAND",{"$f":"IF(AND(SUM('Texture Calculator'!$C$26:$C$49)='Texture Calculator'!$C$5,SUM($D$18:$D$22) = 0, 'Texture Calculator'!#REF!>=0.5), 6, 0)","v":{"$error":"#REF!"}},"vfs >= 50","VERY FINE SAND",{"$f":"IF(AND(SUM('Texture Calculator'!#REF!)='Texture Calculator'!$C$6,SUM($G$18:$G$22) = 0, 'Texture Calculator'!#REF!>=0.5), 6, 0)","v":{"$error":"#REF!"}},"vfs >= 50","VERY FINE SAND",{"$f":"IF(AND(SUM('Texture Calculator'!$C$50:$C$55)='Texture Calculator'!$C$7,SUM($J$18:$J$22) = 0, 'Texture Calculator'!$C$55>=0.5), 6, 0)","v":{"$error":"#REF!"}},"vfs >= 50","VERY FINE SAND"]
[{"$f":"SUM(A18:A23)+1","v":{"$error":"#REF!"}},null,null,{"$f":"SUM(D18:D23)+1","v":{"$error":"#REF!"}},null,null,{"$f":"SUM(G18:G23)+1","v":{"$error":"#REF!"}},null,null,{"$f":"SUM(J18:J23)+1","v":{"$error":"#REF!"}}]
[]
[]
["Loam Sand",null,null,"Loam Sand",null,null,"Loam Sand",null,null,"Loam Sand"]
[{"$f":"IF(AND(SUM('Texture Calculator'!$C$13:$C$17)='Texture Calculator'!$C$4, 'Texture Calculator'!$C$13+'Texture Calculator'!$C$14>=0.25, 'Texture Calculator'!$C$15<0.5, 'Texture Calculator'!$C$16<0.5, 'Texture Calculator'!$C$17<0.5), 1, 0)","v":{"$error":"#REF!"}},"vcscs >= 25 && ms < 50 && fs < 50 && vfs < 50","LOAMY COARSE SAND",{"$f":"IF(AND(SUM('Texture Calculator'!$C$26:$C$49)='Texture Calculator'!$C$5, 'Texture Calculator'!$C$26+'Texture Calculator'!#REF!>=0.25, 'Texture Calculator'!#REF!<0.5, 'Texture Calculator'!#REF!<0.5, 'Texture Calculator'!#REF!<0.5), 1, 0)","v":{"$error":"#REF!"}},"vcscs >= 25 && ms < 50 && fs < 50 && vfs < 50","LOAMY COARSE SAND",{"$f":"IF(AND(SUM('Texture Calculator'!#REF!)='Texture Calculator'!$C$6, 'Texture Calculator'!#REF!+'Texture Calculator'!#REF!>=0.25, 'Texture Calculator'!#REF!<0.5, 'Texture Calculator'!#REF!<0.5, 'Texture Calculator'!#REF!<0.5), 1, 0)","v":{"$error":"#REF!"}},"vcscs >= 25 && ms < 50 && fs < 50 && vfs < 50","LOAMY COARSE SAND",{"$f":"IF(AND(SUM('Texture Calculator'!$C$50:$C$55)='Texture Calculator'!$C$7, 'Texture Calculator'!#REF!+'Texture Calculator'!#REF!>=0.25, 'Texture Calculator'!$C$53<0.5, 'Texture Calculator'!$C$54<0.5, 'Texture Calculator'!$C$55<0.5), 1, 0)","v":{"$error":"#REF!"}},"vcscs >= 25 && ms < 50 && fs < 50 && vfs < 50","LOAMY COARSE SAND"]
[{"$f":"IF(AND(SUM('Texture Calculator'!$C$13:$C$17)='Texture Calculator'!$C$4,SUM($A$28) = 0, 'Texture Calculator'!$C$13+'Texture Calculator'!$C$14+'Texture Calculator'!$C$15>=0.25, 'Texture Calculator'!$C$13+'Texture Calculator'!$C$14<0.25, 'Texture Calculator'!$C$16<0.5,'Texture Calculator'!$C$17<0.5), 2, 0)","v":{"$error":"#REF!"}},"vcscsms >= 25 && vcscs < 25 && fs < 50 && vfs < 50","LOAMY SAND",{"$f":"IF(AND(SUM('Texture Calculator'!$C$26:$C$49)='Texture Calculator'!$C$5,SUM($D$28) = 0, 'Texture Calculator'!$C$26+'Texture Calculator'!#REF!+'Texture Calculator'!#REF!>=0.25, 'Texture Calculator'!$C$26+'Texture Calculator'!#REF!<0.25, 'Texture Calculator'!#REF!<0.5,'Texture Calculator'!#REF!<0.5), 2, 0)","v":{"$error":"#REF!"}},"vcscsms >= 25 && vcscs < 25 && fs < 50 && vfs < 50","LOAMY SAND",{"$f":"IF(AND(SUM('Texture Calculator'!#REF!)='Texture Calculator'!$C$6,SUM($A$28) = 0, 'Texture Calculator'!$C$13+'Texture Calculator'!$C$14+'Texture Calculator'!$C$15>=0.25, 'Texture Calculator'!$C$13+'Texture Calculator'!$C$14<0.25, 'Texture Calculator'!$C$16<0.5,'Texture Calculator'!$C$17<0.5), 2, 0)","v":{"$error":"#REF!"}},"vcscsms >= 25 && vcscs < 25 && fs < 50 && vfs < 50","LOAMY SAND",{"$f":"IF(AND(SUM('Texture Calculator'!$C$50:$C$55)='Texture Calculator'!$C$7,SUM($J$28) = 0, 'Texture Calculator'!#REF!+'Texture Calculator'!#REF!+'Texture Calculator'!$C$53>=0.25, 'Texture Calculator'!#REF!+'Texture Calculator'!#REF!<0.25, 'Texture Calculator'!$C$54<0.5,'Texture Calculator'!$C$55<0.5), 2, 0)","v":{"$error":"#REF!"}},"vcscsms >= 25 && vcscs < 25 && fs < 50 && vfs < 50","LOAMY SAND"]
[{"$f":"IF(AND(SUM('Texture Calculator'!$C$13:$C$17)='Texture Calculator'!$C$4,SUM($A$28:$A$29) = 0, 'Texture Calculator'!$C$15>=0.5, 'Texture Calculator'!$C$13+'Texture Calculator'!$C$14>=0.25),3, 0)","v":{"$error":"#REF!"}},"ms >= 50 && vcscs >= 25","LOAMY SAND",{"$f":"IF(AND(SUM('Texture Calculator'!$C$26:$C$49)='Texture Calculator'!$C$5,SUM($D$28:$D$29) = 0, 'Texture Calculator'!#REF!>=0.5, 'Texture Calculator'!$C$26+'Texture Calculator'!#REF!>=0.25),3, 0)","v":{"$error":"#REF!"}},"ms >= 50 && vcscs >= 25","LOAMY SAND",{"$f":"IF(AND(SUM('Texture Calculator'!#REF!)='Texture Calculator'!$C$6,SUM($G$28:$G$29) = 0, 'Texture Calculator'!#REF!>=0.5, 'Texture Calculator'!#REF!+'Texture Calculator'!#REF!>=0.25),3, 0)","v":{"$error":"#REF!"}},"ms >= 50 && vcscs >= 25","LOAMY SAND",{"$f":"IF(AND(SUM('Texture Calculator'!$C$50:$C$55)='Texture Calculator'!$C$7,SUM($J$28:$J$29) = 0, 'Texture Calculator'!$C$53>=0.5, 'Texture Calculator'!#REF!+'Texture Calculator'!#REF!>=0.25),3, 0)","v":{"$error":"#REF!"}},"ms >= 50 && vcscs >= 25","LOAMY SAND"]
[{"$f":"IF(AND(SUM('Texture Calculator'!$C$13:$C$17)='Texture Calculator'!$C$4,SUM($A$28:$A$30) = 0, 'Texture Calculator'!$C$16>=0.5), 4, 0)","v":{"$error":"#REF!"}},"fs >= 50","LOAMY FINE SAND",{"$f":"IF(AND(SUM('Texture Calculator'!$C$26:$C$49)='Texture Calculator'!$C$5,SUM($D$28:$D$30) = 0, 'Texture Calculator'!#REF!>=0.5), 4, 0)","v":{"$error":"#REF!"}},"fs >= 50","LOAMY FINE SAND",{"$f":"IF(AND(SUM('Texture Calculator'!#REF!)='Texture Calculator'!$C$6,SUM($G$28:$G$30) = 0, 'Texture Calculator'!#REF!>=0.5), 4, 0)","v":{"$error":"#REF!"}},"fs >= 50","LOAMY FINE SAND",{"$f":"IF(AND(SUM('Texture Calculator'!$C$50:$C$55)='Texture Calculator'!$C$7,SUM($J$28:$J$30) = 0, 'Texture Calculator'!$C$54>=0.5), 4, 0)","v":{"$error":"#REF!"}},"fs >= 50","LOAMY FINE SAND"]
[{"$f":"IF(AND(SUM('Texture Calculator'!$C$13:$C$17)='Texture Calculator'!$C$4,SUM($A$28:$A$31) = 0, 'Texture Calculator'!$C$13+'Texture Calculator'!$C$14+'Texture Calculator'!$C$15<0.25, 'Texture Calculator'!$C$17<0.5), 5, 0)","v":{"$error":"#REF!"}},"vcscsms < 25 && vfs < 50","LOAMY FINE SAND",{"$f":"IF(AND(SUM('Texture Calculator'!$C$26:$C$49)='Texture Calculator'!$C$5,SUM($D$28:$D$31) = 0, 'Texture Calculator'!$C$26+'Texture Calculator'!#REF!+'Texture Calculator'!#REF!<0.25, 'Texture Calculator'!#REF!<0.5), 5, 0)","v":{"$error":"#REF!"}},"vcscsms < 25 && vfs < 50","LOAMY FINE SAND",{"$f":"IF(AND(SUM('Texture Calculator'!#REF!)='Texture Calculator'!$C$6,SUM($G$28:$G$31) = 0, 'Texture Calculator'!#REF!+'Texture Calculator'!#REF!+'Texture Calculator'!#REF!<0.25, 'Texture Calculator'!#REF!<0.5), 5, 0)","v":{"$error":"#REF!"}},"vcscsms < 25 && vfs < 50","LOAMY FINE SAND",{"$f":"IF(AND(SUM('Texture Calculator'!$C$50:$C$55)='Texture Calculator'!$C$7,SUM($J$28:$J$31) = 0, 'Texture Calculator'!#REF!+'Texture Calculator'!#REF!+'Texture Calculator'!$C$53<0.25, 'Texture Calculator'!$C$55<0.5), 5, 0)","v":{"$error":"#REF!"}},"vcscsms < 25 && vfs < 50","LOAMY FINE SAND"]
[{"$f":"IF(AND(SUM('Texture Calculator'!$C$13:$C$17)='Texture Calculator'!$C$4,SUM($A$28:$A$32) = 0, 'Texture Calculator'!$C$17>=0.5), 6, 0)","v":{"$error":"#REF!"}},"vfs >= 50","LOAMY VERY FINE SAND",{"$f":"IF(AND(SUM('Texture Calculator'!$C$26:$C$49)='Texture Calculator'!$C$5,SUM($D$28:$D$32) = 0, 'Texture Calculator'!#REF!>=0.5), 6, 0)","v":{"$error":"#REF!"}},"vfs >= 50","LOAMY VERY FINE SAND",{"$f":"IF(AND(SUM('Texture Calculator'!#REF!)='Texture Calculator'!$C$6,SUM($G$28:$G$32) = 0, 'Texture Calculator'!#REF!>=0.5), 6, 0)","v":{"$error":"#REF!"}},"vfs >= 50","LOAMY VERY FINE SAND",{"$f":"IF(AND(SUM('Texture Calculator'!$C$50:$C$55)='Texture Calculator'!$C$7,SUM($J$28:$J$32) = 0, 'Texture Calculator'!$C$55>=0.5), 6, 0)","v":{"$error":"#REF!"}},"vfs >= 50","LOAMY VERY FINE SAND"]
[{"$f":"SUM(A28:A33)+1","v":{"$error":"#REF!"}},null,null,{"$f":"SUM(D28:D33)+1","v":{"$error":"#REF!"}},null,null,{"$f":"SUM(G28:G33)+1","v":{"$error":"#REF!"}},null,null,{"$f":"SUM(J28:J33)+1","v":{"$error":"#REF!"}}]
[]
["Sand Loam",null,null,"Sand Loam",null,null,"Sand Loam",null,null,"Sand Loam"]
[{"$f":"IF(AND(SUM('Texture Calculator'!$C$13:$C$17)='Texture Calculator'!$C$4, 'Texture Calculator'!$C$13+'Texture Calculator'!$C$14>=0.25, 'Texture Calculator'!$C$15<0.5, 'Texture Calculator'!$C$16<0.5, 'Texture Calculator'!$C$17<0.5), 1, 0)","v":{"$error":"#REF!"}},"vcscs >= 25 && ms < 50 && fs < 50 && vfs < 50","COARSE SANDY LOAM",{"$f":"IF(AND(SUM('Texture Calculator'!$C$26:$C$49)='Texture Calculator'!$C$5, 'Texture Calculator'!$C$26+'Texture Calculator'!#REF!>=0.25, 'Texture Calculator'!#REF!<0.5, 'Texture Calculator'!#REF!<0.5, 'Texture Calculator'!#REF!<0.5), 1, 0)","v":{"$error":"#REF!"}},"vcscs >= 25 && ms < 50 && fs < 50 && vfs < 50","COARSE SANDY LOAM",{"$f":"IF(AND(SUM('Texture Calculator'!#REF!)='Texture Calculator'!$C$6, 'Texture Calculator'!#REF!+'Texture Calculator'!#REF!>=0.25, 'Texture Calculator'!#REF!<0.5, 'Texture Calculator'!#REF!<0.5, 'Texture Calculator'!#REF!<0.5), 1, 0)","v":{"$error":"#REF!"}},"vcscs >= 25 && ms < 50 && fs < 50 && vfs < 50","COARSE SANDY LOAM",{"$f":"IF(AND(SUM('Texture Calculator'!$C$50:$C$55)='Texture Calculator'!$C$7, 'Texture Calculator'!#REF!+'Texture Calculator'!#REF!>=0.25, 'Texture Calculator'!$C$53<0.5, 'Texture Calculator'!$C$54<0.5, 'Texture Calculator'!$C$55<0.5), 1, 0)","v":{"$error":"#REF!"}},"vcscs >= 25 && ms < 50 && fs < 50 && vfs < 50","COARSE SANDY LOAM"]
[{"$f":"IF(AND(SUM('Texture Calculator'!$C$13:$C$17)='Texture Calculator'!$C$4,SUM($A$37) = 0,'Texture Calculator'!$C$13+'Texture Calculator'!$C$14+'Texture Calculator'!$C$15>=0.3, 'Texture Calculator'!$C$17>=0.3, 'Texture Calculator'!$C$17<0.5), 2,0)","v":{"$error":"#REF!"}},"vcscsms >= 30 && vfs >= 30 && vfs < 50","COARSE SANDY LOAM",{"$f":"IF(AND(SUM('Texture Calculator'!$C$26:$C$49)='Texture Calculator'!$C$5,SUM($D$37) = 0,'Texture Calculator'!$C$26+'Texture Calculator'!#REF!+'Texture Calculator'!#REF!>=0.3, 'Texture Calculator'!#REF!>=0.3, 'Texture Calculator'!#REF!<0.5), 2,0)","v":{"$error":"#REF!"}},"vcscsms >= 30 && vfs >= 30 && vfs < 50","COARSE SANDY LOAM",{"$f":"IF(AND(SUM('Texture Calculator'!#REF!)='Texture Calculator'!$C$6,SUM($G$37) = 0,'Texture Calculator'!#REF!+'Texture Calculator'!#REF!+'Texture Calculator'!#REF!>=0.3, 'Texture Calculator'!#REF!>=0.3, 'Texture Calculator'!#REF!<0.5), 2,0)","v":{"$error":"#REF!"}},"vcscsms >= 30 && vfs >= 30 && vfs < 50","COARSE SANDY LOAM",{"$f":"IF(AND(SUM('Texture Calculator'!$C$50:$C$55)='Texture Calculator'!$C$7,SUM($J$37) = 0,'Texture Calculator'!#REF!+'Texture Calculator'!#REF!+'Texture Calculator'!$C$53>=0.3, 'Texture Calculator'!$C$55>=0.3, 'Texture Calculator'!$C$55<0.5), 2,0)","v":{"$error":"#REF!"}},"vcscsms >= 30 && vfs >= 30 && vfs < 50","COARSE SANDY LOAM"]
[{"$f":"IF(AND(SUM('Texture Calculator'!$C$13:$C$17)='Texture Calculator'!$C$4,SUM($A$37:$A$38) = 0, 'Texture Calculator'!$C$13+'Texture Calculator'!$C$14+'Texture Calculator'!$C$15>=0.3, 'Texture Calculator'!$C$13+'Texture Calculator'!$C$14<0.25, 'Texture Calculator'!$C$16<0.3,'Texture Calculator'!$C$17<0.3), 3, 0)","v":{"$error":"#REF!"}},"vcscsms >= 30 && vcscs < 25 && fs < 30 && vfs < 30","SANDY LOAM",{"$f":"IF(AND(SUM('Texture Calculator'!$C$26:$C$49)='Texture Calculator'!$C$5,SUM($D$37:$D$38) = 0, 'Texture Calculator'!$C$26+'Texture Calculator'!#REF!+'Texture Calculator'!#REF!>=0.3, 'Texture Calculator'!$C$26+'Texture Calculator'!#REF!<0.25, 'Texture Calculator'!#REF!<0.3,'Texture Calculator'!#REF!<0.3), 3, 0)","v":{"$error":"#REF!"}},"vcscsms >= 30 && vcscs < 25 && fs < 30 && vfs < 30","SANDY LOAM",{"$f":"IF(AND(SUM('Texture Calculator'!#REF!)='Texture Calculator'!$C$6,SUM($G$37:$G$38) = 0, 'Texture Calculator'!#REF!+'Texture Calculator'!#REF!+'Texture Calculator'!#REF!>=0.3, 'Texture Calculator'!#REF!+'Texture Calculator'!#REF!<0.25, 'Texture Calculator'!#REF!<0.3,'Texture Calculator'!#REF!<0.3), 3, 0)","v":{"$error":"#REF!"}},"vcscsms >= 30 && vcscs < 25 && fs < 30 && vfs < 30","SANDY LOAM",{"$f":"IF(AND(SUM('Texture Calculator'!$C$50:$C$55)='Texture Calculator'!$C$7,SUM($J$37:$J$38) = 0, 'Texture Calculator'!#REF!+'Texture Calculator'!#REF!+'Texture Calculator'!$C$53>=0.3, 'Texture Calculator'!#REF!+'Texture Calculator'!#REF!<0.25, 'Texture Calculator'!$C$54<0.3,'Texture Calculator'!$C$55<0.3), 3, 0)","v":{"$error":"#REF!"}},"vcscsms >= 30 && vcscs < 25 && fs < 30 && vfs < 30","SANDY LOAM"]
[{"$f":"IF(AND(SUM('Texture Calculator'!$C$13:$C$17)='Texture Calculator'!$C$4,SUM($A$37:$A$39) = 0,'Texture Calculator'!$C$13+'Texture Calculator'!$C$14+'Texture Calculator'!$C$15<=0.15,'Texture Calculator'!$C$16<0.3,'Texture Calculator'!$C$17<0.3,'Texture Calculator'!$C$16+'Texture Calculator'!$C$17<0.4), 4, 0)","v":{"$error":"#REF!"}},"vcscsms <= 15 && fs < 30 && vfs < 30 && fsvfs < 40","SANDY LOAM",{"$f":"IF(AND(SUM('Texture Calculator'!$C$26:$C$49)='Texture Calculator'!$C$5,SUM($D$37:$D$39) = 0,'Texture Calculator'!$C$26+'Texture Calculator'!#REF!+'Texture Calculator'!#REF!<=0.15,'Texture Calculator'!#REF!<0.3,'Texture Calculator'!#REF!<0.3,'Texture Calculator'!#REF!+'Texture Calculator'!#REF!<0.4), 4, 0)","v":{"$error":"#REF!"}},"vcscsms <= 15 && fs < 30 && vfs < 30 && fsvfs < 40","SANDY LOAM",{"$f":"IF(AND(SUM('Texture Calculator'!#REF!)='Texture Calculator'!$C$6,SUM($G$37:$G$39) = 0,'Texture Calculator'!#REF!+'Texture Calculator'!#REF!+'Texture Calculator'!#REF!<=0.15,'Texture Calculator'!#REF!<0.3,'Texture Calculator'!#REF!<0.3,'Texture Calculator'!#REF!+'Texture Calculator'!#REF!<0.4), 4, 0)","v":{"$error":"#REF!"}},"vcscsms <= 15 && fs < 30 && vfs < 30 && fsvfs < 40","SANDY LOAM",{"$f":"IF(AND(SUM('Texture Calculator'!$C$50:$C$55)='Texture Calculator'!$C$7,SUM($J$37:$J$39) = 0,'Texture Calculator'!#REF!+'Texture Calculator'!#REF!+'Texture Calculator'!$C$53<=0.15,'Texture Calculator'!$C$54<0.3,'Texture Calculator'!$C$55<0.3,'Texture Calculator'!$C$54+'Texture Calculator'!$C$55<0.4), 4, 0)","v":{"$error":"#REF!"}},"vcscsms <= 15 && fs < 30 && vfs < 30 && fsvfs < 40","SANDY LOAM"]
[{"$f":"IF(AND(SUM('Texture Calculator'!$C$13:$C$17)='Texture Calculator'!$C$4,SUM($A$37:$A$40) = 0,'Texture Calculator'!$C$13+'Texture Calculator'!$C$14>=0.25, 'Texture Calculator'!$C$15>=0.5), 5, 0)","v":{"$error":"#REF!"}},"vcscs >= 25 && ms >= 50","SANDY LOAM",{"$f":"IF(AND(SUM('Texture Calculator'!$C$26:$C$49)='Texture Calculator'!$C$5,SUM($D$37:$D$40) = 0,'Texture Calculator'!$C$26+'Texture Calculator'!#REF!>=0.25, 'Texture Calculator'!#REF!>=0.5), 5, 0)","v":{"$error":"#REF!"}},"vcscs >= 25 && ms >= 50","SANDY LOAM",{"$f":"IF(AND(SUM('Texture Calculator'!#REF!)='Texture Calculator'!$C$6,SUM($G$37:$G$40) = 0,'Texture Calculator'!#REF!+'Texture Calculator'!#REF!>=0.25, 'Texture Calculator'!#REF!>=0.5), 5, 0)","v":{"$error":"#REF!"}},"vcscs >= 25 && ms >= 50","SANDY LOAM",{"$f":"IF(AND(SUM('Texture Calculator'!$C$50:$C$55)='Texture Calculator'!$C$7,SUM($J$37:$J$40) = 0,'Texture Calculator'!#REF!+'Texture Calculator'!#REF!>=0.25, 'Texture Calculator'!$C$53>=0.5), 5, 0)","v":{"$error":"#REF!"}},"vcscs >= 25 && ms >= 50","SANDY LOAM"]
[{"$f":"IF(AND(SUM('Texture Calculator'!$C$13:$C$17)='Texture Calculator'!$C$4,SUM($A$37:$A$41) = 0,'Texture Calculator'!$C$16>=0.3,'Texture Calculator'!$C$17<0.3, 'Texture Calculator'!$C$13+'Texture Calculator'!$C$14<0.25), 6, 0)","v":{"$error":"#REF!"}},"fs >= 30 && vfs < 30 && vcscs < 25","FINE SANDY LOAM",{"$f":"IF(AND(SUM('Texture Calculator'!$C$26:$C$49)='Texture Calculator'!$C$5,SUM($D$37:$D$41) = 0,'Texture Calculator'!#REF!>=0.3,'Texture Calculator'!#REF!<0.3, 'Texture Calculator'!$C$26+'Texture Calculator'!#REF!<0.25), 6, 0)","v":{"$error":"#REF!"}},"fs >= 30 && vfs < 30 && vcscs < 25","FINE SANDY LOAM",{"$f":"IF(AND(SUM('Texture Calculator'!#REF!)='Texture Calculator'!$C$6,SUM($G$37:$G$41) = 0,'Texture Calculator'!#REF!>=0.3,'Texture Calculator'!#REF!<0.3, 'Texture Calculator'!#REF!+'Texture Calculator'!#REF!<0.25), 6, 0)","v":{"$error":"#REF!"}},"fs >= 30 && vfs < 30 && vcscs < 25","FINE SANDY LOAM",{"$f":"IF(AND(SUM('Texture Calculator'!$C$50:$C$55)='Texture Calculator'!$C$7,SUM($J$37:$J$41) = 0,'Texture Calculator'!$C$54>=0.3,'Texture Calculator'!$C$55<0.3, 'Texture Calculator'!#REF!+'Texture Calculator'!#REF!<0.25), 6, 0)","v":{"$error":"#REF!"}},"fs >= 30 && vfs < 30 && vcscs < 25","FINE SANDY LOAM"]
[{"$f":"IF(AND(SUM('Texture Calculator'!$C$13:$C$17)='Texture Calculator'!$C$4,SUM($A$37:$A$42) = 0,'Texture Calculator'!$C$13+'Texture Calculator'!$C$14+'Texture Calculator'!$C$15>=0.15, 'Texture Calculator'!$C$13+'Texture Calculator'!$C$14+'Texture Calculator'!$C$15<0.3, 'Texture Calculator'!$C$13+'Texture Calculator'!$C$14<0.25), 7, 0)","v":{"$error":"#REF!"}},"vcscsms >= 15 && vcscsms < 30 && vcscs < 25","FINE SANDY LOAM",{"$f":"IF(AND(SUM('Texture Calculator'!$C$26:$C$49)='Texture Calculator'!$C$5,SUM($D$37:$D$42) = 0,'Texture Calculator'!$C$26+'Texture Calculator'!#REF!+'Texture Calculator'!#REF!>=0.15, 'Texture Calculator'!$C$26+'Texture Calculator'!#REF!+'Texture Calculator'!#REF!<0.3, 'Texture Calculator'!$C$26+'Texture Calculator'!#REF!<0.25), 7, 0)","v":{"$error":"#REF!"}},"vcscsms >= 15 && vcscsms < 30 && vcscs < 25","FINE SANDY LOAM",{"$f":"IF(AND(SUM('Texture Calculator'!#REF!)='Texture Calculator'!$C$6,SUM($G$37:$G$42) = 0,'Texture Calculator'!#REF!+'Texture Calculator'!#REF!+'Texture Calculator'!#REF!>=0.15, 'Texture Calculator'!#REF!+'Texture Calculator'!#REF!+'Texture Calculator'!#REF!<0.3, 'Texture Calculator'!#REF!+'Texture Calculator'!#REF!<0.25), 7, 0)","v":{"$error":"#REF!"}},"vcscsms >= 15 && vcscsms < 30 && vcscs < 25","FINE SANDY LOAM",{"$f":"IF(AND(SUM('Texture Calculator'!$C$50:$C$55)='Texture Calculator'!$C$7,SUM($J$37:$J$42) = 0,'Texture Calculator'!#REF!+'Texture Calculator'!#REF!+'Texture Calculator'!$C$53>=0.15, 'Texture Calculator'!#REF!+'Texture Calculator'!#REF!+'Texture Calculator'!$C$53<0.3, 'Texture Calculator'!#REF!+'Texture Calculator'!#REF!<0.25), 7, 0)","v":{"$error":"#REF!"}},"vcscsms >= 15 && vcscsms < 30 && vcscs < 25","FINE SANDY LOAM"]
[{"$f":"IF(AND(SUM('Texture Calculator'!$C$13:$C$17)='Texture Calculator'!$C$4,SUM($A$37:$A$43) = 0,'Texture Calculator'!$C$16+'Texture Calculator'!$C$17>=0.4, 'Texture Calculator'!$C$16>='Texture Calculator'!$C$17, 'Texture Calculator'!$C$13+'Texture Calculator'!$C$14+'Texture Calculator'!$C$15<=0.15), 8, 0)","v":{"$error":"#REF!"}},"fsvfs >= 40 && fs >= vfs && vcscsms <= 15","FINE SANDY LOAM",{"$f":"IF(AND(SUM('Texture Calculator'!$C$26:$C$49)='Texture Calculator'!$C$5,SUM($D$37:$D$43) = 0,'Texture Calculator'!#REF!+'Texture Calculator'!#REF!>=0.4, 'Texture Calculator'!#REF!>='Texture Calculator'!#REF!, 'Texture Calculator'!$C$26+'Texture Calculator'!#REF!+'Texture Calculator'!#REF!<=0.15), 8, 0)","v":{"$error":"#REF!"}},"fsvfs >= 40 && fs >= vfs && vcscsms <= 15","FINE SANDY LOAM",{"$f":"IF(AND(SUM('Texture Calculator'!#REF!)='Texture Calculator'!$C$6,SUM($G$37:$G$43) = 0,'Texture Calculator'!#REF!+'Texture Calculator'!#REF!>=0.4, 'Texture Calculator'!#REF!>='Texture Calculator'!#REF!, 'Texture Calculator'!#REF!+'Texture Calculator'!#REF!+'Texture Calculator'!#REF!<=0.15), 8, 0)","v":{"$error":"#REF!"}},"fsvfs >= 40 && fs >= vfs && vcscsms <= 15","FINE SANDY LOAM",{"$f":"IF(AND(SUM('Texture Calculator'!$C$50:$C$55)='Texture Calculator'!$C$7,SUM($J$37:$J$43) = 0,'Texture Calculator'!$C$54+'Texture Calculator'!$C$55>=0.4, 'Texture Calculator'!$C$54>='Texture Calculator'!$C$55, 'Texture Calculator'!#REF!+'Texture Calculator'!#REF!+'Texture Calculator'!$C$53<=0.15), 8, 0)","v":{"$error":"#REF!"}},"fsvfs >= 40 && fs >= vfs && vcscsms <= 15","FINE SANDY LOAM"]
[{"$f":"IF(AND(SUM('Texture Calculator'!$C$13:$C$17)='Texture Calculator'!$C$4,SUM($A$37:$A$44) = 0,'Texture Calculator'!$C$13+'Texture Calculator'!$C$14>=0.25, 'Texture Calculator'!$C$16>=0.5), 9, 0)","v":{"$error":"#REF!"}},"vcscs >= 25 && fs >= 50","FINE SANDY LOAM",{"$f":"IF(AND(SUM('Texture Calculator'!$C$26:$C$49)='Texture Calculator'!$C$5,SUM($D$37:$D$44) = 0,'Texture Calculator'!$C$26+'Texture Calculator'!#REF!>=0.25, 'Texture Calculator'!#REF!>=0.5), 9, 0)","v":{"$error":"#REF!"}},"vcscs >= 25 && fs >= 50","FINE SANDY LOAM",{"$f":"IF(AND(SUM('Texture Calculator'!#REF!)='Texture Calculator'!$C$6,SUM($G$37:$G$44) = 0,'Texture Calculator'!#REF!+'Texture Calculator'!#REF!>=0.25, 'Texture Calculator'!#REF!>=0.5), 9, 0)","v":{"$error":"#REF!"}},"vcscs >= 25 && fs >= 50","FINE SANDY LOAM",{"$f":"IF(AND(SUM('Texture Calculator'!$C$50:$C$55)='Texture Calculator'!$C$7,SUM($J$37:$J$44) = 0,'Texture Calculator'!#REF!+'Texture Calculator'!#REF!>=0.25, 'Texture Calculator'!$C$54>=0.5), 9, 0)","v":{"$error":"#REF!"}},"vcscs >= 25 && fs >= 50","FINE SANDY LOAM"]
[{"$f":"IF(AND(SUM('Texture Calculator'!$C$13:$C$17)='Texture Calculator'!$C$4,SUM($A$37:$A$45) = 0,'Texture Calculator'!$C$17>=0.3, 'Texture Calculator'!$C$13+'Texture Calculator'!$C$14+'Texture Calculator'!$C$15<0.15, 'Texture Calculator'!$C$17>'Texture Calculator'!$C$16), 10, 0)","v":{"$error":"#REF!"}},"vfs >= 30 && vcscsms < 15 && vfs > fs","VERY FINE SANDY LOAM",{"$f":"IF(AND(SUM('Texture Calculator'!$C$26:$C$49)='Texture Calculator'!$C$5,SUM($D$37:$D$45) = 0,'Texture Calculator'!#REF!>=0.3, 'Texture Calculator'!$C$26+'Texture Calculator'!#REF!+'Texture Calculator'!#REF!<0.15, 'Texture Calculator'!#REF!>'Texture Calculator'!#REF!), 10, 0)","v":{"$error":"#REF!"}},"vfs >= 30 && vcscsms < 15 && vfs > fs","VERY FINE SANDY LOAM",{"$f":"IF(AND(SUM('Texture Calculator'!#REF!)='Texture Calculator'!$C$6,SUM($G$37:$G$45) = 0,'Texture Calculator'!#REF!>=0.3, 'Texture Calculator'!#REF!+'Texture Calculator'!#REF!+'Texture Calculator'!#REF!<0.15, 'Texture Calculator'!#REF!>'Texture Calculator'!#REF!), 10, 0)","v":{"$error":"#REF!"}},"vfs >= 30 && vcscsms < 15 && vfs > fs","VERY FINE SANDY LOAM",{"$f":"IF(AND(SUM('Texture Calculator'!$C$50:$C$55)='Texture Calculator'!$C$7,SUM($J$37:$J$45) = 0,'Texture Calculator'!$C$55>=0.3, 'Texture Calculator'!#REF!+'Texture Calculator'!#REF!+'Texture Calculator'!$C$53<0.15, 'Texture Calculator'!$C$55>'Texture Calculator'!$C$54), 10, 0)","v":{"$error":"#REF!"}},"vfs >= 30 && vcscsms < 15 && vfs > fs","VERY FINE SANDY LOAM"]
[{"$f":"IF(AND(SUM('Texture Calculator'!$C$13:$C$17)='Texture Calculator'!$C$4,SUM($A$37:$A$46) = 0,'Texture Calculator'!$C$16+'Texture Calculator'!$C$17>=0.4, 'Texture Calculator'!$C$17>'Texture Calculator'!$C$16, 'Texture Calculator'!$C$13+'Texture Calculator'!$C$14+'Texture Calculator'!$C$15<15), 11, 0)","v":{"$error":"#REF!"}},"fsvfs >= 40 && vfs > fs && vcscsms < 15","VERY FINE SANDY LOAM",{"$f":"IF(AND(SUM('Texture Calculator'!$C$26:$C$49)='Texture Calculator'!$C$5,SUM($D$37:$D$46) = 0,'Texture Calculator'!#REF!+'Texture Calculator'!#REF!>=0.4, 'Texture Calculator'!#REF!>'Texture Calculator'!#REF!, 'Texture Calculator'!$C$26+'Texture Calculator'!#REF!+'Texture Calculator'!#REF!<15), 11, 0)","v":{"$error":"#REF!"}},"fsvfs >= 40 && vfs > fs && vcscsms < 15","VERY FINE SANDY LOAM",{"$f":"IF(AND(SUM('Texture Calculator'!#REF!)='Texture Calculator'!$C$6,SUM($G$37:$G$46) = 0,'Texture Calculator'!#REF!+'Texture Calculator'!#REF!>=0.4, 'Texture Calculator'!#REF!>'Texture Calculator'!#REF!, 'Texture Calculator'!#REF!+'Texture Calculator'!#REF!+'Texture Calculator'!#REF!<15), 11, 0)","v":{"$error":"#REF!"}},"fsvfs >= 40 && vfs > fs && vcscsms < 15","VERY FINE SANDY LOAM",{"$f":"IF(AND(SUM('Texture Calculator'!$C$50:$C$55)='Texture Calculator'!$C$7,SUM($J$37:$J$46) = 0,'Texture Calculator'!$C$54+'Texture Calculator'!$C$55>=0.4, 'Texture Calculator'!$C$55>'Texture Calculator'!$C$54, 'Texture Calculator'!#REF!+'Texture Calculator'!#REF!+'Texture Calculator'!$C$53<15), 11, 0)","v":{"$error":"#REF!"}},"fsvfs >= 40 && vfs > fs && vcscsms < 15","VERY FINE SANDY LOAM"]
[{"$f":"IF(AND(SUM('Texture Calculator'!$C$13:$C$17)='Texture Calculator'!$C$4,SUM($A$37:$A$47) = 0,'Texture Calculator'!$C$13+'Texture Calculator'!$C$14>=0.25, 'Texture Calculator'!$C$17>=0.5), 12, 0)","v":{"$error":"#REF!"}},"vcscs >= 25 && vfs >= 50","VERY FINE SANDY LOAM",{"$f":"IF(AND(SUM('Texture Calculator'!$C$26:$C$49)='Texture Calculator'!$C$5,SUM($D$37:$D$47) = 0,'Texture Calculator'!$C$26+'Texture Calculator'!#REF!>=0.25, 'Texture Calculator'!#REF!>=0.5), 12, 0)","v":{"$error":"#REF!"}},"vcscs >= 25 && vfs >= 50","VERY FINE SANDY LOAM",{"$f":"IF(AND(SUM('Texture Calculator'!#REF!)='Texture Calculator'!$C$6,SUM($G$37:$G$47) = 0,'Texture Calculator'!#REF!+'Texture Calculator'!#REF!>=0.25, 'Texture Calculator'!#REF!>=0.5), 12, 0)","v":{"$error":"#REF!"}},"vcscs >= 25 && vfs >= 50","VERY FINE SANDY LOAM",{"$f":"IF(AND(SUM('Texture Calculator'!$C$50:$C$55)='Texture Calculator'!$C$7,SUM($J$37:$J$47) = 0,'Texture Calculator'!#REF!+'Texture Calculator'!#REF!>=0.25, 'Texture Calculator'!$C$55>=0.5), 12, 0)","v":{"$error":"#REF!"}},"vcscs >= 25 && vfs >= 50","VERY FINE SANDY LOAM"]
[{"$f":"IF(AND(SUM('Texture Calculator'!$C$13:$C$17)='Texture Calculator'!$C$4,SUM($A$37:$A$48) = 0,'Texture Calculator'!$C$13+'Texture Calculator'!$C$14+'Texture Calculator'!$C$15>=0.3, 'Texture Calculator'!$C$17>=0.5), 13,0)","v":{"$error":"#REF!"}},"vcscsms >= 30 && vfs >= 50","VERY FINE SANDY LOAM",{"$f":"IF(AND(SUM('Texture Calculator'!$C$26:$C$49)='Texture Calculator'!$C$5,SUM($D$37:$D$48) = 0,'Texture Calculator'!$C$26+'Texture Calculator'!#REF!+'Texture Calculator'!#REF!>=0.3, 'Texture Calculator'!#REF!>=0.5), 13,0)","v":{"$error":"#REF!"}},"vcscsms >= 30 && vfs >= 50","VERY FINE SANDY LOAM",{"$f":"IF(AND(SUM('Texture Calculator'!#REF!)='Texture Calculator'!$C$6,SUM($G$37:$G$48) = 0,'Texture Calculator'!#REF!+'Texture Calculator'!#REF!+'Texture Calculator'!#REF!>=0.3, 'Texture Calculator'!#REF!>=0.5), 13,0)","v":{"$error":"#REF!"}},"vcscsms >= 30 && vfs >= 50","VERY FINE SANDY LOAM",{"$f":"IF(AND(SUM('Texture Calculator'!$C$50:$C$55)='Texture Calculator'!$C$7,SUM($J$37:$J$48) = 0,'Texture Calculator'!#REF!+'Texture Calculator'!#REF!+'Texture Calculator'!$C$53>=0.3, 'Texture Calculator'!$C$55>=0.5), 13,0)","v":{"$error":"#REF!"}},"vcscsms >= 30 && vfs >= 50","VERY FINE SANDY LOAM"]
[{"$f":"SUM(A37:A49)+1","v":{"$error":"#REF!"}},null,null,{"$f":"SUM(D37:D49)+1","v":{"$error":"#REF!"}},null,null,{"$f":"SUM(G37:G49)+1","v":{"$error":"#REF!"}},null,null,{"$f":"SUM(J37:J49)+1","v":{"$error":"#REF!"}}]

{"sheet":"Sheet1","index":14,"n_rows":0,"n_cols":0,"rows_kept":0,"cut":false,"hidden":false,"merged":[]}