{"text_format":"1","workbook":"xlsx","n_sheets":18,"sheets":["Results","Texture Calculator","raw files","4415","4416","4417","4418","4419","4420","4421","4422","4424","4425","4426","4427","4427a","Calculations","Sheet1"],"not_rendered":{"charts":29,"images":1,"macros":1,"external_links":0,"defined_names":0,"comments":0,"pivot_tables":0},"unopened":[{"sheet":"4415","index":3,"reason":"not_a_worksheet"},{"sheet":"4416","index":4,"reason":"not_a_worksheet"},{"sheet":"4417","index":5,"reason":"not_a_worksheet"},{"sheet":"4418","index":6,"reason":"not_a_worksheet"},{"sheet":"4419","index":7,"reason":"not_a_worksheet"},{"sheet":"4420","index":8,"reason":"not_a_worksheet"},{"sheet":"4421","index":9,"reason":"not_a_worksheet"},{"sheet":"4422","index":10,"reason":"not_a_worksheet"},{"sheet":"4424","index":11,"reason":"not_a_worksheet"},{"sheet":"4425","index":12,"reason":"not_a_worksheet"},{"sheet":"4426","index":13,"reason":"not_a_worksheet"},{"sheet":"4427","index":14,"reason":"not_a_worksheet"},{"sheet":"4427a","index":15,"reason":"not_a_worksheet"}],"bounds":{"document_bytes":16777216,"sheet_cells":100000,"rows_first":2000,"rows_last":500,"rows_between":2000,"halvings":0,"cell_chars":16384,"cell_head_chars":4096},"cells_cut":0,"cells_raw":0,"read":"whole","date_system":"1900"}

{"sheet":"Results","index":0,"n_rows":51,"n_cols":87,"rows_kept":51,"cut":false,"hidden":false,"merged":[[7,2,7,5],[8,2,8,5]]}
["Soil Lab, Geological Survey of Israel"]
["Particle Size Analysis by laser diffraction,  Instrument:  Mastersizer 2000"]
["Aviv Lee Zada"]
["Sample description: dune sand"]
["Samples ID's: [4415-4427a]"]
[]
[]
["Particle",null,{"$f":"'raw files'!C1","v":"[4415] Chile_9_T3_50 bulk - a - Average"},null,null,null,null,null,null,"Particle",null,{"$f":"'raw files'!I1","v":"[4416] Chile_9_T3_47 bulk - a - Average"},null,null,null,null,null,null,"Particle",null,{"$f":"'raw files'!O1","v":"[4417] Chile_9_T3_40 bulk - a - Average"},null,null,null,null,null,null,"Particle",null,{"$f":"'raw files'!V1","v":"[4417] Chile_9_T3_40 bulk - b - Average"},null,null,null,null,null,null,"Particle",null,{"$f":"'raw files'!AB1","v":"[4418] C9_T3_34 bulk - a - Average"},null,null,null,null,null,null,"Particle",null,{"$f":"'raw files'!AH1","v":"[4419] Chile_9_T1_00 bulk - b - Average"},null,null,null,null,null,null,"Particle",null,{"$f":"'raw files'!AN1","v":"[4420] Chile_9_T1_4 bulk - b - Average"},null,null,null,null,null,null,"Particle",null,{"$f":"'raw files'!AT1","v":"[4421] Chile_9_T1_8 bulk - b - Average"},null,null,null,null,null,null,"Particle",null,{"$f":"'raw files'!AZ1","v":"[4422] Chile_9_T1_10 bulk- a - Average"},null,null,null,null,null,"Particle",null,{"$f":"'raw files'!BF1","v":"[4424] Chile_9_T4_51 bulk - b"}]
["Diameter",null,"Differential Volume (%)",null,null,null,null,null,null,"Diameter",null,"Differential Volume (%)",null,null,null,null,null,null,"Diameter",null,"Differential Volume (%)",null,null,null,null,null,null,"Diameter",null,"Differential Volume (%)",null,null,null,null,null,null,"Diameter",null,"Differential Volume (%)",null,null,null,null,null,null,"Diameter",null,"Differential Volume (%)",null,null,null,null,null,null,"Diameter",null,"Differential Volume (%)",null,null,null,null,null,null,"Diameter",null,"Differential Volume (%)",null,null,null,null,null,null,"Diameter",null,"Differential Volume (%)",null,null,null,null,null,"Diameter",null,"Differential Volume (%)"]
["Range (mm)","Size Class","Rep. 1","Rep. 2","Rep. 3","Average","SE",null,null,"Range (mm)","Size Class","Rep. 1","Rep. 2","Rep. 3","Average","SE",null,null,"Range (mm)","Size Class","Rep. 1","Rep. 2","Rep. 3","Average","SE",null,null,"Range (mm)","Size Class","Rep. 1","Rep. 2","Rep. 3","Average","SE",null,null,"Range (mm)","Size Class","Rep. 1","Rep. 2","Rep. 3","Average","SE",null,null,"Range (mm)","Size Class","Rep. 1","Rep. 2","Rep. 3","Average","SE",null,null,"Range (mm)","Size Class","Rep. 1","Rep. 2","Rep. 3","Average","SE",null,null,"Range (mm)","Size Class","Rep. 1","Rep. 2","Rep. 3","Average","SE",null,"Range (mm)","Size Class","Rep. 1","Rep. 2","Rep. 3","Average","SE",null,null,"Range (mm)","Size Class","Rep. 1","Rep. 2","Rep. 3","Average","SE"]
["< 6","Clay",{"$f":"'raw files'!C13","v":0},{"$f":"'raw files'!D13","v":2.8679999999999999},{"$f":"'raw files'!E13","v":2.4239999999999999},{"$f":"AVERAGE(C11:E11)","v":1.764},{"$f":"(STDEV(C11:E11))/SQRT(3)","v":0.89126427057298774},null,null,"< 6","Clay",{"$f":"'raw files'!I13","v":0.81399999999999995},{"$f":"'raw files'!J13","v":1.37},{"$f":"'raw files'!K13","v":0.59},{"$f":"AVERAGE(L11,N11)","v":0.70199999999999996},{"$f":"(STDEV(L11:N11))/SQRT(3)","v":0.23186586160488964},null,null,"< 6","Clay",{"$f":"'raw files'!O13","v":8.7999999999999995E-2},{"$f":"'raw files'!P13","v":1.0820000000000001},{"$f":"'raw files'!Q13","v":0.65200000000000002},{"$f":"AVERAGE(U11:W11)","v":0.60733333333333339},{"$f":"(STDEV(U11:W11))/SQRT(3)","v":0.28781089470537968},null,null,"< 6","Clay",{"$f":"'raw files'!V13","v":1.0820000000000001},{"$f":"'raw files'!W13","v":0},{"$f":"'raw files'!X13","v":0.65200000000000002},{"$f":"AVERAGE(AD11:AF11)","v":0.57799999999999996},{"$f":"(STDEV(AD11:AF11))/SQRT(3)","v":0.31453033769945526},null,null,"< 6","Clay",{"$f":"'raw files'!AB13","v":3.444},{"$f":"'raw files'!AC13","v":2.8210000000000002},{"$f":"'raw files'!AD13","v":4.1849999999999996},{"$f":"AVERAGE(AM11:AO11)","v":3.4833333333333329},{"$f":"(STDEV(AM11:AO11))/SQRT(3)","v":0.39424372044600814},null,null,"< 6","Clay",{"$f":"'raw files'!AH13","v":2.0059999999999998},{"$f":"'raw files'!AI13","v":1.2310000000000001},{"$f":"'raw files'!AJ13","v":1.282},{"$f":"AVERAGE(AV11:AX11)","v":1.5063333333333333},{"$f":"(STDEV(AV11:AX11))/SQRT(3)","v":0.25026674658141124},null,null,"< 6","Clay",{"$f":"'raw files'!AN13","v":0.40600000000000003},{"$f":"'raw files'!AO13","v":0.92100000000000004},{"$f":"'raw files'!AP13","v":0.44600000000000001},{"$f":"AVERAGE(BE11:BG11)","v":0.59099999999999997},{"$f":"(STDEV(BE11:BG11))/SQRT(3)","v":0.16540354691884143},null,null,"< 6","Clay",{"$f":"'raw files'!AT13","v":0},{"$f":"'raw files'!AU13","v":0},{"$f":"'raw files'!AV13","v":0},{"$f":"AVERAGE(BN11:BP11)","v":0},{"$f":"(STDEV(BN11:BP11))/SQRT(3)","v":0},null,"< 6","Clay",{"$f":"'raw files'!AZ13","v":1.425},{"$f":"'raw files'!BA13","v":1.1140000000000001},{"$f":"'raw files'!BB13","v":0.81899999999999995},{"$f":"AVERAGE(BV11:BX11)","v":1.1193333333333333},{"$f":"(STDEV(BV11:BX11))/SQRT(3)","v":0.17495745514584707},null,null,"< 6","Clay",{"$f":"'raw files'!BF13","v":0.39500000000000002},{"$f":"'raw files'!BG13","v":0.622},{"$f":"'raw files'!BH13","v":0.50800000000000001},{"$f":"AVERAGE(CE11:CG11)","v":0.5083333333333333},{"$f":"(STDEV(CE11:CG11))/SQRT(3)","v":6.5529467502118202E-2}]
["6 - 63","Silt",{"$f":"'raw files'!C14","v":0.73499999999999999},{"$f":"'raw files'!D14","v":4.5640000000000001},{"$f":"'raw files'!E14","v":4.0119999999999996},{"$f":"AVERAGE(C12:E12)","v":3.1036666666666668},{"$f":"(STDEV(C12:E12))/SQRT(3)","v":1.195005206869177},null,null,"6 - 63","Silt",{"$f":"'raw files'!I14","v":1.5309999999999999},{"$f":"'raw files'!J14","v":1.847},{"$f":"'raw files'!K14","v":1.3759999999999999},{"$f":"AVERAGE(L12,N12)","v":1.4535},{"$f":"(STDEV(L12:N12))/SQRT(3)","v":0.13858851964639043},null,null,"6 - 63","Silt",{"$f":"'raw files'!O14","v":0.26500000000000001},{"$f":"'raw files'!P14","v":0.192},{"$f":"'raw files'!Q14","v":9.9000000000000005E-2},{"$f":"AVERAGE(U12:W12)","v":0.18533333333333335},{"$f":"(STDEV(U12:W12))/SQRT(3)","v":4.8035866229770893E-2},null,null,"6 - 63","Silt",{"$f":"'raw files'!V14","v":0.192},{"$f":"'raw files'!W14","v":0},{"$f":"'raw files'!X14","v":9.9000000000000005E-2},{"$f":"AVERAGE(AD12:AF12)","v":9.7000000000000017E-2},{"$f":"(STDEV(AD12:AF12))/SQRT(3)","v":5.5434646206140782E-2},null,null,"6 - 63","Silt",{"$f":"'raw files'!AB14","v":4.8490000000000002},{"$f":"'raw files'!AC14","v":4.1269999999999998},{"$f":"'raw files'!AD14","v":6.3760000000000003},{"$f":"AVERAGE(AM12:AO12)","v":5.1173333333333337},{"$f":"(STDEV(AM12:AO12))/SQRT(3)","v":0.66294854836388184},null,null,"6 - 63","Silt",{"$f":"'raw files'!AH14","v":4.4480000000000004},{"$f":"'raw files'!AI14","v":3.145},{"$f":"'raw files'!AJ14","v":2.9529999999999998},{"$f":"AVERAGE(AV12:AX12)","v":3.515333333333333},{"$f":"(STDEV(AV12:AX12))/SQRT(3)","v":0.46961556381553143},null,null,"6 - 63","Silt",{"$f":"'raw files'!AN14","v":1.302},{"$f":"'raw files'!AO14","v":2.052},{"$f":"'raw files'!AP14","v":1.2789999999999999},{"$f":"AVERAGE(BE12:BG12)","v":1.5443333333333333},{"$f":"(STDEV(BE12:BG12))/SQRT(3)","v":0.25392015367915266},null,null,"6 - 63","Silt",{"$f":"'raw files'!AT14","v":8.0000000000000002E-3},{"$f":"'raw files'!AU14","v":8.0000000000000002E-3},{"$f":"'raw files'!AV14","v":5.0000000000000001E-3},{"$f":"AVERAGE(BN12:BP12)","v":7.0000000000000001E-3},{"$f":"(STDEV(BN12:BP12))/SQRT(3)","v":1E-3},null,"6 - 63","Silt",{"$f":"'raw files'!AZ14","v":2.6360000000000001},{"$f":"'raw files'!BA14","v":2.3660000000000001},{"$f":"'raw files'!BB14","v":2.0310000000000001},{"$f":"AVERAGE(BV12:BX12)","v":2.3443333333333336},{"$f":"(STDEV(BV12:BX12))/SQRT(3)","v":0.17498412626419474},null,null,"6 - 63","Silt",{"$f":"'raw files'!BF14","v":1.3720000000000001},{"$f":"'raw files'!BG14","v":1.7310000000000001},{"$f":"'raw files'!BH14","v":1.552},{"$f":"AVERAGE(CE12:CG12)","v":1.5516666666666667},{"$f":"(STDEV(CE12:CG12))/SQRT(3)","v":0.10363450733761952}]
["63 - 2000","Sand",{"$f":"'raw files'!C15","v":99.265000000000001},{"$f":"'raw files'!D15","v":92.567999999999998},{"$f":"'raw files'!E15","v":93.563000000000002},95.132000000000005,{"$f":"(STDEV(C13:E13))/SQRT(3)","v":2.0863662989353848},null,null,"63 - 2000","Sand",{"$f":"'raw files'!I15","v":97.653999999999996},{"$f":"'raw files'!J15","v":96.783000000000001},{"$f":"'raw files'!K15","v":98.034000000000006},97.843999999999994,{"$f":"(STDEV(L13:N13))/SQRT(3)","v":0.37028832609798146},null,null,"63 - 2000","Sand",{"$f":"'raw files'!O15","v":99.647000000000006},{"$f":"'raw files'!P15","v":98.725999999999999},{"$f":"'raw files'!Q15","v":99.248999999999995},99.207333333333324,{"$f":"(STDEV(U13:W13))/SQRT(3)","v":0.26668479105074344},null,null,"63 - 2000","Sand",{"$f":"'raw files'!V15","v":98.725999999999999},{"$f":"'raw files'!W15","v":100},{"$f":"'raw files'!X15","v":99.248999999999995},99.325000000000003,{"$f":"(STDEV(AD13:AF13))/SQRT(3)","v":0.36973008172629618},null,null,"63 - 2000","Sand",{"$f":"'raw files'!AB15","v":91.706999999999994},{"$f":"'raw files'!AC15","v":93.052000000000007},{"$f":"'raw files'!AD15","v":89.44},91.399666666666675,1.0539570410811103,null,null,"63 - 2000","Sand",{"$f":"'raw files'!AH15","v":93.546000000000006},{"$f":"'raw files'!AI15","v":95.623000000000005},{"$f":"'raw files'!AJ15","v":95.765000000000001},94.978000000000009,0.71717245717702471,null,null,"63 - 2000","Sand",{"$f":"'raw files'!AN15","v":98.290999999999997},{"$f":"'raw files'!AO15","v":97.028000000000006},{"$f":"'raw files'!AP15","v":98.275000000000006},97.864666666666679,{"$f":"(STDEV(BE13:BG13))/SQRT(3)","v":0.41835883056427753},null,null,"63 - 2000","Sand",{"$f":"'raw files'!AT15","v":99.992000000000004},{"$f":"'raw files'!AU15","v":99.992000000000004},{"$f":"'raw files'!AV15","v":99.995000000000005},99.993000000000009,1.000000000000038E-3,null,"63 - 2000","Sand",{"$f":"'raw files'!AZ15","v":95.938999999999993},{"$f":"'raw files'!BA15","v":96.519000000000005},{"$f":"'raw files'!BB15","v":97.15},96.536000000000001,{"$f":"(STDEV(BV13:BX13))/SQRT(3)","v":0.34968890936564728},null,null,"63 - 2000","Sand",{"$f":"'raw files'!BF15","v":98.231999999999999},{"$f":"'raw files'!BG15","v":97.647000000000006},{"$f":"'raw files'!BH15","v":97.94},97.939666666666668,{"$f":"(STDEV(CE13:CG13))/SQRT(3)","v":0.1688750359815718}]
["63 - 125","VF Sand",{"$f":"'raw files'!C16","v":8.1539999999999999},{"$f":"'raw files'!D16","v":9.0579999999999998},{"$f":"'raw files'!E16","v":7.8970000000000002},8.3696666666666673,0.3520721201370221,null,null,"63 - 125","VF Sand",{"$f":"'raw files'!I16","v":2.9119999999999999},{"$f":"'raw files'!J16","v":2.6890000000000001},{"$f":"'raw files'!K16","v":1.9219999999999999},2.4169999999999998,0.29982569010083976,null,null,"63 - 125","VF Sand",{"$f":"'raw files'!O16","v":4.2350000000000003},{"$f":"'raw files'!P16","v":6.13},{"$f":"'raw files'!Q16","v":5.3019999999999996},5.2223333333333333,0.54848771889421499,null,null,"63 - 125","VF Sand",{"$f":"'raw files'!V16","v":6.13},{"$f":"'raw files'!W16","v":8.1419999999999995},{"$f":"'raw files'!X16","v":5.3019999999999996},6.5246666666666657,0.84325190647740433,null,null,"63 - 125","VF Sand",{"$f":"'raw files'!AB16","v":5.0599999999999996},{"$f":"'raw files'!AC16","v":4.1180000000000003},{"$f":"'raw files'!AD16","v":6.577},5.2516666666666669,0.71629191752463028,null,null,"63 - 125","VF Sand",{"$f":"'raw files'!AH16","v":2.8330000000000002},{"$f":"'raw files'!AI16","v":2.0310000000000001},{"$f":"'raw files'!AJ16","v":1.5029999999999999},2.1223333333333336,0.38664425222389803,null,null,"63 - 125","VF Sand",{"$f":"'raw files'!AN16","v":3.948},{"$f":"'raw files'!AO16","v":4.7279999999999998},{"$f":"'raw files'!AP16","v":3.5339999999999998},{"$f":"AVERAGE(BE14:BG14)","v":4.07},{"$f":"(STDEV(BE14:BG14))/SQRT(3)","v":0.35003428403514614},null,null,"63 - 125","VF Sand",{"$f":"'raw files'!AT16","v":2.9689999999999999},{"$f":"'raw files'!AU16","v":2.5750000000000002},{"$f":"'raw files'!AV16","v":1.6180000000000001},{"$f":"AVERAGE(BN14:BP14)","v":2.3873333333333338},{"$f":"(STDEV(BN14:BP14))/SQRT(3)","v":0.40112937785429953},null,"63 - 125","VF Sand",{"$f":"'raw files'!AZ16","v":5.0469999999999997},{"$f":"'raw files'!BA16","v":4.47},{"$f":"'raw files'!BB16","v":3.879},4.4653333333333327,0.33718063078679184,null,null,"63 - 125","VF Sand",{"$f":"'raw files'!BF16","v":3.5190000000000001},{"$f":"'raw files'!BG16","v":4.3710000000000004},{"$f":"'raw files'!BH16","v":3.9449999999999998},3.9450000000000003,0.24595121467478068]
["125 - 250","F Sand",{"$f":"'raw files'!C17","v":22.443000000000001},{"$f":"'raw files'!D17","v":20.129000000000001},{"$f":"'raw files'!E17","v":17.283999999999999},19.952000000000002,1.4919022532771171,null,null,"125 - 250","F Sand",{"$f":"'raw files'!I17","v":36.817},{"$f":"'raw files'!J17","v":38.113999999999997},{"$f":"'raw files'!K17","v":32.369999999999997},34.593499999999999,1.7392775320038303,null,null,"125 - 250","F Sand",{"$f":"'raw files'!O17","v":37.823},{"$f":"'raw files'!P17","v":51.335000000000001},{"$f":"'raw files'!Q17","v":50.881999999999998},46.68,4.4304303402717231,null,null,"125 - 250","F Sand",{"$f":"'raw files'!V17","v":51.335000000000001},{"$f":"'raw files'!W17","v":52.65},{"$f":"'raw files'!X17","v":50.881999999999998},51.62233333333333,0.53021264078145514,null,null,"125 - 250","F Sand",{"$f":"'raw files'!AB17","v":10.218999999999999},{"$f":"'raw files'!AC17","v":6.5039999999999996},{"$f":"'raw files'!AD17","v":11.117000000000001},9.2799999999999994,1.412000118035875,null,null,"125 - 250","F Sand",{"$f":"'raw files'!AH17","v":7.3760000000000003},{"$f":"'raw files'!AI17","v":5.2750000000000004},{"$f":"'raw files'!AJ17","v":6.2939999999999996},6.3150000000000004,0.60659734036124302,null,null,"125 - 250","F Sand",{"$f":"'raw files'!AN17","v":11.069000000000001},{"$f":"'raw files'!AO17","v":12.849},{"$f":"'raw files'!AP17","v":8.9760000000000009},{"$f":"AVERAGE(BE15:BG15)","v":10.964666666666666},{"$f":"(STDEV(BE15:BG15))/SQRT(3)","v":1.1192551590728184},null,null,"125 - 250","F Sand",{"$f":"'raw files'!AT17","v":8.907},{"$f":"'raw files'!AU17","v":8.5879999999999992},{"$f":"'raw files'!AV17","v":5.3550000000000004},7.6166666666666663,1.1345766219657065,null,"125 - 250","F Sand",{"$f":"'raw files'!AZ17","v":26.888000000000002},{"$f":"'raw files'!BA17","v":25.484999999999999},{"$f":"'raw files'!BB17","v":23.405000000000001},25.259333333333334,1.0117668264531661,null,null,"125 - 250","F Sand",{"$f":"'raw files'!BF17","v":11.079000000000001},{"$f":"'raw files'!BG17","v":12.208},{"$f":"'raw files'!BH17","v":11.643000000000001},11.643333333333333,0.32591426957270681]
["250 - 500","M Sand",{"$f":"'raw files'!C18","v":18.254000000000001},{"$f":"'raw files'!D18","v":17.707000000000001},{"$f":"'raw files'!E18","v":16.413},17.457999999999998,0.54583910938419733,null,null,"250 - 500","M Sand",{"$f":"'raw files'!I18","v":47.29},{"$f":"'raw files'!J18","v":47.613},{"$f":"'raw files'!K18","v":48.225000000000001},47.7575,0.27417532914380077,null,null,"250 - 500","M Sand",{"$f":"'raw files'!O18","v":43.005000000000003},{"$f":"'raw files'!P18","v":39.481000000000002},{"$f":"'raw files'!Q18","v":41.371000000000002},41.285666666666664,1.0181855321000091,null,null,"250 - 500","M Sand",{"$f":"'raw files'!V18","v":39.481000000000002},{"$f":"'raw files'!W18","v":37.866999999999997},{"$f":"'raw files'!X18","v":41.371000000000002},39.573,1.0125630844544959,null,null,"250 - 500","M Sand",{"$f":"'raw files'!AB18","v":12.734999999999999},{"$f":"'raw files'!AC18","v":13.898999999999999},{"$f":"'raw files'!AD18","v":12.273999999999999},12.969333333333333,0.48350812931233234,null,null,"250 - 500","M Sand",{"$f":"'raw files'!AH18","v":22.678999999999998},{"$f":"'raw files'!AI18","v":18.292999999999999},{"$f":"'raw files'!AJ18","v":17.774000000000001},19.581999999999997,1.5557310178819472,null,null,"250 - 500","M Sand",{"$f":"'raw files'!AN18","v":21.327999999999999},{"$f":"'raw files'!AO18","v":24.172999999999998},{"$f":"'raw files'!AP18","v":17.747},21.082666666666665,1.8590777582207472,null,null,"250 - 500","M Sand",{"$f":"'raw files'!AT18","v":18.321000000000002},{"$f":"'raw files'!AU18","v":22.698},{"$f":"'raw files'!AV18","v":21.241},20.753333333333334,1.2868432089592126,null,"250 - 500","M Sand",{"$f":"'raw files'!AZ18","v":35.993000000000002},{"$f":"'raw files'!BA18","v":35.298000000000002},{"$f":"'raw files'!BB18","v":34.863},35.384666666666668,0.32906855077796721,null,null,"250 - 500","M Sand",{"$f":"'raw files'!BF18","v":21.021999999999998},{"$f":"'raw files'!BG18","v":18.974},{"$f":"'raw files'!BH18","v":19.998000000000001},19.998000000000001,0.59120667565017637]
["500 - 1000","C Sand",{"$f":"'raw files'!C19","v":25.454999999999998},{"$f":"'raw files'!D19","v":26.193000000000001},{"$f":"'raw files'!E19","v":29.521999999999998},27.056666666666661,1.2509412900336734,null,null,"500 - 1000","C Sand",{"$f":"'raw files'!I19","v":10.563000000000001},{"$f":"'raw files'!J19","v":8.0690000000000008},{"$f":"'raw files'!K19","v":14.506},12.534500000000001,1.8738293234265815,null,null,"500 - 1000","C Sand",{"$f":"'raw files'!O19","v":12.852},{"$f":"'raw files'!P19","v":1.3779999999999999},{"$f":"'raw files'!Q19","v":1.6950000000000001},5.3083333333333336,3.7729432513328085,null,null,"500 - 1000","C Sand",{"$f":"'raw files'!V19","v":1.3779999999999999},{"$f":"'raw files'!W19","v":1.341},{"$f":"'raw files'!X19","v":1.6950000000000001},1.4713333333333332,0.11234223505778143,null,null,"500 - 1000","C Sand",{"$f":"'raw files'!AB19","v":33.728000000000002},{"$f":"'raw files'!AC19","v":37.749000000000002},{"$f":"'raw files'!AD19","v":33.362000000000002},34.946333333333335,1.405310681348118,null,null,"500 - 1000","C Sand",{"$f":"'raw files'!AH19","v":39.167000000000002},{"$f":"'raw files'!AI19","v":41.027000000000001},{"$f":"'raw files'!AJ19","v":38.869999999999997},39.687999999999995,0.67496740662049814,null,null,"500 - 1000","C Sand",{"$f":"'raw files'!AN19","v":39.253},{"$f":"'raw files'!AO19","v":37.826000000000001},{"$f":"'raw files'!AP19","v":42.05},39.709666666666671,1.2405579837762961,null,null,"500 - 1000","C Sand",{"$f":"'raw files'!AT19","v":41.780999999999999},{"$f":"'raw files'!AU19","v":42.543999999999997},{"$f":"'raw files'!AV19","v":45.063000000000002},43.129333333333328,0.99160515215370904,null,"500 - 1000","C Sand",{"$f":"'raw files'!AZ19","v":21.053999999999998},{"$f":"'raw files'!BA19","v":22.338000000000001},{"$f":"'raw files'!BB19","v":24.773},22.721666666666664,1.0905870488462219,null,null,"500 - 1000","C Sand",{"$f":"'raw files'!BF19","v":36.537999999999997},{"$f":"'raw files'!BG19","v":34.924999999999997},{"$f":"'raw files'!BH19","v":35.731000000000002},35.731333333333332,0.46563302192940637]
["1000 - 2000","VC Sand",{"$f":"'raw files'!C20","v":24.959},{"$f":"'raw files'!D20","v":19.481000000000002},{"$f":"'raw files'!E20","v":22.448},22.296000000000003,1.5831876073289604,null,null,"1000 - 2000","VC Sand",{"$f":"'raw files'!I20","v":7.1999999999999995E-2},{"$f":"'raw files'!J20","v":0.29799999999999999},{"$f":"'raw files'!K20","v":1.0109999999999999},0.54149999999999998,0.28295720131811064,null,null,"1000 - 2000","VC Sand",{"$f":"'raw files'!O20","v":1.7330000000000001},{"$f":"'raw files'!P20","v":0.40200000000000002},{"$f":"'raw files'!Q20","v":0},0.71166666666666678,0.52368639894926095,null,null,"1000 - 2000","VC Sand",{"$f":"'raw files'!V20","v":0.40200000000000002},{"$f":"'raw files'!W20","v":0},{"$f":"'raw files'!X20","v":0},0.13400000000000001,0.13400000000000004,null,null,"1000 - 2000","VC Sand",{"$f":"'raw files'!AB20","v":29.965},{"$f":"'raw files'!AC20","v":30.782},{"$f":"'raw files'!AD20","v":26.11},28.952333333333332,1.4406036157728392,null,null,"1000 - 2000","VC Sand",{"$f":"'raw files'!AH20","v":21.491},{"$f":"'raw files'!AI20","v":28.995999999999999},{"$f":"'raw files'!AJ20","v":31.324000000000002},27.27033333333333,2.9667836868306563,null,null,"1000 - 2000","VC Sand",{"$f":"'raw files'!AN20","v":22.692},{"$f":"'raw files'!AO20","v":17.451000000000001},{"$f":"'raw files'!AP20","v":25.968},22.037000000000003,2.4803622719272282,null,null,"1000 - 2000","VC Sand",{"$f":"'raw files'!AT20","v":28.013999999999999},{"$f":"'raw files'!AU20","v":23.588000000000001},{"$f":"'raw files'!AV20","v":26.718},26.106666666666669,1.3137307351373202,null,"1000 - 2000","VC Sand",{"$f":"'raw files'!AZ20","v":6.9569999999999999},{"$f":"'raw files'!BA20","v":8.9290000000000003},{"$f":"'raw files'!BB20","v":10.228999999999999},8.7050000000000001,0.95116209624507964,null,null,"1000 - 2000","VC Sand",{"$f":"'raw files'!BF20","v":26.074999999999999},{"$f":"'raw files'!BG20","v":27.169},{"$f":"'raw files'!BH20","v":26.622},26.622,0.31581059724672567]
[null,null,null,"Textural Class:",null,{"$f":"'Texture Calculator'!N4","v":"SAND"},null,null,null,null,null,null,"Textural Class:",null,{"$f":"'Texture Calculator'!N5","v":"SAND"},null,null,null,null,null,null,"Textural Class:",{"$f":"'Texture Calculator'!N6","v":"SAND"},null,null,null,null,null,null,null,"Textural Class:",{"$f":"'Texture Calculator'!N7","v":"SAND"},null,null,null,null,null,null,"Textural Class:",null,{"$f":"'Texture Calculator'!N8","v":"SAND"},null,null,null,null,null,null,"Textural Class:",null,{"$f":"'Texture Calculator'!N9","v":"SAND"},null,null,null,null,null,null,"Textural Class:",null,{"$f":"'Texture Calculator'!N10","v":"SAND"},null,null,null,null,null,"Textural Class:",null,{"$f":"'Texture Calculator'!N11","v":"SAND"},null,null,null,null,null,null,"Textural Class:",null,{"$f":"'Texture Calculator'!N12","v":"SAND"},null,null,null,null,null,"Textural Class:",null,{"$f":"'Texture Calculator'!N13","v":"SAND"}]
[null,null,null,"avg mode:",null,{"$f":"AVERAGE('raw files'!C6:E6)","v":971.34466666666651},null,null,null,null,null,null,"avg mode:",null,{"$f":"AVERAGE('raw files'!I6:K6)","v":277.84099999999995},null,null,null,null,null,null,"avg mode:",null,{"$f":"AVERAGE('raw files'!O6:Q6)","v":241.64066666666668},null,null,null,null,null,null,"avg mode:",null,{"$f":"AVERAGE('raw files'!V6:W6)","v":225.61250000000001},null,null,null,null,null,"avg mode:",null,{"$f":"AVERAGE('raw files'!AF6:AH6)","v":734.53},null,null,null,null,null,null,"avg mode:",null,{"$f":"AVERAGE('raw files'!AH6:AJ6)","v":856.7733333333332},null,null,null,null,null,null,"avg mode:",null,{"$f":"AVERAGE('raw files'!AN6:AP6)","v":760.62366666666674},null,null,null,null,null,"avg mode:",null,{"$f":"AVERAGE('raw files'!AU6:AV6)","v":761.13900000000001},null,null,null,null,null,null,"avg mode:",null,{"$f":"AVERAGE('raw files'!AZ6:BB6)","v":302.78100000000001},null,null,null,null,null,null,"avg mode:",null,{"$f":"AVERAGE('raw files'!BF6:BH6)","v":913.9993333333332}]
[]
[]
[]
["Particle",null,{"$f":"'raw files'!BL1","v":"[4425] Chile_9_T4_54 bulk - f - Average"},null,null,null,null,null,null,"Particle",null,{"$f":"'raw files'!BR1","v":"[4426] Chile_9_T4_59 bulk - b - Average"},null,null,null,null,null,null,"Particle",null,{"$f":"'raw files'!BX1","v":"[4427] Chile_9_T4_67 bulk - b - Average"},null,null,null,null,null,null,"Particle",null,{"$f":"'raw files'!CD1","v":"[4427a] Chile_9_T1 end bulk - g - Average"}]
["Diameter",null,"Differential Volume (%)",null,null,null,null,null,null,"Diameter",null,"Differential Volume (%)",null,null,null,null,null,null,"Diameter",null,"Differential Volume (%)",null,null,null,null,null,null,"Diameter",null,"Differential Volume (%)"]
["Range (mm)","Size Class","Rep. 1","Rep. 2","Rep. 3","Average","SE",null,null,"Range (mm)","Size Class","Rep. 1","Rep. 2","Rep. 3","Average","SE",null,null,"Range (mm)","Size Class","Rep. 1","Rep. 2","Rep. 3","Average","SE",null,null,"Range (mm)","Size Class","Rep. 1","Rep. 2","Rep. 3","Average","SE"]
["< 6","Clay",{"$f":"'raw files'!BL13","v":0.77600000000000002},{"$f":"'raw files'!BM13","v":1.583},{"$f":"'raw files'!BN13","v":1.085},{"$f":"AVERAGE(C27:E27)","v":1.1479999999999999},{"$f":"(STDEV(C27:E27))/SQRT(3)","v":0.2350808371603266},null,null,"< 6","Clay",{"$f":"'raw files'!BR13","v":1.9239999999999999},{"$f":"'raw files'!BS13","v":2.2930000000000001},{"$f":"'raw files'!BT13","v":0.25600000000000001},{"$f":"AVERAGE(L27:N27)","v":1.4910000000000003},{"$f":"(STDEV(L27:N27))/SQRT(3)","v":0.62662029970309752},null,null,"< 6","Clay",{"$f":"'raw files'!BX13","v":0.44800000000000001},{"$f":"'raw files'!BY13","v":0.89400000000000002},{"$f":"'raw files'!BZ13","v":0.57699999999999996},{"$f":"AVERAGE(U27:W27)","v":0.63966666666666672},{"$f":"(STDEV(U27:W27))/SQRT(3)","v":0.13250702287468061},null,null,"< 6","Clay",{"$f":"'raw files'!CD13","v":1.8620000000000001},{"$f":"'raw files'!CE13","v":1.024},{"$f":"'raw files'!CF13","v":1.494},{"$f":"AVERAGE(AD27:AF27)","v":1.46},{"$f":"(STDEV(AD27:AF27))/SQRT(3)","v":0.2425063573049856}]
["6 - 63","Silt",{"$f":"'raw files'!BL14","v":1.3779999999999999},{"$f":"'raw files'!BM14","v":1.9610000000000001},{"$f":"'raw files'!BN14","v":1.528},{"$f":"AVERAGE(C28:E28)","v":1.6223333333333334},{"$f":"(STDEV(C28:E28))/SQRT(3)","v":0.17478208654715666},null,null,"6 - 63","Silt",{"$f":"'raw files'!BR14","v":2.8069999999999999},{"$f":"'raw files'!BS14","v":2.903},{"$f":"'raw files'!BT14","v":0.89500000000000002},{"$f":"AVERAGE(L28:N28)","v":2.2016666666666667},{"$f":"(STDEV(L28:N28))/SQRT(3)","v":0.65392082429331144},null,null,"6 - 63","Silt",{"$f":"'raw files'!BX14","v":0.98099999999999998},{"$f":"'raw files'!BY14","v":1.5920000000000001},{"$f":"'raw files'!BZ14","v":1.248},{"$f":"AVERAGE(U28:W28)","v":1.2736666666666665},{"$f":"(STDEV(U28:W28))/SQRT(3)","v":0.17684676354906242},null,null,"6 - 63","Silt",{"$f":"'raw files'!CD14","v":2.66},{"$f":"'raw files'!CE14","v":1.488},{"$f":"'raw files'!CF14","v":1.7250000000000001},{"$f":"AVERAGE(AD28:AF28)","v":1.9576666666666664},{"$f":"(STDEV(AD28:AF28))/SQRT(3)","v":0.35776916828840716}]
["63 - 2000","Sand",{"$f":"'raw files'!BL15","v":97.846000000000004},{"$f":"'raw files'!BM15","v":96.456999999999994},{"$f":"'raw files'!BN15","v":97.388000000000005},97.230333333333348,0.40864586678987358,null,null,"63 - 2000","Sand",{"$f":"'raw files'!BR15","v":95.269000000000005},{"$f":"'raw files'!BS15","v":94.804000000000002},{"$f":"'raw files'!BT15","v":98.85},96.307666666666663,{"$f":"(STDEV(L29:N29))/SQRT(3)","v":1.2782345029158133},null,null,"63 - 2000","Sand",{"$f":"'raw files'!BX15","v":98.570999999999998},{"$f":"'raw files'!BY15","v":97.513999999999996},{"$f":"'raw files'!BZ15","v":98.174999999999997},98.086666666666659,0.30830954863217935,null,null,"63 - 2000","Sand",{"$f":"'raw files'!CD15","v":95.477000000000004},{"$f":"'raw files'!CE15","v":97.488},{"$f":"'raw files'!CF15","v":96.781000000000006},96.581999999999994,0.58899094503509331]
["63 - 125","VF Sand",{"$f":"'raw files'!BL16","v":2.2650000000000001},{"$f":"'raw files'!BM16","v":3.3340000000000001},{"$f":"'raw files'!BN16","v":2.8849999999999998},2.8279999999999998,0.30990697528989841,null,null,"63 - 125","VF Sand",{"$f":"'raw files'!BR16","v":5.0730000000000004},{"$f":"'raw files'!BS16","v":3.448},{"$f":"'raw files'!BT16","v":2.407},{"$f":"AVERAGE(L30:N30)","v":3.6426666666666669},{"$f":"(STDEV(L30:N30))/SQRT(3)","v":0.77573842956960082},null,null,"63 - 125","VF Sand",{"$f":"'raw files'!BX16","v":6.1340000000000003},{"$f":"'raw files'!BY16","v":7.4359999999999999},{"$f":"'raw files'!BZ16","v":6.2480000000000002},6.6060000000000008,0.41630277443226332,null,null,"63 - 125","VF Sand",{"$f":"'raw files'!CD16","v":5.9779999999999998},{"$f":"'raw files'!CE16","v":4.4870000000000001},{"$f":"'raw files'!CF16","v":5.2050000000000001},5.2233333333333336,0.43051222721053978]
["125 - 250","F Sand",{"$f":"'raw files'!BL17","v":14.14},{"$f":"'raw files'!BM17","v":14.37},{"$f":"'raw files'!BN17","v":10.897},13.135666666666665,1.1213007823258077,null,null,"125 - 250","F Sand",{"$f":"'raw files'!BR17","v":29.161999999999999},{"$f":"'raw files'!BS17","v":26.497},{"$f":"'raw files'!BT17","v":25.789000000000001},{"$f":"AVERAGE(L31:N31)","v":27.149333333333335},1.0268781708546426,null,null,"125 - 250","F Sand",{"$f":"'raw files'!BX17","v":21.6},{"$f":"'raw files'!BY17","v":23.466999999999999},{"$f":"'raw files'!BZ17","v":19.620999999999999},21.562666666666669,1.110401478945541,null,null,"125 - 250","F Sand",{"$f":"'raw files'!CD17","v":17.027000000000001},{"$f":"'raw files'!CE17","v":13.253},{"$f":"'raw files'!CF17","v":15.545},15.275,1.0977923300879682]
["250 - 500","M Sand",{"$f":"'raw files'!BL18","v":33.679000000000002},{"$f":"'raw files'!BM18","v":31.966999999999999},{"$f":"'raw files'!BN18","v":28.495999999999999},31.380666666666666,1.5246543141898692,null,null,"250 - 500","M Sand",{"$f":"'raw files'!BR18","v":38.677},{"$f":"'raw files'!BS18","v":40.374000000000002},{"$f":"'raw files'!BT18","v":40.515999999999998},39.855666666666671,0.59075723534385194,null,null,"250 - 500","M Sand",{"$f":"'raw files'!BX18","v":22.446000000000002},{"$f":"'raw files'!BY18","v":19.725000000000001},{"$f":"'raw files'!BZ18","v":18.940000000000001},20.370333333333335,1.0622853247179458,null,null,"250 - 500","M Sand",{"$f":"'raw files'!CD18","v":17.692},{"$f":"'raw files'!CE18","v":21.65},{"$f":"'raw files'!CF18","v":18.902000000000001},19.414666666666665,1.1709769900007045]
["500 - 1000","C Sand",{"$f":"'raw files'!BL19","v":34.814999999999998},{"$f":"'raw files'!BM19","v":33.813000000000002},{"$f":"'raw files'!BN19","v":38.726999999999997},35.784999999999997,1.4991691032035033,null,null,"500 - 1000","C Sand",{"$f":"'raw files'!BR19","v":18.904},{"$f":"'raw files'!BS19","v":20.311},{"$f":"'raw files'!BT19","v":23.951000000000001},21.055333333333333,1.5037260758233484,null,null,"500 - 1000","C Sand",{"$f":"'raw files'!BX19","v":27.878},{"$f":"'raw files'!BY19","v":25.291},{"$f":"'raw files'!BZ19","v":30.321999999999999},27.830333333333332,1.4525201471159623,null,null,"500 - 1000","C Sand",{"$f":"'raw files'!CD19","v":28.965},{"$f":"'raw files'!CE19","v":36.323999999999998},{"$f":"'raw files'!CF19","v":32.932000000000002},32.740333333333332,2.1265208152702799]
["1000 - 2000","VC Sand",{"$f":"'raw files'!BL20","v":12.946},{"$f":"'raw files'!BM20","v":12.972},{"$f":"'raw files'!BN20","v":16.382999999999999},14.100333333333333,1.1413580118048385,null,null,"1000 - 2000","VC Sand",{"$f":"'raw files'!BR20","v":3.4529999999999998},{"$f":"'raw files'!BS20","v":4.173},{"$f":"'raw files'!BT20","v":6.1870000000000003},4.6043333333333329,0.81817384732368859,null,null,"1000 - 2000","VC Sand",{"$f":"'raw files'!BX20","v":20.512},{"$f":"'raw files'!BY20","v":21.594999999999999},{"$f":"'raw files'!BZ20","v":23.044},21.716999999999999,0.73346642731620659,null,null,"1000 - 2000","VC Sand",{"$f":"'raw files'!CD20","v":25.815000000000001},{"$f":"'raw files'!CE20","v":21.773},{"$f":"'raw files'!CF20","v":24.196000000000002},23.928000000000001,1.1744940754781756]
[null,null,null,"Textural Class:",null,{"$f":"'Texture Calculator'!N13","v":"SAND"},null,null,null,null,null,null,"Textural Class:",{"$f":"'Texture Calculator'!N14","v":"SAND"},null,null,null,null,null,null,null,"Textural Class:",{"$f":"'Texture Calculator'!N15","v":"SAND"},null,null,null,null,null,null,null,"Textural Class:",{"$f":"'Texture Calculator'!N16","v":"SAND"}]
[null,null,null,"avg mode:",null,{"$f":"AVERAGE('raw files'!BL6:BN6)","v":557.88300000000004},null,null,null,null,null,null,"avg mode:",{"$f":"AVERAGE('raw files'!BR6:BT6)","v":306.73666666666668},null,null,null,null,null,null,null,"avg mode:",{"$f":"AVERAGE('raw files'!BX6:BY6)","v":957.01099999999997},null,null,null,null,null,null,null,"avg mode:",{"$f":"AVERAGE('raw files'!CE6:CF6)","v":848.70399999999995}]
[]
[]
[]
[]
[]
[]
[]
[]
[]
[]
[]
[]
[null,null,null,null,null,null,null,null,null,null,null,null,null,null,null,null,null,"Clay","Silt"]
[null,null,null,null,null,null,null,null,null,null,null,null,null,null,null,null,0,6,63]
[null,null,null,null,null,null,null,null,null,null,null,null,null,null,null,null,16,6,63]

{"sheet":"Texture Calculator","index":1,"n_rows":58,"n_cols":14,"rows_kept":58,"cut":false,"hidden":false,"merged":[[34,1,34,2],[12,7,12,12],[13,7,13,12],[14,7,14,12],[15,7,15,12],[31,1,33,2],[9,7,9,12],[27,1,29,2],[10,7,10,12],[11,7,11,12],[0,1,0,7],[8,7,8,12],[2,1,2,2],[2,3,2,4],[2,5,2,6],[6,7,6,12],[2,7,2,12],[3,7,3,12],[4,7,4,12],[5,7,5,12],[7,7,7,12]]}
[null,"Enter your data into the yellow highlighted cells",null,null,null,null,null,null,"Password = Texture"]
[]
[null,"Sand",null,"Clay",null,"Silt",null,"USDA Texture"]
[4415,"% Sand 1",{"$f":"Results!$F$13/100","v":0.95132000000000005},"%Clay 1",{"$f":"Results!$F$11/100","v":1.7639999999999999E-2},"% Silt 1",{"$f":"1-C4-E4","v":3.1039999999999946E-2},{"$f":"GRAIN(C4,E4,G4)","v":"SAND"},null,null,null,null,null,{"$f":"H4","v":"SAND"}]
[4416,"% Sand 2",{"$f":"Results!$O$13/100","v":0.97843999999999998},"%Clay 2",{"$f":"Results!$O$11/100","v":7.0199999999999993E-3},"% Silt 2",{"$f":"1-C5-E5","v":1.4540000000000025E-2},{"$f":"GRAIN(C5,E5,G5)","v":"SAND"},null,null,null,null,null,{"$f":"H5","v":"SAND"}]
[4417,"% Sand 3",{"$f":"Results!$X$13/100","v":0.99207333333333325},"%Clay 3",{"$f":"Results!X11/100","v":6.0733333333333342E-3},"% Silt 3",{"$f":"1-C6-E6","v":1.8533333333334142E-3},"SAND",null,null,null,null,null,{"$f":"H6","v":"SAND"}]
[4418,"% Sand 4",{"$f":"Results!$AG$13/100","v":0.99325000000000008},"%Clay 4",{"$f":"Results!$AG$11/100","v":5.7799999999999995E-3},"% Silt 4",{"$f":"1-C7-E7","v":9.6999999999992318E-4},{"$f":"GRAIN(C7,E7,G7)","v":"SAND"},null,null,null,null,null,{"$f":"H7","v":"SAND"}]
[4419,"% Sand 5",{"$f":"Results!$AP$13/100","v":0.91399666666666679},"%Clay 5",{"$f":"Results!$AP$11/100","v":3.4833333333333327E-2},"% Silt 5",{"$f":"1-C8-E8","v":5.1169999999999882E-2},{"$f":"GRAIN(C8,E8,G8)","v":"SAND"},null,null,null,null,null,{"$f":"H8","v":"SAND"}]
[4420,"% Sand 6",{"$f":"Results!$AY$13/100","v":0.94978000000000007},"%Clay 6",{"$f":"Results!$AY$11/100","v":1.5063333333333333E-2},"% Silt 6",{"$f":"1-C9-E9","v":3.51566666666666E-2},{"$f":"GRAIN(C9,E9,G9)","v":"SAND"},null,null,null,null,null,"SAND"]
[4421,"% Sand 7",{"$f":"Results!$BH$13/100","v":0.97864666666666678},"%Clay 7",{"$f":"Results!$BH$11/100","v":5.9099999999999995E-3},"% Silt 7",1.5443333333333226E-2,"SAND",null,null,null,null,null,"SAND"]
[4422,"% Sand 8",{"$f":"Results!$BQ$13/100","v":0.9999300000000001},"%Clay 8",{"$f":"Results!$BQ$11/100","v":0},"% Silt 8",{"$f":"1-C11-E11","v":6.9999999999903473E-5},{"$f":"GRAIN(C11,E11,G11)","v":"SAND"},null,null,null,null,null,"SAND"]
[4424,"% Sand 9",{"$f":"Results!$BY$13/100","v":0.96536},"%Clay 9",{"$f":"Results!$BY$11/100","v":1.1193333333333333E-2},"% Silt 9",2.3446666666666671E-2,"SAND",null,null,null,null,null,"SAND"]
[4425,"% Sand 11",{"$f":"Results!$CH$13/100","v":0.97939666666666669},"%Clay 11",{"$f":"Results!$CH$11/100","v":5.0833333333333329E-3},"% Silt 11",{"$f":"1-C13-E13","v":1.5519999999999975E-2},{"$f":"GRAIN(C13,E13,G13)","v":"SAND"},null,null,null,null,null,"SAND"]
[4426,"% Sand 12",{"$f":"Results!$F$29/100","v":0.97230333333333352},"%Clay 12",{"$f":"Results!$F$27/100","v":1.1479999999999999E-2},"% Silt 12",1.6216666666666484E-2,"SAND",null,null,null,null,null,"SAND"]
[4427,"% Sand 13",{"$f":"Results!$O$29/100","v":0.96307666666666658},"%Clay 13",{"$f":"Results!$O$27/100","v":1.4910000000000003E-2},"% Silt 13",2.2013333333333416E-2,"SAND",null,null,null,null,null,"SAND"]
["4427a","% Sand 14",{"$f":"Results!$X$29/100","v":0.98086666666666655},"%Clay 14",{"$f":"Results!$X$27/100","v":6.3966666666666668E-3},"% Silt 14",1.273666666666678E-2,"SAND",null,null,null,null,null,"SAND"]
[]
[]
[]
[null,null,null,{"$f":"A4","v":4415},{"$f":"(1.095-(C4*0.0104*100))-((0.52)*(0.0099*E4*100))","v":9.6546127999999926E-2},{"$f":"0.145+(0.0099*E4*100)","v":0.16246359999999999}]
[null,null,null,4416,7.3808504000000108E-2,0.1519498]
[null,null,null,4417,6.0117181333333554E-2,0.1510126]
[null,null,null,4418,5.9044455999999967E-2,0.1507222]
[null,null,null,4419,0.12651126666666662,0.17948499999999998]
[null,null,null,4420,9.9474195999999904E-2,0.15991269999999999]
[null,null,null,4421,7.4164998666666662E-2,0.15085089999999998]
[null,null,null,4422,5.5072799999999811E-2,0.14499999999999999]
[null,null,null,4424,8.5263272000000043E-2,0.15608139999999998]
[null,null,null,4425,7.381056666666666E-2,0.15003249999999999]
[null,null,null,4426,{"$f":"(1.095-(C14*0.0104*100))-((0.52)*(0.0099*E14*100))","v":7.7894629333333271E-2},{"$f":"0.145+(0.0099*E14*100)","v":0.15636519999999998}]
[null,null,null,4427,8.5724598666666679E-2,0.15976089999999998]
[null,null,null,"4427a",7.1605662666666889E-2,0.15133269999999999]
[]
[]
[]
[]
[]
[]
[]
[]
[]
[]
[]
[]
[]
[]
[]
[]
[]
[]
[]
[]
[]
[]
[]
[]
[null,null,null,null,0.52500000000000002]
[null,null,null,null,1.04]

{"sheet":"raw files","index":2,"n_rows":121,"n_cols":102,"rows_kept":121,"cut":false,"hidden":false,"merged":[]}
["Sample Name",null,"[4415] Chile_9_T3_50 bulk - a - Average","[4415] Chile_9_T3_50 bulk - o - Average","[4415] Chile_9_T3_50 bulk - p - Average",null,"Sample Name",null,"[4416] Chile_9_T3_47 bulk - a - Average","[4416] Chile_9_T3_47 bulk - b - Average","[4416] Chile_9_T3_47 bulk - c - Average",null,"Sample Name",null,"[4417] Chile_9_T3_40 bulk - a - Average","[4417] Chile_9_T3_40 bulk - b - Average","[4417] Chile_9_T3_40 bulk - d - Average",null,null,"Sample Name",null,"[4417] Chile_9_T3_40 bulk - b - Average","[4417] Chile_9_T3_40 bulk - c - Average","[4417] Chile_9_T3_40 bulk - d - Average",null,"Sample Name",null,"[4418] C9_T3_34 bulk - a - Average","[4418] C9_T3_34 bulk - e - Average","[4418] C9_T3_34 bulk - d new Averaged Result",null,"Sample Name",null,"[4419] Chile_9_T1_00 bulk - b - Average","[4419] Chile_9_T1_00 bulk - c - Average","[4419] Chile_9_T1_00 bulk - d - Average",null,"Sample Name",null,"[4420] Chile_9_T1_4 bulk - b - Average","[4420] Chile_9_T1_4 bulk - c - Average","[4420] Chile_9_T1_4 bulk - d - Average",null,"Sample Name",null,"[4421] Chile_9_T1_8 bulk - b - Average","[4421] Chile_9_T1_8 bulk - c - Average","[4421] Chile_9_T1_8 bulk - d - Average",null,"Sample Name",null,"[4422] Chile_9_T1_10 bulk- a - Average","[4422] Chile_9_T1_10 bulk- b - Average","[4422] Chile_9_T1_10 bulk- c - Average",null,"Sample Name",null,"[4424] Chile_9_T4_51 bulk - b","[4424] Chile_9_T4_51 bulk - c","[4424] Chile_9_T4_51 bulk - c+d new Averaged Result",null,"Sample Name",null,"[4425] Chile_9_T4_54 bulk - f - Average","[4425] Chile_9_T4_54 bulk - g - Average","[4425] Chile_9_T4_54 bulk - h - Average",null,"Sample Name",null,"[4426] Chile_9_T4_59 bulk - b - Average","[4426] Chile_9_T4_59 bulk - c - Average","[4426] Chile_9_T4_59 bulk - e - Average",null,"Sample Name",null,"[4427] Chile_9_T4_67 bulk - b - Average","[4427] Chile_9_T4_67 bulk - d - Average","[4427] Chile_9_T4_67 bulk - e - Average",null,"Sample Name",null,"[4427a] Chile_9_T1 end bulk - g - Average","[4427a] Chile_9_T1 end bulk - b+d new Averaged Result","[4427a] Chile_9_T1 end bulk - a - Average"]
["Analysis date and time",null,"éåí øàùåï 25 àåâåñè 2019 16:33:50","éåí øàùåï 01 ñôèîáø 2019 11:30:09","éåí øàùåï 01 ñôèîáø 2019 11:37:30",null,"Analysis date and time",null,"éåí ùìéùé 27 àåâåñè 2019 15:11:42","éåí ùìéùé 27 àåâåñè 2019 15:18:51","éåí ùìéùé 27 àåâåñè 2019 15:28:27",null,"Analysis date and time",null,"éåí ùìéùé 27 àåâåñè 2019 14:40:16","éåí ùìéùé 27 àåâåñè 2019 14:47:27","éåí ùìéùé 27 àåâåñè 2019 14:59:47",null,null,"Analysis date and time",null,"éåí ùìéùé 27 àåâåñè 2019 14:47:27","éåí ùìéùé 27 àåâåñè 2019 14:53:30","éåí ùìéùé 27 àåâåñè 2019 14:59:47",null,"Analysis date and time",null,"éåí øàùåï 01 ñôèîáø 2019 11:54:55","éåí øàùåï 01 ñôèîáø 2019 12:11:24","éåí øàùåï 01 ñôèîáø 2019 12:05:21",null,"Analysis date and time",null,"éåí øàùåï 01 ñôèîáø 2019 12:42:44","éåí øàùåï 01 ñôèîáø 2019 12:45:00","éåí øàùåï 01 ñôèîáø 2019 12:53:03",null,"Analysis date and time",null,"éåí ùðé 02 ñôèîáø 2019 09:51:17","éåí ùðé 02 ñôèîáø 2019 09:58:25","éåí ùðé 02 ñôèîáø 2019 10:01:29",null,"Analysis date and time",null,"éåí ùìéùé 27 àåâåñè 2019 14:05:26","éåí ùìéùé 27 àåâåñè 2019 14:12:59","éåí ùìéùé 27 àåâåñè 2019 14:28:52",null,"Analysis date and time",null,"éåí ùðé 09 ñôèîáø 2019 11:47:09","éåí ùðé 09 ñôèîáø 2019 11:50:04","éåí ùðé 09 ñôèîáø 2019 12:03:24",null,"Analysis date and time",null,"éåí ùðé 02 ñôèîáø 2019 10:47:22","éåí ùðé 02 ñôèîáø 2019 10:52:42","éåí ùðé 02 ñôèîáø 2019 10:47:22",null,"Analysis date and time",null,"éåí ùìéùé 27 àåâåñè 2019 16:33:28","éåí ùìéùé 27 àåâåñè 2019 16:41:27","éåí ùìéùé 27 àåâåñè 2019 16:45:03",null,"Analysis date and time",null,"éåí ùìéùé 27 àåâåñè 2019 17:14:01","éåí ùìéùé 27 àåâåñè 2019 17:19:45","éåí ùìéùé 27 àåâåñè 2019 17:39:21",null,"Analysis date and time",null,"éåí ùðé 02 ñôèîáø 2019 12:03:30","éåí ùðé 02 ñôèîáø 2019 12:13:04","éåí ùðé 02 ñôèîáø 2019 12:16:56",null,"Analysis date and time",null,"éåí øáéòé 04 ñôèîáø 2019 09:33:00","éåí ùðé 02 ñôèîáø 2019 12:37:42","éåí ùðé 02 ñôèîáø 2019 12:33:07"]
["Operator name",null,"Dorina","Yael","Yael",null,"Operator name",null,"dorina","dorina","dorina",null,"Operator name",null,"dorina","dorina","dorina",null,null,"Operator name",null,"dorina","dorina","dorina",null,"Operator name",null,"Yael","Yael","Yael",null,"Operator name",null,"Yael","Yael","Yael",null,"Operator name",null,"Yael","Yael","Yael",null,"Operator name",null,"dorina","dorina","dorina",null,"Operator name",null,"Yael","Yael","Yael",null,"Operator name",null,"Yael","Yael","Yael",null,"Operator name",null,"dorina","dorina","dorina",null,"Operator name",null,"dorina","dorina","dorina",null,"Operator name",null,"Yael","Yael","Yael",null,"Operator name",null,"Yael","Yael","Yael"]
["Obscuration",null,8.92,8.64,8.25,null,"Obscuration",null,11.57,11.04,12.35,null,"Obscuration",null,8.8800000000000008,10.7,10.27,null,null,"Obscuration",null,10.7,11.8,10.27,null,"Obscuration",null,12.75,11.41,7.97,null,"Obscuration",null,8.36,8.24,7.85,null,"Obscuration",null,7.71,9.06,9.1199999999999992,null,"Obscuration",null,5.53,11.02,10.95,null,"Obscuration",null,7.29,7.06,10.66,null,"Obscuration",null,8.4,7.8,8.1,null,"Obscuration",null,11.42,11.59,11.52,null,"Obscuration",null,11.13,11.67,11.09,null,"Obscuration",null,8.15,9.98,9.83,null,"Obscuration",null,7.93,9.41,9.6300000000000008]
["Residual",null,1.321,0.78900000000000003,0.69799999999999995,null,"Residual",null,0.42899999999999999,0.46300000000000002,0.502,null,"Residual",null,0.65,0.68,0.61699999999999999,null,null,"Residual",null,0.68,2.6469999999999998,0.61699999999999999,null,"Residual",null,0.82,0.98,0.79600000000000004,null,"Residual",null,0.43,0.70399999999999996,0.82799999999999996,null,"Residual",null,0.96899999999999997,1.083,1.077,null,"Residual",null,0.58399999999999996,0.66900000000000004,0.63200000000000001,null,"Residual",null,0.80400000000000005,0.83099999999999996,0.82499999999999996,null,"Residual",null,0.90800000000000003,0.68400000000000005,0.79600000000000004,null,"Residual",null,0.40500000000000003,0.33600000000000002,0.57499999999999996,null,"Residual",null,0.29799999999999999,0.308,0.53,null,"Residual",null,0.59199999999999997,0.72699999999999998,0.94299999999999995,null,"Residual",null,0.80100000000000005,0.86699999999999999,1.0960000000000001]
["Mode",null,1072.316,919.88900000000001,921.82899999999995,null,"Mode",null,273.47899999999998,269.81599999999997,290.22800000000001,null,"Mode",null,261.34399999999999,229.96299999999999,233.61500000000001,null,null,"Mode",null,229.96299999999999,221.262,233.61500000000001,null,"Mode",null,997.26599999999996,958.45500000000004,926.88800000000003,null,"Mode",null,734.53,875.04,960.75,null,"Mode",null,775.30100000000004,688.12,818.45,null,"Mode",null,849.79100000000005,745.91899999999998,776.35900000000004,null,"Mode",null,293.56200000000001,298.97800000000001,315.803,null,"Mode",null,880.28599999999994,945.95399999999995,915.75800000000004,null,"Mode",null,516.952,529.65800000000002,627.03899999999999,null,"Mode",null,291.26499999999999,313.01,315.935,null,"Mode",null,918.548,995.47400000000005,926.74199999999996,null,"Mode",null,1015.044,789.774,907.63400000000001]
["Skewness",null,0.71799999999999997,0.84399999999999997,0.67300000000000004,null,"Skewness",null,1.0609999999999999,1.593,1.762,null,"Skewness",null,2.4569999999999999,3.9279999999999999,0.749,null,null,"Skewness",null,3.9279999999999999,0.83399999999999996,0.749,null,"Skewness",null,0.32800000000000001,0.28699999999999998,0.432,null,"Skewness",null,0.60199999999999998,0.41,0.36,null,"Skewness",null,0.63600000000000001,0.78700000000000003,0.498,null,"Skewness",null,0.51400000000000001,0.68100000000000005,0.63200000000000001,null,"Skewness",null,1.6910000000000001,1.528,1.407,null,"Skewness",null,0.57699999999999996,0.51800000000000002,0.54700000000000004,null,"Skewness",null,1.071,1.03,0.85099999999999998,null,"Skewness",null,1.806,1.806,1.64,null,"Skewness",null,0.86199999999999999,0.83399999999999996,0.69899999999999995,null,"Skewness",null,0.59499999999999997,0.67700000000000005,0.60799999999999998]
["Kurtosis",null,-0.56799999999999995,-0.20699999999999999,-0.46500000000000002,null,"Kurtosis",null,1.675,6.9340000000000002,5.6319999999999997,null,"Kurtosis",null,9.4009999999999998,36.286000000000001,0.625,null,null,"Kurtosis",null,36.286000000000001,0.307,0.625,null,"Kurtosis",null,-0.78700000000000003,-0.65100000000000002,-0.71,null,"Kurtosis",null,-0.13700000000000001,-0.41699999999999998,-0.55400000000000005,null,"Kurtosis",null,-0.192,0.17599999999999999,-0.317,null,"Kurtosis",null,-0.379,-8.2000000000000003E-2,-0.152,null,"Kurtosis",null,3.1949999999999998,2.2709999999999999,1.7769999999999999,null,"Kurtosis",null,-0.42099999999999999,-0.55200000000000005,-0.48899999999999999,null,"Kurtosis",null,0.94099999999999995,0.81599999999999995,0.38600000000000001,null,"Kurtosis",null,4.7039999999999997,4.6159999999999997,3.141,null,"Kurtosis",null,-0.15,-0.30599999999999999,-0.42099999999999999,null,"Kurtosis",null,-0.629,-0.20399999999999999,-0.46899999999999997]
["d (0.1)",null,130.52699999999999,87.616,97.673000000000002,null,"d (0.1)",null,148.845,146.22499999999999,159.864,null,"d (0.1)",null,147.828,133.583,138.32300000000001,null,null,"d (0.1)",null,133.583,130.29,138.32300000000001,null,"d (0.1)",null,88.433999999999997,109.782,54.774000000000001,null,"d (0.1)",null,139.34299999999999,215.27,215.8,null,"d (0.1)",null,171.04300000000001,146.11000000000001,184.41,null,"d (0.1)",null,220.05,233.28100000000001,300.49700000000001,null,"d (0.1)",null,130.477,138.084,147.27099999999999,null,"d (0.1)",null,178.149,156.971,166.86,null,"d (0.1)",null,184.24299999999999,158.01599999999999,182.67400000000001,null,"d (0.1)",null,126.14700000000001,134.58600000000001,164.76599999999999,null,"d (0.1)",null,138.864,125.392,136.38499999999999,null,"d (0.1)",null,121.404,152.071,137.078]
["d (0.5)",null,508.154,424.733,532.38900000000001,null,"d (0.5)",null,275.37900000000002,268.04399999999998,297.51400000000001,null,"d (0.5)",null,276.41699999999997,227.82900000000001,232.511,null,null,"d (0.5)",null,227.82900000000001,221.792,232.511,null,"d (0.5)",null,707.61500000000001,736.93600000000004,642.63300000000004,null,"d (0.5)",null,609.95899999999995,723.11099999999999,747.71400000000006,null,"d (0.5)",null,628.846,553.221,693.20699999999999,null,"d (0.5)",null,715.98299999999995,658.173,709.59699999999998,null,"d (0.5)",null,321.83199999999999,339.95699999999999,366.71800000000002,null,"d (0.5)",null,652.63300000000004,661.77800000000002,657.05600000000004,null,"d (0.5)",null,480.75700000000001,471.48899999999998,546.53499999999997,null,"d (0.5)",null,300.24700000000001,319.05799999999999,351.233,null,"d (0.5)",null,475.774,442.334,553.56500000000005,null,"d (0.5)",null,583.11800000000005,593.96600000000001,601.57899999999995]
["d (0.9)",null,1375.412,1268.742,1320.3,null,"d (0.9)",null,508.21300000000002,478.98399999999998,575.54399999999998,null,"d (0.9)",null,574.81200000000001,381.52600000000001,386.53699999999998,null,null,"d (0.9)",null,381.52600000000001,377.81400000000002,386.53699999999998,null,"d (0.9)",null,1421.038,1428.422,1368.6379999999999,null,"d (0.9)",null,1283.2950000000001,1401.0360000000001,1433.4079999999999,null,"d (0.9)",null,1303.125,1199.0719999999999,1348.183,null,"d (0.9)",null,1382.7560000000001,1315.6990000000001,1361.0440000000001,null,"d (0.9)",null,867.60400000000004,956.02300000000002,1008.601,null,"d (0.9)",null,1372.7059999999999,1386.721,1379.86,null,"d (0.9)",null,1088.5350000000001,1091.9590000000001,1172.8209999999999,null,"d (0.9)",null,712.21600000000001,739.2,848.97799999999995,null,"d (0.9)",null,1290.595,1314.4179999999999,1326.942,null,"d (0.9)",null,1379.873,1293.6849999999999,1341.338]
["Specific surface area",null,2.1100000000000001E-2,0.14099999999999999,0.11799999999999999,null,"Specific surface area",null,4.3099999999999999E-2,7.0599999999999996E-2,3.56E-2,null,"Specific surface area",null,2.5600000000000001E-2,5.8400000000000001E-2,3.9699999999999999E-2,null,null,"Specific surface area",null,5.8400000000000001E-2,2.93E-2,3.9699999999999999E-2,null,"Specific surface area",null,0.16400000000000001,0.13400000000000001,0.19900000000000001,null,"Specific surface area",null,8.1600000000000006E-2,4.7500000000000001E-2,4.7600000000000003E-2,null,"Specific surface area",null,2.5000000000000001E-2,4.1599999999999998E-2,2.46E-2,null,"Specific surface area",null,1.26E-2,1.29E-2,1.1299999999999999E-2,null,"Specific surface area",null,6.8199999999999997E-2,5.3400000000000003E-2,4.1200000000000001E-2,null,"Specific surface area",null,2.4500000000000001E-2,3.1199999999999999E-2,2.7900000000000001E-2,null,"Specific surface area",null,3.7600000000000001E-2,8.1000000000000003E-2,5.0999999999999997E-2,null,"Specific surface area",null,0.105,0.123,2.53E-2,null,"Specific surface area",null,2.9100000000000001E-2,4.4900000000000002E-2,3.2000000000000001E-2,null,"Specific surface area",null,8.72E-2,4.7E-2,7.22E-2]
["Result Below 6.000 µm",null,0,2.8679999999999999,2.4239999999999999,null,"Result Below 6.000 µm",null,0.81399999999999995,1.37,0.59,null,"Result Below 6.000 µm",null,8.7999999999999995E-2,1.0820000000000001,0.65200000000000002,null,null,"Result Below 6.000 µm",null,1.0820000000000001,0,0.65200000000000002,null,"Result Below 6.000 µm",null,3.444,2.8210000000000002,4.1849999999999996,null,"Result Below 6.000 µm",null,2.0059999999999998,1.2310000000000001,1.282,null,"Result Below 6.000 µm",null,0.40600000000000003,0.92100000000000004,0.44600000000000001,null,"Result Below 6.000 µm",null,0,0,0,null,"Result Below 6.000 µm",null,1.425,1.1140000000000001,0.81899999999999995,null,"Result Below 6.000 µm",null,0.39500000000000002,0.622,0.50800000000000001,null,"Result Below 6.000 µm",null,0.77600000000000002,1.583,1.085,null,"Result Below 6.000 µm",null,1.9239999999999999,2.2930000000000001,0.25600000000000001,null,"Result Below 6.000 µm",null,0.44800000000000001,0.89400000000000002,0.57699999999999996,null,"Result Below 6.000 µm",null,1.8620000000000001,1.024,1.494]
["Result 6.00µm-63.00µm",null,0.73499999999999999,4.5640000000000001,4.0119999999999996,null,"Result 6.00µm-63.00µm",null,1.5309999999999999,1.847,1.3759999999999999,null,"Result 6.00µm-63.00µm",null,0.26500000000000001,0.192,9.9000000000000005E-2,null,null,"Result 6.00µm-63.00µm",null,0.192,0,9.9000000000000005E-2,null,"Result 6.00µm-63.00µm",null,4.8490000000000002,4.1269999999999998,6.3760000000000003,null,"Result 6.00µm-63.00µm",null,4.4480000000000004,3.145,2.9529999999999998,null,"Result 6.00µm-63.00µm",null,1.302,2.052,1.2789999999999999,null,"Result 6.00µm-63.00µm",null,8.0000000000000002E-3,8.0000000000000002E-3,5.0000000000000001E-3,null,"Result 6.00µm-63.00µm",null,2.6360000000000001,2.3660000000000001,2.0310000000000001,null,"Result 6.00µm-63.00µm",null,1.3720000000000001,1.7310000000000001,1.552,null,"Result 6.00µm-63.00µm",null,1.3779999999999999,1.9610000000000001,1.528,null,"Result 6.00µm-63.00µm",null,2.8069999999999999,2.903,0.89500000000000002,null,"Result 6.00µm-63.00µm",null,0.98099999999999998,1.5920000000000001,1.248,null,"Result 6.00µm-63.00µm",null,2.66,1.488,1.7250000000000001]
["Result 63.00µm-2000.00µm",null,99.265000000000001,92.567999999999998,93.563000000000002,null,"Result 63.00µm-2000.00µm",null,97.653999999999996,96.783000000000001,98.034000000000006,null,"Result 63.00µm-2000.00µm",null,99.647000000000006,98.725999999999999,99.248999999999995,null,null,"Result 63.00µm-2000.00µm",null,98.725999999999999,100,99.248999999999995,null,"Result 63.00µm-2000.00µm",null,91.706999999999994,93.052000000000007,89.44,null,"Result 63.00µm-2000.00µm",null,93.546000000000006,95.623000000000005,95.765000000000001,null,"Result 63.00µm-2000.00µm",null,98.290999999999997,97.028000000000006,98.275000000000006,null,"Result 63.00µm-2000.00µm",null,99.992000000000004,99.992000000000004,99.995000000000005,null,"Result 63.00µm-2000.00µm",null,95.938999999999993,96.519000000000005,97.15,null,"Result 63.00µm-2000.00µm",null,98.231999999999999,97.647000000000006,97.94,null,"Result 63.00µm-2000.00µm",null,97.846000000000004,96.456999999999994,97.388000000000005,null,"Result 63.00µm-2000.00µm",null,95.269000000000005,94.804000000000002,98.85,null,"Result 63.00µm-2000.00µm",null,98.570999999999998,97.513999999999996,98.174999999999997,null,"Result 63.00µm-2000.00µm",null,95.477000000000004,97.488,96.781000000000006]
["Result 63.00µm-125.00µm",null,8.1539999999999999,9.0579999999999998,7.8970000000000002,null,"Result 63.00µm-125.00µm",null,2.9119999999999999,2.6890000000000001,1.9219999999999999,null,"Result 63.00µm-125.00µm",null,4.2350000000000003,6.13,5.3019999999999996,null,null,"Result 63.00µm-125.00µm",null,6.13,8.1419999999999995,5.3019999999999996,null,"Result 63.00µm-125.00µm",null,5.0599999999999996,4.1180000000000003,6.577,null,"Result 63.00µm-125.00µm",null,2.8330000000000002,2.0310000000000001,1.5029999999999999,null,"Result 63.00µm-125.00µm",null,3.948,4.7279999999999998,3.5339999999999998,null,"Result 63.00µm-125.00µm",null,2.9689999999999999,2.5750000000000002,1.6180000000000001,null,"Result 63.00µm-125.00µm",null,5.0469999999999997,4.47,3.879,null,"Result 63.00µm-125.00µm",null,3.5190000000000001,4.3710000000000004,3.9449999999999998,null,"Result 63.00µm-125.00µm",null,2.2650000000000001,3.3340000000000001,2.8849999999999998,null,"Result 63.00µm-125.00µm",null,5.0730000000000004,3.448,2.407,null,"Result 63.00µm-125.00µm",null,6.1340000000000003,7.4359999999999999,6.2480000000000002,null,"Result 63.00µm-125.00µm",null,5.9779999999999998,4.4870000000000001,5.2050000000000001]
["Result 125.00µm-250.00µm",null,22.443000000000001,20.129000000000001,17.283999999999999,null,"Result 125.00µm-250.00µm",null,36.817,38.113999999999997,32.369999999999997,null,"Result 125.00µm-250.00µm",null,37.823,51.335000000000001,50.881999999999998,null,null,"Result 125.00µm-250.00µm",null,51.335000000000001,52.65,50.881999999999998,null,"Result 125.00µm-250.00µm",null,10.218999999999999,6.5039999999999996,11.117000000000001,null,"Result 125.00µm-250.00µm",null,7.3760000000000003,5.2750000000000004,6.2939999999999996,null,"Result 125.00µm-250.00µm",null,11.069000000000001,12.849,8.9760000000000009,null,"Result 125.00µm-250.00µm",null,8.907,8.5879999999999992,5.3550000000000004,null,"Result 125.00µm-250.00µm",null,26.888000000000002,25.484999999999999,23.405000000000001,null,"Result 125.00µm-250.00µm",null,11.079000000000001,12.208,11.643000000000001,null,"Result 125.00µm-250.00µm",null,14.14,14.37,10.897,null,"Result 125.00µm-250.00µm",null,29.161999999999999,26.497,25.789000000000001,null,"Result 125.00µm-250.00µm",null,21.6,23.466999999999999,19.620999999999999,null,"Result 125.00µm-250.00µm",null,17.027000000000001,13.253,15.545]
["Result 250.00µm-500.00µm",null,18.254000000000001,17.707000000000001,16.413,null,"Result 250.00µm-500.00µm",null,47.29,47.613,48.225000000000001,null,"Result 250.00µm-500.00µm",null,43.005000000000003,39.481000000000002,41.371000000000002,null,null,"Result 250.00µm-500.00µm",null,39.481000000000002,37.866999999999997,41.371000000000002,null,"Result 250.00µm-500.00µm",null,12.734999999999999,13.898999999999999,12.273999999999999,null,"Result 250.00µm-500.00µm",null,22.678999999999998,18.292999999999999,17.774000000000001,null,"Result 250.00µm-500.00µm",null,21.327999999999999,24.172999999999998,17.747,null,"Result 250.00µm-500.00µm",null,18.321000000000002,22.698,21.241,null,"Result 250.00µm-500.00µm",null,35.993000000000002,35.298000000000002,34.863,null,"Result 250.00µm-500.00µm",null,21.021999999999998,18.974,19.998000000000001,null,"Result 250.00µm-500.00µm",null,33.679000000000002,31.966999999999999,28.495999999999999,null,"Result 250.00µm-500.00µm",null,38.677,40.374000000000002,40.515999999999998,null,"Result 250.00µm-500.00µm",null,22.446000000000002,19.725000000000001,18.940000000000001,null,"Result 250.00µm-500.00µm",null,17.692,21.65,18.902000000000001]
["Result 500.00µm-1000.00µm",null,25.454999999999998,26.193000000000001,29.521999999999998,null,"Result 500.00µm-1000.00µm",null,10.563000000000001,8.0690000000000008,14.506,null,"Result 500.00µm-1000.00µm",null,12.852,1.3779999999999999,1.6950000000000001,null,null,"Result 500.00µm-1000.00µm",null,1.3779999999999999,1.341,1.6950000000000001,null,"Result 500.00µm-1000.00µm",null,33.728000000000002,37.749000000000002,33.362000000000002,null,"Result 500.00µm-1000.00µm",null,39.167000000000002,41.027000000000001,38.869999999999997,null,"Result 500.00µm-1000.00µm",null,39.253,37.826000000000001,42.05,null,"Result 500.00µm-1000.00µm",null,41.780999999999999,42.543999999999997,45.063000000000002,null,"Result 500.00µm-1000.00µm",null,21.053999999999998,22.338000000000001,24.773,null,"Result 500.00µm-1000.00µm",null,36.537999999999997,34.924999999999997,35.731000000000002,null,"Result 500.00µm-1000.00µm",null,34.814999999999998,33.813000000000002,38.726999999999997,null,"Result 500.00µm-1000.00µm",null,18.904,20.311,23.951000000000001,null,"Result 500.00µm-1000.00µm",null,27.878,25.291,30.321999999999999,null,"Result 500.00µm-1000.00µm",null,28.965,36.323999999999998,32.932000000000002]
["Result 1000.00µm-2000.00µm",null,24.959,19.481000000000002,22.448,null,"Result 1000.00µm-2000.00µm",null,7.1999999999999995E-2,0.29799999999999999,1.0109999999999999,null,"Result 1000.00µm-2000.00µm",null,1.7330000000000001,0.40200000000000002,0,null,null,"Result 1000.00µm-2000.00µm",null,0.40200000000000002,0,0,null,"Result 1000.00µm-2000.00µm",null,29.965,30.782,26.11,null,"Result 1000.00µm-2000.00µm",null,21.491,28.995999999999999,31.324000000000002,null,"Result 1000.00µm-2000.00µm",null,22.692,17.451000000000001,25.968,null,"Result 1000.00µm-2000.00µm",null,28.013999999999999,23.588000000000001,26.718,null,"Result 1000.00µm-2000.00µm",null,6.9569999999999999,8.9290000000000003,10.228999999999999,null,"Result 1000.00µm-2000.00µm",null,26.074999999999999,27.169,26.622,null,"Result 1000.00µm-2000.00µm",null,12.946,12.972,16.382999999999999,null,"Result 1000.00µm-2000.00µm",null,3.4529999999999998,4.173,6.1870000000000003,null,"Result 1000.00µm-2000.00µm",null,20.512,21.594999999999999,23.044,null,"Result 1000.00µm-2000.00µm",null,25.815000000000001,21.773,24.196000000000002]
["Result Between User Sizes (Sizes in um)",0.01,null,null,null,null,"Result Between User Sizes (Sizes in um)",0.01,null,null,null,null,"Result Between User Sizes (Sizes in um)",0.01,null,null,null,null,null,"Result Between User Sizes (Sizes in um)",0.01,null,null,null,null,"Result Between User Sizes (Sizes in um)",0.01,null,null,null,null,"Result Between User Sizes (Sizes in um)",0.01,null,null,null,null,"Result Between User Sizes (Sizes in um)",0.01,null,null,null,null,"Result Between User Sizes (Sizes in um)",0.01,null,null,null,null,"Result Between User Sizes (Sizes in um)",0.01,null,null,null,null,"Result Between User Sizes (Sizes in um)",0.01,null,null,null,null,"Result Between User Sizes (Sizes in um)",0.01,null,null,null,null,"Result Between User Sizes (Sizes in um)",0.01,null,null,null,null,"Result Between User Sizes (Sizes in um)",0.01,null,null,null,null,"Result Between User Sizes (Sizes in um)",0.01,null,null,null,null,null,null,"Result Between User Sizes (Sizes in um)",4415,4416,4417,"4417a",4418,4419,4420,4421,4422,4424,4425,4426,4427,"4427a"]
[null,1.1481999999999999E-2,0,0,0,null,null,1.1481999999999999E-2,0,0,0,null,null,1.1481999999999999E-2,0,0,0,null,null,null,1.1481999999999999E-2,0,0,0,null,null,1.1481999999999999E-2,0,0,0,null,null,1.1481999999999999E-2,0,0,0,null,null,1.1481999999999999E-2,0,0,0,null,null,1.1481999999999999E-2,0,0,0,null,null,1.1481999999999999E-2,0,0,0,null,null,1.1481999999999999E-2,0,0,0,null,null,1.1481999999999999E-2,0,0,0,null,null,1.1481999999999999E-2,0,0,0,null,null,1.1481999999999999E-2,0,0,0,null,null,1.1481999999999999E-2,0,0,0,null,null,null,1.1481999999999999E-2,{"$f":"AVERAGE(C22:E22)","v":0},{"$f":"AVERAGE(I22:K22)","v":0},{"$f":"AVERAGE(O22:Q22)","v":0},{"$f":"AVERAGE(V22:X22)","v":0},{"$f":"AVERAGE(AB22:AD22)","v":0},{"$f":"AVERAGE(AH22:AJ22)","v":0},{"$f":"AVERAGE(AN22:AP22)","v":0},{"$f":"AVERAGE(AT22:AV22)","v":0},{"$f":"AVERAGE(AZ22:BB22)","v":0},{"$f":"AVERAGE(BF22:BH22)","v":0},{"$f":"AVERAGE(BL22:BN22)","v":0},{"$f":"AVERAGE(BR22:BT22)","v":0},{"$f":"AVERAGE(BX22:BZ22)","v":0},{"$f":"AVERAGE(CD22:CF22)","v":0}]
[null,1.3183E-2,0,0,0,null,null,1.3183E-2,0,0,0,null,null,1.3183E-2,0,0,0,null,null,null,1.3183E-2,0,0,0,null,null,1.3183E-2,0,0,0,null,null,1.3183E-2,0,0,0,null,null,1.3183E-2,0,0,0,null,null,1.3183E-2,0,0,0,null,null,1.3183E-2,0,0,0,null,null,1.3183E-2,0,0,0,null,null,1.3183E-2,0,0,0,null,null,1.3183E-2,0,0,0,null,null,1.3183E-2,0,0,0,null,null,1.3183E-2,0,0,0,null,null,null,1.3183E-2,0,0,0,0,0,0,0,0,0,0,0,0,0,{"$f":"AVERAGE(CD23:CF23)","v":0}]
[null,1.5136E-2,0,0,0,null,null,1.5136E-2,0,0,0,null,null,1.5136E-2,0,0,0,null,null,null,1.5136E-2,0,0,0,null,null,1.5136E-2,0,0,0,null,null,1.5136E-2,0,0,0,null,null,1.5136E-2,0,0,0,null,null,1.5136E-2,0,0,0,null,null,1.5136E-2,0,0,0,null,null,1.5136E-2,0,0,0,null,null,1.5136E-2,0,0,0,null,null,1.5136E-2,0,0,0,null,null,1.5136E-2,0,0,0,null,null,1.5136E-2,0,0,0,null,null,null,1.5136E-2,0,0,0,0,0,0,0,0,0,0,0,0,0,0]
[null,1.7378000000000001E-2,0,0,0,null,null,1.7378000000000001E-2,0,0,0,null,null,1.7378000000000001E-2,0,0,0,null,null,null,1.7378000000000001E-2,0,0,0,null,null,1.7378000000000001E-2,0,0,0,null,null,1.7378000000000001E-2,0,0,0,null,null,1.7378000000000001E-2,0,0,0,null,null,1.7378000000000001E-2,0,0,0,null,null,1.7378000000000001E-2,0,0,0,null,null,1.7378000000000001E-2,0,0,0,null,null,1.7378000000000001E-2,0,0,0,null,null,1.7378000000000001E-2,0,0,0,null,null,1.7378000000000001E-2,0,0,0,null,null,1.7378000000000001E-2,0,0,0,null,null,null,1.7378000000000001E-2,0,0,0,0,0,0,0,0,0,0,0,0,0,0]
[null,1.9952999999999999E-2,0,0,0,null,null,1.9952999999999999E-2,0,0,0,null,null,1.9952999999999999E-2,0,0,0,null,null,null,1.9952999999999999E-2,0,0,0,null,null,1.9952999999999999E-2,0,0,0,null,null,1.9952999999999999E-2,0,0,0,null,null,1.9952999999999999E-2,0,0,0,null,null,1.9952999999999999E-2,0,0,0,null,null,1.9952999999999999E-2,0,0,0,null,null,1.9952999999999999E-2,0,0,0,null,null,1.9952999999999999E-2,0,0,0,null,null,1.9952999999999999E-2,0,0,0,null,null,1.9952999999999999E-2,0,0,0,null,null,1.9952999999999999E-2,0,0,0,null,null,null,1.9952999999999999E-2,0,0,0,0,0,0,0,0,0,0,0,0,0,0]
[null,2.2908999999999999E-2,0,0,0,null,null,2.2908999999999999E-2,0,0,0,null,null,2.2908999999999999E-2,0,0,0,null,null,null,2.2908999999999999E-2,0,0,0,null,null,2.2908999999999999E-2,0,0,0,null,null,2.2908999999999999E-2,0,0,0,null,null,2.2908999999999999E-2,0,0,0,null,null,2.2908999999999999E-2,0,0,0,null,null,2.2908999999999999E-2,0,0,0,null,null,2.2908999999999999E-2,0,0,0,null,null,2.2908999999999999E-2,0,0,0,null,null,2.2908999999999999E-2,0,0,0,null,null,2.2908999999999999E-2,0,0,0,null,null,2.2908999999999999E-2,0,0,0,null,null,null,2.2908999999999999E-2,0,0,0,0,0,0,0,0,0,0,0,0,0,0]
[null,2.6303E-2,0,0,0,null,null,2.6303E-2,0,0,0,null,null,2.6303E-2,0,0,0,null,null,null,2.6303E-2,0,0,0,null,null,2.6303E-2,0,0,0,null,null,2.6303E-2,0,0,0,null,null,2.6303E-2,0,0,0,null,null,2.6303E-2,0,0,0,null,null,2.6303E-2,0,0,0,null,null,2.6303E-2,0,0,0,null,null,2.6303E-2,0,0,0,null,null,2.6303E-2,0,0,0,null,null,2.6303E-2,0,0,0,null,null,2.6303E-2,0,0,0,null,null,null,2.6303E-2,0,0,0,0,0,0,0,0,0,0,0,0,0,0]
[null,3.0200000000000001E-2,0,0,0,null,null,3.0200000000000001E-2,0,0,0,null,null,3.0200000000000001E-2,0,0,0,null,null,null,3.0200000000000001E-2,0,0,0,null,null,3.0200000000000001E-2,0,0,0,null,null,3.0200000000000001E-2,0,0,0,null,null,3.0200000000000001E-2,0,0,0,null,null,3.0200000000000001E-2,0,0,0,null,null,3.0200000000000001E-2,0,0,0,null,null,3.0200000000000001E-2,0,0,0,null,null,3.0200000000000001E-2,0,0,0,null,null,3.0200000000000001E-2,0,0,0,null,null,3.0200000000000001E-2,0,0,0,null,null,3.0200000000000001E-2,0,0,0,null,null,null,3.0200000000000001E-2,0,0,0,0,0,0,0,0,0,0,0,0,0,0]
[null,3.4674000000000003E-2,0,0,0,null,null,3.4674000000000003E-2,0,0,0,null,null,3.4674000000000003E-2,0,0,0,null,null,null,3.4674000000000003E-2,0,0,0,null,null,3.4674000000000003E-2,0,0,0,null,null,3.4674000000000003E-2,0,0,0,null,null,3.4674000000000003E-2,0,0,0,null,null,3.4674000000000003E-2,0,0,0,null,null,3.4674000000000003E-2,0,0,0,null,null,3.4674000000000003E-2,0,0,0,null,null,3.4674000000000003E-2,0,0,0,null,null,3.4674000000000003E-2,0,0,0,null,null,3.4674000000000003E-2,0,0,0,null,null,3.4674000000000003E-2,0,0,0,null,null,null,3.4674000000000003E-2,0,0,0,0,0,0,0,0,0,0,0,0,0,0]
[null,3.9810999999999999E-2,0,0,0,null,null,3.9810999999999999E-2,0,0,0,null,null,3.9810999999999999E-2,0,0,0,null,null,null,3.9810999999999999E-2,0,0,0,null,null,3.9810999999999999E-2,0,0,0,null,null,3.9810999999999999E-2,0,0,0,null,null,3.9810999999999999E-2,0,0,0,null,null,3.9810999999999999E-2,0,0,0,null,null,3.9810999999999999E-2,0,0,0,null,null,3.9810999999999999E-2,0,0,0,null,null,3.9810999999999999E-2,0,0,0,null,null,3.9810999999999999E-2,0,0,0,null,null,3.9810999999999999E-2,0,0,0,null,null,3.9810999999999999E-2,0,0,0,null,null,null,3.9810999999999999E-2,0,0,0,0,0,0,0,0,0,0,0,0,0,0]
[null,4.5709E-2,0,0,0,null,null,4.5709E-2,0,0,0,null,null,4.5709E-2,0,0,0,null,null,null,4.5709E-2,0,0,0,null,null,4.5709E-2,0,0,0,null,null,4.5709E-2,0,0,0,null,null,4.5709E-2,0,0,0,null,null,4.5709E-2,0,0,0,null,null,4.5709E-2,0,0,0,null,null,4.5709E-2,0,0,0,null,null,4.5709E-2,0,0,0,null,null,4.5709E-2,0,0,0,null,null,4.5709E-2,0,0,0,null,null,4.5709E-2,0,0,0,null,null,null,4.5709E-2,0,0,0,0,0,0,0,0,0,0,0,0,0,0]
[null,5.2481E-2,0,0,0,null,null,5.2481E-2,0,0,0,null,null,5.2481E-2,0,0,0,null,null,null,5.2481E-2,0,0,0,null,null,5.2481E-2,0,0,0,null,null,5.2481E-2,0,0,0,null,null,5.2481E-2,0,0,0,null,null,5.2481E-2,0,0,0,null,null,5.2481E-2,0,0,0,null,null,5.2481E-2,0,0,0,null,null,5.2481E-2,0,0,0,null,null,5.2481E-2,0,0,0,null,null,5.2481E-2,0,0,0,null,null,5.2481E-2,0,0,0,null,null,null,5.2481E-2,0,0,0,0,0,0,0,0,0,0,0,0,0,0]
[null,6.0255999999999997E-2,0,0,0,null,null,6.0255999999999997E-2,0,0,0,null,null,6.0255999999999997E-2,0,0,0,null,null,null,6.0255999999999997E-2,0,0,0,null,null,6.0255999999999997E-2,0,0,0,null,null,6.0255999999999997E-2,0,0,0,null,null,6.0255999999999997E-2,0,0,0,null,null,6.0255999999999997E-2,0,0,0,null,null,6.0255999999999997E-2,0,0,0,null,null,6.0255999999999997E-2,0,0,0,null,null,6.0255999999999997E-2,0,0,0,null,null,6.0255999999999997E-2,0,0,0,null,null,6.0255999999999997E-2,0,0,0,null,null,6.0255999999999997E-2,0,0,0,null,null,null,6.0255999999999997E-2,0,0,0,0,0,0,0,0,0,0,0,0,0,0]
[null,6.9182999999999995E-2,0,0,0,null,null,6.9182999999999995E-2,0,0,0,null,null,6.9182999999999995E-2,0,0,0,null,null,null,6.9182999999999995E-2,0,0,0,null,null,6.9182999999999995E-2,0,0,0,null,null,6.9182999999999995E-2,0,0,0,null,null,6.9182999999999995E-2,0,0,0,null,null,6.9182999999999995E-2,0,0,0,null,null,6.9182999999999995E-2,0,0,0,null,null,6.9182999999999995E-2,0,0,0,null,null,6.9182999999999995E-2,0,0,0,null,null,6.9182999999999995E-2,0,0,0,null,null,6.9182999999999995E-2,0,0,0,null,null,6.9182999999999995E-2,0,0,0,null,null,null,6.9182999999999995E-2,0,0,0,0,0,0,0,0,0,0,0,0,0,0]
[null,7.9433000000000004E-2,0,0,0,null,null,7.9433000000000004E-2,0,0,0,null,null,7.9433000000000004E-2,0,0,0,null,null,null,7.9433000000000004E-2,0,0,0,null,null,7.9433000000000004E-2,0,0,0,null,null,7.9433000000000004E-2,0,0,0,null,null,7.9433000000000004E-2,0,0,0,null,null,7.9433000000000004E-2,0,0,0,null,null,7.9433000000000004E-2,0,0,0,null,null,7.9433000000000004E-2,0,0,0,null,null,7.9433000000000004E-2,0,0,0,null,null,7.9433000000000004E-2,0,0,0,null,null,7.9433000000000004E-2,0,0,0,null,null,7.9433000000000004E-2,0,0,0,null,null,null,7.9433000000000004E-2,0,0,0,0,0,0,0,0,0,0,0,0,0,0]
[null,9.1201000000000004E-2,0,0,0,null,null,9.1201000000000004E-2,0,0,0,null,null,9.1201000000000004E-2,0,0,0,null,null,null,9.1201000000000004E-2,0,0,0,null,null,9.1201000000000004E-2,0,0,0,null,null,9.1201000000000004E-2,0,0,0,null,null,9.1201000000000004E-2,0,0,0,null,null,9.1201000000000004E-2,0,0,0,null,null,9.1201000000000004E-2,0,0,0,null,null,9.1201000000000004E-2,0,0,0,null,null,9.1201000000000004E-2,0,0,0,null,null,9.1201000000000004E-2,0,0,0,null,null,9.1201000000000004E-2,0,0,0,null,null,9.1201000000000004E-2,0,0,0,null,null,null,9.1201000000000004E-2,0,0,0,0,0,0,0,0,0,0,0,0,0,0]
[null,0.104713,0,0,0,null,null,0.104713,0,0,0,null,null,0.104713,0,0,0,null,null,null,0.104713,0,0,0,null,null,0.104713,0,0,0,null,null,0.104713,0,0,0,null,null,0.104713,0,0,0,null,null,0.104713,0,0,0,null,null,0.104713,0,0,0,null,null,0.104713,0,0,0,null,null,0.104713,0,0,0,null,null,0.104713,0,0,0,null,null,0.104713,0,0,0,null,null,0.104713,0,0,0,null,null,null,0.104713,0,0,0,0,0,0,0,0,0,0,0,0,0,0]
[null,0.120226,0,0,0,null,null,0.120226,0,0,0,null,null,0.120226,0,0,0,null,null,null,0.120226,0,0,0,null,null,0.120226,0,0,0,null,null,0.120226,0,0,0,null,null,0.120226,0,0,0,null,null,0.120226,0,0,0,null,null,0.120226,0,0,0,null,null,0.120226,0,0,0,null,null,0.120226,0,0,0,null,null,0.120226,0,0,0,null,null,0.120226,0,0,0,null,null,0.120226,0,0,0,null,null,null,0.120226,0,0,0,0,0,0,0,0,0,0,0,0,0,0]
[null,0.13803799999999999,0,0,0,null,null,0.13803799999999999,0,0,0,null,null,0.13803799999999999,0,0,0,null,null,null,0.13803799999999999,0,0,0,null,null,0.13803799999999999,0,0,0,null,null,0.13803799999999999,0,0,0,null,null,0.13803799999999999,0,0,0,null,null,0.13803799999999999,0,0,0,null,null,0.13803799999999999,0,0,0,null,null,0.13803799999999999,0,0,0,null,null,0.13803799999999999,0,0,0,null,null,0.13803799999999999,0,0,0,null,null,0.13803799999999999,0,0,0,null,null,0.13803799999999999,0,0,0,null,null,null,0.13803799999999999,0,0,0,0,0,0,0,0,0,0,0,0,0,0]
[null,0.15848899999999999,0,0,0,null,null,0.15848899999999999,0,0,0,null,null,0.15848899999999999,0,0,0,null,null,null,0.15848899999999999,0,0,0,null,null,0.15848899999999999,0,0,0,null,null,0.15848899999999999,0,0,0,null,null,0.15848899999999999,0,0,0,null,null,0.15848899999999999,0,0,0,null,null,0.15848899999999999,0,0,0,null,null,0.15848899999999999,0,0,0,null,null,0.15848899999999999,0,0,0,null,null,0.15848899999999999,0,0,0,null,null,0.15848899999999999,0,0,0,null,null,0.15848899999999999,0,0,0,null,null,null,0.15848899999999999,0,0,0,0,0,0,0,0,0,0,0,0,0,0]
[null,0.18196999999999999,0,0,0,null,null,0.18196999999999999,0,0,0,null,null,0.18196999999999999,0,0,0,null,null,null,0.18196999999999999,0,0,0,null,null,0.18196999999999999,0,0,0,null,null,0.18196999999999999,0,0,0,null,null,0.18196999999999999,0,0,0,null,null,0.18196999999999999,0,0,0,null,null,0.18196999999999999,0,0,0,null,null,0.18196999999999999,0,0,0,null,null,0.18196999999999999,0,0,0,null,null,0.18196999999999999,0,0,0,null,null,0.18196999999999999,0,0,0,null,null,0.18196999999999999,0,0,0,null,null,null,0.18196999999999999,0,0,0,0,0,0,0,0,0,0,0,0,0,0]
[null,0.20893,0,0,0,null,null,0.20893,0,0,0,null,null,0.20893,0,0,0,null,null,null,0.20893,0,0,0,null,null,0.20893,0,0,0,null,null,0.20893,0,0,0,null,null,0.20893,0,0,0,null,null,0.20893,0,0,0,null,null,0.20893,0,0,0,null,null,0.20893,0,0,0,null,null,0.20893,0,0,0,null,null,0.20893,0,0,0,null,null,0.20893,0,0,0,null,null,0.20893,0,0,0,null,null,null,0.20893,0,0,0,0,0,0,0,0,0,0,0,0,0,0]
[null,0.23988300000000001,0,0,0,null,null,0.23988300000000001,0,0,0,null,null,0.23988300000000001,0,0,0,null,null,null,0.23988300000000001,0,0,0,null,null,0.23988300000000001,0,0,0,null,null,0.23988300000000001,0,0,0,null,null,0.23988300000000001,0,0,0,null,null,0.23988300000000001,0,0,0,null,null,0.23988300000000001,0,0,0,null,null,0.23988300000000001,0,0,0,null,null,0.23988300000000001,0,0,0,null,null,0.23988300000000001,0,0,0,null,null,0.23988300000000001,0,0,0,null,null,0.23988300000000001,0,0,0,null,null,null,0.23988300000000001,0,0,0,0,0,0,0,0,0,0,0,0,0,0]
[null,0.27542299999999997,0,0,0,null,null,0.27542299999999997,0,0,0,null,null,0.27542299999999997,0,0,0,null,null,null,0.27542299999999997,0,0,0,null,null,0.27542299999999997,0,0,0,null,null,0.27542299999999997,0,0,0,null,null,0.27542299999999997,0,0,0,null,null,0.27542299999999997,0,0,0,null,null,0.27542299999999997,0,0,0,null,null,0.27542299999999997,0,0,0,null,null,0.27542299999999997,0,0,0,null,null,0.27542299999999997,0,0,0,null,null,0.27542299999999997,0,0,0,null,null,0.27542299999999997,0,0,0,null,null,null,0.27542299999999997,0,0,0,0,0,0,0,0,0,0,0,0,0,0]
[null,0.31622800000000001,0,0,0,null,null,0.31622800000000001,0,0,0,null,null,0.31622800000000001,0,0,0,null,null,null,0.31622800000000001,0,0,0,null,null,0.31622800000000001,0,0,0,null,null,0.31622800000000001,0,0,0,null,null,0.31622800000000001,0,0,0,null,null,0.31622800000000001,0,0,0,null,null,0.31622800000000001,0,0,0,null,null,0.31622800000000001,0,0,0,null,null,0.31622800000000001,0,0,0,null,null,0.31622800000000001,0,0,0,null,null,0.31622800000000001,0,0,0,null,null,0.31622800000000001,0,0,0,null,null,null,0.31622800000000001,0,0,0,0,0,0,0,0,0,0,0,0,0,0]
[null,0.36307800000000001,0,0,0,null,null,0.36307800000000001,0,0,0,null,null,0.36307800000000001,0,0,0,null,null,null,0.36307800000000001,0,0,0,null,null,0.36307800000000001,0,0,0,null,null,0.36307800000000001,0,0,0,null,null,0.36307800000000001,0,0,0,null,null,0.36307800000000001,0,0,0,null,null,0.36307800000000001,0,0,0,null,null,0.36307800000000001,0,0,0,null,null,0.36307800000000001,0,0,0,null,null,0.36307800000000001,0,0,0,null,null,0.36307800000000001,0,0,0,null,null,0.36307800000000001,0,0,0,null,null,null,0.36307800000000001,0,0,0,0,0,0,0,0,0,0,0,0,0,0]
[null,0.41686899999999999,0,0,0,null,null,0.41686899999999999,0,0,0,null,null,0.41686899999999999,0,0,0,null,null,null,0.41686899999999999,0,0,0,null,null,0.41686899999999999,0,0,0,null,null,0.41686899999999999,0,0,0,null,null,0.41686899999999999,0,0,0,null,null,0.41686899999999999,0,0,0,null,null,0.41686899999999999,0,0,0,null,null,0.41686899999999999,0,0,0,null,null,0.41686899999999999,0,0,0,null,null,0.41686899999999999,0,0,0,null,null,0.41686899999999999,0,0,0,null,null,0.41686899999999999,0,0,0,null,null,null,0.41686899999999999,0,0,0,0,0,0,0,0,0,0,0,0,0,0]
[null,0.47863,0,3.0256000000000002E-2,1.8380000000000001E-2,null,null,0.47863,0,0,0,null,null,0.47863,0,0,0,null,null,null,0.47863,0,0,0,null,null,0.47863,5.6189999999999997E-2,3.7356E-2,8.2335000000000005E-2,null,null,0.47863,0,0,0,null,null,0.47863,0,0,0,null,null,0.47863,0,0,0,null,null,0.47863,0,0,0,null,null,0.47863,0,0,0,null,null,0.47863,0,0,0,null,null,0.47863,1.7770000000000001E-2,2.2036E-2,0,null,null,0.47863,0,0,0,null,null,0.47863,0,0,0,null,null,null,0.47863,1.6212000000000001E-2,0,0,0,5.8627000000000005E-2,0,0,0,0,0,0,1.3268666666666666E-2,0,0]
[null,0.54954099999999995,0,5.9621E-2,4.4208999999999998E-2,null,null,0.54954099999999995,0,0,0,null,null,0.54954099999999995,0,0,0,null,null,null,0.54954099999999995,0,0,0,null,null,0.54954099999999995,9.6632999999999997E-2,7.4452000000000004E-2,0.112327,null,null,0.54954099999999995,1.7655000000000001E-2,0,0,null,null,0.54954099999999995,0,0,0,null,null,0.54954099999999995,0,0,0,null,null,0.54954099999999995,0,0,0,null,null,0.54954099999999995,0,0,0,null,null,0.54954099999999995,0,1.6371E-2,0,null,null,0.54954099999999995,4.0495999999999997E-2,7.2181999999999996E-2,0,null,null,0.54954099999999995,0,0,0,null,null,0.54954099999999995,0,0,1.6892999999999998E-2,null,null,null,0.54954099999999995,3.4610000000000002E-2,0,0,0,9.4470666666666661E-2,5.8850000000000005E-3,0,0,0,0,5.457E-3,3.7559333333333333E-2,0,5.6309999999999997E-3]
[null,0.63095699999999999,0,9.0347999999999998E-2,7.3261999999999994E-2,null,null,0.63095699999999999,0,0,0,null,null,0.63095699999999999,0,1.5703000000000002E-2,0,null,null,null,0.63095699999999999,1.5703000000000002E-2,0,0,null,null,0.63095699999999999,0.118424,9.3044000000000002E-2,0.138544,null,null,0.63095699999999999,2.5562000000000001E-2,0,0,null,null,0.63095699999999999,0,0,0,null,null,0.63095699999999999,0,0,0,null,null,0.63095699999999999,0,0,0,null,null,0.63095699999999999,0,0,0,null,null,0.63095699999999999,0,3.9208E-2,0,null,null,0.63095699999999999,6.9415000000000004E-2,8.9821999999999999E-2,0,null,null,0.63095699999999999,0,0,0,null,null,0.63095699999999999,3.2266999999999997E-2,0,4.0569000000000001E-2,null,null,null,0.63095699999999999,5.4536666666666657E-2,0,5.2343333333333339E-3,5.2343333333333339E-3,0.11667066666666666,8.5206666666666677E-3,0,0,0,0,1.3069333333333334E-2,5.3079000000000008E-2,0,2.4278666666666667E-2]
[null,0.72443599999999997,0,0.108169,8.6807999999999996E-2,null,null,0.72443599999999997,0,9.0639999999999991E-3,0,null,null,0.72443599999999997,0,2.2821999999999999E-2,0,null,null,null,0.72443599999999997,2.2821999999999999E-2,0,0,null,null,0.72443599999999997,0.132246,0.10555,0.15518599999999999,null,null,0.72443599999999997,2.9364999999999999E-2,0,0,null,null,0.72443599999999997,0,0,0,null,null,0.72443599999999997,0,0,0,null,null,0.72443599999999997,1.1863E-2,0,0,null,null,0.72443599999999997,0,0,0,null,null,0.72443599999999997,0,6.4824000000000007E-2,0,null,null,0.72443599999999997,8.2364999999999994E-2,0.100193,0,null,null,0.72443599999999997,0,0,0,null,null,0.72443599999999997,6.4751000000000003E-2,0,5.0034000000000002E-2,null,null,null,0.72443599999999997,6.4992333333333333E-2,3.0213333333333329E-3,7.6073333333333331E-3,7.6073333333333331E-3,0.130994,9.7883333333333329E-3,0,0,3.9543333333333331E-3,0,2.1608000000000002E-2,6.0852666666666666E-2,0,3.8261666666666666E-2]
[null,0.83176399999999995,0,0.11213099999999999,9.0607999999999994E-2,null,null,0.83176399999999995,0,5.0515999999999998E-2,0,null,null,0.83176399999999995,0,2.2023000000000001E-2,0,null,null,null,0.83176399999999995,2.2023000000000001E-2,0,0,null,null,0.83176399999999995,0.14094899999999999,0.113639,0.16573599999999999,null,null,0.83176399999999995,2.9902000000000001E-2,0,0,null,null,0.83176399999999995,0,0,0,null,null,0.83176399999999995,0,0,0,null,null,0.83176399999999995,3.6045000000000001E-2,0,0,null,null,0.83176399999999995,0,0,0,null,null,0.83176399999999995,0,7.8488000000000002E-2,7.0439999999999999E-3,null,null,0.83176399999999995,8.5685999999999998E-2,0.107145,0,null,null,0.83176399999999995,0,0,0,null,null,0.83176399999999995,7.6600000000000001E-2,1.6576E-2,5.2185000000000002E-2,null,null,null,0.83176399999999995,6.7579666666666663E-2,1.6838666666666665E-2,7.3410000000000003E-3,7.3410000000000003E-3,0.14010799999999998,9.9673333333333333E-3,0,0,1.2015E-2,0,2.8510666666666667E-2,6.4277000000000001E-2,0,4.8453666666666673E-2]
[null,0.95499299999999998,0,0.115855,9.4093999999999997E-2,null,null,0.95499299999999998,0,6.7164000000000001E-2,0,null,null,0.95499299999999998,0,2.2339000000000001E-2,0,null,null,null,0.95499299999999998,2.2339000000000001E-2,0,0,null,null,0.95499299999999998,0.14446800000000001,0.117621,0.170159,null,null,0.95499299999999998,4.2555999999999997E-2,8.4740000000000006E-3,0,null,null,0.95499299999999998,0,0,0,null,null,0.95499299999999998,0,0,0,null,null,0.95499299999999998,4.5530000000000001E-2,6.718E-3,0,null,null,0.95499299999999998,0,0,0,null,null,0.95499299999999998,0,8.0231999999999998E-2,4.3545E-2,null,null,0.95499299999999998,8.8709999999999997E-2,0.110129,0,null,null,0.95499299999999998,0,7.574E-3,0,null,null,0.95499299999999998,7.8694E-2,3.4734000000000001E-2,5.8467999999999999E-2,null,null,null,0.95499299999999998,{"$f":"AVERAGE(C54:E54)","v":6.9983000000000004E-2},{"$f":"AVERAGE(I54:K54)","v":2.2388000000000002E-2},{"$f":"AVERAGE(O54:Q54)","v":7.4463333333333334E-3},{"$f":"AVERAGE(V54:X54)","v":7.4463333333333334E-3},{"$f":"AVERAGE(AB54:AD54)","v":0.14408266666666666},{"$f":"AVERAGE(AH54:AJ54)","v":1.7010000000000001E-2},{"$f":"AVERAGE(AN54:AP54)","v":0},{"$f":"AVERAGE(AT54:AV54)","v":0},{"$f":"AVERAGE(AZ54:BB54)","v":1.7416000000000001E-2},{"$f":"AVERAGE(BF54:BH54)","v":0},{"$f":"AVERAGE(BL54:BN54)","v":4.1258999999999997E-2},{"$f":"AVERAGE(BR54:BT54)","v":6.6279666666666667E-2},{"$f":"AVERAGE(BX54:BZ54)","v":2.5246666666666668E-3},5.7298666666666664E-2]
[null,1.0964780000000001,0,0.116525,9.5115000000000005E-2,null,null,1.0964780000000001,0,6.9181000000000006E-2,0,null,null,1.0964780000000001,0,2.2488999999999999E-2,0,null,null,null,1.0964780000000001,2.2488999999999999E-2,0,0,null,null,1.0964780000000001,0.14537900000000001,0.119245,0.17164599999999999,null,null,1.0964780000000001,5.6229000000000001E-2,2.1839999999999998E-2,6.803E-3,null,null,1.0964780000000001,0,0,0,null,null,1.0964780000000001,0,0,0,null,null,1.0964780000000001,4.4225E-2,3.0789E-2,0,null,null,1.0964780000000001,0,0,0,null,null,1.0964780000000001,6.7860000000000004E-3,8.3742999999999998E-2,6.4003000000000004E-2,null,null,1.0964780000000001,8.8766999999999999E-2,0.110626,0,null,null,1.0964780000000001,0,2.1332E-2,0,null,null,1.0964780000000001,8.3040000000000003E-2,3.3207E-2,5.7778000000000003E-2,null,null,null,1.0964780000000001,7.054666666666666E-2,2.3060333333333335E-2,7.4963333333333331E-3,7.4963333333333331E-3,0.14542333333333335,2.8290666666666669E-2,0,0,2.5004666666666665E-2,0,5.151066666666667E-2,6.6464333333333334E-2,7.110666666666667E-3,5.8008333333333335E-2]
[null,1.2589250000000001,0,0.11797100000000001,9.6838999999999995E-2,null,null,1.2589250000000001,0,6.6657999999999995E-2,0,null,null,1.2589250000000001,0,1.9817000000000001E-2,0,null,null,null,1.2589250000000001,1.9817000000000001E-2,0,0,null,null,1.2589250000000001,0.146173,0.12048399999999999,0.17324000000000001,null,null,1.2589250000000001,5.5583E-2,2.1274999999999999E-2,2.0733999999999999E-2,null,null,1.2589250000000001,0,0,0,null,null,1.2589250000000001,0,0,0,null,null,1.2589250000000001,5.3239000000000002E-2,4.2627999999999999E-2,0,null,null,1.2589250000000001,0,0,0,null,null,1.2589250000000001,2.0235E-2,8.4478999999999999E-2,6.5976000000000007E-2,null,null,1.2589250000000001,8.8498999999999994E-2,0.110082,0,null,null,1.2589250000000001,0,1.6541E-2,0,null,null,1.2589250000000001,8.5729E-2,3.6296000000000002E-2,6.0735999999999998E-2,null,null,null,1.2589250000000001,7.1603333333333338E-2,2.2219333333333331E-2,6.6056666666666668E-3,6.6056666666666668E-3,0.14663233333333334,3.2530666666666666E-2,0,0,3.1955666666666667E-2,0,5.6896666666666672E-2,6.6193666666666665E-2,5.5136666666666667E-3,6.0920333333333333E-2]
[null,1.4454400000000001,0,0.121977,0.100775,null,null,1.4454400000000001,0,6.9523000000000001E-2,0,null,null,1.4454400000000001,0,2.6679000000000001E-2,0,null,null,null,1.4454400000000001,2.6679000000000001E-2,0,0,null,null,1.4454400000000001,0.149537,0.12349300000000001,0.17818200000000001,null,null,1.4454400000000001,6.1571000000000001E-2,2.2509999999999999E-2,2.4107E-2,null,null,1.4454400000000001,0,2.9281000000000001E-2,0,null,null,1.4454400000000001,0,0,0,null,null,1.4454400000000001,7.2274000000000005E-2,4.2731999999999999E-2,0,null,null,1.4454400000000001,0,0,0,null,null,1.4454400000000001,2.2707000000000001E-2,8.5112999999999994E-2,6.5139000000000002E-2,null,null,1.4454400000000001,8.8982000000000006E-2,0.110193,0,null,null,1.4454400000000001,0,2.3910000000000001E-2,0,null,null,1.4454400000000001,8.9715000000000003E-2,3.7274000000000002E-2,6.2704999999999997E-2,null,null,null,1.4454400000000001,7.4250666666666673E-2,2.3174333333333335E-2,8.8929999999999999E-3,8.8929999999999999E-3,0.15040400000000001,3.6062666666666666E-2,9.7603333333333344E-3,0,3.8335333333333332E-2,0,5.7653000000000003E-2,6.6391666666666668E-2,7.9699999999999997E-3,6.3231333333333348E-2]
[null,1.6595869999999999,0,0.13006699999999999,0.108241,null,null,1.6595869999999999,0,7.1471999999999994E-2,0,null,null,1.6595869999999999,0,4.7442999999999999E-2,0,null,null,null,1.6595869999999999,4.7442999999999999E-2,0,0,null,null,1.6595869999999999,0.15718099999999999,0.129771,0.188443,null,null,1.6595869999999999,6.7318000000000003E-2,2.8344000000000001E-2,4.7233999999999998E-2,null,null,1.6595869999999999,0,4.1225999999999999E-2,0,null,null,1.6595869999999999,0,0,0,null,null,1.6595869999999999,7.4274000000000007E-2,4.7579000000000003E-2,2.5842E-2,null,null,1.6595869999999999,0,0,0,null,null,1.6595869999999999,4.3461E-2,8.6111999999999994E-2,6.8275000000000002E-2,null,null,1.6595869999999999,9.1466000000000006E-2,0.112252,0,null,null,1.6595869999999999,0,4.1954999999999999E-2,0,null,null,1.6595869999999999,9.5335000000000003E-2,4.0516999999999997E-2,6.6693000000000002E-2,null,null,null,1.6595869999999999,7.9435999999999993E-2,2.3823999999999998E-2,1.5814333333333333E-2,1.5814333333333333E-2,0.15846499999999999,4.7632000000000001E-2,1.3741999999999999E-2,0,4.9231666666666674E-2,0,6.5949333333333332E-2,6.7906000000000008E-2,1.3984999999999999E-2,6.7515000000000006E-2]
[null,1.9054610000000001,0,0.14246400000000001,0.11951299999999999,null,null,1.9054610000000001,2.8750999999999999E-2,7.5728000000000004E-2,0,null,null,1.9054610000000001,0,4.8989999999999999E-2,0,null,null,null,1.9054610000000001,4.8989999999999999E-2,0,0,null,null,1.9054610000000001,0.16953399999999999,0.139875,0.20443800000000001,null,null,1.9054610000000001,7.9422000000000006E-2,5.0243000000000003E-2,6.9668999999999995E-2,null,null,1.9054610000000001,0,4.6101000000000003E-2,0,null,null,1.9054610000000001,0,0,0,null,null,1.9054610000000001,8.1837999999999994E-2,5.2373000000000003E-2,4.2273999999999999E-2,null,null,1.9054610000000001,0,0,0,null,null,1.9054610000000001,6.0937999999999999E-2,8.8346999999999995E-2,7.0180999999999993E-2,null,null,1.9054610000000001,9.6435000000000007E-2,0.11681900000000001,0,null,null,1.9054610000000001,0,4.5286E-2,0,null,null,1.9054610000000001,0.10306,4.4247000000000002E-2,7.1471999999999994E-2,null,null,null,1.9054610000000001,8.7325666666666676E-2,3.4826333333333334E-2,1.6330000000000001E-2,1.6330000000000001E-2,0.17128233333333331,6.6444666666666666E-2,1.5367E-2,0,5.8828333333333337E-2,0,7.3155333333333336E-2,7.1084666666666671E-2,1.5095333333333334E-2,7.2926333333333329E-2]
[null,2.1877620000000002,0,0.15798999999999999,0.13366700000000001,null,null,2.1877620000000002,7.5467999999999993E-2,8.1639000000000003E-2,0,null,null,2.1877620000000002,0,7.8036999999999995E-2,2.3167E-2,null,null,null,2.1877620000000002,7.8036999999999995E-2,0,2.3167E-2,null,null,2.1877620000000002,0.18543200000000001,0.153055,0.22466800000000001,null,null,2.1877620000000002,0.112443,7.7781000000000003E-2,8.0043000000000003E-2,null,null,2.1877620000000002,0,7.0513999999999993E-2,0,null,null,2.1877620000000002,0,0,0,null,null,2.1877620000000002,9.0457999999999997E-2,7.8280000000000002E-2,6.4568E-2,null,null,2.1877620000000002,0,5.8464000000000002E-2,2.9314E-2,null,null,2.1877620000000002,6.2965999999999994E-2,9.2006000000000004E-2,7.3264999999999997E-2,null,null,2.1877620000000002,0.103573,0.12352200000000001,0,null,null,2.1877620000000002,0,5.1319999999999998E-2,2.1382999999999999E-2,null,null,2.1877620000000002,0.11237900000000001,7.5408000000000003E-2,7.8133999999999995E-2,null,null,null,2.1877620000000002,9.7219E-2,5.2368999999999999E-2,3.3734666666666663E-2,3.3734666666666663E-2,0.18771833333333332,9.0089000000000016E-2,2.3504666666666663E-2,0,7.7768666666666666E-2,2.9259333333333332E-2,7.6078999999999994E-2,7.5698333333333326E-2,2.423433333333333E-2,8.8640333333333335E-2]
[null,2.5118860000000001,0,0.175008,0.14933399999999999,null,null,2.5118860000000001,8.0930000000000002E-2,8.8925000000000004E-2,6.1906999999999997E-2,null,null,2.5118860000000001,0,8.5777999999999993E-2,7.0983000000000004E-2,null,null,null,2.5118860000000001,8.5777999999999993E-2,0,7.0983000000000004E-2,null,null,2.5118860000000001,0.20318800000000001,0.167985,0.247118,null,null,2.5118860000000001,0.132021,9.1366000000000003E-2,9.3826000000000007E-2,null,null,2.5118860000000001,1.7957999999999998E-2,7.9533999999999994E-2,1.8700000000000001E-2,null,null,2.5118860000000001,0,0,0,null,null,2.5118860000000001,0.100399,8.7494000000000002E-2,7.2339000000000001E-2,null,null,2.5118860000000001,0,6.1960000000000001E-2,2.989E-2,null,null,2.5118860000000001,6.6843E-2,9.6782000000000007E-2,7.7114000000000002E-2,null,null,2.5118860000000001,0.11211500000000001,0.13150600000000001,0,null,null,2.5118860000000001,1.6632000000000001E-2,5.7231999999999998E-2,4.2404999999999998E-2,null,null,2.5118860000000001,0.122443,8.2554000000000002E-2,0.102954,null,null,null,2.5118860000000001,0.108114,7.7254000000000003E-2,5.2253666666666664E-2,5.2253666666666664E-2,0.20609699999999997,0.10573766666666667,3.8730666666666663E-2,0,8.6744000000000002E-2,3.0616666666666667E-2,8.024633333333335E-2,8.1207000000000015E-2,3.875633333333333E-2,0.10265033333333333]
[null,2.8840309999999998,0,0.191862,0.16503100000000001,null,null,2.8840309999999998,8.9349999999999999E-2,9.6961000000000006E-2,7.1675000000000003E-2,null,null,2.8840309999999998,0,9.3657000000000004E-2,7.9307000000000002E-2,null,null,null,2.8840309999999998,9.3657000000000004E-2,0,7.9307000000000002E-2,null,null,2.8840309999999998,0.22110399999999999,0.18315000000000001,0.26983299999999999,null,null,2.8840309999999998,0.153389,0.106172,0.109678,null,null,2.8840309999999998,1.8475999999999999E-2,8.8272000000000003E-2,3.9482999999999997E-2,null,null,2.8840309999999998,0,0,0,null,null,2.8840309999999998,0.110695,9.6709000000000003E-2,8.0063999999999996E-2,null,null,2.8840309999999998,4.5261999999999997E-2,6.9331000000000004E-2,5.8146999999999997E-2,null,null,2.8840309999999998,7.1256E-2,0.10194300000000001,8.1353999999999996E-2,null,null,2.8840309999999998,0.12114999999999999,0.139819,0,null,null,2.8840309999999998,3.8589999999999999E-2,8.3057000000000006E-2,6.6451999999999997E-2,null,null,2.8840309999999998,0.132216,8.9094999999999994E-2,0.11287800000000001,null,null,null,2.8840309999999998,0.11896433333333334,8.5995333333333326E-2,5.7654666666666667E-2,5.7654666666666667E-2,0.22469566666666665,0.12307966666666666,4.8743666666666664E-2,0,9.5822666666666667E-2,5.7579999999999999E-2,8.4850999999999996E-2,8.6989666666666673E-2,6.2699666666666667E-2,0.11139633333333332]
[null,3.3113109999999999,0,0.20716799999999999,0.17946000000000001,null,null,3.3113109999999999,9.4230999999999995E-2,0.10516,7.8442999999999999E-2,null,null,3.3113109999999999,0,0.102271,8.7908E-2,null,null,null,3.3113109999999999,0.102271,0,8.7908E-2,null,null,3.3113109999999999,0.23775099999999999,0.197211,0.29114899999999999,null,null,3.3113109999999999,0.176203,0.122715,0.12631400000000001,null,null,3.3113109999999999,5.4733999999999998E-2,9.7284999999999996E-2,6.2468000000000003E-2,null,null,3.3113109999999999,0,0,0,null,null,3.3113109999999999,0.120452,0.10631699999999999,8.8619000000000003E-2,null,null,3.3113109999999999,6.2712000000000004E-2,7.4303999999999995E-2,6.8586999999999995E-2,null,null,3.3113109999999999,7.5172000000000003E-2,0.106681,8.5352999999999998E-2,null,null,3.3113109999999999,0.12986500000000001,0.147699,1.2713E-2,null,null,3.3113109999999999,6.2717999999999996E-2,9.5138E-2,7.7550999999999995E-2,null,null,3.3113109999999999,0.140759,9.5863000000000004E-2,0.119479,null,null,null,3.3113109999999999,0.12887599999999999,9.2611333333333323E-2,6.3392999999999991E-2,6.3392999999999991E-2,0.24203699999999997,0.14174400000000001,7.1495666666666666E-2,0,0.10512933333333334,6.8534333333333322E-2,8.9068666666666671E-2,9.6758999999999998E-2,7.8468999999999997E-2,0.11870033333333334]
[null,3.8018939999999999,0,0.21982099999999999,0.19156699999999999,null,null,3.8018939999999999,0.10074,0.112951,8.1907999999999995E-2,null,null,3.8018939999999999,1.2066E-2,0.109102,9.1261999999999996E-2,null,null,null,3.8018939999999999,0.109102,0,9.1261999999999996E-2,null,null,3.8018939999999999,0.25196000000000002,0.20910400000000001,0.30966399999999999,null,null,3.8018939999999999,0.198023,0.13849400000000001,0.142871,null,null,3.8018939999999999,6.9099999999999995E-2,0.10437299999999999,7.3722999999999997E-2,null,null,3.8018939999999999,0,0,0,null,null,3.8018939999999999,0.12892500000000001,0.114467,9.6081E-2,null,null,3.8018939999999999,6.1519999999999998E-2,7.9940999999999998E-2,7.1339E-2,null,null,3.8018939999999999,7.8566999999999998E-2,0.11032,8.8465000000000002E-2,null,null,3.8018939999999999,0.13753899999999999,0.15454000000000001,3.4132000000000003E-2,null,null,3.8018939999999999,7.4607999999999994E-2,0.10104399999999999,8.2098000000000004E-2,null,null,3.8018939999999999,0.14730299999999999,0.100606,0.125305,null,null,null,3.8018939999999999,0.13712933333333333,9.8532999999999996E-2,7.0809999999999998E-2,6.6788E-2,0.25690933333333338,0.15979600000000002,8.2398666666666662E-2,0,0.11315766666666667,7.0933333333333334E-2,9.2450666666666667E-2,0.10873699999999999,8.5916666666666655E-2,0.12440466666666666]
[null,4.3651580000000001,0,0.228968,0.200489,null,null,4.3651580000000001,0.10446800000000001,0.119489,8.7599999999999997E-2,null,null,4.3651580000000001,2.3313E-2,0.113418,9.5142000000000004E-2,null,null,null,4.3651580000000001,0.113418,0,9.5142000000000004E-2,null,null,4.3651580000000001,0.262764,0.21799399999999999,0.32420900000000002,null,null,4.3651580000000001,0.21748400000000001,0.15277399999999999,0.157776,null,null,4.3651580000000001,7.4579999999999994E-2,0.109316,7.4862999999999999E-2,null,null,4.3651580000000001,0,0,0,null,null,4.3651580000000001,0.135273,0.12087199999999999,0.102351,null,null,4.3651580000000001,6.9193000000000005E-2,8.3210999999999993E-2,7.5301000000000007E-2,null,null,4.3651580000000001,8.0776000000000001E-2,0.112314,9.0173000000000003E-2,null,null,4.3651580000000001,0.143402,0.15973000000000001,5.5121000000000003E-2,null,null,4.3651580000000001,7.6447000000000001E-2,0.10619099999999999,8.7015999999999996E-2,null,null,4.3651580000000001,0.15120700000000001,0.103383,0.128054,null,null,null,4.3651580000000001,0.14315233333333333,0.10385233333333334,7.7290999999999999E-2,6.9520000000000012E-2,0.26832233333333333,0.17601133333333333,8.625300000000001E-2,0,0.11949866666666668,7.5901666666666659E-2,9.4420999999999991E-2,0.11941766666666669,8.9884666666666668E-2,0.12754799999999999]
[null,5.0118720000000003,0,0.234379,0.20593900000000001,null,null,5.0118720000000003,0.10609,0.123804,9.0434E-2,null,null,5.0118720000000003,2.2623000000000001E-2,0.11326700000000001,9.4005000000000005E-2,null,null,null,5.0118720000000003,0.11326700000000001,0,9.4005000000000005E-2,null,null,5.0118720000000003,0.26979500000000001,0.22362399999999999,0.33437499999999998,null,null,5.0118720000000003,0.233101,0.16427700000000001,0.16998199999999999,null,null,5.0118720000000003,7.3982000000000006E-2,0.11138000000000001,7.7588000000000004E-2,null,null,5.0118720000000003,0,0,0,null,null,5.0118720000000003,0.13884099999999999,0.12467399999999999,0.10655199999999999,null,null,5.0118720000000003,6.7419999999999994E-2,8.4848999999999994E-2,7.6609999999999998E-2,null,null,5.0118720000000003,8.1625000000000003E-2,0.112377,9.0189000000000005E-2,null,null,5.0118720000000003,0.14682000000000001,0.16275899999999999,6.8474999999999994E-2,null,null,5.0118720000000003,7.9219999999999999E-2,0.107391,8.8104000000000002E-2,null,null,5.0118720000000003,0.152167,0.10356799999999999,0.12792899999999999,null,null,null,5.0118720000000003,0.14677266666666666,0.106776,7.6631666666666667E-2,6.9090666666666675E-2,0.27593133333333331,0.18911999999999998,8.7650000000000006E-2,0,0.12335566666666666,7.6293E-2,9.4730333333333347E-2,0.12601799999999999,9.1571666666666662E-2,0.127888]
[null,5.7543990000000003,0,0.23619399999999999,0.207977,null,null,5.7543990000000003,0.10398,0.124695,9.1014999999999999E-2,null,null,5.7543990000000003,2.3008000000000001E-2,0.10785,8.6212999999999998E-2,null,null,null,5.7543990000000003,0.10785,0,8.6212999999999998E-2,null,null,5.7543990000000003,0.27291399999999999,0.22601499999999999,0.34001399999999998,null,null,5.7543990000000003,0.24360999999999999,0.172067,0.178314,null,null,5.7543990000000003,7.5295000000000001E-2,0.1105,7.6811000000000004E-2,null,null,5.7543990000000003,0,0,0,null,null,5.7543990000000003,0.13900399999999999,0.12531700000000001,0.108074,null,null,5.7543990000000003,6.8641999999999995E-2,8.4440000000000001E-2,7.6406000000000002E-2,null,null,5.7543990000000003,8.0935999999999994E-2,0.11047,8.8485999999999995E-2,null,null,5.7543990000000003,0.14716099999999999,0.16305700000000001,6.5286999999999998E-2,null,null,5.7543990000000003,7.6896000000000006E-2,0.105391,8.6513999999999994E-2,null,null,5.7543990000000003,0.150173,0.10123799999999999,0.124971,null,null,null,5.7543990000000003,0.14805699999999999,0.10656333333333334,7.2357000000000005E-2,6.4687666666666657E-2,0.27964766666666668,0.19799699999999998,8.753533333333334E-2,0,0.12413166666666668,7.6495999999999995E-2,9.3297333333333329E-2,0.12516833333333333,8.9600333333333337E-2,0.12546066666666666]
[null,6.6069339999999999,0,0.235264,0.207372,null,null,6.6069339999999999,9.7923999999999997E-2,0.12086,8.8275999999999993E-2,null,null,6.6069339999999999,2.2586999999999999E-2,9.4630000000000006E-2,7.7364000000000002E-2,null,null,null,6.6069339999999999,9.4630000000000006E-2,0,7.7364000000000002E-2,null,null,6.6069339999999999,0.27259699999999998,0.22575000000000001,0.34181400000000001,null,null,6.6069339999999999,0.24864800000000001,0.17583099999999999,0.18233199999999999,null,null,6.6069339999999999,7.1978E-2,0.107041,7.3745000000000005E-2,null,null,6.6069339999999999,0,0,0,null,null,6.6069339999999999,0.13544600000000001,0.12245499999999999,0.10643900000000001,null,null,6.6069339999999999,6.6628999999999994E-2,8.2391000000000006E-2,7.4546000000000001E-2,null,null,6.6069339999999999,7.8764000000000001E-2,0.10678799999999999,8.5304000000000005E-2,null,null,6.6069339999999999,0.14405999999999999,0.16018499999999999,6.7891000000000007E-2,null,null,6.6069339999999999,7.4195999999999998E-2,9.9445000000000006E-2,8.1363000000000005E-2,null,null,6.6069339999999999,0.14560000000000001,9.6713999999999994E-2,0.118884,null,null,null,6.6069339999999999,0.14754533333333333,0.10235333333333334,6.4860333333333339E-2,5.7331333333333338E-2,0.28005366666666665,0.20227033333333333,8.4254666666666658E-2,0,0.12144666666666666,7.4521999999999991E-2,9.0285333333333329E-2,0.12404533333333334,8.5001333333333332E-2,0.12039933333333334]
[null,7.5857760000000001,0,0.23302999999999999,0.205481,null,null,7.5857760000000001,8.6416000000000007E-2,0.111947,8.0445000000000003E-2,null,null,7.5857760000000001,1.4298E-2,7.8591999999999995E-2,4.5302000000000002E-2,null,null,null,7.5857760000000001,7.8591999999999995E-2,0,4.5302000000000002E-2,null,null,7.5857760000000001,0.269708,0.22373199999999999,0.34086899999999998,null,null,7.5857760000000001,0.248386,0.17569100000000001,0.181945,null,null,7.5857760000000001,6.9091E-2,0.102091,7.0647000000000001E-2,null,null,7.5857760000000001,0,0,0,null,null,7.5857760000000001,0.128414,0.116273,0.101572,null,null,7.5857760000000001,6.4171000000000006E-2,7.9367999999999994E-2,7.1761000000000005E-2,null,null,7.5857760000000001,7.5317999999999996E-2,0.10188999999999999,8.1248000000000001E-2,null,null,7.5857760000000001,0.137653,0.15401699999999999,5.5527E-2,null,null,7.5857760000000001,6.2919000000000003E-2,9.2771000000000006E-2,7.5620000000000007E-2,null,null,7.5857760000000001,0.13938999999999999,9.0922000000000003E-2,0.112757,null,null,null,7.5857760000000001,0.14617033333333332,9.2936000000000005E-2,4.6064000000000001E-2,4.1298000000000001E-2,0.27810299999999999,0.20200733333333334,8.0609666666666677E-2,0,0.11541966666666666,7.1766666666666659E-2,8.6151999999999992E-2,0.11573233333333333,7.7103333333333343E-2,0.11435633333333332]
[null,8.7096359999999997,0,0.23141300000000001,0.20415700000000001,null,null,8.7096359999999997,7.2870000000000004E-2,9.7005999999999995E-2,7.0319999999999994E-2,null,null,8.7096359999999997,0,4.8984E-2,0,null,null,null,8.7096359999999997,4.8984E-2,0,0,null,null,8.7096359999999997,0.26542500000000002,0.22103200000000001,0.33874700000000002,null,null,8.7096359999999997,0.243867,0.17242499999999999,0.177735,null,null,8.7096359999999997,6.2412000000000002E-2,9.7110000000000002E-2,6.4047000000000007E-2,null,null,8.7096359999999997,0,0,0,null,null,8.7096359999999997,0.11859699999999999,0.10737099999999999,9.3783000000000005E-2,null,null,8.7096359999999997,6.1404E-2,7.6288999999999996E-2,6.8848000000000006E-2,null,null,8.7096359999999997,7.1041000000000007E-2,9.6355999999999997E-2,7.6976000000000003E-2,null,null,8.7096359999999997,0.12853300000000001,0.14468700000000001,1.4925000000000001E-2,null,null,8.7096359999999997,4.0837999999999999E-2,8.2229999999999998E-2,6.6268999999999995E-2,null,null,8.7096359999999997,0.132689,8.4931999999999994E-2,0.102719,null,null,null,8.7096359999999997,0.14519000000000001,8.0065333333333336E-2,1.6327999999999999E-2,1.6327999999999999E-2,0.27506800000000003,0.19800899999999999,7.4523000000000006E-2,0,0.10658366666666667,6.8847000000000005E-2,8.1457666666666664E-2,9.6048333333333347E-2,6.3112333333333326E-2,0.10678]
[null,10,0,0.23263600000000001,0.20552699999999999,null,null,10,5.4157999999999998E-2,7.9313999999999996E-2,5.3994E-2,null,null,10,0,0,0,null,null,null,10,0,0,0,null,null,10,0.26131300000000002,0.21883,0.33727499999999999,null,null,10,0.236899,0.16738400000000001,0.17095399999999999,null,null,10,4.2231999999999999E-2,9.4132999999999994E-2,4.3952999999999999E-2,null,null,10,0,0,0,null,null,10,0.107964,9.7516000000000005E-2,8.4454000000000001E-2,null,null,10,5.9540999999999997E-2,7.4387999999999996E-2,6.6963999999999996E-2,null,null,10,6.6414000000000001E-2,9.1177999999999995E-2,7.3436000000000001E-2,null,null,10,0.118572,0.133497,0,null,null,10,3.7747999999999997E-2,5.9011000000000001E-2,4.4833999999999999E-2,null,null,10,0.12728999999999999,8.0309000000000005E-2,7.9916000000000001E-2,null,null,null,10,0.14605433333333331,6.2488666666666658E-2,0,0,0.27247266666666664,0.19174566666666668,6.0105999999999993E-2,0,9.664466666666667E-2,6.6964333333333334E-2,7.7009333333333332E-2,8.4023E-2,4.7197666666666666E-2,9.5838333333333317E-2]
[null,11.481536,2.0711E-2,0.238728,0.21151600000000001,null,null,11.481536,0,6.1621000000000002E-2,0,null,null,11.481536,0,0,0,null,null,null,11.481536,0,0,0,null,null,11.481536,0.25872400000000001,0.21797800000000001,0.338092,null,null,11.481536,0.22933000000000001,0.16195899999999999,0.16294500000000001,null,null,11.481536,4.2602000000000001E-2,9.4999E-2,4.4228000000000003E-2,null,null,11.481536,0,0,0,null,null,11.481536,9.8825999999999997E-2,8.8805999999999996E-2,7.5340000000000004E-2,null,null,11.481536,5.9542999999999999E-2,7.4781E-2,6.7161999999999999E-2,null,null,11.481536,6.2088999999999998E-2,8.7156999999999998E-2,7.1346000000000007E-2,null,null,11.481536,0.11013299999999999,0.122197,0,null,null,11.481536,1.8623000000000001E-2,5.8439999999999999E-2,4.3985999999999997E-2,null,null,11.481536,0.124818,7.8325000000000006E-2,7.8067999999999999E-2,null,null,null,11.481536,0.15698500000000001,2.0540333333333334E-2,0,0,0.27159800000000001,0.18474466666666667,6.0609666666666673E-2,0,8.7657333333333323E-2,6.7161999999999999E-2,7.3530666666666675E-2,7.7443333333333322E-2,4.0349666666666666E-2,9.3737000000000001E-2]
[null,13.182567000000001,2.9378999999999999E-2,0.25052799999999997,0.22287399999999999,null,null,13.182567000000001,0,3.5430000000000001E-3,0,null,null,13.182567000000001,0,0,0,null,null,null,13.182567000000001,0,0,0,null,null,13.182567000000001,0.25889200000000001,0.21896599999999999,0.34228700000000001,null,null,13.182567000000001,0.22339200000000001,0.15781100000000001,0.15564900000000001,null,null,13.182567000000001,6.4486000000000002E-2,0.10101,6.6340999999999997E-2,null,null,13.182567000000001,0,0,0,null,null,13.182567000000001,9.4678999999999999E-2,8.4482000000000002E-2,6.9431000000000007E-2,null,null,13.182567000000001,6.2220999999999999E-2,7.8290999999999999E-2,7.0255999999999999E-2,null,null,13.182567000000001,6.1469999999999997E-2,8.5351999999999997E-2,7.1390999999999996E-2,null,null,13.182567000000001,0.106888,0.11423,0,null,null,13.182567000000001,3.6748000000000003E-2,8.1591999999999998E-2,6.5690999999999999E-2,null,null,13.182567000000001,0.12684400000000001,8.0041000000000001E-2,7.9727999999999993E-2,null,null,null,13.182567000000001,0.16759366666666664,1.181E-3,0,0,0.27338166666666669,0.17895066666666667,7.7279E-2,0,8.2864000000000007E-2,7.0255999999999999E-2,7.2737666666666659E-2,7.3705999999999994E-2,6.1343666666666664E-2,9.5537666666666674E-2]
[null,15.135612,3.7235999999999998E-2,0.26777499999999999,0.239319,null,null,15.135612,0,0,0,null,null,15.135612,0,0,0,null,null,null,15.135612,0,0,0,null,null,15.135612,0.26236100000000001,0.221694,0.35017300000000001,null,null,15.135612,0.220527,0.15601799999999999,0.15046699999999999,null,null,15.135612,7.6508000000000007E-2,0.11253000000000001,7.8285999999999994E-2,null,null,15.135612,0,0,0,null,null,15.135612,9.8674999999999999E-2,8.7510000000000004E-2,6.9564000000000001E-2,null,null,15.135612,6.7933999999999994E-2,8.5209999999999994E-2,7.6572000000000001E-2,null,null,15.135612,4.2573E-2,8.6470000000000005E-2,7.3825000000000002E-2,null,null,15.135612,0.112359,0.11317199999999999,0,null,null,15.135612,6.5393000000000007E-2,9.8765000000000006E-2,8.1023999999999999E-2,null,null,15.135612,0.13416,8.5716000000000001E-2,8.1842999999999999E-2,null,null,null,15.135612,0.18144333333333332,0,0,0,0.27807599999999999,0.17567066666666667,8.9108000000000007E-2,0,8.5249666666666668E-2,7.6572000000000001E-2,6.7622666666666678E-2,7.5176999999999994E-2,8.1727333333333332E-2,0.10057300000000001]
[null,17.378008000000001,7.2040000000000007E-2,0.28727900000000001,0.25780500000000001,null,null,17.378008000000001,2.5343999999999998E-2,5.0377999999999999E-2,0,null,null,17.378008000000001,0,0,0,null,null,null,17.378008000000001,0,0,0,null,null,17.378008000000001,0.26866600000000002,0.22531499999999999,0.36050700000000002,null,null,17.378008000000001,0.22173000000000001,0.157278,0.14876,null,null,17.378008000000001,8.8953000000000004E-2,0.12783800000000001,9.0437000000000003E-2,null,null,17.378008000000001,0,0,0,null,null,17.378008000000001,0.113042,0.100124,7.8222E-2,null,null,17.378008000000001,7.5995999999999994E-2,9.4596E-2,8.5295999999999997E-2,null,null,17.378008000000001,5.6443E-2,9.0823000000000001E-2,7.8301999999999997E-2,null,null,17.378008000000001,0.129075,0.122596,0,null,null,17.378008000000001,8.6202000000000001E-2,0.1197,9.9419999999999994E-2,null,null,17.378008000000001,0.146012,9.425E-2,0.106146,null,null,null,17.378008000000001,0.205708,2.5240666666666665E-2,0,0,0.28482933333333332,0.17592266666666667,0.10240933333333334,0,9.7129333333333345E-2,8.5295999999999997E-2,7.518933333333333E-2,8.3890333333333331E-2,0.10177399999999999,0.11546933333333333]
[null,19.952622999999999,9.6129000000000006E-2,0.30450500000000003,0.27405299999999999,null,null,19.952622999999999,9.0036000000000005E-2,0.11360099999999999,4.0712999999999999E-2,null,null,19.952622999999999,9.7050000000000001E-3,0,0,null,null,null,19.952622999999999,0,0,0,null,null,19.952622999999999,0.276505,0.228605,0.37120700000000001,null,null,19.952622999999999,0.22713,0.16162699999999999,0.15110499999999999,null,null,19.952622999999999,0.104098,0.14401900000000001,0.105173,null,null,19.952622999999999,0,0,0,null,null,19.952622999999999,0.13838700000000001,0.123108,9.6616999999999995E-2,null,null,19.952622999999999,8.5061999999999999E-2,0.104805,9.4934000000000004E-2,null,null,19.952622999999999,7.1271000000000001E-2,9.8196000000000006E-2,8.4007999999999999E-2,null,null,19.952622999999999,0.1578,0.144734,2.9083999999999999E-2,null,null,19.952622999999999,0.107171,0.145152,0.121833,null,null,19.952622999999999,0.16042999999999999,0.10355399999999999,0.12395100000000001,null,null,null,19.952622999999999,0.22489566666666669,8.1450000000000009E-2,3.235E-3,0,0.29210566666666665,0.17995400000000003,0.11776333333333333,0,0.11937066666666668,9.493366666666668E-2,8.4491666666666673E-2,0.11053933333333332,0.12471866666666669,0.12931166666666669]
[null,22.908677000000001,0.10530399999999999,0.31285099999999999,0.28185500000000002,null,null,22.908677000000001,0.14968500000000001,0.160131,0.114915,null,null,22.908677000000001,3.0859999999999999E-2,0,0,null,null,null,22.908677000000001,0,0,0,null,null,22.908677000000001,0.283501,0.23014599999999999,0.37901600000000002,null,null,22.908677000000001,0.23605200000000001,0.16844799999999999,0.15734400000000001,null,null,22.908677000000001,0.115427,0.156194,0.11602999999999999,null,null,22.908677000000001,0,0,0,null,null,22.908677000000001,0.17150599999999999,0.153756,0.122992,null,null,22.908677000000001,9.2648999999999995E-2,0.112979,0.102814,null,null,22.908677000000001,7.8354999999999994E-2,0.107415,8.9427000000000006E-2,null,null,22.908677000000001,0.19489500000000001,0.17819599999999999,8.1458000000000003E-2,null,null,22.908677000000001,0.12687799999999999,0.16541600000000001,0.139796,null,null,22.908677000000001,0.17343900000000001,0.110023,0.13128200000000001,null,null,null,22.908677000000001,0.23333666666666666,0.14157699999999998,1.0286666666666666E-2,0,0.29755433333333331,0.18728133333333333,0.129217,0,0.149418,0.102814,9.1732333333333346E-2,0.15151633333333334,0.14402999999999999,0.13824800000000001]
[null,26.302679999999999,0.103078,0.30665799999999999,0.27586300000000002,null,null,26.302679999999999,0.20204900000000001,0.21836900000000001,0.162521,null,null,26.302679999999999,4.4275000000000002E-2,0,0,null,null,null,26.302679999999999,0,0,0,null,null,26.302679999999999,0.28737099999999999,0.22921800000000001,0.38123000000000001,null,null,26.302679999999999,0.247638,0.17696200000000001,0.16664699999999999,null,null,26.302679999999999,0.11959599999999999,0.15959300000000001,0.119697,null,null,26.302679999999999,0,0,0,null,null,26.302679999999999,0.206761,0.187002,0.153339,null,null,26.302679999999999,9.6310000000000007E-2,0.116448,0.106379,null,null,26.302679999999999,9.0421000000000001E-2,0.116978,9.3079999999999996E-2,null,null,26.302679999999999,0.23377400000000001,0.21842900000000001,0.11447300000000001,null,null,26.302679999999999,0.13264300000000001,0.17306099999999999,0.14562800000000001,null,null,26.302679999999999,0.18083199999999999,0.110485,0.13406399999999999,null,null,null,26.302679999999999,0.22853300000000001,0.19431299999999999,1.4758333333333333E-2,0,0.29927299999999996,0.19708233333333333,0.132962,0,0.18236733333333333,0.106379,0.10015966666666666,0.18889200000000003,0.15044399999999999,0.14179366666666668]
[null,30.199517,7.4050000000000005E-2,0.28348699999999999,0.25365300000000002,null,null,30.199517,0.24005899999999999,0.25831199999999999,0.21135100000000001,null,null,30.199517,5.6563000000000002E-2,0,0,null,null,null,30.199517,0,0,0,null,null,30.199517,0.28660999999999998,0.226523,0.37669599999999998,null,null,30.199517,0.26068799999999998,0.18613299999999999,0.177231,null,null,30.199517,0.111637,0.15115000000000001,0.111236,null,null,30.199517,0,0,0,null,null,30.199517,0.23483200000000001,0.214117,0.18013899999999999,null,null,30.199517,9.4166E-2,0.113411,0.10378900000000001,null,null,30.199517,0.100421,0.124948,9.3821000000000002E-2,null,null,30.199517,0.26345200000000002,0.255658,0.14899200000000001,null,null,30.199517,0.12864100000000001,0.15884100000000001,0.13439499999999999,null,null,30.199517,0.17894199999999999,0.101451,0.12872900000000001,null,null,null,30.199517,0.20372999999999999,0.23657399999999998,1.8854333333333334E-2,0,0.29660966666666666,0.2080173333333333,0.12467433333333333,0,0.20969600000000002,0.10378866666666668,0.10639666666666665,0.22270066666666666,0.14062566666666668,0.136374]
[null,34.673684999999999,2.1797E-2,0.24712500000000001,0.21848799999999999,null,null,34.673684999999999,0.24168999999999999,0.26288099999999998,0.2306,null,null,34.673684999999999,5.7653999999999997E-2,0,0,null,null,null,34.673684999999999,0,0,0,null,null,34.673684999999999,0.28208299999999997,0.22497600000000001,0.36774400000000002,null,null,34.673684999999999,0.27466699999999999,0.19545499999999999,0.18704599999999999,null,null,34.673684999999999,9.5107999999999998E-2,0.13045599999999999,9.3758999999999995E-2,null,null,34.673684999999999,0,0,0,null,null,34.673684999999999,0.246504,0.22615399999999999,0.19526099999999999,null,null,34.673684999999999,8.6377999999999996E-2,0.104619,9.5499000000000001E-2,null,null,34.673684999999999,0.107048,0.13022700000000001,9.1853000000000004E-2,null,null,34.673684999999999,0.27278999999999998,0.27810400000000002,0.163219,null,null,34.673684999999999,7.0663000000000004E-2,0.123636,9.6601999999999993E-2,null,null,34.673684999999999,0.16714100000000001,8.6307999999999996E-2,0.10553999999999999,null,null,null,34.673684999999999,0.16247,0.245057,1.9217999999999999E-2,0,0.291601,0.219056,0.10644099999999999,0,0.22263966666666668,9.5498666666666662E-2,0.10970933333333334,0.23803766666666668,9.6966999999999984E-2,0.11966300000000001]
[null,39.810716999999997,0,0.211064,0.18254699999999999,null,null,39.810716999999997,0.197408,0.22109599999999999,0.21301100000000001,null,null,39.810716999999997,3.5965999999999998E-2,0,0,null,null,null,39.810716999999997,0,0,0,null,null,39.810716999999997,0.27830700000000003,0.230154,0.36175600000000002,null,null,39.810716999999997,0.28957100000000002,0.204928,0.19387499999999999,null,null,39.810716999999997,6.5599000000000005E-2,0.106126,6.2994999999999995E-2,null,null,39.810716999999997,0,0,0,null,null,39.810716999999997,0.23517399999999999,0.21621899999999999,0.19176599999999999,null,null,39.810716999999997,7.6441999999999996E-2,9.4834000000000002E-2,8.5638000000000006E-2,null,null,39.810716999999997,0.107863,0.133271,8.9496000000000006E-2,null,null,39.810716999999997,0.25352799999999998,0.27415600000000001,0.148641,null,null,39.810716999999997,0,6.1344000000000003E-2,3.3743000000000002E-2,null,null,39.810716999999997,0.150141,6.2486E-2,6.7308000000000007E-2,null,null,null,39.810716999999997,0.13120366666666666,0.21050500000000003,1.1988666666666667E-2,0,0.29007233333333332,0.22945800000000002,7.8240000000000004E-2,0,0.21438633333333335,8.5637999999999992E-2,0.11021000000000002,0.22544166666666668,3.1695666666666671E-2,9.3311666666666682E-2]
[null,45.708818999999998,0,0.19891,0.16722999999999999,null,null,45.708818999999998,0.104045,0.124718,0.136991,null,null,45.708818999999998,0,0,0,null,null,null,45.708818999999998,0,0,0,null,null,45.708818999999998,0.28415600000000002,0.249998,0.37162699999999999,null,null,45.708818999999998,0.30659799999999998,0.215588,0.19633100000000001,null,null,45.708818999999998,1.8550000000000001E-2,8.6868000000000001E-2,1.5862000000000001E-2,null,null,45.708818999999998,0,0,0,null,null,45.708818999999998,0.201931,0.18430099999999999,0.168298,null,null,45.708818999999998,7.1945999999999996E-2,9.3584000000000001E-2,8.2765000000000005E-2,null,null,45.708818999999998,0.103154,0.13739100000000001,9.1768000000000002E-2,null,null,45.708818999999998,0.20610999999999999,0.23751,9.0523999999999993E-2,null,null,45.708818999999998,0,0,0,null,null,45.708818999999998,0.139733,2.7033000000000001E-2,5.8688999999999998E-2,null,null,null,45.708818999999998,0.12204666666666668,0.12191800000000001,0,0,0.301927,0.2395056666666667,4.0426666666666666E-2,0,0.18484333333333333,8.2765000000000005E-2,0.11077100000000001,0.17804799999999998,0,7.5151666666666658E-2]
[null,52.480746000000003,0,0.243259,0.202126,null,null,52.480746000000003,0,0,0,null,null,52.480746000000003,0,0,0,null,null,null,52.480746000000003,0,0,0,null,null,52.480746000000003,0.31254100000000001,0.29350199999999999,0.41480899999999998,null,null,52.480746000000003,0.32799600000000001,0.22942699999999999,0.194607,null,null,52.480746000000003,2.3609999999999999E-2,7.9842999999999997E-2,1.8356999999999998E-2,null,null,52.480746000000003,0,0,0,null,null,52.480746000000003,0.16008600000000001,0.14168800000000001,0.13313700000000001,null,null,52.480746000000003,8.4692000000000003E-2,0.11508500000000001,9.9888000000000005E-2,null,null,52.480746000000003,9.6823999999999993E-2,0.149483,0.106417,null,null,52.480746000000003,0.14507800000000001,0.17383799999999999,0,null,null,52.480746000000003,0,0,1.0200000000000001E-3,null,null,52.480746000000003,0.155561,3.9079999999999997E-2,6.8880999999999998E-2,null,null,null,52.480746000000003,0.14846166666666669,0,0,0,0.34028400000000003,0.25067666666666666,4.0603333333333332E-2,0,0.14497033333333334,9.9888333333333343E-2,0.11757466666666666,0.10630533333333332,3.4000000000000002E-4,8.7840666666666678E-2]
[null,60.255958999999997,9.8739999999999994E-2,0.38007999999999997,0.31982500000000003,null,null,60.255958999999997,0,0,0,null,null,60.255958999999997,0,0,0,null,null,null,60.255958999999997,0,0,0,null,null,60.255958999999997,0.37842599999999998,0.36833900000000003,0.50999300000000003,null,null,60.255958999999997,0.35691699999999998,0.24925900000000001,0.191442,null,null,60.255958999999997,9.9165000000000003E-2,0.157476,8.1297999999999995E-2,null,null,60.255958999999997,0,0,0,null,null,60.255958999999997,0.13828699999999999,0.114272,0.107617,null,null,60.255958999999997,0.12930900000000001,0.17637800000000001,0.15284400000000001,null,null,60.255958999999997,9.7842999999999999E-2,0.18023500000000001,0.14311299999999999,null,null,60.255958999999997,0.102793,0.106516,0,null,null,60.255958999999997,0,5.2365000000000002E-2,9.1809999999999999E-3,null,null,60.255958999999997,0.223328,0.122507,0.11838899999999999,null,null,null,60.255958999999997,0.26621500000000003,0,0,0,0.41891933333333337,0.2658726666666667,0.11264633333333333,0,0.12005866666666666,0.15284366666666668,0.14039699999999999,6.976966666666666E-2,2.0515333333333333E-2,0.15474133333333331]
[null,69.183097000000004,0.34580100000000003,0.64168700000000001,0.54935299999999998,null,null,69.183097000000004,0,0,0,null,null,69.183097000000004,0,0,0,null,null,null,69.183097000000004,0,0,0,null,null,69.183097000000004,0.496091,0.47870600000000002,0.672987,null,null,69.183097000000004,0.39721200000000001,0.27842099999999997,0.19267599999999999,null,null,69.183097000000004,0.21271399999999999,0.29166700000000001,0.183114,null,null,69.183097000000004,6.0478999999999998E-2,6.3933000000000004E-2,4.2217999999999999E-2,null,null,69.183097000000004,0.18015400000000001,0.14263200000000001,0.12687699999999999,null,null,69.183097000000004,0.221082,0.29466700000000001,0.25787399999999999,null,null,69.183097000000004,0.12078999999999999,0.24382899999999999,0.21234900000000001,null,null,69.183097000000004,0.129053,5.8202999999999998E-2,0,null,null,69.183097000000004,0.146874,0.253023,0.19173999999999999,null,null,69.183097000000004,0.37126999999999999,0.24886,0.26877400000000001,null,null,null,69.183097000000004,0.51228033333333334,0,0,0,0.54926133333333338,0.2894363333333333,0.22916499999999998,5.5543333333333333E-2,0.14988766666666667,0.25787433333333332,0.19232266666666664,6.2418666666666671E-2,0.19721233333333332,0.29630133333333331]
[null,79.432822999999999,0.75409000000000004,1.041582,0.90242599999999995,null,null,79.432822999999999,0,0,0,null,null,79.432822999999999,0,0,0,null,null,null,79.432822999999999,0,0,0,null,null,79.432822999999999,0.67247900000000005,0.62055000000000005,0.90761400000000003,null,null,79.432822999999999,0.452017,0.319525,0.20718800000000001,null,null,79.432822999999999,0.39700999999999997,0.50488699999999997,0.35208499999999998,null,null,79.432822999999999,0.20872199999999999,0.19297900000000001,0.13438700000000001,null,null,79.432822999999999,0.33851399999999998,0.27735199999999999,0.236544,null,null,79.432822999999999,0.37053700000000001,0.48063499999999998,0.42558600000000002,null,null,79.432822999999999,0.184726,0.35511100000000001,0.32214999999999999,null,null,79.432822999999999,0.28500700000000001,0.13094800000000001,0,null,null,79.432822999999999,0.45777600000000002,0.612792,0.50441000000000003,null,null,79.432822999999999,0.62065700000000001,0.45120700000000002,0.50419199999999997,null,null,null,79.432822999999999,{"$f":"AVERAGE(C86:E86)","v":0.899366},{"$f":"AVERAGE(I86:K86)","v":0},{"$f":"AVERAGE(O86:Q86)","v":0},{"$f":"AVERAGE(V86:X86)","v":0},{"$f":"AVERAGE(AB86:AD86)","v":0.73354766666666682},{"$f":"AVERAGE(AH86:AJ86)","v":0.32624333333333333},{"$f":"AVERAGE(AN86:AP86)","v":0.41799399999999998},{"$f":"AVERAGE(AT86:AV86)","v":0.17869599999999999},{"$f":"AVERAGE(AZ86:BB86)","v":0.28413666666666665},{"$f":"AVERAGE(BF86:BH86)","v":0.42558600000000002},{"$f":"AVERAGE(BL86:BN86)","v":0.287329},{"$f":"AVERAGE(BR86:BT86)","v":0.13865166666666667},{"$f":"AVERAGE(BX86:BZ86)","v":0.52499266666666666},0.52535200000000004]
[null,91.201083999999994,1.3315239999999999,1.5760419999999999,1.374492,null,null,91.201083999999994,8.5827000000000001E-2,6.1981000000000001E-2,6.0159999999999996E-3,null,null,91.201083999999994,0.186144,0.35143000000000002,0.21110200000000001,null,null,null,91.201083999999994,0.35143000000000002,0.49418200000000001,0.21110200000000001,null,null,91.201083999999994,0.907744,0.78428900000000001,1.2069270000000001,null,null,91.201083999999994,0.52492399999999995,0.37505899999999998,0.246418,null,null,91.201083999999994,0.65935699999999997,0.80232599999999998,0.59268600000000005,null,null,91.201083999999994,0.48175600000000002,0.42145500000000002,0.28142899999999998,null,null,91.201083999999994,0.66951400000000005,0.57345299999999999,0.48816100000000001,null,null,91.201083999999994,0.58372599999999997,0.73908200000000002,0.66140399999999999,null,null,91.201083999999994,0.31294100000000002,0.53041499999999997,0.479319,null,null,91.201083999999994,0.63548000000000004,0.36219699999999999,9.6718999999999999E-2,null,null,91.201083999999994,0.92299900000000001,1.1559839999999999,0.967916,null,null,91.201083999999994,0.98482899999999995,0.74123399999999995,0.84294100000000005,null,null,null,91.201083999999994,1.4273526666666667,5.1274666666666663E-2,0.24955866666666668,0.352238,0.96631999999999996,0.38213366666666665,0.68478966666666663,0.39487999999999995,0.5770426666666667,0.66140399999999999,0.44089166666666668,0.36479866666666672,1.015633,{"$f":"AVERAGE(CD87:CF87)","v":0.85633466666666669}]
[null,104.712855,2.0391970000000001,2.1987549999999998,1.922366,null,null,104.712855,0.580488,0.50340099999999999,0.31347900000000001,null,null,104.712855,0.96226199999999995,1.4181250000000001,1.144717,null,null,null,104.712855,1.4181250000000001,2.1136330000000001,1.144717,null,null,104.712855,1.183548,0.949098,1.5391360000000001,null,null,104.712855,0.61719800000000002,0.44509599999999999,0.321353,null,null,104.712855,0.97617200000000004,1.1577930000000001,0.88009999999999999,null,null,104.712855,0.77080499999999996,0.66235200000000005,0.417659,null,null,104.712855,1.2081170000000001,1.0679730000000001,0.91981100000000005,null,null,104.712855,0.85169700000000004,1.0561160000000001,0.95390699999999995,null,null,104.712855,0.52549900000000005,0.77873199999999998,0.68265100000000001,null,null,104.712855,1.2216640000000001,0.80601800000000001,0.52609600000000001,null,null,104.712855,1.546073,1.8638710000000001,1.57324,null,null,104.712855,1.4490730000000001,1.1005119999999999,1.277463,null,null,null,104.712855,2.0534393333333334,0.46578933333333339,1.1750346666666667,1.5588249999999999,1.2239273333333334,0.46121566666666669,1.0046883333333334,0.61693866666666664,1.0653003333333333,0.95390666666666668,0.66229400000000005,0.85125933333333326,1.6610613333333335,1.2756826666666667]
[null,120.226443,2.8254009999999998,2.8552759999999999,2.4950109999999999,null,null,120.226443,1.566926,1.4688650000000001,1.096708,null,null,120.226443,2.2006579999999998,3.1061420000000002,2.7863600000000002,null,null,null,120.226443,3.1061420000000002,3.9960830000000001,2.7863600000000002,null,null,120.226443,1.4776640000000001,1.09605,1.8674569999999999,null,null,120.226443,0.73362799999999995,0.53166400000000003,0.44355600000000001,null,null,120.226443,1.3230729999999999,1.5446770000000001,1.1859729999999999,null,null,120.226443,1.092964,0.93300700000000003,0.564577,null,null,120.226443,1.978078,1.7881640000000001,1.562333,null,null,120.226443,1.1639870000000001,1.4151860000000001,1.2895859999999999,null,null,120.226443,0.84556299999999995,1.1121799999999999,0.93410899999999997,null,null,120.226443,2.07029,1.5206740000000001,1.2621169999999999,null,null,120.226443,2.2910210000000002,2.6916069999999999,2.275153,null,null,120.226443,1.9903519999999999,1.5095270000000001,1.7820339999999999,null,null,null,120.226443,2.7252293333333331,1.3774996666666668,2.6977200000000003,3.2961950000000004,1.4803903333333333,0.56961600000000001,1.3512409999999999,0.86351600000000006,1.7761916666666666,1.2895863333333333,0.96395066666666651,1.6176936666666666,2.4192603333333333,1.7606376666666665]
[null,138.03842599999999,3.5832820000000001,3.4504329999999999,3.0060419999999999,null,null,138.03842599999999,3.0107940000000002,2.9501590000000002,2.316011,null,null,138.03842599999999,3.7637999999999998,5.3403720000000003,5.0099729999999996,null,null,null,138.03842599999999,5.3403720000000003,6.3400930000000004,5.0099729999999996,null,null,138.03842599999999,1.7487710000000001,1.2033879999999999,2.1352669999999998,null,null,138.03842599999999,0.87705699999999998,0.63495400000000002,0.61640399999999995,null,null,138.03842599999999,1.6547080000000001,1.9149640000000001,1.461854,null,null,138.03842599999999,1.3824749999999999,1.186188,0.69358900000000001,null,null,138.03842599999999,2.9380989999999998,2.7004280000000001,2.3927529999999999,null,null,138.03842599999999,1.4922839999999999,1.7779750000000001,1.6351290000000001,null,null,138.03842599999999,1.27847,1.526,1.2261299999999999,null,null,138.03842599999999,3.134093,2.4863019999999998,2.2570229999999998,null,null,138.03842599999999,3.0696099999999999,3.5320900000000002,2.980318,null,null,138.03842599999999,2.545569,1.9213610000000001,2.2975310000000002,null,null,null,138.03842599999999,3.3465856666666665,2.758988,4.7047150000000002,5.5634793333333334,1.6958086666666665,0.70947166666666661,1.6771753333333335,1.0874173333333335,2.6770933333333331,1.6351293333333334,1.3435333333333332,2.6258060000000003,3.1940059999999999,2.2548203333333334]
[null,158.48931899999999,4.2294489999999998,3.9166940000000001,3.394571,null,null,158.48931899999999,4.8848900000000004,4.9319920000000002,3.9935079999999998,null,null,158.48931899999999,5.5723890000000003,7.9044080000000001,7.6313079999999998,null,null,null,158.48931899999999,7.9044080000000001,8.7290279999999996,7.6313079999999998,null,null,158.48931899999999,1.966909,1.2649539999999999,2.302772,null,null,158.48931899999999,1.0613969999999999,0.763625,0.845418,null,null,158.48931899999999,1.9461090000000001,2.244561,1.6769540000000001,null,null,158.48931899999999,1.6165879999999999,1.4158090000000001,0.81314799999999998,null,null,158.48931899999999,4.0453590000000004,3.768834,3.3853589999999998,null,null,158.48931899999999,1.822565,2.120889,1.971727,null,null,158.48931899999999,1.8395280000000001,2.029623,1.5680019999999999,null,null,158.48931899999999,4.3622990000000001,3.6783489999999999,3.4917050000000001,null,null,158.48931899999999,3.806012,4.2930080000000004,3.6079810000000001,null,null,158.48931899999999,3.0630350000000002,2.3056269999999999,2.7758379999999998,null,null,null,158.48931899999999,3.8469046666666671,4.603463333333333,7.0360350000000009,8.0882480000000001,1.8448783333333332,0.89014666666666675,1.9558746666666667,1.2818483333333333,3.7331840000000001,1.9717270000000002,1.8123843333333334,3.844117666666667,3.9023336666666668,2.7148333333333334]
[null,181.97008600000001,4.6583629999999996,4.1820199999999996,3.5998489999999999,null,null,181.97008600000001,6.9330879999999997,7.1420070000000004,5.9290139999999996,null,null,181.97008600000001,7.3583080000000001,10.317190999999999,10.157173999999999,null,null,null,181.97008600000001,10.317190999999999,10.764286,10.157173999999999,null,null,181.97008600000001,2.0992410000000001,1.287283,2.3389660000000001,null,null,181.97008600000001,1.2979339999999999,0.92639700000000003,1.120557,null,null,181.97008600000001,2.175227,2.5124050000000002,1.8086390000000001,null,null,181.97008600000001,1.774338,1.619534,0.94128299999999998,null,null,181.97008600000001,5.1674040000000003,4.8692099999999998,4.431063,null,null,181.97008600000001,2.1313650000000002,2.4103669999999999,2.2708659999999998,null,null,181.97008600000001,2.5076520000000002,2.6057250000000001,1.9598800000000001,null,null,181.97008600000001,5.6047039999999999,4.9652950000000002,4.8214589999999999,null,null,181.97008600000001,4.3885230000000002,4.8460650000000003,4.0525929999999999,null,null,181.97008600000001,3.4646180000000002,2.6221450000000002,3.1481370000000002,null,null,null,181.97008600000001,4.1467439999999991,6.6680363333333332,9.2775576666666666,10.412883666666666,1.908496666666667,1.1149626666666668,2.1654236666666669,1.4450516666666668,4.822559,2.2708659999999998,2.3577523333333334,5.1304860000000003,4.4290603333333332,3.0783]
[null,208.92961299999999,4.8265330000000004,4.2318059999999997,3.6146940000000001,null,null,208.92961299999999,8.9137190000000004,9.3020019999999999,7.9219799999999996,null,null,208.92961299999999,8.9233089999999997,12.166460000000001,12.159177,null,null,null,208.92961299999999,12.166460000000001,12.130369999999999,12.159177,null,null,208.92961299999999,2.1412209999999998,1.300144,2.249695,null,null,208.92961299999999,1.6177919999999999,1.1494549999999999,1.4443490000000001,null,null,208.92961299999999,2.363991,2.7450350000000001,1.8774040000000001,null,null,208.92961299999999,1.8809549999999999,1.8382970000000001,1.1301380000000001,null,null,208.92961299999999,6.2124059999999997,5.9136280000000001,5.4523039999999998,null,null,208.92961299999999,2.427368,2.6465529999999999,2.5369609999999998,null,null,208.92961299999999,3.2873610000000002,3.2666539999999999,2.4329730000000001,null,null,208.92961299999999,6.7576859999999996,6.2483930000000001,6.1403350000000003,null,null,208.92961299999999,4.7647349999999999,5.1271699999999996,4.2688280000000001,null,null,208.92961299999999,3.7126209999999999,2.872843,3.3881100000000002,null,null,null,208.92961299999999,4.2243443333333337,8.712567,11.082982000000001,12.152002333333334,1.8970200000000002,1.4038653333333333,2.3288100000000003,1.6164633333333331,5.859446000000001,2.5369606666666669,2.9956626666666666,6.3821380000000003,4.7202443333333335,3.3245246666666666]
[null,239.88329200000001,4.7240140000000004,4.0900400000000001,3.4724080000000002,null,null,239.88329200000001,10.434150000000001,10.955104,9.5958550000000002,null,null,239.88329200000001,9.9875509999999998,12.994472999999999,13.143969,null,null,null,239.88329200000001,12.994472999999999,12.545979000000001,13.143969,null,null,239.88329200000001,2.1103040000000002,1.350876,2.0818949999999998,null,null,239.88329200000001,2.0389439999999999,1.4548829999999999,1.8033870000000001,null,null,239.88329200000001,2.5527820000000001,2.9843470000000001,1.93635,null,null,239.88329200000001,1.9881450000000001,2.124501,1.439209,null,null,239.88329200000001,7.0277880000000001,6.7493499999999997,6.3051880000000002,null,null,239.88329200000001,2.7174619999999998,2.8345340000000001,2.775998,null,null,239.88329200000001,4.128298,3.9830909999999999,2.9969579999999998,null,null,239.88329200000001,7.6526100000000001,7.3403419999999997,7.2545149999999996,null,null,239.88329200000001,4.8986599999999996,5.1016950000000003,4.245654,null,null,239.88329200000001,3.782057,3.0728569999999999,3.4859079999999998,null,null,null,239.88329200000001,4.0954873333333337,10.328369666666667,12.041997666666667,12.894807,1.8476916666666667,1.7657379999999998,2.4911596666666669,1.8506183333333333,6.6941086666666676,2.775998,3.702782333333333,7.4158223333333337,4.7486696666666663,3.4469406666666664]
[null,275.42286999999999,4.4015610000000001,3.8254600000000001,3.248856,null,null,275.42286999999999,11.257462,11.809158999999999,10.699033,null,null,275.42286999999999,10.421340000000001,12.62402,12.908652,null,null,null,275.42286999999999,12.62402,11.958057999999999,12.908652,null,null,275.42286999999999,2.056092,1.502537,1.9149080000000001,null,null,275.42286999999999,2.6004040000000002,1.886042,2.212075,null,null,275.42286999999999,2.8178209999999999,3.3079619999999998,2.0774509999999999,null,null,275.42286999999999,2.1823969999999999,2.5586989999999998,1.9476070000000001,null,null,275.42286999999999,7.5441690000000001,7.3022400000000003,6.9190579999999997,null,null,275.42286999999999,3.0408179999999998,3.013245,3.027031,null,null,275.42286999999999,5.0158690000000004,4.7577249999999998,3.688717,null,null,275.42286999999999,8.2129359999999991,8.1391229999999997,8.0650639999999996,null,null,275.42286999999999,4.8250190000000002,4.8097690000000002,4.0416530000000002,null,null,275.42286999999999,3.7004809999999999,3.2815089999999998,3.4852059999999998,null,null,null,275.42286999999999,3.8252923333333335,11.255217999999999,11.984670666666668,12.49691,1.8245123333333335,2.2328403333333333,2.7344113333333335,2.2295676666666666,7.255155666666667,3.0270313333333334,4.4874369999999999,8.1390409999999989,4.5588136666666665,3.489065333333333]
[null,316.22776599999997,3.9696359999999999,3.5470269999999999,3.057458,null,null,316.22776599999997,11.218878,11.664002,11.009819,null,null,316.22776599999997,10.165461000000001,11.135073999999999,11.5098,null,null,null,316.22776599999997,11.135073999999999,10.502470000000001,11.5098,null,null,316.22776599999997,2.0565850000000001,1.8134570000000001,1.8613580000000001,null,null,316.22776599999997,3.304081,2.4645760000000001,2.6752150000000001,null,null,316.22776599999997,3.2261479999999998,3.7759309999999999,2.4003969999999999,null,null,316.22776599999997,2.5477349999999999,3.1903440000000001,2.694121,null,null,316.22776599999997,7.704834,7.5064349999999997,7.223878,null,null,316.22776599999997,3.4258220000000001,3.2253980000000002,3.3256100000000002,null,null,316.22776599999997,5.8768000000000002,5.5384370000000001,4.4937399999999998,null,null,316.22776599999997,8.3735090000000003,8.5344920000000002,8.4726870000000005,null,null,316.22776599999997,4.6249570000000002,4.3596959999999996,3.773231,null,null,316.22776599999997,3.5378370000000001,3.563313,3.4646379999999999,null,null,null,316.22776599999997,3.5247069999999998,11.297566333333334,10.936778333333335,11.049114666666666,1.910466666666667,2.8146240000000002,3.1341586666666665,2.8107333333333333,7.4783823333333332,3.3256099999999997,5.3029923333333331,8.4602293333333325,4.2526280000000005,3.5219293333333339]
[null,363.07805500000001,3.5542129999999998,3.359626,3.0075460000000001,null,null,363.07805500000001,10.355259999999999,10.561804,10.505996,null,null,363.07805500000001,9.2940269999999998,8.8316499999999998,9.2466430000000006,null,null,null,363.07805500000001,8.8316499999999998,8.4215230000000005,9.2466430000000006,null,null,363.07805500000001,2.2042350000000002,2.3396970000000001,2.0312160000000001,null,null,363.07805500000001,4.1591930000000001,3.2239490000000002,3.2296149999999999,null,null,363.07805500000001,3.8393739999999998,4.4381079999999997,3.000721,null,null,363.07805500000001,3.1619739999999998,4.0574130000000004,3.7062219999999999,null,null,363.07805500000001,7.52902,7.3750520000000002,7.2269319999999997,null,null,363.07805500000001,3.913122,3.5281400000000001,3.720631,null,null,363.07805500000001,6.6679180000000002,6.2910250000000003,5.4017059999999999,null,null,363.07805500000001,8.1470090000000006,8.5062990000000003,8.4761039999999994,null,null,363.07805500000001,4.4066619999999999,3.8867219999999998,3.5759129999999999,null,null,363.07805500000001,3.3928090000000002,3.9898009999999999,3.5261809999999998,null,null,null,363.07805500000001,3.307128333333333,10.474353333333333,9.1241066666666679,8.8332720000000009,2.191716,3.5375856666666667,3.759401,3.6418696666666666,7.3770013333333324,3.7206309999999996,6.1202163333333344,8.376470666666668,3.9564323333333333,3.6362636666666663]
[null,416.86938300000003,3.2971759999999999,3.3557839999999999,3.1865350000000001,null,null,416.86938300000003,8.8772920000000006,8.7699800000000003,9.3299160000000008,null,null,416.86938300000003,7.9988580000000002,6.2329189999999999,6.6425970000000003,null,null,null,416.86938300000003,6.2329189999999999,6.0915800000000004,6.6425970000000003,null,null,416.86938300000003,2.581461,3.0926399999999998,2.5017649999999998,null,null,416.86938300000003,5.1107269999999998,4.1465449999999997,3.8952369999999998,null,null,416.86938300000003,4.6516359999999999,5.2667919999999997,3.904954,null,null,416.86938300000003,4.0366049999999998,5.1113520000000001,4.9196879999999998,null,null,416.86938300000003,7.0830289999999998,6.9724459999999997,6.9782479999999998,null,null,416.86938300000003,4.5080070000000001,3.959301,4.2336539999999996,null,null,416.86938300000003,7.3050069999999998,6.9322229999999996,6.3290620000000004,null,null,416.86938300000003,7.5947779999999998,8.0847909999999992,8.1244669999999992,null,null,416.86938300000003,4.286251,3.5506890000000002,3.5824210000000001,null,null,416.86938300000003,3.3783840000000001,4.5847280000000001,3.763245,null,null,null,416.86938300000003,3.2798316666666665,8.9923960000000012,6.9581246666666674,6.3223653333333329,2.7252886666666662,4.3841696666666667,4.6077939999999993,4.6892149999999999,7.0112409999999992,4.2336539999999996,6.8554306666666669,7.9346786666666658,3.8064536666666666,3.9087856666666667]
[null,478.63009199999999,3.2983899999999999,3.5799850000000002,3.630865,null,null,478.63009199999999,7.0540269999999996,6.6334549999999997,7.7179310000000001,null,null,478.63009199999999,6.4881890000000002,3.7846579999999999,4.1509320000000001,null,null,null,478.63009199999999,3.7846579999999999,3.7960739999999999,4.1509320000000001,null,null,478.63009199999999,3.2478050000000001,4.0668470000000001,3.3003650000000002,null,null,478.63009199999999,6.098033,5.2098199999999997,4.704663,null,null,478.63009199999999,5.6197369999999998,6.1920010000000003,5.0869200000000001,null,null,478.63009199999999,5.1440630000000001,6.2738849999999999,6.2488099999999998,null,null,478.63009199999999,6.453551,6.3932180000000001,6.5600949999999996,null,null,478.63009199999999,5.2079589999999998,4.5483609999999999,4.8781600000000003,null,null,478.63009199999999,7.7316260000000003,7.3950379999999996,7.1887049999999997,null,null,478.63009199999999,6.800389,7.3437380000000001,7.5048279999999998,null,null,478.63009199999999,4.3437859999999997,3.4674839999999998,3.8719899999999998,null,null,478.63009199999999,3.585356,5.3348750000000003,4.2353319999999997,null,null,null,478.63009199999999,3.5030800000000002,7.1351376666666662,4.8079263333333335,3.9105546666666662,3.5383390000000006,5.3375053333333327,5.6328860000000001,5.888919333333333,6.468954666666666,4.8781600000000003,7.4384563333333338,7.2163183333333336,3.8944199999999998,4.3851876666666669]
[null,549.54087400000003,3.589518,4.0164609999999996,4.3010659999999996,null,null,549.54087400000003,5.2107239999999999,4.5635880000000002,5.9772290000000003,null,null,549.54087400000003,4.9974420000000004,1.630009,1.988788,null,null,null,549.54087400000003,1.630009,1.8220430000000001,1.988788,null,null,549.54087400000003,4.1923199999999996,5.1908580000000004,4.3579270000000001,null,null,549.54087400000003,7.003552,6.326187,5.6428779999999996,null,null,549.54087400000003,6.6177270000000004,7.0612599999999999,6.4054450000000003,null,null,549.54087400000003,6.3638450000000004,7.387346,7.5283939999999996,null,null,549.54087400000003,5.7454270000000003,5.7519239999999998,6.0686460000000002,null,null,549.54087400000003,5.9622190000000002,5.2775150000000002,5.6198670000000002,null,null,549.54087400000003,7.8907720000000001,7.6048869999999997,7.8505320000000003,null,null,549.54087400000003,5.876093,6.3991550000000004,6.7275559999999999,null,null,549.54087400000003,4.6046950000000004,3.6943779999999999,4.4413020000000003,null,null,549.54087400000003,4.0529070000000003,6.1490289999999996,4.9265990000000004,null,null,null,549.54087400000003,3.9690150000000002,5.2505136666666665,2.8720796666666666,1.8136133333333333,4.5803683333333334,6.3242056666666668,6.6948106666666662,7.0931950000000006,5.8553323333333331,5.6198670000000002,7.7820636666666667,6.3342680000000007,4.2467916666666667,5.0428449999999998]
[null,630.95734400000003,4.1413779999999996,4.5970329999999997,5.1019649999999999,null,null,630.95734400000003,3.5349390000000001,2.7112729999999998,4.3372840000000004,null,null,630.95734400000003,3.6719149999999998,0.351628,0.46692299999999998,null,null,null,630.95734400000003,0.351628,0.294599,0.46692299999999998,null,null,630.95734400000003,5.3479089999999996,6.3752800000000001,5.5445770000000003,null,null,630.95734400000003,7.7174250000000004,7.3979790000000003,6.6691890000000003,null,null,630.95734400000003,7.5026679999999999,7.7132290000000001,7.6747180000000004,null,null,630.95734400000003,7.5483539999999998,8.2976329999999994,8.6040449999999993,null,null,630.95734400000003,5.0267540000000004,5.1287649999999996,5.5688360000000001,null,null,630.95734400000003,6.7072099999999999,6.1002980000000004,6.4037540000000002,null,null,630.95734400000003,7.7599349999999996,7.5227930000000001,8.2100589999999993,null,null,630.95734400000003,4.9088719999999997,5.3546319999999996,5.8758619999999997,null,null,630.95734400000003,5.0307729999999999,4.2039439999999999,5.2080489999999999,null,null,630.95734400000003,4.7568890000000001,6.9071749999999996,5.7569090000000003,null,null,null,630.95734400000003,4.6134586666666664,3.5278320000000001,1.4968219999999999,0.37105000000000005,5.7559220000000009,7.2615310000000006,7.6302050000000001,8.1500106666666667,5.2414516666666664,6.4037540000000002,7.8309290000000003,5.3797886666666663,4.8142553333333327,5.806991]
[null,724.43596000000002,4.8184750000000003,5.2007110000000001,5.8818780000000004,null,null,724.43596000000002,2.0654880000000002,1.3936379999999999,2.9624220000000001,null,null,724.43596000000002,2.6025689999999999,7.1247000000000005E-2,9.1231000000000007E-2,null,null,null,724.43596000000002,7.1247000000000005E-2,0,9.1231000000000007E-2,null,null,724.43596000000002,6.5596889999999997,7.4810410000000003,6.6593869999999997,null,null,724.43596000000002,8.1278410000000001,8.2894520000000007,7.6740820000000003,null,null,724.43596000000002,8.1133710000000008,7.9926029999999999,8.6608660000000004,null,null,724.43596000000002,8.5095709999999993,8.8503939999999997,9.3183229999999995,null,null,724.43596000000002,4.3583470000000002,4.570417,5.0923360000000004,null,null,724.43596000000002,7.3467890000000002,6.9131600000000004,7.129975,null,null,724.43596000000002,7.3482510000000003,7.147659,8.1900289999999991,null,null,724.43596000000002,3.9754040000000002,4.318422,5.0154639999999997,null,null,724.43596000000002,5.5204459999999997,4.8802680000000001,6.010859,null,null,724.43596000000002,5.5909139999999997,7.462828,6.5721740000000004,null,null,null,724.43596000000002,5.3003546666666672,2.1405160000000003,0.92168233333333338,5.4159333333333337E-2,6.9000389999999996,8.0304583333333337,8.2556133333333346,8.8927626666666661,4.6737000000000002,7.1299746666666666,7.5619796666666659,4.4364299999999997,5.4705243333333335,6.5419720000000003]
[null,831.76377100000002,5.533264,5.6893560000000001,6.484642,null,null,831.76377100000002,1.04016,0.71010200000000001,1.903834,null,null,831.76377100000002,1.791766,2.2744E-2,0,null,null,null,831.76377100000002,2.2744E-2,0,0,null,null,831.76377100000002,7.6317620000000002,8.3617939999999997,7.5027840000000001,null,null,831.76377100000002,8.1659480000000002,8.8743730000000003,8.5117399999999996,null,null,831.76377100000002,8.3317589999999999,7.8158459999999996,9.1724610000000002,null,null,831.76377100000002,9.0867579999999997,8.9514060000000004,9.5703399999999998,null,null,831.76377100000002,3.7494010000000002,4.0734909999999998,4.6254400000000002,null,null,831.76377100000002,7.7839869999999998,7.5840310000000004,7.6840099999999998,null,null,831.76377100000002,6.6944400000000002,6.5199720000000001,7.7736789999999996,null,null,831.76377100000002,3.1219809999999999,3.352344,4.1831699999999996,null,null,831.76377100000002,5.9404310000000002,5.5522900000000002,6.663958,null,null,831.76377100000002,6.3965459999999998,7.6990499999999997,7.1979240000000004,null,null,null,831.76377100000002,5.902420666666667,1.218032,0.60483666666666669,7.5813333333333332E-3,7.832113333333333,8.5173536666666667,8.440021999999999,9.2028346666666678,4.1494439999999999,7.684009333333333,6.9960303333333327,3.5524983333333338,6.0522263333333335,7.0978400000000006]
[null,954.99258599999996,6.2543300000000004,5.9298659999999996,6.7745490000000004,null,null,954.99258599999996,0.50180999999999998,0.29010999999999998,1.1472880000000001,null,null,954.99258599999996,1.2149749999999999,2.6355E-2,0,null,null,null,954.99258599999996,2.6355E-2,0,0,null,null,954.99258599999996,8.3501980000000007,8.8671369999999996,7.9107070000000004,null,null,954.99258599999996,7.8117369999999999,9.0448850000000007,9.0122920000000004,null,null,954.99258599999996,8.1001890000000003,7.1922699999999997,9.0996509999999997,null,null,954.99258599999996,9.1670470000000002,8.5768799999999992,9.3202669999999994,null,null,954.99258599999996,3.154852,3.6064210000000001,4.1336269999999997,null,null,954.99258599999996,7.9260460000000004,7.9634029999999996,7.9447239999999999,null,null,954.99258599999996,5.8631229999999999,5.7097639999999998,7.0062889999999998,null,null,954.99258599999996,2.3597480000000002,2.4207990000000001,3.4006419999999999,null,null,954.99258599999996,6.1529959999999999,6.0295579999999998,6.9952779999999999,null,null,954.99258599999996,6.986847,7.547193,7.4744510000000002,null,null,null,954.99258599999996,6.3195816666666671,0.64640266666666668,0.41377666666666663,8.7849999999999994E-3,8.3760139999999996,8.622971333333334,8.1307033333333347,9.0213979999999996,3.6316333333333333,7.9447243333333333,6.1930586666666665,2.7270629999999998,6.3926106666666662,7.3361636666666667]
[null,1096.478196,6.6973570000000002,5.827998,6.6662270000000001,null,null,1096.478196,0.128388,0.16147700000000001,0.645092,null,null,1096.478196,0.80645999999999995,5.8513999999999997E-2,0,null,null,null,1096.478196,5.8513999999999997E-2,0,0,null,null,1096.478196,8.5362349999999996,8.8739849999999993,7.7959550000000002,null,null,1096.478196,7.1012440000000003,8.7383819999999996,9.0263139999999993,null,null,1096.478196,7.4375400000000003,6.2270019999999997,8.4509609999999995,null,null,1096.478196,8.7162690000000005,7.7813650000000001,8.5996590000000008,null,null,1096.478196,2.5299130000000001,3.1359409999999999,3.5866929999999999,null,null,1096.478196,7.7035439999999999,7.9210450000000003,7.8122939999999996,null,null,1096.478196,4.9300699999999997,4.80321,5.9912020000000004,null,null,1096.478196,1.6427909999999999,1.5981590000000001,2.6646200000000002,null,null,1096.478196,6.0524789999999999,6.1523890000000003,6.892862,null,null,1096.478196,7.1918389999999999,7.0033519999999996,7.3025880000000001,null,null,null,1096.478196,6.3971939999999998,0.31165233333333336,0.28832466666666662,1.9504666666666667E-2,8.4020583333333327,8.2886466666666667,7.3718343333333332,8.3657643333333329,3.0841823333333331,7.8122943333333339,5.2414940000000003,1.9685233333333334,6.3659100000000004,7.1659263333333341]
[null,1258.9254120000001,6.590185,5.344068,6.12845,null,null,1258.9254120000001,0,9.4541E-2,0.33587299999999998,null,null,1258.9254120000001,0.45238899999999999,9.2303999999999997E-2,0,null,null,null,1258.9254120000001,9.2303999999999997E-2,0,0,null,null,1258.9254120000001,8.0849320000000002,8.3048959999999994,7.1488129999999996,null,null,1258.9254120000001,6.0976030000000003,7.936337,8.4552080000000007,null,null,1258.9254120000001,6.413405,5.0656319999999999,7.325901,null,null,1258.9254120000001,7.7666909999999998,6.657597,7.4796469999999999,null,null,1258.9254120000001,1.9040969999999999,2.6277729999999999,2.9726219999999999,null,null,1258.9254120000001,7.07036,7.3720829999999999,7.2212209999999999,null,null,1258.9254120000001,3.9347150000000002,3.863753,4.8439940000000004,null,null,1258.9254120000001,1.000821,1.20766,1.9686999999999999,null,null,1258.9254120000001,5.5821389999999997,5.8260969999999999,6.3211870000000001,null,null,1258.9254120000001,6.8914239999999998,6.1091740000000003,6.6559689999999998,null,null,null,1258.9254120000001,6.0209009999999994,0.14347133333333331,0.18156433333333333,3.0768E-2,7.8462136666666673,7.4963826666666664,6.2683126666666666,7.3013116666666669,2.501497333333333,7.2212213333333333,4.2141539999999997,1.3923936666666668,5.9098076666666657,6.5521889999999994]
[null,1445.4397710000001,5.8769669999999996,4.5007520000000003,5.1850379999999996,null,null,1445.4397710000001,0,5.5017999999999997E-2,0.168714,null,null,1445.4397710000001,0.34085700000000002,0.10688400000000001,0,null,null,null,1445.4397710000001,0.10688400000000001,0,0,null,null,1445.4397710000001,6.9864810000000004,7.1458360000000001,6.0251099999999997,null,null,1445.4397710000001,4.8790829999999996,6.6697119999999996,7.2758419999999999,null,null,1445.4397710000001,5.1354769999999998,3.8563179999999999,5.8798320000000004,null,null,1445.4397710000001,6.405017,5.3163179999999999,6.0589009999999996,null,null,1445.4397710000001,1.535315,2.0174810000000001,2.3138450000000002,null,null,1445.4397710000001,6.0151240000000001,6.3025919999999998,6.1588580000000004,null,null,1445.4397710000001,2.9003779999999999,2.910209,3.6659280000000001,null,null,1445.4397710000001,0.64048300000000002,0.87437399999999998,1.313185,null,null,1445.4397710000001,4.7427460000000004,5.0352399999999999,5.3206810000000004,null,null,1445.4397710000001,6.0352329999999998,4.9454960000000003,5.5796609999999998,null,null,null,1445.4397710000001,5.1875856666666662,7.4577333333333329E-2,0.14924700000000002,3.5628E-2,6.7191423333333331,6.2748789999999994,4.9572089999999998,5.9267453333333329,1.9555469999999999,6.1588579999999995,3.1588383333333332,0.94268066666666661,5.0328889999999999,5.5201299999999991]
[null,1659.5869070000001,4.6288020000000003,3.3919899999999998,3.929611,null,null,1659.5869070000001,0,3.2342999999999997E-2,7.8382999999999994E-2,null,null,1659.5869070000001,0.263768,9.2731999999999995E-2,0,null,null,null,1659.5869070000001,9.2731999999999995E-2,0,0,null,null,1659.5869070000001,5.3676769999999996,5.49451,4.5504280000000001,null,null,1659.5869070000001,3.525385,5.0409160000000002,5.5900540000000003,null,null,1659.5869070000001,3.7255250000000002,2.6930130000000001,4.2723899999999997,null,null,1659.5869070000001,4.7625450000000003,3.8608889999999998,4.4504710000000003,null,null,1659.5869070000001,1.127456,1.378115,1.598689,null,null,1659.5869070000001,4.599755,4.8103699999999998,4.7050619999999999,null,null,1659.5869070000001,1.7961,1.9701960000000001,2.5046439999999999,null,null,1659.5869070000001,0.46512199999999998,0.63959600000000005,0.73723899999999998,null,null,1659.5869070000001,3.608482,3.8686189999999998,4.007574,null,null,1659.5869070000001,4.69665,3.618509,4.1935419999999999,null,null,null,1659.5869070000001,3.9834676666666664,3.6908666666666666E-2,0.11883333333333333,3.0910666666666666E-2,5.1375383333333327,4.7187849999999996,3.5636426666666665,4.357968333333333,1.3680866666666667,4.7050623333333332,2.090313333333333,0.61398566666666665,3.8282249999999998,4.1695669999999998]
[null,1905.460718,2.7167780000000001,1.93069,2.25482,null,null,1905.460718,0,1.7295999999999999E-2,3.6783999999999997E-2,null,null,1905.460718,0.14308799999999999,5.4774000000000003E-2,0,null,null,null,1905.460718,5.4774000000000003E-2,0,0,null,null,1905.460718,3.1013190000000002,3.1830039999999999,2.6055030000000001,null,null,1905.460718,1.9134979999999999,2.8909690000000001,3.2349429999999999,null,null,1905.460718,2.0682040000000002,1.464161,2.3892609999999999,null,null,1905.460718,2.7023069999999998,2.1608000000000001,2.5043799999999998,null,null,1905.460718,0.62758400000000003,0.71116100000000004,0.83175600000000005,null,null,1905.460718,2.6599870000000001,2.7692589999999999,2.714623,null,null,1905.460718,0.91691999999999996,0.94389900000000004,1.240038,null,null,1905.460718,0.267262,0.36772700000000003,0.375446,null,null,1905.460718,2.0758670000000001,2.2352280000000002,2.2884799999999998,null,null,1905.460718,2.7385709999999999,2.0301290000000001,2.3787850000000001,null,null,null,1905.460718,2.300762666666667,1.8026666666666667E-2,6.5953999999999999E-2,1.8258E-2,2.9632753333333337,2.6798033333333335,1.9738753333333332,2.4558289999999996,0.72350033333333341,2.714623,1.0336190000000001,0.33681166666666668,2.1998583333333332,2.382495]
[null,2187.7616240000002,0.65585300000000002,0.45749200000000001,0.53828399999999998,null,null,2187.7616240000002,0,0,5.7109999999999999E-3,null,null,2187.7616240000002,3.9553999999999999E-2,1.1996E-2,0,null,null,null,2187.7616240000002,1.1996E-2,0,0,null,null,2187.7616240000002,0.74252399999999996,0.76371699999999998,0.62137299999999995,null,null,2187.7616240000002,0.434668,0.69023599999999996,0.77558099999999996,null,null,2187.7616240000002,0.483099,0.338953,0.56318599999999996,null,null,2187.7616240000002,0.64159500000000003,0.50962700000000005,0.59148999999999996,null,null,2187.7616240000002,0.14837500000000001,0.15599099999999999,0.184168,null,null,2187.7616240000002,0.63803399999999999,0.66184299999999996,0.64993900000000004,null,null,2187.7616240000002,0.217665,0.18388499999999999,0.25378499999999998,null,null,2187.7616240000002,6.2205999999999997E-2,8.6138000000000006E-2,9.4534000000000007E-2,null,null,2187.7616240000002,0.49621399999999999,0.53518900000000003,0.54480099999999998,null,null,2187.7616240000002,0.65904399999999996,0.47896499999999997,0.56173799999999996,null,null,null,2187.7616240000002,0.550543,1.9036666666666666E-3,1.7183333333333332E-2,3.9986666666666669E-3,0.70920466666666659,0.63349499999999992,0.46174599999999999,0.58090399999999998,0.16284466666666667,0.64993866666666666,0.218445,8.0959333333333341E-2,0.52540133333333339,0.5665823333333333]
[null,2511.8864319999998,0,0,0,null,null,2511.8864319999998,0,0,0,null,null,2511.8864319999998,0,0,0,null,null,null,2511.8864319999998,0,0,0,null,null,2511.8864319999998,0,0,0,null,null,2511.8864319999998,0,0,0,null,null,2511.8864319999998,0,0,0,null,null,2511.8864319999998,0,0,0,null,null,2511.8864319999998,0,0,0,null,null,2511.8864319999998,0,0,0,null,null,2511.8864319999998,0,0,0,null,null,2511.8864319999998,0,0,0,null,null,2511.8864319999998,0,0,0,null,null,2511.8864319999998,0,0,0,null,null,null,2511.8864319999998,0,0,0,0,0,0,0,0,0,0,0,0,0,0]
[null,2884.0315030000002,0,0,0,null,null,2884.0315030000002,0,0,0,null,null,2884.0315030000002,0,0,0,null,null,null,2884.0315030000002,0,0,0,null,null,2884.0315030000002,0,0,0,null,null,2884.0315030000002,0,0,0,null,null,2884.0315030000002,0,0,0,null,null,2884.0315030000002,0,0,0,null,null,2884.0315030000002,0,0,0,null,null,2884.0315030000002,0,0,0,null,null,2884.0315030000002,0,0,0,null,null,2884.0315030000002,0,0,0,null,null,2884.0315030000002,0,0,0,null,null,2884.0315030000002,0,0,0,null,null,null,2884.0315030000002,0,0,0,0,0,0,0,0,0,0,0,0,0,0]
[null,3311.3112150000002,0,0,0,null,null,3311.3112150000002,0,0,0,null,null,3311.3112150000002,0,0,0,null,null,null,3311.3112150000002,0,0,0,null,null,3311.3112150000002,0,0,0,null,null,3311.3112150000002,0,0,0,null,null,3311.3112150000002,0,0,0,null,null,3311.3112150000002,0,0,0,null,null,3311.3112150000002,0,0,0,null,null,3311.3112150000002,0,0,0,null,null,3311.3112150000002,0,0,0,null,null,3311.3112150000002,0,0,0,null,null,3311.3112150000002,0,0,0,null,null,3311.3112150000002,0,0,0,null,null,null,3311.3112150000002,0,0,0,0,0,0,0,0,0,0,0,0,0,0]
[null,3801.893963,0,0,0,null,null,3801.893963,0,0,0,null,null,3801.893963,0,0,0,null,null,null,3801.893963,0,0,0,null,null,3801.893963,0,0,0,null,null,3801.893963,0,0,0,null,null,3801.893963,0,0,0,null,null,3801.893963,0,0,0,null,null,3801.893963,0,0,0,null,null,3801.893963,0,0,0,null,null,3801.893963,0,0,0,null,null,3801.893963,0,0,0,null,null,3801.893963,0,0,0,null,null,3801.893963,0,0,0,null,null,null,3801.893963,0,0,0,0,0,0,0,0,0,0,0,0,0,0]
[null,4365.1583220000002,0,0,0,null,null,4365.1583220000002,0,0,0,null,null,4365.1583220000002,0,0,0,null,null,null,4365.1583220000002,0,0,0,null,null,4365.1583220000002,0,0,0,null,null,4365.1583220000002,0,0,0,null,null,4365.1583220000002,0,0,0,null,null,4365.1583220000002,0,0,0,null,null,4365.1583220000002,0,0,0,null,null,4365.1583220000002,0,0,0,null,null,4365.1583220000002,0,0,0,null,null,4365.1583220000002,0,0,0,null,null,4365.1583220000002,0,0,0,null,null,4365.1583220000002,0,0,0,null,null,null,4365.1583220000002,0,0,0,0,0,0,0,0,0,0,0,0,0,0]
[null,5011.8723360000004,0,0,0,null,null,5011.8723360000004,0,0,0,null,null,5011.8723360000004,0,0,0,null,null,null,5011.8723360000004,0,0,0,null,null,5011.8723360000004,0,0,0,null,null,5011.8723360000004,0,0,0,null,null,5011.8723360000004,0,0,0,null,null,5011.8723360000004,0,0,0,null,null,5011.8723360000004,0,0,0,null,null,5011.8723360000004,0,0,0,null,null,5011.8723360000004,0,0,0,null,null,5011.8723360000004,0,0,0,null,null,5011.8723360000004,0,0,0,null,null,5011.8723360000004,0,0,0,null,null,null,5011.8723360000004,0,0,0,0,0,0,0,0,0,0,0,0,0,0]
[null,5754.3993730000002,0,0,0,null,null,5754.3993730000002,0,0,0,null,null,5754.3993730000002,0,0,0,null,null,null,5754.3993730000002,0,0,0,null,null,5754.3993730000002,0,0,0,null,null,5754.3993730000002,0,0,0,null,null,5754.3993730000002,0,0,0,null,null,5754.3993730000002,0,0,0,null,null,5754.3993730000002,0,0,0,null,null,5754.3993730000002,0,0,0,null,null,5754.3993730000002,0,0,0,null,null,5754.3993730000002,0,0,0,null,null,5754.3993730000002,0,0,0,null,null,5754.3993730000002,0,0,0,null,null,null,5754.3993730000002,0,0,0,0,0,0,0,0,0,0,0,0,0,0]
[null,6606.9344799999999,0,0,0,null,null,6606.9344799999999,0,0,0,null,null,6606.9344799999999,0,0,0,null,null,null,6606.9344799999999,0,0,0,null,null,6606.9344799999999,0,0,0,null,null,6606.9344799999999,0,0,0,null,null,6606.9344799999999,0,0,0,null,null,6606.9344799999999,0,0,0,null,null,6606.9344799999999,0,0,0,null,null,6606.9344799999999,0,0,0,null,null,6606.9344799999999,0,0,0,null,null,6606.9344799999999,0,0,0,null,null,6606.9344799999999,0,0,0,null,null,6606.9344799999999,0,0,0,null,null,null,6606.9344799999999,0,0,0,0,0,0,0,0,0,0,0,0,0,0]
[null,7585.7757499999998,0,0,0,null,null,7585.7757499999998,0,0,0,null,null,7585.7757499999998,0,0,0,null,null,null,7585.7757499999998,0,0,0,null,null,7585.7757499999998,0,0,0,null,null,7585.7757499999998,0,0,0,null,null,7585.7757499999998,0,0,0,null,null,7585.7757499999998,0,0,0,null,null,7585.7757499999998,0,0,0,null,null,7585.7757499999998,0,0,0,null,null,7585.7757499999998,0,0,0,null,null,7585.7757499999998,0,0,0,null,null,7585.7757499999998,0,0,0,null,null,7585.7757499999998,0,0,0,null,null,null,7585.7757499999998,0,0,0,0,0,0,0,0,0,0,0,0,0,0]
[null,8709.6358999999993,0,0,0,null,null,8709.6358999999993,0,0,0,null,null,8709.6358999999993,0,0,0,null,null,null,8709.6358999999993,0,0,0,null,null,8709.6358999999993,0,0,0,null,null,8709.6358999999993,0,0,0,null,null,8709.6358999999993,0,0,0,null,null,8709.6358999999993,0,0,0,null,null,8709.6358999999993,0,0,0,null,null,8709.6358999999993,0,0,0,null,null,8709.6358999999993,0,0,0,null,null,8709.6358999999993,0,0,0,null,null,8709.6358999999993,0,0,0,null,null,8709.6358999999993,0,0,0,null,null,null,8709.6358999999993,0,0,0,0,0,0,0,0,0,0,0,0,0,0]
[null,10000,0,0,0,null,null,10000,0,0,0,null,null,10000,0,0,0,null,null,null,10000,0,0,0,null,null,10000,0,0,0,null,null,10000,0,0,0,null,null,10000,0,0,0,null,null,10000,0,0,0,null,null,10000,0,0,0,null,null,10000,0,0,0,null,null,10000,0,0,0,null,null,10000,0,0,0,null,null,10000,0,0,0,null,null,10000,0,0,0,null,null,null,10000,0,0,0,0,0,0,0,0,0,0,0,0,0,0]

{"sheet":"Calculations","index":16,"n_rows":50,"n_cols":12,"rows_kept":50,"cut":false,"hidden":true,"merged":[[0,6,0,7],[16,6,16,7],[26,6,26,7],[35,6,35,7],[0,9,0,10],[16,9,16,10],[26,9,26,10],[35,9,35,10],[0,0,0,1],[16,0,16,1],[26,0,26,1],[35,0,35,1],[0,3,0,4],[16,3,16,4],[26,3,26,4],[35,3,35,4]]}
["Basics",null,null,"Basics",null,null,"Basics",null,null,"Basics"]
[{"$f":"IF('Texture Calculator'!$G$4+1.5*'Texture Calculator'!$E$4<0.15,1,0)","v":1},"((silt + 1.5*clay) < 15)","SAND",{"$f":"IF('Texture Calculator'!$G$5+1.5*'Texture Calculator'!$E$5<0.15,1,0)","v":1},"((silt + 1.5*clay) < 15)","SAND",{"$f":"IF('Texture Calculator'!$G$6+1.5*'Texture Calculator'!$E$6<0.15,1,0)","v":1},"((silt + 1.5*clay) < 15)","SAND",{"$f":"IF('Texture Calculator'!$G$7+1.5*'Texture Calculator'!$E$7<0.15,1,0)","v":1},"((silt + 1.5*clay) < 15)","SAND"]
[{"$f":"IF(AND('Texture Calculator'!$G$4+1.5*'Texture Calculator'!$E$4>=0.15, 'Texture Calculator'!$G$4+2*'Texture Calculator'!$E$4<0.3), 2, 0)","v":0},"((silt + 1.5*clay >= 15) && (silt + 2*clay < 30))","LOAMY SAND",{"$f":"IF(AND('Texture Calculator'!$G$5+1.5*'Texture Calculator'!$E$5>=0.15, 'Texture Calculator'!$G$5+2*'Texture Calculator'!$E$5<0.3), 2, 0)","v":0},"((silt + 1.5*clay >= 15) && (silt + 2*clay < 30))","LOAMY SAND",{"$f":"IF(AND('Texture Calculator'!$G$6+1.5*'Texture Calculator'!$E$6>=0.15, 'Texture Calculator'!$G$6+2*'Texture Calculator'!$E$6<0.3), 2, 0)","v":0},"((silt + 1.5*clay >= 15) && (silt + 2*clay < 30))","LOAMY SAND",{"$f":"IF(AND('Texture Calculator'!$G$7+1.5*'Texture Calculator'!$E$7>=0.15, 'Texture Calculator'!$G$7+2*'Texture Calculator'!$E$7<0.3), 2, 0)","v":0},"((silt + 1.5*clay >= 15) && (silt + 2*clay < 30))","LOAMY SAND"]
[{"$f":"IF(OR(AND('Texture Calculator'!$E$4>=0.07, 'Texture Calculator'!$E$4<0.2,'Texture Calculator'!$C$4>0.52,'Texture Calculator'!$G$4+2*'Texture Calculator'!$E$4>=0.3), AND('Texture Calculator'!$E$4<0.07, 'Texture Calculator'!$G$4<0.5, 'Texture Calculator'!$G$4+2*'Texture Calculator'!$E$4>=0.3)), 3,0)","v":0},"((clay >= 7 && clay < 20) && (sand > 52) && ((silt + 2*clay) >= 30) || (clay < 7 && silt < 50 && (silt+2*clay)>=30))","SANDY LOAM",{"$f":"IF(OR(AND('Texture Calculator'!$E$5>=0.07, 'Texture Calculator'!$E$5<0.2,'Texture Calculator'!$C$5>0.52,'Texture Calculator'!$G$5+2*'Texture Calculator'!$E$5>=0.3), AND('Texture Calculator'!$E$5<0.07, 'Texture Calculator'!$G$5<0.5, 'Texture Calculator'!$G$5+2*'Texture Calculator'!$E$5>=0.3)), 3,0)","v":0},"((clay >= 7 && clay < 20) && (sand > 52) && ((silt + 2*clay) >= 30) || (clay < 7 && silt < 50 && (silt+2*clay)>=30))","SANDY LOAM",{"$f":"IF(OR(AND('Texture Calculator'!$E$6>=0.07, 'Texture Calculator'!$E$6<0.2,'Texture Calculator'!$C$6>0.52,'Texture Calculator'!$G$6+2*'Texture Calculator'!$E$6>=0.3), AND('Texture Calculator'!$E$6<0.07, 'Texture Calculator'!$G$6<0.5, 'Texture Calculator'!$G$6+2*'Texture Calculator'!$E$6>=0.3)), 3,0)","v":0},"((clay >= 7 && clay < 20) && (sand > 52) && ((silt + 2*clay) >= 30) || (clay < 7 && silt < 50 && (silt+2*clay)>=30))","SANDY LOAM",{"$f":"IF(OR(AND('Texture Calculator'!$E$7>=0.07, 'Texture Calculator'!$E$7<0.2,'Texture Calculator'!$C$7>0.52,'Texture Calculator'!$G$7+2*'Texture Calculator'!$E$7>=0.3), AND('Texture Calculator'!$E$7<0.07, 'Texture Calculator'!$G$7<0.5, 'Texture Calculator'!$G$7+2*'Texture Calculator'!$E$7>=0.3)), 3,0)","v":0},"((clay >= 7 && clay < 20) && (sand > 52) && ((silt + 2*clay) >= 30) || (clay < 7 && silt < 50 && (silt+2*clay)>=30))","SANDY LOAM"]
[{"$f":"IF(AND('Texture Calculator'!$E$4>=0.07, 'Texture Calculator'!$E$4<0.27, 'Texture Calculator'!$G$4>=0.28, 'Texture Calculator'!$G$4<0.5, 'Texture Calculator'!$C$4<=0.52), 4, 0)","v":0},"((clay >= 7 && clay < 27) && (silt >= 28 && silt < 50) && (sand <= 52))","LOAM",{"$f":"IF(AND('Texture Calculator'!$E$5>=0.07, 'Texture Calculator'!$E$5<0.27, 'Texture Calculator'!$G$5>=0.28, 'Texture Calculator'!$G$5<0.5, 'Texture Calculator'!$C$5<=0.52), 4, 0)","v":0},"((clay >= 7 && clay < 27) && (silt >= 28 && silt < 50) && (sand <= 52))","LOAM",{"$f":"IF(AND('Texture Calculator'!$E$6>=0.07, 'Texture Calculator'!$E$6<0.27, 'Texture Calculator'!$G$6>=0.28, 'Texture Calculator'!$G$6<0.5, 'Texture Calculator'!$C$6<=0.52), 4, 0)","v":0},"((clay >= 7 && clay < 27) && (silt >= 28 && silt < 50) && (sand <= 52))","LOAM",{"$f":"IF(AND('Texture Calculator'!$E$7>=0.07, 'Texture Calculator'!$E$7<0.27, 'Texture Calculator'!$G$7>=0.28, 'Texture Calculator'!$G$7<0.5, 'Texture Calculator'!$C$7<=0.52), 4, 0)","v":0},"((clay >= 7 && clay < 27) && (silt >= 28 && silt < 50) && (sand <= 52))","LOAM"]
[{"$f":"IF(OR(AND('Texture Calculator'!$G$4>=0.5, 'Texture Calculator'!$E$4>=0.12,'Texture Calculator'!$E$4<0.27), AND('Texture Calculator'!$G$4>=0.5,'Texture Calculator'!$G$4<0.8,'Texture Calculator'!$E$4<0.12)), 5,0)","v":0},"((silt >= 50 && (clay >= 12 && clay < 27)) || ((silt >= 50 && silt < 80) && clay < 12))","SILT LOAM",{"$f":"IF(OR(AND('Texture Calculator'!$G$5>=0.5, 'Texture Calculator'!$E$5>=0.12,'Texture Calculator'!$E$5<0.27), AND('Texture Calculator'!$G$5>=0.5,'Texture Calculator'!$G$5<0.8,'Texture Calculator'!$E$5<0.12)), 5,0)","v":0},"((silt >= 50 && (clay >= 12 && clay < 27)) || ((silt >= 50 && silt < 80) && clay < 12))","SILT LOAM",{"$f":"IF(OR(AND('Texture Calculator'!$G$6>=0.5, 'Texture Calculator'!$E$6>=0.12,'Texture Calculator'!$E$6<0.27), AND('Texture Calculator'!$G$6>=0.5,'Texture Calculator'!$G$6<0.8,'Texture Calculator'!$E$6<0.12)), 5,0)","v":0},"((silt >= 50 && (clay >= 12 && clay < 27)) || ((silt >= 50 && silt < 80) && clay < 12))","SILT LOAM",{"$f":"IF(OR(AND('Texture Calculator'!$G$7>=0.5, 'Texture Calculator'!$E$7>=0.12,'Texture Calculator'!$E$7<0.27), AND('Texture Calculator'!$G$7>=0.5,'Texture Calculator'!$G$7<0.8,'Texture Calculator'!$E$7<0.12)), 5,0)","v":0},"((silt >= 50 && (clay >= 12 && clay < 27)) || ((silt >= 50 && silt < 80) && clay < 12))","SILT LOAM"]
[{"$f":"IF(AND('Texture Calculator'!$G$4>=0.8, 'Texture Calculator'!$E$4<0.12), 6, 0)","v":0},"(silt >= 80 && clay < 12)","SILT",{"$f":"IF(AND('Texture Calculator'!$G$5>=0.8, 'Texture Calculator'!$E$5<0.12), 6, 0)","v":0},"(silt >= 80 && clay < 12)","SILT",{"$f":"IF(AND('Texture Calculator'!$G$6>=0.8, 'Texture Calculator'!$E$6<0.12), 6, 0)","v":0},"(silt >= 80 && clay < 12)","SILT",{"$f":"IF(AND('Texture Calculator'!$G$7>=0.8, 'Texture Calculator'!$E$7<0.12), 6, 0)","v":0},"(silt >= 80 && clay < 12)","SILT"]
[{"$f":"IF(AND('Texture Calculator'!$E$4>=0.2, 'Texture Calculator'!$E$4<0.35, 'Texture Calculator'!$G$4<0.28, 'Texture Calculator'!$C$4>0.45), 7, 0)","v":0},"((clay >= 20 && clay < 35) && (silt < 28) && (sand > 45)) ","SANDY CLAY LOAM",{"$f":"IF(AND('Texture Calculator'!$E$5>=0.2, 'Texture Calculator'!$E$5<0.35, 'Texture Calculator'!$G$5<0.28, 'Texture Calculator'!$C$5>0.45), 7, 0)","v":0},"((clay >= 20 && clay < 35) && (silt < 28) && (sand > 45)) ","SANDY CLAY LOAM",{"$f":"IF(AND('Texture Calculator'!$E$6>=0.2, 'Texture Calculator'!$E$6<0.35, 'Texture Calculator'!$G$6<0.28, 'Texture Calculator'!$C$6>0.45), 7, 0)","v":0},"((clay >= 20 && clay < 35) && (silt < 28) && (sand > 45)) ","SANDY CLAY LOAM",{"$f":"IF(AND('Texture Calculator'!$E$7>=0.2, 'Texture Calculator'!$E$7<0.35, 'Texture Calculator'!$G$7<0.28, 'Texture Calculator'!$C$7>0.45), 7, 0)","v":0},"((clay >= 20 && clay < 35) && (silt < 28) && (sand > 45)) ","SANDY CLAY LOAM"]
[{"$f":"IF(AND('Texture Calculator'!$E$4>=0.27, 'Texture Calculator'!$E$4<0.4, 'Texture Calculator'!$C$4>0.2, 'Texture Calculator'!$C$4<=0.45), 8, 0)","v":0},"((clay >= 27 && clay < 40) && (sand > 20 && sand <= 45))","CLAY LOAM",{"$f":"IF(AND('Texture Calculator'!$E$5>=0.27, 'Texture Calculator'!$E$5<0.4, 'Texture Calculator'!$C$5>0.2, 'Texture Calculator'!$C$5<=0.45), 8, 0)","v":0},"((clay >= 27 && clay < 40) && (sand > 20 && sand <= 45))","CLAY LOAM",{"$f":"IF(AND('Texture Calculator'!$E$6>=0.27, 'Texture Calculator'!$E$6<0.4, 'Texture Calculator'!$C$6>0.2, 'Texture Calculator'!$C$6<=0.45), 8, 0)","v":0},"((clay >= 27 && clay < 40) && (sand > 20 && sand <= 45))","CLAY LOAM",{"$f":"IF(AND('Texture Calculator'!$E$7>=0.27, 'Texture Calculator'!$E$7<0.4, 'Texture Calculator'!$C$7>0.2, 'Texture Calculator'!$C$7<=0.45), 8, 0)","v":0},"((clay >= 27 && clay < 40) && (sand > 20 && sand <= 45))","CLAY LOAM"]
[{"$f":"IF(AND('Texture Calculator'!$E$4>=0.27, 'Texture Calculator'!$E$4<0.4, 'Texture Calculator'!$C$4<=0.2), 9, 0)","v":0},"((clay >= 27 && clay < 40) && (sand  <= 20))","SILTY CLAY LOAM",{"$f":"IF(AND('Texture Calculator'!$E$5>=0.27, 'Texture Calculator'!$E$5<0.4, 'Texture Calculator'!$C$5<=0.2), 9, 0)","v":0},"((clay >= 27 && clay < 40) && (sand  <= 20))","SILTY CLAY LOAM",{"$f":"IF(AND('Texture Calculator'!$E$6>=0.27, 'Texture Calculator'!$E$6<0.4, 'Texture Calculator'!$C$6<=0.2), 9, 0)","v":0},"((clay >= 27 && clay < 40) && (sand  <= 20))","SILTY CLAY LOAM",{"$f":"IF(AND('Texture Calculator'!$E$7>=0.27, 'Texture Calculator'!$E$7<0.4, 'Texture Calculator'!$C$7<=0.2), 9, 0)","v":0},"((clay >= 27 && clay < 40) && (sand  <= 20))","SILTY CLAY LOAM"]
[{"$f":"IF(AND('Texture Calculator'!$E$4>=0.35, 'Texture Calculator'!$C$4>0.45), 10, 0)","v":0},"(clay >= 35 && sand > 45)","SANDY CLAY",{"$f":"IF(AND('Texture Calculator'!$E$5>=0.35, 'Texture Calculator'!$C$5>0.45), 10, 0)","v":0},"(clay >= 35 && sand > 45)","SANDY CLAY",{"$f":"IF(AND('Texture Calculator'!$E$6>=0.35, 'Texture Calculator'!$C$6>0.45), 10, 0)","v":0},"(clay >= 35 && sand > 45)","SANDY CLAY",{"$f":"IF(AND('Texture Calculator'!$E$7>=0.35, 'Texture Calculator'!$C$7>0.45), 10, 0)","v":0},"(clay >= 35 && sand > 45)","SANDY CLAY"]
[{"$f":"IF(AND('Texture Calculator'!$E$4>=0.4, 'Texture Calculator'!$G$4>=0.4), 11, 0)","v":0},"(clay >= 40 && silt >= 40)","SILTY CLAY",{"$f":"IF(AND('Texture Calculator'!$E$5>=0.4, 'Texture Calculator'!$G$5>=0.4), 11, 0)","v":0},"(clay >= 40 && silt >= 40)","SILTY CLAY",{"$f":"IF(AND('Texture Calculator'!$E$6>=0.4, 'Texture Calculator'!$G$6>=0.4), 11, 0)","v":0},"(clay >= 40 && silt >= 40)","SILTY CLAY",{"$f":"IF(AND('Texture Calculator'!$E$7>=0.4, 'Texture Calculator'!$G$7>=0.4), 11, 0)","v":0},"(clay >= 40 && silt >= 40)","SILTY CLAY"]
[{"$f":"IF(AND('Texture Calculator'!$E$4>=0.4, 'Texture Calculator'!$C$4<=0.45,'Texture Calculator'!$G$4<0.4), 12, 0)","v":0},"(clay >= 40 && sand <= 45 && silt < 40)","CLAY",{"$f":"IF(AND('Texture Calculator'!$E$5>=0.4, 'Texture Calculator'!$C$5<=0.45,'Texture Calculator'!$G$5<0.4), 12, 0)","v":0},"(clay >= 40 && sand <= 45 && silt < 40)","CLAY",{"$f":"IF(AND('Texture Calculator'!$E$6>=0.4, 'Texture Calculator'!$C$6<=0.45,'Texture Calculator'!$G$6<0.4), 12, 0)","v":0},"(clay >= 40 && sand <= 45 && silt < 40)","CLAY",{"$f":"IF(AND('Texture Calculator'!$E$7>=0.4, 'Texture Calculator'!$C$7<=0.45,'Texture Calculator'!$G$7<0.4), 12, 0)","v":0},"(clay >= 40 && sand <= 45 && silt < 40)","CLAY"]
[{"$f":"SUM(A2:A13)","v":1},null,null,{"$f":"SUM(D2:D13)","v":1},null,null,{"$f":"SUM(G2:G13)","v":1},null,null,{"$f":"SUM(J2:J13)","v":1}]
[]
[]
["Sand",null,null,"Sand",null,null,"Sand",null,null,"Sand"]
[{"$f":"IF(AND(SUM('Texture Calculator'!$C$13:$C$16)='Texture Calculator'!$C$4, 'Texture Calculator'!$C$13+'Texture Calculator'!$C$14>=0.25, 'Texture Calculator'!$C$15<0.5, 'Texture Calculator'!$C$16<0.5, 'Texture Calculator'!#REF!<0.5), 1, 0)","v":{"$error":"#REF!"}},"vcscs >= 25 && ms < 50 && fs < 50 && vfs < 50","COARSE SAND",{"$f":"IF(AND(SUM('Texture Calculator'!$C$17:$C$31)='Texture Calculator'!$C$5, 'Texture Calculator'!#REF!+'Texture Calculator'!#REF!>=0.25, 'Texture Calculator'!#REF!<0.5, 'Texture Calculator'!#REF!<0.5, 'Texture Calculator'!$C$31<0.5), 1, 0)","v":{"$error":"#REF!"}},"vcscs >= 25 && ms < 50 && fs < 50 && vfs < 50","COARSE SAND",{"$f":"IF(AND(SUM('Texture Calculator'!$C$36:$C$40)='Texture Calculator'!$C$6, 'Texture Calculator'!#REF!+'Texture Calculator'!$C$37>=0.25, 'Texture Calculator'!$C$38<0.5, 'Texture Calculator'!$C$39<0.5, 'Texture Calculator'!$C$40<0.5), 1, 0)","v":{"$error":"#REF!"}},"vcscs >= 25 && ms < 50 && fs < 50 && vfs < 50","COARSE SAND",{"$f":"IF(AND(SUM('Texture Calculator'!$C$45:$C$59)='Texture Calculator'!$C$7, 'Texture Calculator'!$C$45+'Texture Calculator'!$C$46>=0.25, 'Texture Calculator'!$C$57<0.5, 'Texture Calculator'!$C$58<0.5, 'Texture Calculator'!$C$59<0.5), 1, 0)","v":0},"vcscs >= 25 && ms < 50 && fs < 50 && vfs < 50","COARSE SAND"]
[{"$f":"IF(AND(SUM('Texture Calculator'!$C$13:$C$16)='Texture Calculator'!$C$4,SUM($A$18) = 0, 'Texture Calculator'!$C$13+'Texture Calculator'!$C$14+'Texture Calculator'!$C$15>=0.25, 'Texture Calculator'!$C$13+'Texture Calculator'!$C$14<0.25, 'Texture Calculator'!$C$16<0.5,'Texture Calculator'!#REF!<0.5), 2, 0)","v":{"$error":"#REF!"}},"vcscsms >= 25 && vcscs < 25 && fs < 50 && vfs < 50","SAND",{"$f":"IF(AND(SUM('Texture Calculator'!$C$17:$C$31)='Texture Calculator'!$C$5,SUM($D$18) = 0, 'Texture Calculator'!#REF!+'Texture Calculator'!#REF!+'Texture Calculator'!#REF!>=0.25, 'Texture Calculator'!#REF!+'Texture Calculator'!#REF!<0.25, 'Texture Calculator'!#REF!<0.5,'Texture Calculator'!$C$31<0.5), 2, 0)","v":{"$error":"#REF!"}},"vcscsms >= 25 && vcscs < 25 && fs < 50 && vfs < 50","SAND",{"$f":"IF(AND(SUM('Texture Calculator'!$C$36:$C$40)='Texture Calculator'!$C$6,SUM($G$18) = 0, 'Texture Calculator'!#REF!+'Texture Calculator'!$C$37+'Texture Calculator'!$C$38>=0.25, 'Texture Calculator'!#REF!+'Texture Calculator'!$C$37<0.25, 'Texture Calculator'!$C$39<0.5,'Texture Calculator'!$C$40<0.5), 2, 0)","v":{"$error":"#REF!"}},"vcscsms >= 25 && vcscs < 25 && fs < 50 && vfs < 50","SAND",{"$f":"IF(AND(SUM('Texture Calculator'!$C$45:$C$59)='Texture Calculator'!$C$7,SUM($J$18) = 0, 'Texture Calculator'!$C$45+'Texture Calculator'!$C$46+'Texture Calculator'!$C$57>=0.25, 'Texture Calculator'!$C$45+'Texture Calculator'!$C$46<0.25, 'Texture Calculator'!$C$58<0.5,'Texture Calculator'!$C$59<0.5), 2, 0)","v":0},"vcscsms >= 25 && vcscs < 25 && fs < 50 && vfs < 50","SAND"]
[{"$f":"IF(AND(SUM('Texture Calculator'!$C$13:$C$16)='Texture Calculator'!$C$4,SUM($A$18:$A$19) = 0, 'Texture Calculator'!$C$15>=0.5, 'Texture Calculator'!$C$13+'Texture Calculator'!$C$14>=0.25), 3, 0)","v":{"$error":"#REF!"}},"ms >= 50 && vcscs >= 25","SAND",{"$f":"IF(AND(SUM('Texture Calculator'!$C$17:$C$31)='Texture Calculator'!$C$5,SUM($D$18:$D$19) = 0, 'Texture Calculator'!#REF!>=0.5, 'Texture Calculator'!#REF!+'Texture Calculator'!#REF!>=0.25), 3, 0)","v":{"$error":"#REF!"}},"ms >= 50 && vcscs >= 25","SAND",{"$f":"IF(AND(SUM('Texture Calculator'!$C$36:$C$40)='Texture Calculator'!$C$6,SUM($G$18:$G$19) = 0, 'Texture Calculator'!$C$38>=0.5, 'Texture Calculator'!#REF!+'Texture Calculator'!$C$37>=0.25), 3, 0)","v":{"$error":"#REF!"}},"ms >= 50 && vcscs >= 25","SAND",{"$f":"IF(AND(SUM('Texture Calculator'!$C$45:$C$59)='Texture Calculator'!$C$7,SUM($J$18:$J$19) = 0, 'Texture Calculator'!$C$57>=0.5, 'Texture Calculator'!$C$45+'Texture Calculator'!$C$46>=0.25), 3, 0)","v":0},"ms >= 50 && vcscs >= 25","SAND"]
[{"$f":"IF(AND(SUM('Texture Calculator'!$C$13:$C$16)='Texture Calculator'!$C$4,SUM($A$18:$A$20) = 0, 'Texture Calculator'!$C$16>=0.5, 'Texture Calculator'!$C$16>'Texture Calculator'!#REF!), 4, 0)","v":{"$error":"#REF!"}},"fs >= 50 && fs > vfs","FINE SAND",{"$f":"IF(AND(SUM('Texture Calculator'!$C$17:$C$31)='Texture Calculator'!$C$5,SUM($D$18:$D$20) = 0, 'Texture Calculator'!#REF!>=0.5, 'Texture Calculator'!#REF!>'Texture Calculator'!$C$31), 4, 0)","v":{"$error":"#REF!"}},"fs >= 50 && fs > vfs","FINE SAND",{"$f":"IF(AND(SUM('Texture Calculator'!$C$36:$C$40)='Texture Calculator'!$C$6,SUM($G$18:$G$20) = 0, 'Texture Calculator'!$C$39>=0.5, 'Texture Calculator'!$C$39>'Texture Calculator'!$C$40), 4, 0)","v":{"$error":"#REF!"}},"fs >= 50 && fs > vfs","FINE SAND",{"$f":"IF(AND(SUM('Texture Calculator'!$C$45:$C$59)='Texture Calculator'!$C$7,SUM($J$18:$J$20) = 0, 'Texture Calculator'!$C$58>=0.5, 'Texture Calculator'!$C$58>'Texture Calculator'!$C$59), 4, 0)","v":0},"fs >= 50 && fs > vfs","FINE SAND"]
[{"$f":"IF(AND(SUM('Texture Calculator'!$C$13:$C$16)='Texture Calculator'!$C$4,SUM($A$18:$A$21) = 0, 'Texture Calculator'!$C$13+'Texture Calculator'!$C$14+'Texture Calculator'!$C$15<0.25, 'Texture Calculator'!#REF!<0.5), 5, 0)","v":{"$error":"#REF!"}},"vcscsms < 25 && vfs < 50","FINE SAND",{"$f":"IF(AND(SUM('Texture Calculator'!$C$17:$C$31)='Texture Calculator'!$C$5,SUM($D$18:$D$21) = 0, 'Texture Calculator'!#REF!+'Texture Calculator'!#REF!+'Texture Calculator'!#REF!<0.25, 'Texture Calculator'!$C$31<0.5), 5, 0)","v":{"$error":"#REF!"}},"vcscsms < 25 && vfs < 50","FINE SAND",{"$f":"IF(AND(SUM('Texture Calculator'!$C$36:$C$40)='Texture Calculator'!$C$6,SUM($G$18:$G$21) = 0, 'Texture Calculator'!#REF!+'Texture Calculator'!$C$37+'Texture Calculator'!$C$38<0.25, 'Texture Calculator'!$C$40<0.5), 5, 0)","v":{"$error":"#REF!"}},"vcscsms < 25 && vfs < 50","FINE SAND",{"$f":"IF(AND(SUM('Texture Calculator'!$C$45:$C$59)='Texture Calculator'!$C$7,SUM($J$18:$J$21) = 0, 'Texture Calculator'!$C$45+'Texture Calculator'!$C$46+'Texture Calculator'!$C$57<0.25, 'Texture Calculator'!$C$59<0.5), 5, 0)","v":0},"vcscsms < 25 && vfs < 50","FINE SAND"]
[{"$f":"IF(AND(SUM('Texture Calculator'!$C$13:$C$16)='Texture Calculator'!$C$4,SUM($A$18:$A$22) = 0, 'Texture Calculator'!#REF!>=0.5), 6, 0)","v":{"$error":"#REF!"}},"vfs >= 50","VERY FINE SAND",{"$f":"IF(AND(SUM('Texture Calculator'!$C$17:$C$31)='Texture Calculator'!$C$5,SUM($D$18:$D$22) = 0, 'Texture Calculator'!$C$31>=0.5), 6, 0)","v":{"$error":"#REF!"}},"vfs >= 50","VERY FINE SAND",{"$f":"IF(AND(SUM('Texture Calculator'!$C$36:$C$40)='Texture Calculator'!$C$6,SUM($G$18:$G$22) = 0, 'Texture Calculator'!$C$40>=0.5), 6, 0)","v":{"$error":"#REF!"}},"vfs >= 50","VERY FINE SAND",{"$f":"IF(AND(SUM('Texture Calculator'!$C$45:$C$59)='Texture Calculator'!$C$7,SUM($J$18:$J$22) = 0, 'Texture Calculator'!$C$59>=0.5), 6, 0)","v":0},"vfs >= 50","VERY FINE SAND"]
[{"$f":"SUM(A18:A23)+1","v":{"$error":"#REF!"}},null,null,{"$f":"SUM(D18:D23)+1","v":{"$error":"#REF!"}},null,null,{"$f":"SUM(G18:G23)+1","v":{"$error":"#REF!"}},null,null,{"$f":"SUM(J18:J23)+1","v":1}]
[]
[]
["Loam Sand",null,null,"Loam Sand",null,null,"Loam Sand",null,null,"Loam Sand"]
[{"$f":"IF(AND(SUM('Texture Calculator'!$C$13:$C$16)='Texture Calculator'!$C$4, 'Texture Calculator'!$C$13+'Texture Calculator'!$C$14>=0.25, 'Texture Calculator'!$C$15<0.5, 'Texture Calculator'!$C$16<0.5, 'Texture Calculator'!#REF!<0.5), 1, 0)","v":{"$error":"#REF!"}},"vcscs >= 25 && ms < 50 && fs < 50 && vfs < 50","LOAMY COARSE SAND",{"$f":"IF(AND(SUM('Texture Calculator'!$C$17:$C$31)='Texture Calculator'!$C$5, 'Texture Calculator'!#REF!+'Texture Calculator'!#REF!>=0.25, 'Texture Calculator'!#REF!<0.5, 'Texture Calculator'!#REF!<0.5, 'Texture Calculator'!$C$31<0.5), 1, 0)","v":{"$error":"#REF!"}},"vcscs >= 25 && ms < 50 && fs < 50 && vfs < 50","LOAMY COARSE SAND",{"$f":"IF(AND(SUM('Texture Calculator'!$C$36:$C$40)='Texture Calculator'!$C$6, 'Texture Calculator'!#REF!+'Texture Calculator'!$C$37>=0.25, 'Texture Calculator'!$C$38<0.5, 'Texture Calculator'!$C$39<0.5, 'Texture Calculator'!$C$40<0.5), 1, 0)","v":{"$error":"#REF!"}},"vcscs >= 25 && ms < 50 && fs < 50 && vfs < 50","LOAMY COARSE SAND",{"$f":"IF(AND(SUM('Texture Calculator'!$C$45:$C$59)='Texture Calculator'!$C$7, 'Texture Calculator'!$C$45+'Texture Calculator'!$C$46>=0.25, 'Texture Calculator'!$C$57<0.5, 'Texture Calculator'!$C$58<0.5, 'Texture Calculator'!$C$59<0.5), 1, 0)","v":0},"vcscs >= 25 && ms < 50 && fs < 50 && vfs < 50","LOAMY COARSE SAND"]
[{"$f":"IF(AND(SUM('Texture Calculator'!$C$13:$C$16)='Texture Calculator'!$C$4,SUM($A$28) = 0, 'Texture Calculator'!$C$13+'Texture Calculator'!$C$14+'Texture Calculator'!$C$15>=0.25, 'Texture Calculator'!$C$13+'Texture Calculator'!$C$14<0.25, 'Texture Calculator'!$C$16<0.5,'Texture Calculator'!#REF!<0.5), 2, 0)","v":{"$error":"#REF!"}},"vcscsms >= 25 && vcscs < 25 && fs < 50 && vfs < 50","LOAMY SAND",{"$f":"IF(AND(SUM('Texture Calculator'!$C$17:$C$31)='Texture Calculator'!$C$5,SUM($D$28) = 0, 'Texture Calculator'!#REF!+'Texture Calculator'!#REF!+'Texture Calculator'!#REF!>=0.25, 'Texture Calculator'!#REF!+'Texture Calculator'!#REF!<0.25, 'Texture Calculator'!#REF!<0.5,'Texture Calculator'!$C$31<0.5), 2, 0)","v":{"$error":"#REF!"}},"vcscsms >= 25 && vcscs < 25 && fs < 50 && vfs < 50","LOAMY SAND",{"$f":"IF(AND(SUM('Texture Calculator'!$C$36:$C$40)='Texture Calculator'!$C$6,SUM($A$28) = 0, 'Texture Calculator'!$C$13+'Texture Calculator'!$C$14+'Texture Calculator'!$C$15>=0.25, 'Texture Calculator'!$C$13+'Texture Calculator'!$C$14<0.25, 'Texture Calculator'!$C$16<0.5,'Texture Calculator'!#REF!<0.5), 2, 0)","v":{"$error":"#REF!"}},"vcscsms >= 25 && vcscs < 25 && fs < 50 && vfs < 50","LOAMY SAND",{"$f":"IF(AND(SUM('Texture Calculator'!$C$45:$C$59)='Texture Calculator'!$C$7,SUM($J$28) = 0, 'Texture Calculator'!$C$45+'Texture Calculator'!$C$46+'Texture Calculator'!$C$57>=0.25, 'Texture Calculator'!$C$45+'Texture Calculator'!$C$46<0.25, 'Texture Calculator'!$C$58<0.5,'Texture Calculator'!$C$59<0.5), 2, 0)","v":0},"vcscsms >= 25 && vcscs < 25 && fs < 50 && vfs < 50","LOAMY SAND"]
[{"$f":"IF(AND(SUM('Texture Calculator'!$C$13:$C$16)='Texture Calculator'!$C$4,SUM($A$28:$A$29) = 0, 'Texture Calculator'!$C$15>=0.5, 'Texture Calculator'!$C$13+'Texture Calculator'!$C$14>=0.25),3, 0)","v":{"$error":"#REF!"}},"ms >= 50 && vcscs >= 25","LOAMY SAND",{"$f":"IF(AND(SUM('Texture Calculator'!$C$17:$C$31)='Texture Calculator'!$C$5,SUM($D$28:$D$29) = 0, 'Texture Calculator'!#REF!>=0.5, 'Texture Calculator'!#REF!+'Texture Calculator'!#REF!>=0.25),3, 0)","v":{"$error":"#REF!"}},"ms >= 50 && vcscs >= 25","LOAMY SAND",{"$f":"IF(AND(SUM('Texture Calculator'!$C$36:$C$40)='Texture Calculator'!$C$6,SUM($G$28:$G$29) = 0, 'Texture Calculator'!$C$38>=0.5, 'Texture Calculator'!#REF!+'Texture Calculator'!$C$37>=0.25),3, 0)","v":{"$error":"#REF!"}},"ms >= 50 && vcscs >= 25","LOAMY SAND",{"$f":"IF(AND(SUM('Texture Calculator'!$C$45:$C$59)='Texture Calculator'!$C$7,SUM($J$28:$J$29) = 0, 'Texture Calculator'!$C$57>=0.5, 'Texture Calculator'!$C$45+'Texture Calculator'!$C$46>=0.25),3, 0)","v":0},"ms >= 50 && vcscs >= 25","LOAMY SAND"]
[{"$f":"IF(AND(SUM('Texture Calculator'!$C$13:$C$16)='Texture Calculator'!$C$4,SUM($A$28:$A$30) = 0, 'Texture Calculator'!$C$16>=0.5), 4, 0)","v":{"$error":"#REF!"}},"fs >= 50","LOAMY FINE SAND",{"$f":"IF(AND(SUM('Texture Calculator'!$C$17:$C$31)='Texture Calculator'!$C$5,SUM($D$28:$D$30) = 0, 'Texture Calculator'!#REF!>=0.5), 4, 0)","v":{"$error":"#REF!"}},"fs >= 50","LOAMY FINE SAND",{"$f":"IF(AND(SUM('Texture Calculator'!$C$36:$C$40)='Texture Calculator'!$C$6,SUM($G$28:$G$30) = 0, 'Texture Calculator'!$C$39>=0.5), 4, 0)","v":{"$error":"#REF!"}},"fs >= 50","LOAMY FINE SAND",{"$f":"IF(AND(SUM('Texture Calculator'!$C$45:$C$59)='Texture Calculator'!$C$7,SUM($J$28:$J$30) = 0, 'Texture Calculator'!$C$58>=0.5), 4, 0)","v":0},"fs >= 50","LOAMY FINE SAND"]
[{"$f":"IF(AND(SUM('Texture Calculator'!$C$13:$C$16)='Texture Calculator'!$C$4,SUM($A$28:$A$31) = 0, 'Texture Calculator'!$C$13+'Texture Calculator'!$C$14+'Texture Calculator'!$C$15<0.25, 'Texture Calculator'!#REF!<0.5), 5, 0)","v":{"$error":"#REF!"}},"vcscsms < 25 && vfs < 50","LOAMY FINE SAND",{"$f":"IF(AND(SUM('Texture Calculator'!$C$17:$C$31)='Texture Calculator'!$C$5,SUM($D$28:$D$31) = 0, 'Texture Calculator'!#REF!+'Texture Calculator'!#REF!+'Texture Calculator'!#REF!<0.25, 'Texture Calculator'!$C$31<0.5), 5, 0)","v":{"$error":"#REF!"}},"vcscsms < 25 && vfs < 50","LOAMY FINE SAND",{"$f":"IF(AND(SUM('Texture Calculator'!$C$36:$C$40)='Texture Calculator'!$C$6,SUM($G$28:$G$31) = 0, 'Texture Calculator'!#REF!+'Texture Calculator'!$C$37+'Texture Calculator'!$C$38<0.25, 'Texture Calculator'!$C$40<0.5), 5, 0)","v":{"$error":"#REF!"}},"vcscsms < 25 && vfs < 50","LOAMY FINE SAND",{"$f":"IF(AND(SUM('Texture Calculator'!$C$45:$C$59)='Texture Calculator'!$C$7,SUM($J$28:$J$31) = 0, 'Texture Calculator'!$C$45+'Texture Calculator'!$C$46+'Texture Calculator'!$C$57<0.25, 'Texture Calculator'!$C$59<0.5), 5, 0)","v":0},"vcscsms < 25 && vfs < 50","LOAMY FINE SAND"]
[{"$f":"IF(AND(SUM('Texture Calculator'!$C$13:$C$16)='Texture Calculator'!$C$4,SUM($A$28:$A$32) = 0, 'Texture Calculator'!#REF!>=0.5), 6, 0)","v":{"$error":"#REF!"}},"vfs >= 50","LOAMY VERY FINE SAND",{"$f":"IF(AND(SUM('Texture Calculator'!$C$17:$C$31)='Texture Calculator'!$C$5,SUM($D$28:$D$32) = 0, 'Texture Calculator'!$C$31>=0.5), 6, 0)","v":{"$error":"#REF!"}},"vfs >= 50","LOAMY VERY FINE SAND",{"$f":"IF(AND(SUM('Texture Calculator'!$C$36:$C$40)='Texture Calculator'!$C$6,SUM($G$28:$G$32) = 0, 'Texture Calculator'!$C$40>=0.5), 6, 0)","v":{"$error":"#REF!"}},"vfs >= 50","LOAMY VERY FINE SAND",{"$f":"IF(AND(SUM('Texture Calculator'!$C$45:$C$59)='Texture Calculator'!$C$7,SUM($J$28:$J$32) = 0, 'Texture Calculator'!$C$59>=0.5), 6, 0)","v":0},"vfs >= 50","LOAMY VERY FINE SAND"]
[{"$f":"SUM(A28:A33)+1","v":{"$error":"#REF!"}},null,null,{"$f":"SUM(D28:D33)+1","v":{"$error":"#REF!"}},null,null,{"$f":"SUM(G28:G33)+1","v":{"$error":"#REF!"}},null,null,{"$f":"SUM(J28:J33)+1","v":1}]
[]
["Sand Loam",null,null,"Sand Loam",null,null,"Sand Loam",null,null,"Sand Loam"]
[{"$f":"IF(AND(SUM('Texture Calculator'!$C$13:$C$16)='Texture Calculator'!$C$4, 'Texture Calculator'!$C$13+'Texture Calculator'!$C$14>=0.25, 'Texture Calculator'!$C$15<0.5, 'Texture Calculator'!$C$16<0.5, 'Texture Calculator'!#REF!<0.5), 1, 0)","v":{"$error":"#REF!"}},"vcscs >= 25 && ms < 50 && fs < 50 && vfs < 50","COARSE SANDY LOAM",{"$f":"IF(AND(SUM('Texture Calculator'!$C$17:$C$31)='Texture Calculator'!$C$5, 'Texture Calculator'!#REF!+'Texture Calculator'!#REF!>=0.25, 'Texture Calculator'!#REF!<0.5, 'Texture Calculator'!#REF!<0.5, 'Texture Calculator'!$C$31<0.5), 1, 0)","v":{"$error":"#REF!"}},"vcscs >= 25 && ms < 50 && fs < 50 && vfs < 50","COARSE SANDY LOAM",{"$f":"IF(AND(SUM('Texture Calculator'!$C$36:$C$40)='Texture Calculator'!$C$6, 'Texture Calculator'!#REF!+'Texture Calculator'!$C$37>=0.25, 'Texture Calculator'!$C$38<0.5, 'Texture Calculator'!$C$39<0.5, 'Texture Calculator'!$C$40<0.5), 1, 0)","v":{"$error":"#REF!"}},"vcscs >= 25 && ms < 50 && fs < 50 && vfs < 50","COARSE SANDY LOAM",{"$f":"IF(AND(SUM('Texture Calculator'!$C$45:$C$59)='Texture Calculator'!$C$7, 'Texture Calculator'!$C$45+'Texture Calculator'!$C$46>=0.25, 'Texture Calculator'!$C$57<0.5, 'Texture Calculator'!$C$58<0.5, 'Texture Calculator'!$C$59<0.5), 1, 0)","v":0},"vcscs >= 25 && ms < 50 && fs < 50 && vfs < 50","COARSE SANDY LOAM"]
[{"$f":"IF(AND(SUM('Texture Calculator'!$C$13:$C$16)='Texture Calculator'!$C$4,SUM($A$37) = 0,'Texture Calculator'!$C$13+'Texture Calculator'!$C$14+'Texture Calculator'!$C$15>=0.3, 'Texture Calculator'!#REF!>=0.3, 'Texture Calculator'!#REF!<0.5), 2,0)","v":{"$error":"#REF!"}},"vcscsms >= 30 && vfs >= 30 && vfs < 50","COARSE SANDY LOAM",{"$f":"IF(AND(SUM('Texture Calculator'!$C$17:$C$31)='Texture Calculator'!$C$5,SUM($D$37) = 0,'Texture Calculator'!#REF!+'Texture Calculator'!#REF!+'Texture Calculator'!#REF!>=0.3, 'Texture Calculator'!$C$31>=0.3, 'Texture Calculator'!$C$31<0.5), 2,0)","v":{"$error":"#REF!"}},"vcscsms >= 30 && vfs >= 30 && vfs < 50","COARSE SANDY LOAM",{"$f":"IF(AND(SUM('Texture Calculator'!$C$36:$C$40)='Texture Calculator'!$C$6,SUM($G$37) = 0,'Texture Calculator'!#REF!+'Texture Calculator'!$C$37+'Texture Calculator'!$C$38>=0.3, 'Texture Calculator'!$C$40>=0.3, 'Texture Calculator'!$C$40<0.5), 2,0)","v":{"$error":"#REF!"}},"vcscsms >= 30 && vfs >= 30 && vfs < 50","COARSE SANDY LOAM",{"$f":"IF(AND(SUM('Texture Calculator'!$C$45:$C$59)='Texture Calculator'!$C$7,SUM($J$37) = 0,'Texture Calculator'!$C$45+'Texture Calculator'!$C$46+'Texture Calculator'!$C$57>=0.3, 'Texture Calculator'!$C$59>=0.3, 'Texture Calculator'!$C$59<0.5), 2,0)","v":0},"vcscsms >= 30 && vfs >= 30 && vfs < 50","COARSE SANDY LOAM"]
[{"$f":"IF(AND(SUM('Texture Calculator'!$C$13:$C$16)='Texture Calculator'!$C$4,SUM($A$37:$A$38) = 0, 'Texture Calculator'!$C$13+'Texture Calculator'!$C$14+'Texture Calculator'!$C$15>=0.3, 'Texture Calculator'!$C$13+'Texture Calculator'!$C$14<0.25, 'Texture Calculator'!$C$16<0.3,'Texture Calculator'!#REF!<0.3), 3, 0)","v":{"$error":"#REF!"}},"vcscsms >= 30 && vcscs < 25 && fs < 30 && vfs < 30","SANDY LOAM",{"$f":"IF(AND(SUM('Texture Calculator'!$C$17:$C$31)='Texture Calculator'!$C$5,SUM($D$37:$D$38) = 0, 'Texture Calculator'!#REF!+'Texture Calculator'!#REF!+'Texture Calculator'!#REF!>=0.3, 'Texture Calculator'!#REF!+'Texture Calculator'!#REF!<0.25, 'Texture Calculator'!#REF!<0.3,'Texture Calculator'!$C$31<0.3), 3, 0)","v":{"$error":"#REF!"}},"vcscsms >= 30 && vcscs < 25 && fs < 30 && vfs < 30","SANDY LOAM",{"$f":"IF(AND(SUM('Texture Calculator'!$C$36:$C$40)='Texture Calculator'!$C$6,SUM($G$37:$G$38) = 0, 'Texture Calculator'!#REF!+'Texture Calculator'!$C$37+'Texture Calculator'!$C$38>=0.3, 'Texture Calculator'!#REF!+'Texture Calculator'!$C$37<0.25, 'Texture Calculator'!$C$39<0.3,'Texture Calculator'!$C$40<0.3), 3, 0)","v":{"$error":"#REF!"}},"vcscsms >= 30 && vcscs < 25 && fs < 30 && vfs < 30","SANDY LOAM",{"$f":"IF(AND(SUM('Texture Calculator'!$C$45:$C$59)='Texture Calculator'!$C$7,SUM($J$37:$J$38) = 0, 'Texture Calculator'!$C$45+'Texture Calculator'!$C$46+'Texture Calculator'!$C$57>=0.3, 'Texture Calculator'!$C$45+'Texture Calculator'!$C$46<0.25, 'Texture Calculator'!$C$58<0.3,'Texture Calculator'!$C$59<0.3), 3, 0)","v":0},"vcscsms >= 30 && vcscs < 25 && fs < 30 && vfs < 30","SANDY LOAM"]
[{"$f":"IF(AND(SUM('Texture Calculator'!$C$13:$C$16)='Texture Calculator'!$C$4,SUM($A$37:$A$39) = 0,'Texture Calculator'!$C$13+'Texture Calculator'!$C$14+'Texture Calculator'!$C$15<=0.15,'Texture Calculator'!$C$16<0.3,'Texture Calculator'!#REF!<0.3,'Texture Calculator'!$C$16+'Texture Calculator'!#REF!<0.4), 4, 0)","v":{"$error":"#REF!"}},"vcscsms <= 15 && fs < 30 && vfs < 30 && fsvfs < 40","SANDY LOAM",{"$f":"IF(AND(SUM('Texture Calculator'!$C$17:$C$31)='Texture Calculator'!$C$5,SUM($D$37:$D$39) = 0,'Texture Calculator'!#REF!+'Texture Calculator'!#REF!+'Texture Calculator'!#REF!<=0.15,'Texture Calculator'!#REF!<0.3,'Texture Calculator'!$C$31<0.3,'Texture Calculator'!#REF!+'Texture Calculator'!$C$31<0.4), 4, 0)","v":{"$error":"#REF!"}},"vcscsms <= 15 && fs < 30 && vfs < 30 && fsvfs < 40","SANDY LOAM",{"$f":"IF(AND(SUM('Texture Calculator'!$C$36:$C$40)='Texture Calculator'!$C$6,SUM($G$37:$G$39) = 0,'Texture Calculator'!#REF!+'Texture Calculator'!$C$37+'Texture Calculator'!$C$38<=0.15,'Texture Calculator'!$C$39<0.3,'Texture Calculator'!$C$40<0.3,'Texture Calculator'!$C$39+'Texture Calculator'!$C$40<0.4), 4, 0)","v":{"$error":"#REF!"}},"vcscsms <= 15 && fs < 30 && vfs < 30 && fsvfs < 40","SANDY LOAM",{"$f":"IF(AND(SUM('Texture Calculator'!$C$45:$C$59)='Texture Calculator'!$C$7,SUM($J$37:$J$39) = 0,'Texture Calculator'!$C$45+'Texture Calculator'!$C$46+'Texture Calculator'!$C$57<=0.15,'Texture Calculator'!$C$58<0.3,'Texture Calculator'!$C$59<0.3,'Texture Calculator'!$C$58+'Texture Calculator'!$C$59<0.4), 4, 0)","v":0},"vcscsms <= 15 && fs < 30 && vfs < 30 && fsvfs < 40","SANDY LOAM"]
[{"$f":"IF(AND(SUM('Texture Calculator'!$C$13:$C$16)='Texture Calculator'!$C$4,SUM($A$37:$A$40) = 0,'Texture Calculator'!$C$13+'Texture Calculator'!$C$14>=0.25, 'Texture Calculator'!$C$15>=0.5), 5, 0)","v":{"$error":"#REF!"}},"vcscs >= 25 && ms >= 50","SANDY LOAM",{"$f":"IF(AND(SUM('Texture Calculator'!$C$17:$C$31)='Texture Calculator'!$C$5,SUM($D$37:$D$40) = 0,'Texture Calculator'!#REF!+'Texture Calculator'!#REF!>=0.25, 'Texture Calculator'!#REF!>=0.5), 5, 0)","v":{"$error":"#REF!"}},"vcscs >= 25 && ms >= 50","SANDY LOAM",{"$f":"IF(AND(SUM('Texture Calculator'!$C$36:$C$40)='Texture Calculator'!$C$6,SUM($G$37:$G$40) = 0,'Texture Calculator'!#REF!+'Texture Calculator'!$C$37>=0.25, 'Texture Calculator'!$C$38>=0.5), 5, 0)","v":{"$error":"#REF!"}},"vcscs >= 25 && ms >= 50","SANDY LOAM",{"$f":"IF(AND(SUM('Texture Calculator'!$C$45:$C$59)='Texture Calculator'!$C$7,SUM($J$37:$J$40) = 0,'Texture Calculator'!$C$45+'Texture Calculator'!$C$46>=0.25, 'Texture Calculator'!$C$57>=0.5), 5, 0)","v":0},"vcscs >= 25 && ms >= 50","SANDY LOAM"]
[{"$f":"IF(AND(SUM('Texture Calculator'!$C$13:$C$16)='Texture Calculator'!$C$4,SUM($A$37:$A$41) = 0,'Texture Calculator'!$C$16>=0.3,'Texture Calculator'!#REF!<0.3, 'Texture Calculator'!$C$13+'Texture Calculator'!$C$14<0.25), 6, 0)","v":{"$error":"#REF!"}},"fs >= 30 && vfs < 30 && vcscs < 25","FINE SANDY LOAM",{"$f":"IF(AND(SUM('Texture Calculator'!$C$17:$C$31)='Texture Calculator'!$C$5,SUM($D$37:$D$41) = 0,'Texture Calculator'!#REF!>=0.3,'Texture Calculator'!$C$31<0.3, 'Texture Calculator'!#REF!+'Texture Calculator'!#REF!<0.25), 6, 0)","v":{"$error":"#REF!"}},"fs >= 30 && vfs < 30 && vcscs < 25","FINE SANDY LOAM",{"$f":"IF(AND(SUM('Texture Calculator'!$C$36:$C$40)='Texture Calculator'!$C$6,SUM($G$37:$G$41) = 0,'Texture Calculator'!$C$39>=0.3,'Texture Calculator'!$C$40<0.3, 'Texture Calculator'!#REF!+'Texture Calculator'!$C$37<0.25), 6, 0)","v":{"$error":"#REF!"}},"fs >= 30 && vfs < 30 && vcscs < 25","FINE SANDY LOAM",{"$f":"IF(AND(SUM('Texture Calculator'!$C$45:$C$59)='Texture Calculator'!$C$7,SUM($J$37:$J$41) = 0,'Texture Calculator'!$C$58>=0.3,'Texture Calculator'!$C$59<0.3, 'Texture Calculator'!$C$45+'Texture Calculator'!$C$46<0.25), 6, 0)","v":0},"fs >= 30 && vfs < 30 && vcscs < 25","FINE SANDY LOAM"]
[{"$f":"IF(AND(SUM('Texture Calculator'!$C$13:$C$16)='Texture Calculator'!$C$4,SUM($A$37:$A$42) = 0,'Texture Calculator'!$C$13+'Texture Calculator'!$C$14+'Texture Calculator'!$C$15>=0.15, 'Texture Calculator'!$C$13+'Texture Calculator'!$C$14+'Texture Calculator'!$C$15<0.3, 'Texture Calculator'!$C$13+'Texture Calculator'!$C$14<0.25), 7, 0)","v":{"$error":"#REF!"}},"vcscsms >= 15 && vcscsms < 30 && vcscs < 25","FINE SANDY LOAM",{"$f":"IF(AND(SUM('Texture Calculator'!$C$17:$C$31)='Texture Calculator'!$C$5,SUM($D$37:$D$42) = 0,'Texture Calculator'!#REF!+'Texture Calculator'!#REF!+'Texture Calculator'!#REF!>=0.15, 'Texture Calculator'!#REF!+'Texture Calculator'!#REF!+'Texture Calculator'!#REF!<0.3, 'Texture Calculator'!#REF!+'Texture Calculator'!#REF!<0.25), 7, 0)","v":{"$error":"#REF!"}},"vcscsms >= 15 && vcscsms < 30 && vcscs < 25","FINE SANDY LOAM",{"$f":"IF(AND(SUM('Texture Calculator'!$C$36:$C$40)='Texture Calculator'!$C$6,SUM($G$37:$G$42) = 0,'Texture Calculator'!#REF!+'Texture Calculator'!$C$37+'Texture Calculator'!$C$38>=0.15, 'Texture Calculator'!#REF!+'Texture Calculator'!$C$37+'Texture Calculator'!$C$38<0.3, 'Texture Calculator'!#REF!+'Texture Calculator'!$C$37<0.25), 7, 0)","v":{"$error":"#REF!"}},"vcscsms >= 15 && vcscsms < 30 && vcscs < 25","FINE SANDY LOAM",{"$f":"IF(AND(SUM('Texture Calculator'!$C$45:$C$59)='Texture Calculator'!$C$7,SUM($J$37:$J$42) = 0,'Texture Calculator'!$C$45+'Texture Calculator'!$C$46+'Texture Calculator'!$C$57>=0.15, 'Texture Calculator'!$C$45+'Texture Calculator'!$C$46+'Texture Calculator'!$C$57<0.3, 'Texture Calculator'!$C$45+'Texture Calculator'!$C$46<0.25), 7, 0)","v":0},"vcscsms >= 15 && vcscsms < 30 && vcscs < 25","FINE SANDY LOAM"]
[{"$f":"IF(AND(SUM('Texture Calculator'!$C$13:$C$16)='Texture Calculator'!$C$4,SUM($A$37:$A$43) = 0,'Texture Calculator'!$C$16+'Texture Calculator'!#REF!>=0.4, 'Texture Calculator'!$C$16>='Texture Calculator'!#REF!, 'Texture Calculator'!$C$13+'Texture Calculator'!$C$14+'Texture Calculator'!$C$15<=0.15), 8, 0)","v":{"$error":"#REF!"}},"fsvfs >= 40 && fs >= vfs && vcscsms <= 15","FINE SANDY LOAM",{"$f":"IF(AND(SUM('Texture Calculator'!$C$17:$C$31)='Texture Calculator'!$C$5,SUM($D$37:$D$43) = 0,'Texture Calculator'!#REF!+'Texture Calculator'!$C$31>=0.4, 'Texture Calculator'!#REF!>='Texture Calculator'!$C$31, 'Texture Calculator'!#REF!+'Texture Calculator'!#REF!+'Texture Calculator'!#REF!<=0.15), 8, 0)","v":{"$error":"#REF!"}},"fsvfs >= 40 && fs >= vfs && vcscsms <= 15","FINE SANDY LOAM",{"$f":"IF(AND(SUM('Texture Calculator'!$C$36:$C$40)='Texture Calculator'!$C$6,SUM($G$37:$G$43) = 0,'Texture Calculator'!$C$39+'Texture Calculator'!$C$40>=0.4, 'Texture Calculator'!$C$39>='Texture Calculator'!$C$40, 'Texture Calculator'!#REF!+'Texture Calculator'!$C$37+'Texture Calculator'!$C$38<=0.15), 8, 0)","v":{"$error":"#REF!"}},"fsvfs >= 40 && fs >= vfs && vcscsms <= 15","FINE SANDY LOAM",{"$f":"IF(AND(SUM('Texture Calculator'!$C$45:$C$59)='Texture Calculator'!$C$7,SUM($J$37:$J$43) = 0,'Texture Calculator'!$C$58+'Texture Calculator'!$C$59>=0.4, 'Texture Calculator'!$C$58>='Texture Calculator'!$C$59, 'Texture Calculator'!$C$45+'Texture Calculator'!$C$46+'Texture Calculator'!$C$57<=0.15), 8, 0)","v":0},"fsvfs >= 40 && fs >= vfs && vcscsms <= 15","FINE SANDY LOAM"]
[{"$f":"IF(AND(SUM('Texture Calculator'!$C$13:$C$16)='Texture Calculator'!$C$4,SUM($A$37:$A$44) = 0,'Texture Calculator'!$C$13+'Texture Calculator'!$C$14>=0.25, 'Texture Calculator'!$C$16>=0.5), 9, 0)","v":{"$error":"#REF!"}},"vcscs >= 25 && fs >= 50","FINE SANDY LOAM",{"$f":"IF(AND(SUM('Texture Calculator'!$C$17:$C$31)='Texture Calculator'!$C$5,SUM($D$37:$D$44) = 0,'Texture Calculator'!#REF!+'Texture Calculator'!#REF!>=0.25, 'Texture Calculator'!#REF!>=0.5), 9, 0)","v":{"$error":"#REF!"}},"vcscs >= 25 && fs >= 50","FINE SANDY LOAM",{"$f":"IF(AND(SUM('Texture Calculator'!$C$36:$C$40)='Texture Calculator'!$C$6,SUM($G$37:$G$44) = 0,'Texture Calculator'!#REF!+'Texture Calculator'!$C$37>=0.25, 'Texture Calculator'!$C$39>=0.5), 9, 0)","v":{"$error":"#REF!"}},"vcscs >= 25 && fs >= 50","FINE SANDY LOAM",{"$f":"IF(AND(SUM('Texture Calculator'!$C$45:$C$59)='Texture Calculator'!$C$7,SUM($J$37:$J$44) = 0,'Texture Calculator'!$C$45+'Texture Calculator'!$C$46>=0.25, 'Texture Calculator'!$C$58>=0.5), 9, 0)","v":0},"vcscs >= 25 && fs >= 50","FINE SANDY LOAM"]
[{"$f":"IF(AND(SUM('Texture Calculator'!$C$13:$C$16)='Texture Calculator'!$C$4,SUM($A$37:$A$45) = 0,'Texture Calculator'!#REF!>=0.3, 'Texture Calculator'!$C$13+'Texture Calculator'!$C$14+'Texture Calculator'!$C$15<0.15, 'Texture Calculator'!#REF!>'Texture Calculator'!$C$16), 10, 0)","v":{"$error":"#REF!"}},"vfs >= 30 && vcscsms < 15 && vfs > fs","VERY FINE SANDY LOAM",{"$f":"IF(AND(SUM('Texture Calculator'!$C$17:$C$31)='Texture Calculator'!$C$5,SUM($D$37:$D$45) = 0,'Texture Calculator'!$C$31>=0.3, 'Texture Calculator'!#REF!+'Texture Calculator'!#REF!+'Texture Calculator'!#REF!<0.15, 'Texture Calculator'!$C$31>'Texture Calculator'!#REF!), 10, 0)","v":{"$error":"#REF!"}},"vfs >= 30 && vcscsms < 15 && vfs > fs","VERY FINE SANDY LOAM",{"$f":"IF(AND(SUM('Texture Calculator'!$C$36:$C$40)='Texture Calculator'!$C$6,SUM($G$37:$G$45) = 0,'Texture Calculator'!$C$40>=0.3, 'Texture Calculator'!#REF!+'Texture Calculator'!$C$37+'Texture Calculator'!$C$38<0.15, 'Texture Calculator'!$C$40>'Texture Calculator'!$C$39), 10, 0)","v":{"$error":"#REF!"}},"vfs >= 30 && vcscsms < 15 && vfs > fs","VERY FINE SANDY LOAM",{"$f":"IF(AND(SUM('Texture Calculator'!$C$45:$C$59)='Texture Calculator'!$C$7,SUM($J$37:$J$45) = 0,'Texture Calculator'!$C$59>=0.3, 'Texture Calculator'!$C$45+'Texture Calculator'!$C$46+'Texture Calculator'!$C$57<0.15, 'Texture Calculator'!$C$59>'Texture Calculator'!$C$58), 10, 0)","v":0},"vfs >= 30 && vcscsms < 15 && vfs > fs","VERY FINE SANDY LOAM"]
[{"$f":"IF(AND(SUM('Texture Calculator'!$C$13:$C$16)='Texture Calculator'!$C$4,SUM($A$37:$A$46) = 0,'Texture Calculator'!$C$16+'Texture Calculator'!#REF!>=0.4, 'Texture Calculator'!#REF!>'Texture Calculator'!$C$16, 'Texture Calculator'!$C$13+'Texture Calculator'!$C$14+'Texture Calculator'!$C$15<15), 11, 0)","v":{"$error":"#REF!"}},"fsvfs >= 40 && vfs > fs && vcscsms < 15","VERY FINE SANDY LOAM",{"$f":"IF(AND(SUM('Texture Calculator'!$C$17:$C$31)='Texture Calculator'!$C$5,SUM($D$37:$D$46) = 0,'Texture Calculator'!#REF!+'Texture Calculator'!$C$31>=0.4, 'Texture Calculator'!$C$31>'Texture Calculator'!#REF!, 'Texture Calculator'!#REF!+'Texture Calculator'!#REF!+'Texture Calculator'!#REF!<15), 11, 0)","v":{"$error":"#REF!"}},"fsvfs >= 40 && vfs > fs && vcscsms < 15","VERY FINE SANDY LOAM",{"$f":"IF(AND(SUM('Texture Calculator'!$C$36:$C$40)='Texture Calculator'!$C$6,SUM($G$37:$G$46) = 0,'Texture Calculator'!$C$39+'Texture Calculator'!$C$40>=0.4, 'Texture Calculator'!$C$40>'Texture Calculator'!$C$39, 'Texture Calculator'!#REF!+'Texture Calculator'!$C$37+'Texture Calculator'!$C$38<15), 11, 0)","v":{"$error":"#REF!"}},"fsvfs >= 40 && vfs > fs && vcscsms < 15","VERY FINE SANDY LOAM",{"$f":"IF(AND(SUM('Texture Calculator'!$C$45:$C$59)='Texture Calculator'!$C$7,SUM($J$37:$J$46) = 0,'Texture Calculator'!$C$58+'Texture Calculator'!$C$59>=0.4, 'Texture Calculator'!$C$59>'Texture Calculator'!$C$58, 'Texture Calculator'!$C$45+'Texture Calculator'!$C$46+'Texture Calculator'!$C$57<15), 11, 0)","v":0},"fsvfs >= 40 && vfs > fs && vcscsms < 15","VERY FINE SANDY LOAM"]
[{"$f":"IF(AND(SUM('Texture Calculator'!$C$13:$C$16)='Texture Calculator'!$C$4,SUM($A$37:$A$47) = 0,'Texture Calculator'!$C$13+'Texture Calculator'!$C$14>=0.25, 'Texture Calculator'!#REF!>=0.5), 12, 0)","v":{"$error":"#REF!"}},"vcscs >= 25 && vfs >= 50","VERY FINE SANDY LOAM",{"$f":"IF(AND(SUM('Texture Calculator'!$C$17:$C$31)='Texture Calculator'!$C$5,SUM($D$37:$D$47) = 0,'Texture Calculator'!#REF!+'Texture Calculator'!#REF!>=0.25, 'Texture Calculator'!$C$31>=0.5), 12, 0)","v":{"$error":"#REF!"}},"vcscs >= 25 && vfs >= 50","VERY FINE SANDY LOAM",{"$f":"IF(AND(SUM('Texture Calculator'!$C$36:$C$40)='Texture Calculator'!$C$6,SUM($G$37:$G$47) = 0,'Texture Calculator'!#REF!+'Texture Calculator'!$C$37>=0.25, 'Texture Calculator'!$C$40>=0.5), 12, 0)","v":{"$error":"#REF!"}},"vcscs >= 25 && vfs >= 50","VERY FINE SANDY LOAM",{"$f":"IF(AND(SUM('Texture Calculator'!$C$45:$C$59)='Texture Calculator'!$C$7,SUM($J$37:$J$47) = 0,'Texture Calculator'!$C$45+'Texture Calculator'!$C$46>=0.25, 'Texture Calculator'!$C$59>=0.5), 12, 0)","v":0},"vcscs >= 25 && vfs >= 50","VERY FINE SANDY LOAM"]
[{"$f":"IF(AND(SUM('Texture Calculator'!$C$13:$C$16)='Texture Calculator'!$C$4,SUM($A$37:$A$48) = 0,'Texture Calculator'!$C$13+'Texture Calculator'!$C$14+'Texture Calculator'!$C$15>=0.3, 'Texture Calculator'!#REF!>=0.5), 13,0)","v":{"$error":"#REF!"}},"vcscsms >= 30 && vfs >= 50","VERY FINE SANDY LOAM",{"$f":"IF(AND(SUM('Texture Calculator'!$C$17:$C$31)='Texture Calculator'!$C$5,SUM($D$37:$D$48) = 0,'Texture Calculator'!#REF!+'Texture Calculator'!#REF!+'Texture Calculator'!#REF!>=0.3, 'Texture Calculator'!$C$31>=0.5), 13,0)","v":{"$error":"#REF!"}},"vcscsms >= 30 && vfs >= 50","VERY FINE SANDY LOAM",{"$f":"IF(AND(SUM('Texture Calculator'!$C$36:$C$40)='Texture Calculator'!$C$6,SUM($G$37:$G$48) = 0,'Texture Calculator'!#REF!+'Texture Calculator'!$C$37+'Texture Calculator'!$C$38>=0.3, 'Texture Calculator'!$C$40>=0.5), 13,0)","v":{"$error":"#REF!"}},"vcscsms >= 30 && vfs >= 50","VERY FINE SANDY LOAM",{"$f":"IF(AND(SUM('Texture Calculator'!$C$45:$C$59)='Texture Calculator'!$C$7,SUM($J$37:$J$48) = 0,'Texture Calculator'!$C$45+'Texture Calculator'!$C$46+'Texture Calculator'!$C$57>=0.3, 'Texture Calculator'!$C$59>=0.5), 13,0)","v":0},"vcscsms >= 30 && vfs >= 50","VERY FINE SANDY LOAM"]
[{"$f":"SUM(A37:A49)+1","v":{"$error":"#REF!"}},null,null,{"$f":"SUM(D37:D49)+1","v":{"$error":"#REF!"}},null,null,{"$f":"SUM(G37:G49)+1","v":{"$error":"#REF!"}},null,null,{"$f":"SUM(J37:J49)+1","v":1}]

{"sheet":"Sheet1","index":17,"n_rows":0,"n_cols":0,"rows_kept":0,"cut":false,"hidden":false,"merged":[]}