{"text_format":"1","workbook":"xlsx","n_sheets":21,"sheets":["Results","Texture Calculator","raw files","4399","4400","4401","4402","4403","4404","4405","4406","4407","4408","4409","4410","4411","4412","4413","4414","Calculations","Sheet1"],"not_rendered":{"charts":35,"images":1,"macros":1,"external_links":0,"defined_names":0,"comments":0,"pivot_tables":0},"unopened":[{"sheet":"4399","index":3,"reason":"not_a_worksheet"},{"sheet":"4400","index":4,"reason":"not_a_worksheet"},{"sheet":"4401","index":5,"reason":"not_a_worksheet"},{"sheet":"4402","index":6,"reason":"not_a_worksheet"},{"sheet":"4403","index":7,"reason":"not_a_worksheet"},{"sheet":"4404","index":8,"reason":"not_a_worksheet"},{"sheet":"4405","index":9,"reason":"not_a_worksheet"},{"sheet":"4406","index":10,"reason":"not_a_worksheet"},{"sheet":"4407","index":11,"reason":"not_a_worksheet"},{"sheet":"4408","index":12,"reason":"not_a_worksheet"},{"sheet":"4409","index":13,"reason":"not_a_worksheet"},{"sheet":"4410","index":14,"reason":"not_a_worksheet"},{"sheet":"4411","index":15,"reason":"not_a_worksheet"},{"sheet":"4412","index":16,"reason":"not_a_worksheet"},{"sheet":"4413","index":17,"reason":"not_a_worksheet"},{"sheet":"4414","index":18,"reason":"not_a_worksheet"}],"bounds":{"document_bytes":16777216,"sheet_cells":100000,"rows_first":2000,"rows_last":500,"rows_between":2000,"halvings":0,"cell_chars":16384,"cell_head_chars":4096},"cells_cut":0,"cells_raw":0,"read":"whole","date_system":"1900"}

{"sheet":"Results","index":0,"n_rows":62,"n_cols":87,"rows_kept":62,"cut":false,"hidden":false,"merged":[[7,2,7,5],[8,2,8,5]]}
["Soil Lab, Geological Survey of Israel"]
["Particle Size Analysis by laser diffraction,  Instrument:  Mastersizer 2000"]
["Aviv Lee Zada"]
["Sample description: dune sand"]
["Samples ID's: [4399-4414]"]
[]
[]
["Particle",null,{"$f":"'raw files'!C1","v":"[4399] Chile_7_T1_1 bulk - b - Average"},null,null,null,null,null,null,"Particle",null,{"$f":"'raw files'!I1","v":"[4400] Chile_7_T1_3 bulk - a - Average"},null,null,null,null,null,null,"Particle",null,{"$f":"'raw files'!O1","v":"[4401] Chile_7_T1_4 bulk - b - Average"},null,null,null,null,null,null,"Particle",null,{"$f":"'raw files'!V1","v":"[4402] Chile_7_T1_8 bulk - a - Average"},null,null,null,null,null,null,"Particle",null,{"$f":"'raw files'!AB1","v":"[4403] Chile_7_T1_11 bulk - a - Average"},null,null,null,null,null,null,"Particle",null,{"$f":"'raw files'!AH1","v":"[4404] Chile_7_T1_16 bulk - b - Average"},null,null,null,null,null,null,"Particle",null,{"$f":"'raw files'!AN1","v":"[4405] Chile_7_T2_17 bulk - b - Average"},null,null,null,null,null,null,"Particle",null,{"$f":"'raw files'!AT1","v":"[4406] Chile_7_T2_20 bulk - a - Average"},null,null,null,null,null,null,"Particle",null,{"$f":"'raw files'!AZ1","v":"[4407] Chile_7_T2_26 bulk - a - Average"},null,null,null,null,null,"Particle",null,{"$f":"'raw files'!BF1","v":"[4408] Chile_7_T2_26_b bulk - a - Average"}]
["Diameter",null,"Differential Volume (%)",null,null,null,null,null,null,"Diameter",null,"Differential Volume (%)",null,null,null,null,null,null,"Diameter",null,"Differential Volume (%)",null,null,null,null,null,null,"Diameter",null,"Differential Volume (%)",null,null,null,null,null,null,"Diameter",null,"Differential Volume (%)",null,null,null,null,null,null,"Diameter",null,"Differential Volume (%)",null,null,null,null,null,null,"Diameter",null,"Differential Volume (%)",null,null,null,null,null,null,"Diameter",null,"Differential Volume (%)",null,null,null,null,null,null,"Diameter",null,"Differential Volume (%)",null,null,null,null,null,"Diameter",null,"Differential Volume (%)"]
["Range (mm)","Size Class","Rep. 1","Rep. 2","Rep. 3","Average","SE",null,null,"Range (mm)","Size Class","Rep. 1","Rep. 2","Rep. 3","Average","SE",null,null,"Range (mm)","Size Class","Rep. 1","Rep. 2","Rep. 3","Average","SE",null,null,"Range (mm)","Size Class","Rep. 1","Rep. 2","Rep. 3","Average","SE",null,null,"Range (mm)","Size Class","Rep. 1","Rep. 2","Rep. 3","Average","SE",null,null,"Range (mm)","Size Class","Rep. 1","Rep. 2","Rep. 3","Average","SE",null,null,"Range (mm)","Size Class","Rep. 1","Rep. 2","Rep. 3","Average","SE",null,null,"Range (mm)","Size Class","Rep. 1","Rep. 2","Rep. 3","Average","SE",null,"Range (mm)","Size Class","Rep. 1","Rep. 2","Rep. 3","Average","SE",null,null,"Range (mm)","Size Class","Rep. 1","Rep. 2","Rep. 3","Average","SE"]
["< 6","Clay",{"$f":"'raw files'!C13","v":3.31},{"$f":"'raw files'!D13","v":3.8029999999999999},{"$f":"'raw files'!E13","v":3.714},{"$f":"AVERAGE(C11:E11)","v":3.609},{"$f":"(STDEV(C11:E11))/SQRT(3)","v":0.15169157304653849},null,null,"< 6","Clay",{"$f":"'raw files'!I13","v":3.512},{"$f":"'raw files'!J13","v":3.3149999999999999},{"$f":"'raw files'!K13","v":2.7240000000000002},{"$f":"AVERAGE(L11,N11)","v":3.1180000000000003},{"$f":"(STDEV(L11:N11))/SQRT(3)","v":0.23676453375546819},null,null,"< 6","Clay",{"$f":"'raw files'!O13","v":0.41199999999999998},{"$f":"'raw files'!P13","v":0.621},{"$f":"'raw files'!Q13","v":0.55400000000000005},{"$f":"AVERAGE(U11:W11)","v":0.52900000000000003},{"$f":"(STDEV(U11:W11))/SQRT(3)","v":6.1614392258086625E-2},null,null,"< 6","Clay",{"$f":"'raw files'!V13","v":0.79600000000000004},{"$f":"'raw files'!W13","v":1.3380000000000001},{"$f":"'raw files'!X13","v":1.1080000000000001},{"$f":"AVERAGE(AD11:AF11)","v":1.0806666666666669},{"$f":"(STDEV(AD11:AF11))/SQRT(3)","v":0.15705766810668981},null,null,"< 6","Clay",{"$f":"'raw files'!AB13","v":1.585},{"$f":"'raw files'!AC13","v":1.5609999999999999},{"$f":"'raw files'!AD13","v":1.4359999999999999},{"$f":"AVERAGE(AM11:AO11)","v":1.5273333333333332},{"$f":"(STDEV(AM11:AO11))/SQRT(3)","v":4.618922433256966E-2},null,null,"< 6","Clay",{"$f":"'raw files'!AH13","v":1.0920000000000001},{"$f":"'raw files'!AI13","v":1.83},{"$f":"'raw files'!AJ13","v":1.5409999999999999},{"$f":"AVERAGE(AV11:AX11)","v":1.4876666666666667},{"$f":"(STDEV(AV11:AX11))/SQRT(3)","v":0.21470470677446973},null,null,"< 6","Clay",{"$f":"'raw files'!AN13","v":0.16500000000000001},{"$f":"'raw files'!AO13","v":0.14699999999999999},{"$f":"'raw files'!AP13","v":0.39100000000000001},{"$f":"AVERAGE(BE11:BG11)","v":0.23433333333333337},{"$f":"(STDEV(BE11:BG11))/SQRT(3)","v":7.8505484592550037E-2},null,null,"< 6","Clay",{"$f":"'raw files'!AT13","v":0},{"$f":"'raw files'!AU13","v":0},{"$f":"'raw files'!AV13","v":0},{"$f":"AVERAGE(BN11:BP11)","v":0},{"$f":"(STDEV(BN11:BP11))/SQRT(3)","v":0},null,"< 6","Clay",{"$f":"'raw files'!AZ13","v":0.61599999999999999},{"$f":"'raw files'!BA13","v":0.18},{"$f":"'raw files'!BB13","v":0},{"$f":"AVERAGE(BV11:BX11)","v":0.26533333333333337},{"$f":"(STDEV(BV11:BX11))/SQRT(3)","v":0.18287093201976573},null,null,"< 6","Clay",{"$f":"'raw files'!BF13","v":0},{"$f":"'raw files'!BG13","v":0},{"$f":"'raw files'!BH13","v":0},{"$f":"AVERAGE(CE11:CG11)","v":0},{"$f":"(STDEV(CE11:CG11))/SQRT(3)","v":0}]
["6 - 63","Silt",{"$f":"'raw files'!C14","v":4.9969999999999999},{"$f":"'raw files'!D14","v":5.44},{"$f":"'raw files'!E14","v":5.3760000000000003},{"$f":"AVERAGE(C12:E12)","v":5.2710000000000008},{"$f":"(STDEV(C12:E12))/SQRT(3)","v":0.13824012924376691},null,null,"6 - 63","Silt",{"$f":"'raw files'!I14","v":5.4809999999999999},{"$f":"'raw files'!J14","v":5.2839999999999998},{"$f":"'raw files'!K14","v":4.1630000000000003},{"$f":"AVERAGE(L12,N12)","v":4.8220000000000001},{"$f":"(STDEV(L12:N12))/SQRT(3)","v":0.41045868651221545},null,null,"6 - 63","Silt",{"$f":"'raw files'!O14","v":1.659},{"$f":"'raw files'!P14","v":1.6970000000000001},{"$f":"'raw files'!Q14","v":1.9119999999999999},{"$f":"AVERAGE(U12:W12)","v":1.756},{"$f":"(STDEV(U12:W12))/SQRT(3)","v":7.8767590627956408E-2},null,null,"6 - 63","Silt",{"$f":"'raw files'!V14","v":0.20799999999999999},{"$f":"'raw files'!W14","v":1.073},{"$f":"'raw files'!X14","v":0.99099999999999999},{"$f":"AVERAGE(AD12:AF12)","v":0.7573333333333333},{"$f":"(STDEV(AD12:AF12))/SQRT(3)","v":0.27568480391764633},null,null,"6 - 63","Silt",{"$f":"'raw files'!AB14","v":2.0070000000000001},{"$f":"'raw files'!AC14","v":1.9970000000000001},{"$f":"'raw files'!AD14","v":2.0019999999999998},{"$f":"AVERAGE(AM12:AO12)","v":2.0020000000000002},{"$f":"(STDEV(AM12:AO12))/SQRT(3)","v":2.8867513459481316E-3},null,null,"6 - 63","Silt",{"$f":"'raw files'!AH14","v":2.4169999999999998},{"$f":"'raw files'!AI14","v":3.0579999999999998},{"$f":"'raw files'!AJ14","v":2.78},{"$f":"AVERAGE(AV12:AX12)","v":2.7516666666666665},{"$f":"(STDEV(AV12:AX12))/SQRT(3)","v":0.18558226687315191},null,null,"6 - 63","Silt",{"$f":"'raw files'!AN14","v":1.3560000000000001},{"$f":"'raw files'!AO14","v":1.407},{"$f":"'raw files'!AP14","v":1.6990000000000001},{"$f":"AVERAGE(BE12:BG12)","v":1.4873333333333332},{"$f":"(STDEV(BE12:BG12))/SQRT(3)","v":0.10685244238876616},null,null,"6 - 63","Silt",{"$f":"'raw files'!AT14","v":0.28599999999999998},{"$f":"'raw files'!AU14","v":0},{"$f":"'raw files'!AV14","v":4.2999999999999997E-2},{"$f":"AVERAGE(BN12:BP12)","v":0.10966666666666665},{"$f":"(STDEV(BN12:BP12))/SQRT(3)","v":8.903619738311179E-2},null,"6 - 63","Silt",{"$f":"'raw files'!AZ14","v":0.14499999999999999},{"$f":"'raw files'!BA14","v":4.2999999999999997E-2},{"$f":"'raw files'!BB14","v":2.0099999999999998},{"$f":"AVERAGE(BV12:BX12)","v":0.73266666666666669},{"$f":"(STDEV(BV12:BX12))/SQRT(3)","v":0.6393450641954711},null,null,"6 - 63","Silt",{"$f":"'raw files'!BF14","v":0.55800000000000005},{"$f":"'raw files'!BG14","v":0},{"$f":"'raw files'!BH14","v":0.21},{"$f":"AVERAGE(CE12:CG12)","v":0.25600000000000001},{"$f":"(STDEV(CE12:CG12))/SQRT(3)","v":0.16271447384913246}]
["63 - 2000","Sand",{"$f":"'raw files'!C15","v":91.692999999999998},{"$f":"'raw files'!D15","v":90.757000000000005},{"$f":"'raw files'!E15","v":90.91},91.12,{"$f":"(STDEV(C13:E13))/SQRT(3)","v":0.28988445974215182},null,null,"63 - 2000","Sand",{"$f":"'raw files'!I15","v":91.007000000000005},{"$f":"'raw files'!J15","v":91.400999999999996},{"$f":"'raw files'!K15","v":93.113},92.06,{"$f":"(STDEV(L13:N13))/SQRT(3)","v":0.64641816531131258},null,null,"63 - 2000","Sand",{"$f":"'raw files'!O15","v":97.929000000000002},{"$f":"'raw files'!P15","v":97.683000000000007},{"$f":"'raw files'!Q15","v":97.534000000000006},97.715333333333334,{"$f":"(STDEV(U13:W13))/SQRT(3)","v":0.11516702846059784},null,null,"63 - 2000","Sand",{"$f":"'raw files'!V15","v":98.995999999999995},{"$f":"'raw files'!W15","v":97.588999999999999},{"$f":"'raw files'!X15","v":97.900999999999996},98.161999999999992,{"$f":"(STDEV(AD13:AF13))/SQRT(3)","v":0.42661575217049741},null,null,"63 - 2000","Sand",{"$f":"'raw files'!AB15","v":96.408000000000001},{"$f":"'raw files'!AC15","v":96.442999999999998},{"$f":"'raw files'!AD15","v":96.563000000000002},96.471333333333334,4.6933759467763125E-2,null,null,"63 - 2000","Sand",{"$f":"'raw files'!AH15","v":96.49},{"$f":"'raw files'!AI15","v":95.113},{"$f":"'raw files'!AJ15","v":95.677999999999997},95.760333333333335,0.39963163594045376,null,null,"63 - 2000","Sand",{"$f":"'raw files'!AN15","v":98.478999999999999},{"$f":"'raw files'!AO15","v":98.444999999999993},{"$f":"'raw files'!AP15","v":97.909000000000006},98.277666666666661,{"$f":"(STDEV(BE13:BG13))/SQRT(3)","v":0.18459445038004244},null,null,"63 - 2000","Sand",{"$f":"'raw files'!AT15","v":99.713999999999999},{"$f":"'raw files'!AU15","v":100},{"$f":"'raw files'!AV15","v":99.956999999999994},99.890333333333331,8.9036197383111457E-2,null,"63 - 2000","Sand",{"$f":"'raw files'!AZ15","v":99.238},{"$f":"'raw files'!BA15","v":99.778000000000006},{"$f":"'raw files'!BB15","v":97.99},99.00200000000001,{"$f":"(STDEV(BV13:BX13))/SQRT(3)","v":0.52946765718030708},null,null,"63 - 2000","Sand",{"$f":"'raw files'!BF15","v":99.441999999999993},{"$f":"'raw files'!BG15","v":100},{"$f":"'raw files'!BH15","v":99.79},99.744000000000014,{"$f":"(STDEV(CE13:CG13))/SQRT(3)","v":0.1627144738491349}]
["63 - 125","VF Sand",{"$f":"'raw files'!C16","v":6.8280000000000003},{"$f":"'raw files'!D16","v":6.609},{"$f":"'raw files'!E16","v":6.4409999999999998},6.6260000000000003,0.11204017136723789,null,null,"63 - 125","VF Sand",{"$f":"'raw files'!I16","v":8.0289999999999999},{"$f":"'raw files'!J16","v":8.0429999999999993},{"$f":"'raw files'!K16","v":7.3559999999999999},7.6924999999999999,0.22670269321538963,null,null,"63 - 125","VF Sand",{"$f":"'raw files'!O16","v":7.2130000000000001},{"$f":"'raw files'!P16","v":8.048},{"$f":"'raw files'!Q16","v":10.103999999999999},8.4550000000000001,0.8590124174500261,null,null,"63 - 125","VF Sand",{"$f":"'raw files'!V16","v":2.9910000000000001},{"$f":"'raw files'!W16","v":2.9780000000000002},{"$f":"'raw files'!X16","v":3.036},3.0016666666666669,1.7572073804129559E-2,null,null,"63 - 125","VF Sand",{"$f":"'raw files'!AB16","v":1.956},{"$f":"'raw files'!AC16","v":2.0990000000000002},{"$f":"'raw files'!AD16","v":1.7390000000000001},1.9313333333333331,0.10465233447520947,null,null,"63 - 125","VF Sand",{"$f":"'raw files'!AH16","v":1.772},{"$f":"'raw files'!AI16","v":1.9259999999999999},{"$f":"'raw files'!AJ16","v":1.677},1.7916666666666667,7.2549599891690922E-2,null,null,"63 - 125","VF Sand",{"$f":"'raw files'!AN16","v":2.617},{"$f":"'raw files'!AO16","v":2.6560000000000001},{"$f":"'raw files'!AP16","v":2.8},{"$f":"AVERAGE(BE14:BG14)","v":2.6910000000000003},{"$f":"(STDEV(BE14:BG14))/SQRT(3)","v":5.5650696311906042E-2},null,null,"63 - 125","VF Sand",{"$f":"'raw files'!AT16","v":3.45},{"$f":"'raw files'!AU16","v":2.3879999999999999},{"$f":"'raw files'!AV16","v":2.085},{"$f":"AVERAGE(BN14:BP14)","v":2.641},{"$f":"(STDEV(BN14:BP14))/SQRT(3)","v":0.4138490062812768},null,"63 - 125","VF Sand",{"$f":"'raw files'!AZ16","v":9.58},{"$f":"'raw files'!BA16","v":7.6669999999999998},{"$f":"'raw files'!BB16","v":7.9370000000000003},8.3946666666666676,0.59776983679152906,null,null,"63 - 125","VF Sand",{"$f":"'raw files'!BF16","v":1.5840000000000001},{"$f":"'raw files'!BG16","v":0.52200000000000002},{"$f":"'raw files'!BH16","v":1.339},1.1483333333333332,0.32105364729970681]
["125 - 250","F Sand",{"$f":"'raw files'!C17","v":18.5},{"$f":"'raw files'!D17","v":16.148},{"$f":"'raw files'!E17","v":17.350000000000001},17.332666666666665,0.67901922735008857,null,null,"125 - 250","F Sand",{"$f":"'raw files'!I17","v":16.760999999999999},{"$f":"'raw files'!J17","v":16.244},{"$f":"'raw files'!K17","v":16.359000000000002},16.560000000000002,0.15672303950316618,null,null,"125 - 250","F Sand",{"$f":"'raw files'!O17","v":31.094000000000001},{"$f":"'raw files'!P17","v":29.582999999999998},{"$f":"'raw files'!Q17","v":32.097999999999999},30.925000000000001,0.7309188281425878,null,null,"125 - 250","F Sand",{"$f":"'raw files'!V17","v":35.667999999999999},{"$f":"'raw files'!W17","v":34.914000000000001},{"$f":"'raw files'!X17","v":34.667999999999999},35.083333333333336,0.30083513388196143,null,null,"125 - 250","F Sand",{"$f":"'raw files'!AB17","v":23.742000000000001},{"$f":"'raw files'!AC17","v":23.106000000000002},{"$f":"'raw files'!AD17","v":23.934999999999999},23.594333333333335,0.25044249728120038,null,null,"125 - 250","F Sand",{"$f":"'raw files'!AH17","v":4.66},{"$f":"'raw files'!AI17","v":4.2270000000000003},{"$f":"'raw files'!AJ17","v":4.3120000000000003},4.3996666666666675,0.13245921804255237,null,null,"125 - 250","F Sand",{"$f":"'raw files'!AN17","v":9.1370000000000005},{"$f":"'raw files'!AO17","v":9.3219999999999992},{"$f":"'raw files'!AP17","v":10.098000000000001},{"$f":"AVERAGE(BE15:BG15)","v":9.5190000000000001},{"$f":"(STDEV(BE15:BG15))/SQRT(3)","v":0.29438466898487337},null,null,"125 - 250","F Sand",{"$f":"'raw files'!AT17","v":13.920999999999999},{"$f":"'raw files'!AU17","v":8.8940000000000001},{"$f":"'raw files'!AV17","v":9.2840000000000007},10.699666666666666,1.6145965784403011,null,"125 - 250","F Sand",{"$f":"'raw files'!AZ17","v":62.51},{"$f":"'raw files'!BA17","v":61.478999999999999},{"$f":"'raw files'!BB17","v":62.097999999999999},62.028999999999996,0.29961697771210022,null,null,"125 - 250","F Sand",{"$f":"'raw files'!BF17","v":10.948},{"$f":"'raw files'!BG17","v":4.9690000000000003},{"$f":"'raw files'!BH17","v":10.670999999999999},8.8626666666666676,1.9484748166479089]
["250 - 500","M Sand",{"$f":"'raw files'!C18","v":21.145},{"$f":"'raw files'!D18","v":25.204000000000001},{"$f":"'raw files'!E18","v":21.468},22.605666666666668,1.3025083919541987,null,null,"250 - 500","M Sand",{"$f":"'raw files'!I18","v":13.044},{"$f":"'raw files'!J18","v":14.64},{"$f":"'raw files'!K18","v":18.698},15.871,1.6829586381660604,null,null,"250 - 500","M Sand",{"$f":"'raw files'!O18","v":12.634},{"$f":"'raw files'!P18","v":13.712999999999999},{"$f":"'raw files'!Q18","v":17.135000000000002},14.494,1.3567388596680474,null,null,"250 - 500","M Sand",{"$f":"'raw files'!V18","v":45.07},{"$f":"'raw files'!W18","v":45.420999999999999},{"$f":"'raw files'!X18","v":44.783000000000001},45.091333333333331,0.18448336269460971,null,null,"250 - 500","M Sand",{"$f":"'raw files'!AB18","v":42.338999999999999},{"$f":"'raw files'!AC18","v":39.103999999999999},{"$f":"'raw files'!AD18","v":43.893999999999998},41.778999999999996,1.4108183204556612,null,null,"250 - 500","M Sand",{"$f":"'raw files'!AH18","v":13.72},{"$f":"'raw files'!AI18","v":18.747},{"$f":"'raw files'!AJ18","v":16.631},16.366,1.4572063454889845,null,null,"250 - 500","M Sand",{"$f":"'raw files'!AN18","v":19.896000000000001},{"$f":"'raw files'!AO18","v":21.827000000000002},{"$f":"'raw files'!AP18","v":25.518000000000001},22.413666666666668,1.6492275296163483,null,null,"250 - 500","M Sand",{"$f":"'raw files'!AT18","v":21.727},{"$f":"'raw files'!AU18","v":20.004000000000001},{"$f":"'raw files'!AV18","v":23.791},21.840666666666667,1.0946890476802582,null,"250 - 500","M Sand",{"$f":"'raw files'!AZ18","v":26.033000000000001},{"$f":"'raw files'!BA18","v":30.411000000000001},{"$f":"'raw files'!BB18","v":27.954999999999998},28.132999999999999,1.2669496175197077,null,null,"250 - 500","M Sand",{"$f":"'raw files'!BF18","v":26.783000000000001},{"$f":"'raw files'!BG18","v":23.722999999999999},{"$f":"'raw files'!BH18","v":27.338999999999999},25.948333333333334,1.1241834567562561]
["500 - 1000","C Sand",{"$f":"'raw files'!C19","v":28.102},{"$f":"'raw files'!D19","v":31.966999999999999},{"$f":"'raw files'!E19","v":29.902999999999999},29.990666666666669,1.1165900968772935,null,null,"500 - 1000","C Sand",{"$f":"'raw files'!I19","v":27.728000000000002},{"$f":"'raw files'!J19","v":29.651},{"$f":"'raw files'!K19","v":30.542000000000002},29.135000000000002,0.83034149601233342,null,null,"500 - 1000","C Sand",{"$f":"'raw files'!O19","v":21.622},{"$f":"'raw files'!P19","v":22.896999999999998},{"$f":"'raw files'!Q19","v":20.227},21.581999999999997,0.77102204897136328,null,null,"500 - 1000","C Sand",{"$f":"'raw files'!V19","v":12.94},{"$f":"'raw files'!W19","v":13.103},{"$f":"'raw files'!X19","v":14.404},13.482333333333335,0.46322936483392824,null,null,"500 - 1000","C Sand",{"$f":"'raw files'!AB19","v":25.349},{"$f":"'raw files'!AC19","v":26.289000000000001},{"$f":"'raw files'!AD19","v":24.236999999999998},25.291666666666668,0.59305461618452893,null,null,"500 - 1000","C Sand",{"$f":"'raw files'!AH19","v":42.585000000000001},{"$f":"'raw files'!AI19","v":43.99},{"$f":"'raw files'!AJ19","v":43.5},43.358333333333327,0.41172739093293842,null,null,"500 - 1000","C Sand",{"$f":"'raw files'!AN19","v":39.320999999999998},{"$f":"'raw files'!AO19","v":39.893000000000001},{"$f":"'raw files'!AP19","v":40.029000000000003},39.747666666666667,0.21691575425599013,null,null,"500 - 1000","C Sand",{"$f":"'raw files'!AT19","v":37.704999999999998},{"$f":"'raw files'!AU19","v":42.817},{"$f":"'raw files'!AV19","v":42.237000000000002},40.919666666666664,1.6160302527421264,null,"500 - 1000","C Sand",{"$f":"'raw files'!AZ19","v":0.23200000000000001},{"$f":"'raw files'!BA19","v":3.9E-2},{"$f":"'raw files'!BB19","v":0},9.0333333333333335E-2,7.1722458903129588E-2,null,null,"500 - 1000","C Sand",{"$f":"'raw files'!BF19","v":40.244},{"$f":"'raw files'!BG19","v":45.825000000000003},{"$f":"'raw files'!BH19","v":40.9},42.323,1.7612104738881544]
["1000 - 2000","VC Sand",{"$f":"'raw files'!C20","v":17.119},{"$f":"'raw files'!D20","v":10.829000000000001},{"$f":"'raw files'!E20","v":15.747999999999999},14.565333333333333,1.9096291379334518,null,null,"1000 - 2000","VC Sand",{"$f":"'raw files'!I20","v":25.443999999999999},{"$f":"'raw files'!J20","v":22.823},{"$f":"'raw files'!K20","v":20.157},22.8005,1.5262438643065313,null,null,"1000 - 2000","VC Sand",{"$f":"'raw files'!O20","v":25.366},{"$f":"'raw files'!P20","v":23.440999999999999},{"$f":"'raw files'!Q20","v":17.97},22.259,2.215328944724317,null,null,"1000 - 2000","VC Sand",{"$f":"'raw files'!V20","v":2.3279999999999998},{"$f":"'raw files'!W20","v":1.173},{"$f":"'raw files'!X20","v":1.01},1.5036666666666667,0.41484387960345331,null,null,"1000 - 2000","VC Sand",{"$f":"'raw files'!AB20","v":3.0219999999999998},{"$f":"'raw files'!AC20","v":5.8449999999999998},{"$f":"'raw files'!AD20","v":2.758},3.875,0.98794382431391248,null,null,"1000 - 2000","VC Sand",{"$f":"'raw files'!AH20","v":33.753},{"$f":"'raw files'!AI20","v":26.222000000000001},{"$f":"'raw files'!AJ20","v":29.559000000000001},29.844666666666669,2.1786994846569359,null,null,"1000 - 2000","VC Sand",{"$f":"'raw files'!AN20","v":27.507000000000001},{"$f":"'raw files'!AO20","v":24.748000000000001},{"$f":"'raw files'!AP20","v":19.463999999999999},23.906333333333333,2.359644347024465,null,null,"1000 - 2000","VC Sand",{"$f":"'raw files'!AT20","v":22.91},{"$f":"'raw files'!AU20","v":25.896999999999998},{"$f":"'raw files'!AV20","v":22.56},23.789000000000001,1.0588315887492841,null,"1000 - 2000","VC Sand",{"$f":"'raw files'!AZ20","v":0.88400000000000001},{"$f":"'raw files'!BA20","v":0.182},{"$f":"'raw files'!BB20","v":0},0.35533333333333333,0.26950407129474774,null,null,"1000 - 2000","VC Sand",{"$f":"'raw files'!BF20","v":19.882999999999999},{"$f":"'raw files'!BG20","v":24.960999999999999},{"$f":"'raw files'!BH20","v":19.541},21.461666666666662,1.752449840778473]
[null,null,null,"Textural Class:",null,{"$f":"'Texture Calculator'!N4","v":"SAND"},null,null,null,null,null,null,"Textural Class:",null,{"$f":"'Texture Calculator'!N5","v":"SAND"},null,null,null,null,null,null,"Textural Class:",{"$f":"'Texture Calculator'!N6","v":"SAND"},null,null,null,null,null,null,null,"Textural Class:",{"$f":"'Texture Calculator'!N7","v":"SAND"},null,null,null,null,null,null,"Textural Class:",null,{"$f":"'Texture Calculator'!N8","v":"SAND"},null,null,null,null,null,null,"Textural Class:",null,{"$f":"'Texture Calculator'!N9","v":"SAND"},null,null,null,null,null,null,"Textural Class:",null,{"$f":"'Texture Calculator'!N10","v":"SAND"},null,null,null,null,null,"Textural Class:",null,{"$f":"'Texture Calculator'!N11","v":"SAND"},null,null,null,null,null,null,"Textural Class:",null,{"$f":"'Texture Calculator'!N12","v":"SAND"},null,null,null,null,null,"Textural Class:",null,{"$f":"'Texture Calculator'!N13","v":"SAND"}]
[null,null,null,"avg mode:",null,{"$f":"AVERAGE('raw files'!C6:E6)","v":728.49833333333333},null,null,null,null,null,null,"avg mode:",null,{"$f":"AVERAGE('raw files'!I6:K6)","v":924.7116666666667},null,null,null,null,null,null,"avg mode:",null,{"$f":"AVERAGE('raw files'!O6:Q6)","v":771.40700000000004},null,null,null,null,null,null,"avg mode:",null,{"$f":"AVERAGE('raw files'!V6:W6)","v":274.57050000000004},null,null,null,null,null,"avg mode:",null,{"$f":"AVERAGE('raw files'!AF6:AH6)","v":937.03800000000001},null,null,null,null,null,null,"avg mode:",null,{"$f":"AVERAGE('raw files'!AH6:AJ6)","v":865.15599999999995},null,null,null,null,null,null,"avg mode:",null,{"$f":"AVERAGE('raw files'!AN6:AP6)","v":790.71333333333348},null,null,null,null,null,"avg mode:",null,{"$f":"AVERAGE('raw files'!AU6:AV6)","v":766.48},null,null,null,null,null,null,"avg mode:",null,{"$f":"AVERAGE('raw files'!AZ6:BB6)","v":203.45066666666671},null,null,null,null,null,null,"avg mode:",null,{"$f":"AVERAGE('raw files'!BF6:BH6)","v":710.72500000000002}]
[]
[]
[]
["Particle",null,{"$f":"'raw files'!BL1","v":"[4409] Chile_7_T2_30 bulk - a - Average"},null,null,null,null,null,null,"Particle",null,{"$f":"'raw files'!BR1","v":"[4410] Chile_7_T2_32 bulk - a - Average"},null,null,null,null,null,null,"Particle",null,{"$f":"'raw files'!BX1","v":"[4411] Chile_7_T3_33 bulk - a - Average"},null,null,null,null,null,null,"Particle",null,{"$f":"'raw files'!CD1","v":"[4412] Chile_7_T3_41 bulk - a - Average"},null,null,null,null,null,null,"Particle",null,{"$f":"'raw files'!CJ1","v":"[4413] Chile_7_T3_47 bulk - a - Average"},null,null,null,null,null,null,"Particle",null,{"$f":"'raw files'!CP1","v":"[4414] Chile_7_T3_48 bulk - b - Average"}]
["Diameter",null,"Differential Volume (%)",null,null,null,null,null,null,"Diameter",null,"Differential Volume (%)",null,null,null,null,null,null,"Diameter",null,"Differential Volume (%)",null,null,null,null,null,null,"Diameter",null,"Differential Volume (%)",null,null,null,null,null,null,"Diameter",null,"Differential Volume (%)",null,null,null,null,null,null,"Diameter",null,"Differential Volume (%)"]
["Range (mm)","Size Class","Rep. 1","Rep. 2","Rep. 3","Average","SE",null,null,"Range (mm)","Size Class","Rep. 1","Rep. 2","Rep. 3","Average","SE",null,null,"Range (mm)","Size Class","Rep. 1","Rep. 2","Rep. 3","Average","SE",null,null,"Range (mm)","Size Class","Rep. 1","Rep. 2","Rep. 3","Average","SE",null,null,"Range (mm)","Size Class","Rep. 1","Rep. 2","Rep. 3","Average","SE",null,null,"Range (mm)","Size Class","Rep. 1","Rep. 2","Rep. 3","Average","SE"]
["< 6","Clay",{"$f":"'raw files'!BL13","v":2.2109999999999999},{"$f":"'raw files'!BM13","v":1.4490000000000001},{"$f":"'raw files'!BN13","v":1.1000000000000001},{"$f":"AVERAGE(C27:E27)","v":1.5866666666666667},{"$f":"(STDEV(C27:E27))/SQRT(3)","v":0.32802151013479458},null,null,"< 6","Clay",{"$f":"'raw files'!BR13","v":0.997},{"$f":"'raw files'!BS13","v":0},{"$f":"'raw files'!BT13","v":0.08},{"$f":"AVERAGE(L27:N27)","v":0.35899999999999999},{"$f":"(STDEV(L27:N27))/SQRT(3)","v":0.31983485321855298},null,null,"< 6","Clay",{"$f":"'raw files'!BX13","v":1.359},{"$f":"'raw files'!BY13","v":0.55400000000000005},{"$f":"'raw files'!BZ13","v":1.5640000000000001},{"$f":"AVERAGE(U27:W27)","v":1.159},{"$f":"(STDEV(U27:W27))/SQRT(3)","v":0.30823421830376529},null,null,"< 6","Clay",{"$f":"'raw files'!CD13","v":0.90300000000000002},{"$f":"'raw files'!CE13","v":0.376},{"$f":"'raw files'!CF13","v":0.48699999999999999},{"$f":"AVERAGE(AD27:AF27)","v":0.58866666666666667},{"$f":"(STDEV(AD27:AF27))/SQRT(3)","v":0.16039984760314177},null,null,"< 6","Clay",{"$f":"'raw files'!CJ13","v":0.43},{"$f":"'raw files'!CK13","v":0.91400000000000003},{"$f":"'raw files'!CL13","v":0.44500000000000001},{"$f":"AVERAGE(AM27:AO27)","v":0.59633333333333338},{"$f":"(STDEV(AM27:AO27))/SQRT(3)","v":0.15889234650472545},null,null,"< 6","Clay",{"$f":"'raw files'!CP13","v":0.45800000000000002},{"$f":"'raw files'!CQ13","v":0.47199999999999998},{"$f":"'raw files'!CR13","v":0.41399999999999998},{"$f":"AVERAGE(AV27:AX27)","v":0.44799999999999995},{"$f":"(STDEV(AV27:AX27))/SQRT(3)","v":1.7473789896108212E-2}]
["6 - 63","Silt",{"$f":"'raw files'!BL14","v":3.8759999999999999},{"$f":"'raw files'!BM14","v":2.9849999999999999},{"$f":"'raw files'!BN14","v":2.7210000000000001},{"$f":"AVERAGE(C28:E28)","v":3.1940000000000004},{"$f":"(STDEV(C28:E28))/SQRT(3)","v":0.34941236383390678},null,null,"6 - 63","Silt",{"$f":"'raw files'!BR14","v":1.921},{"$f":"'raw files'!BS14","v":0.53900000000000003},{"$f":"'raw files'!BT14","v":0.84},{"$f":"AVERAGE(L28:N28)","v":1.0999999999999999},{"$f":"(STDEV(L28:N28))/SQRT(3)","v":0.41959544007690719},null,null,"6 - 63","Silt",{"$f":"'raw files'!BX14","v":3.2850000000000001},{"$f":"'raw files'!BY14","v":2.1440000000000001},{"$f":"'raw files'!BZ14","v":3.0819999999999999},{"$f":"AVERAGE(U28:W28)","v":2.8369999999999997},{"$f":"(STDEV(U28:W28))/SQRT(3)","v":0.35142045093211871},null,null,"6 - 63","Silt",{"$f":"'raw files'!CD14","v":2.5099999999999998},{"$f":"'raw files'!CE14","v":1.857},{"$f":"'raw files'!CF14","v":2.0649999999999999},{"$f":"AVERAGE(AD28:AF28)","v":2.1440000000000001},{"$f":"(STDEV(AD28:AF28))/SQRT(3)","v":0.19259889234710781},null,null,"6 - 63","Silt",{"$f":"'raw files'!CJ14","v":2.1989999999999998},{"$f":"'raw files'!CK14","v":2.7109999999999999},{"$f":"'raw files'!CL14","v":2.044},{"$f":"AVERAGE(AM28:AO28)","v":2.3180000000000001},{"$f":"(STDEV(AM28:AO28))/SQRT(3)","v":0.20152998122694499},null,null,"6 - 63","Silt",{"$f":"'raw files'!CP14","v":2.0219999999999998},{"$f":"'raw files'!CQ14","v":1.8129999999999999},{"$f":"'raw files'!CR14","v":1.85},{"$f":"AVERAGE(AV28:AX28)","v":1.8950000000000002},{"$f":"(STDEV(AV28:AX28))/SQRT(3)","v":6.439202849214587E-2}]
["63 - 2000","Sand",{"$f":"'raw files'!BL15","v":93.912999999999997},{"$f":"'raw files'!BM15","v":95.566999999999993},{"$f":"'raw files'!BN15","v":96.179000000000002},95.219666666666669,0.6767986734948922,null,null,"63 - 2000","Sand",{"$f":"'raw files'!BR15","v":97.081999999999994},{"$f":"'raw files'!BS15","v":99.460999999999999},{"$f":"'raw files'!BT15","v":99.08},98.540999999999997,{"$f":"(STDEV(L29:N29))/SQRT(3)","v":0.73774453573035859},null,null,"63 - 2000","Sand",{"$f":"'raw files'!BX15","v":95.355999999999995},{"$f":"'raw files'!BY15","v":97.302000000000007},{"$f":"'raw files'!BZ15","v":95.352999999999994},96.003666666666675,0.6491672443300851,null,null,"63 - 2000","Sand",{"$f":"'raw files'!CD15","v":96.587000000000003},{"$f":"'raw files'!CE15","v":97.766999999999996},{"$f":"'raw files'!CF15","v":97.447999999999993},97.267333333333326,0.35241090284558824,null,null,"63 - 2000","Sand",{"$f":"'raw files'!CJ15","v":97.370999999999995},{"$f":"'raw files'!CK15","v":96.373999999999995},{"$f":"'raw files'!CL15","v":97.51},97.084999999999994,0.35775736656753099,null,null,"63 - 2000","Sand",{"$f":"'raw files'!CP15","v":97.52},{"$f":"'raw files'!CQ15","v":97.715000000000003},{"$f":"'raw files'!CR15","v":97.736000000000004},97.656999999999996,6.8767724987819384E-2]
["63 - 125","VF Sand",{"$f":"'raw files'!BL16","v":3.4510000000000001},{"$f":"'raw files'!BM16","v":3.7410000000000001},{"$f":"'raw files'!BN16","v":3.6629999999999998},3.6183333333333336,8.6643586670399966E-2,null,null,"63 - 125","VF Sand",{"$f":"'raw files'!BR16","v":1.827},{"$f":"'raw files'!BS16","v":1.2010000000000001},{"$f":"'raw files'!BT16","v":0.90900000000000003},{"$f":"AVERAGE(L30:N30)","v":1.3123333333333334},{"$f":"(STDEV(L30:N30))/SQRT(3)","v":0.27078732942620798},null,null,"63 - 125","VF Sand",{"$f":"'raw files'!BX16","v":4.1589999999999998},{"$f":"'raw files'!BY16","v":3.6680000000000001},{"$f":"'raw files'!BZ16","v":3.298},3.7083333333333335,0.24936608519292355,null,null,"63 - 125","VF Sand",{"$f":"'raw files'!CD16","v":5.7919999999999998},{"$f":"'raw files'!CE16","v":5.1429999999999998},{"$f":"'raw files'!CF16","v":6.57},5.835,0.41250010101008883,null,null,"63 - 125","VF Sand",{"$f":"'raw files'!CJ16","v":4.3559999999999999},{"$f":"'raw files'!CK16","v":5.4089999999999998},{"$f":"'raw files'!CL16","v":4.7649999999999997},{"$f":"AVERAGE(AM30:AO30)","v":4.8433333333333337},0.30648781016180365,null,null,"63 - 125","VF Sand",{"$f":"'raw files'!CP16","v":3.7490000000000001},{"$f":"'raw files'!CQ16","v":3.3439999999999999},{"$f":"'raw files'!CR16","v":3.4780000000000002},{"$f":"AVERAGE(AV30:AX30)","v":3.5236666666666667},{"$f":"(STDEV(AV30:AX30))/SQRT(3)","v":0.1191222527956516}]
["125 - 250","F Sand",{"$f":"'raw files'!BL17","v":19.91},{"$f":"'raw files'!BM17","v":23.504000000000001},{"$f":"'raw files'!BN17","v":24.927},22.780333333333335,1.4927985277472793,null,null,"125 - 250","F Sand",{"$f":"'raw files'!BR17","v":15.368},{"$f":"'raw files'!BS17","v":10.021000000000001},{"$f":"'raw files'!BT17","v":9.0060000000000002},{"$f":"AVERAGE(L31:N31)","v":11.465000000000002},1.973373845304869,null,null,"125 - 250","F Sand",{"$f":"'raw files'!BX17","v":29.786999999999999},{"$f":"'raw files'!BY17","v":25.393000000000001},{"$f":"'raw files'!BZ17","v":26.039000000000001},27.072999999999997,1.3697537491583411,null,null,"125 - 250","F Sand",{"$f":"'raw files'!CD17","v":34.215000000000003},{"$f":"'raw files'!CE17","v":31.186},{"$f":"'raw files'!CF17","v":33.429000000000002},32.943333333333335,0.90749000606679575,null,null,"125 - 250","F Sand",{"$f":"'raw files'!CJ17","v":32.430999999999997},{"$f":"'raw files'!CK17","v":36.835999999999999},{"$f":"'raw files'!CL17","v":38.115000000000002},{"$f":"AVERAGE(AM31:AO31)","v":35.794000000000004},1.7215581120988446,null,null,"125 - 250","F Sand",{"$f":"'raw files'!CP17","v":27.266999999999999},{"$f":"'raw files'!CQ17","v":26.91},{"$f":"'raw files'!CR17","v":27.795000000000002},{"$f":"AVERAGE(AV31:AX31)","v":27.324000000000002},{"$f":"(STDEV(AV31:AX31))/SQRT(3)","v":0.25706224927048366}]
["250 - 500","M Sand",{"$f":"'raw files'!BL18","v":35.265000000000001},{"$f":"'raw files'!BM18","v":34.332000000000001},{"$f":"'raw files'!BN18","v":32.259},33.952000000000005,0.88831469648993222,null,null,"250 - 500","M Sand",{"$f":"'raw files'!BR18","v":30.568999999999999},{"$f":"'raw files'!BS18","v":26.812999999999999},{"$f":"'raw files'!BT18","v":28.785},28.722333333333335,1.0847164504043341,null,null,"250 - 500","M Sand",{"$f":"'raw files'!BX18","v":39.546999999999997},{"$f":"'raw files'!BY18","v":34.238},{"$f":"'raw files'!BZ18","v":38.610999999999997},37.465333333333326,1.6361320579681546,null,null,"250 - 500","M Sand",{"$f":"'raw files'!CD18","v":35.381},{"$f":"'raw files'!CE18","v":34.387},{"$f":"'raw files'!CF18","v":34.959000000000003},34.908999999999999,0.2880300910205969,null,null,"250 - 500","M Sand",{"$f":"'raw files'!CJ18","v":36.420999999999999},{"$f":"'raw files'!CK18","v":37.838000000000001},{"$f":"'raw files'!CL18","v":38.765000000000001},37.674666666666667,0.68156494758590569,null,null,"250 - 500","M Sand",{"$f":"'raw files'!CP18","v":39.17},{"$f":"'raw files'!CQ18","v":35.290999999999997},{"$f":"'raw files'!CR18","v":37.685000000000002},37.381999999999998,1.1299730085271964]
["500 - 1000","C Sand",{"$f":"'raw files'!BL19","v":28.927},{"$f":"'raw files'!BM19","v":26.149000000000001},{"$f":"'raw files'!BN19","v":22.94},26.005333333333336,1.7297901928011703,null,null,"500 - 1000","C Sand",{"$f":"'raw files'!BR19","v":34.409999999999997},{"$f":"'raw files'!BS19","v":39.622},{"$f":"'raw files'!BT19","v":40.115000000000002},38.048999999999999,1.8250573506970513,null,null,"500 - 1000","C Sand",{"$f":"'raw files'!BX19","v":19.54},{"$f":"'raw files'!BY19","v":23.616},{"$f":"'raw files'!BZ19","v":22.815999999999999},21.990666666666666,1.2469062158442838,null,null,"500 - 1000","C Sand",{"$f":"'raw files'!CD19","v":16.742999999999999},{"$f":"'raw files'!CE19","v":18.95},{"$f":"'raw files'!CF19","v":18.273},17.988666666666663,0.65277518675608748,null,null,"500 - 1000","C Sand",{"$f":"'raw files'!CJ19","v":18.86},{"$f":"'raw files'!CK19","v":13.821},{"$f":"'raw files'!CL19","v":12.991},15.223999999999998,1.8337208984284714,null,null,"500 - 1000","C Sand",{"$f":"'raw files'!CP19","v":24.277999999999999},{"$f":"'raw files'!CQ19","v":22.946999999999999},{"$f":"'raw files'!CR19","v":23.37},23.531666666666666,0.39263737864741166]
["1000 - 2000","VC Sand",{"$f":"'raw files'!BL20","v":6.3609999999999998},{"$f":"'raw files'!BM20","v":7.84},{"$f":"'raw files'!BN20","v":12.388999999999999},8.8633333333333333,1.8137993580082417,null,null,"1000 - 2000","VC Sand",{"$f":"'raw files'!BR20","v":14.907999999999999},{"$f":"'raw files'!BS20","v":21.803999999999998},{"$f":"'raw files'!BT20","v":20.265000000000001},18.992333333333331,2.0899333588524911,null,null,"1000 - 2000","VC Sand",{"$f":"'raw files'!BX20","v":2.323},{"$f":"'raw files'!BY20","v":10.387},{"$f":"'raw files'!BZ20","v":4.5890000000000004},5.7663333333333329,2.4011531488941822,null,null,"1000 - 2000","VC Sand",{"$f":"'raw files'!CD20","v":4.4569999999999999},{"$f":"'raw files'!CE20","v":8.1020000000000003},{"$f":"'raw files'!CF20","v":4.218},5.5923333333333334,1.2567286014799592,null,null,"1000 - 2000","VC Sand",{"$f":"'raw files'!CJ20","v":5.3029999999999999},{"$f":"'raw files'!CK20","v":2.4700000000000002},{"$f":"'raw files'!CL20","v":2.8740000000000001},3.5489999999999999,0.88472048316591689,null,null,"1000 - 2000","VC Sand",{"$f":"'raw files'!CP20","v":3.0579999999999998},{"$f":"'raw files'!CQ20","v":9.2219999999999995},{"$f":"'raw files'!CR20","v":5.4080000000000004},5.8959999999999999,{"$f":"(STDEV(AV34:AX34))/SQRT(3)","v":1.7960449140634926}]
[null,null,null,"Textural Class:",null,{"$f":"'Texture Calculator'!N13","v":"SAND"},null,null,null,null,null,null,"Textural Class:",{"$f":"'Texture Calculator'!N14","v":"SAND"},null,null,null,null,null,null,null,"Textural Class:",{"$f":"'Texture Calculator'!N15","v":"SAND"},null,null,null,null,null,null,null,"Textural Class:",{"$f":"'Texture Calculator'!N16","v":"SAND"},null,null,null,null,null,null,null,"Textural Class:",{"$f":"'Texture Calculator'!N17","v":"SAND"},null,null,null,null,null,null,null,"Textural Class:",{"$f":"'Texture Calculator'!N18","v":"SAND"}]
[null,null,null,"avg mode:",null,{"$f":"AVERAGE('raw files'!BL6:BN6)","v":352.08366666666666},null,null,null,null,null,null,"avg mode:",{"$f":"AVERAGE('raw files'!BR6:BT6)","v":662.505},null,null,null,null,null,null,null,"avg mode:",{"$f":"AVERAGE('raw files'!BX6:BY6)","v":288.77700000000004},null,null,null,null,null,null,null,"avg mode:",{"$f":"AVERAGE('raw files'!CE6:CF6)","v":249.07599999999999},null,null,null,null,null,null,null,"avg mode:",{"$f":"AVERAGE('raw files'!CJ6:CL6)","v":249.34866666666667},null,null,null,null,null,null,null,"avg mode:",{"$f":"AVERAGE('raw files'!CP6:CR6)","v":297.03300000000007}]
[]
[]
[]
[]
[]
[]
[null,null,null,null,null,null,null,null,null,null,null,null,null,null,null,null,null,"Clay","Silt"]
[null,null,null,null,null,null,null,null,null,null,null,null,null,null,null,null,0,6,63]
[null,null,null,null,null,null,null,null,null,null,null,null,null,null,null,null,16,6,63]
[]
[]
[]
[]
[]
[]
[]
[]
[]
[]
[]
[]
[]
[]
[]
[]
[null,null,"הכנה לאוטוסמפלר"]

{"sheet":"Texture Calculator","index":1,"n_rows":61,"n_cols":14,"rows_kept":61,"cut":false,"hidden":false,"merged":[[9,7,9,12],[30,1,32,2],[10,7,10,12],[11,7,11,12],[0,1,0,7],[8,7,8,12],[2,1,2,2],[2,3,2,4],[2,5,2,6],[6,7,6,12],[2,7,2,12],[3,7,3,12],[4,7,4,12],[5,7,5,12],[7,7,7,12],[37,1,37,2],[12,7,12,12],[13,7,13,12],[14,7,14,12],[15,7,15,12],[16,7,16,12],[17,7,17,12],[18,7,18,12],[34,1,36,2]]}
[null,"Enter your data into the yellow highlighted cells",null,null,null,null,null,null,"Password = Texture"]
[]
[null,"Sand",null,"Clay",null,"Silt",null,"USDA Texture"]
[4399,"% Sand 1",{"$f":"Results!$F$13/100","v":0.91120000000000001},"%Clay 1",{"$f":"Results!$F$11/100","v":3.6089999999999997E-2},"% Silt 1",{"$f":"1-C4-E4","v":5.2709999999999993E-2},{"$f":"GRAIN(C4,E4,G4)","v":"SAND"},null,null,null,null,null,{"$f":"H4","v":"SAND"}]
[4400,"% Sand 2",{"$f":"Results!$O$13/100","v":0.92059999999999997},"%Clay 2",{"$f":"Results!$O$11/100","v":3.1180000000000003E-2},"% Silt 2",{"$f":"1-C5-E5","v":4.8220000000000027E-2},{"$f":"GRAIN(C5,E5,G5)","v":"SAND"},null,null,null,null,null,{"$f":"H5","v":"SAND"}]
[4401,"% Sand 3",{"$f":"Results!$X$13/100","v":0.97715333333333332},"%Clay 3",{"$f":"Results!X11/100","v":5.2900000000000004E-3},"% Silt 3",{"$f":"1-C6-E6","v":1.7556666666666682E-2},"SAND",null,null,null,null,null,{"$f":"H6","v":"SAND"}]
[4402,"% Sand 4",{"$f":"Results!$AG$13/100","v":0.98161999999999994},"%Clay 4",{"$f":"Results!$AG$11/100","v":1.0806666666666669E-2},"% Silt 4",{"$f":"1-C7-E7","v":7.5733333333333937E-3},{"$f":"GRAIN(C7,E7,G7)","v":"SAND"},null,null,null,null,null,{"$f":"H7","v":"SAND"}]
[4403,"% Sand 5",{"$f":"Results!$AP$13/100","v":0.96471333333333331},"%Clay 5",{"$f":"Results!$AP$11/100","v":1.5273333333333331E-2},"% Silt 5",{"$f":"1-C8-E8","v":2.0013333333333355E-2},{"$f":"GRAIN(C8,E8,G8)","v":"SAND"},null,null,null,null,null,{"$f":"H8","v":"SAND"}]
[4404,"% Sand 6",{"$f":"Results!$AY$13/100","v":0.95760333333333336},"%Clay 6",{"$f":"Results!$AY$11/100","v":1.4876666666666667E-2},"% Silt 6",{"$f":"1-C9-E9","v":2.7519999999999972E-2},{"$f":"GRAIN(C9,E9,G9)","v":"SAND"},null,null,null,null,null,"SAND"]
[4405,"% Sand 7",{"$f":"Results!$BH$13/100","v":0.98277666666666663},"%Clay 7",{"$f":"Results!$BH$11/100","v":2.3433333333333336E-3},"% Silt 7",1.4880000000000036E-2,"SAND",null,null,null,null,null,"SAND"]
[4406,"% Sand 8",{"$f":"Results!$BQ$13/100","v":0.99890333333333325},"%Clay 8",{"$f":"Results!$BQ$11/100","v":0},"% Silt 8",{"$f":"1-C11-E11","v":1.0966666666667457E-3},{"$f":"GRAIN(C11,E11,G11)","v":"SAND"},null,null,null,null,null,"SAND"]
[4407,"% Sand 9",{"$f":"Results!$BY$13/100","v":0.99002000000000012},"%Clay 9",{"$f":"Results!$BY$11/100","v":2.6533333333333335E-3},"% Silt 9",7.3266666666665439E-3,"SAND",null,null,null,null,null,"SAND"]
[4408,"% Sand 11",{"$f":"Results!$CH$13/100","v":0.9974400000000001},"%Clay 11",{"$f":"Results!$CH$11/100","v":0},"% Silt 11",{"$f":"1-C13-E13","v":2.5599999999998957E-3},{"$f":"GRAIN(C13,E13,G13)","v":"SAND"},null,null,null,null,null,"SAND"]
[4409,"% Sand 12",{"$f":"Results!$F$29/100","v":0.95219666666666669},"%Clay 12",{"$f":"Results!$F$27/100","v":1.5866666666666668E-2},"% Silt 12",3.1936666666666641E-2,"SAND",null,null,null,null,null,"SAND"]
[4410,"% Sand 13",{"$f":"Results!$O$29/100","v":0.98541000000000001},"%Clay 13",{"$f":"Results!$O$27/100","v":3.5899999999999999E-3},"% Silt 13",1.0999999999999992E-2,"SAND",null,null,null,null,null,"SAND"]
[4411,"% Sand 14",{"$f":"Results!$X$29/100","v":0.96003666666666676},"%Clay 14",{"$f":"Results!$X$27/100","v":1.159E-2},"% Silt 14",2.837333333333324E-2,"SAND",null,null,null,null,null,"SAND"]
[4412,"% Sand 15",{"$f":"Results!$AG$29/100","v":0.97267333333333328},"%Clay 15",{"$f":"Results!$AG$27/100","v":5.8866666666666668E-3},"% Silt 15",2.1440000000000056E-2,"SAND",null,null,null,null,null,{"$f":"H17","v":"SAND"}]
[4413,"% Sand 16",{"$f":"Results!$AP$29/100","v":0.97084999999999999},"%Clay 16",{"$f":"Results!$AP$27/100","v":5.9633333333333335E-3},"% Silt 16",{"$f":"1-C18-E18","v":2.3186666666666675E-2},{"$f":"GRAIN(C18,E18,G18)","v":"SAND"},null,null,null,null,null,{"$f":"H18","v":"SAND"}]
[4414,"% Sand 17",{"$f":"Results!$AY$29/100","v":0.97656999999999994},"%Clay 17",{"$f":"Results!$AY$27/100","v":4.4799999999999996E-3},"% Silt 17",{"$f":"1-C19-E19","v":1.8950000000000064E-2},{"$f":"GRAIN(C19,E19,G19)","v":"SAND"},null,null,null,null,null,"SAND"]
[]
[]
[]
[null,null,null,{"$f":"A4","v":4399},{"$f":"(1.095-(C4*0.0104*100))-((0.52)*(0.0099*E4*100))","v":0.12877286800000004},{"$f":"0.145+(0.0099*E4*100)","v":0.18072909999999998}]
[null,null,null,{"$f":"A5","v":4400},{"$f":"(1.095-(C5*0.0104*100))-((0.52)*(0.0099*E5*100))","v":0.12152453600000003},{"$f":"0.145+(0.0099*E5*100)","v":0.1758682}]
[null,null,null,{"$f":"A6","v":4401},{"$f":"(1.095-(C6*0.0104*100))-((0.52)*(0.0099*E6*100))","v":7.6037241333333436E-2},{"$f":"0.145+(0.0099*E6*100)","v":0.15023709999999998}]
[null,null,null,{"$f":"A7","v":4402},{"$f":"(1.095-(C7*0.0104*100))-((0.52)*(0.0099*E7*100))","v":6.855192800000004E-2},{"$f":"0.145+(0.0099*E7*100)","v":0.15569859999999999}]
[null,null,null,{"$f":"A8","v":4403},{"$f":"(1.095-(C8*0.0104*100))-((0.52)*(0.0099*E8*100))","v":8.3835421333333326E-2},{"$f":"0.145+(0.0099*E8*100)","v":0.1601206}]
[null,null,null,{"$f":"A9","v":4404},{"$f":"(1.095-(C9*0.0104*100))-((0.52)*(0.0099*E9*100))","v":9.1434025333333349E-2},{"$f":"0.145+(0.0099*E9*100)","v":0.15972789999999998}]
[null,null,null,{"$f":"A10","v":4405},{"$f":"(1.095-(C10*0.0104*100))-((0.52)*(0.0099*E10*100))","v":7.1705918666666618E-2},{"$f":"0.145+(0.0099*E10*100)","v":0.1473199}]
[null,null,null,{"$f":"A11","v":4406},{"$f":"(1.095-(C11*0.0104*100))-((0.52)*(0.0099*E11*100))","v":5.6140533333333353E-2},{"$f":"0.145+(0.0099*E11*100)","v":0.14499999999999999}]
[null,null,null,{"$f":"A12","v":4407},{"$f":"(1.095-(C12*0.0104*100))-((0.52)*(0.0099*E12*100))","v":6.4013263999999973E-2},{"$f":"0.145+(0.0099*E12*100)","v":0.1476268}]
[null,null,null,{"$f":"A13","v":4408},{"$f":"(1.095-(C13*0.0104*100))-((0.52)*(0.0099*E13*100))","v":5.7662399999999892E-2},{"$f":"0.145+(0.0099*E13*100)","v":0.14499999999999999}]
[null,null,null,{"$f":"A14","v":4409},{"$f":"(1.095-(C14*0.0104*100))-((0.52)*(0.0099*E14*100))","v":9.6547306666666638E-2},{"$f":"0.145+(0.0099*E14*100)","v":0.16070799999999999}]
[null,null,null,{"$f":"A15","v":4410},{"$f":"(1.095-(C15*0.0104*100))-((0.52)*(0.0099*E15*100))","v":6.8325467999999945E-2},{"$f":"0.145+(0.0099*E15*100)","v":0.14855409999999999}]
[null,null,null,{"$f":"A16","v":4411},{"$f":"(1.095-(C16*0.0104*100))-((0.52)*(0.0099*E16*100))","v":9.0595334666666555E-2},{"$f":"0.145+(0.0099*E16*100)","v":0.1564741}]
[null,null,null,{"$f":"A17","v":4412},{"$f":"(1.095-(C17*0.0104*100))-((0.52)*(0.0099*E17*100))","v":8.0389277333333301E-2},{"$f":"0.145+(0.0099*E17*100)","v":0.15082779999999998}]
[null,null,null,{"$f":"A18","v":4413},{"$f":"(1.095-(C18*0.0104*100))-((0.52)*(0.0099*E18*100))","v":8.2246075999999946E-2},{"$f":"0.145+(0.0099*E18*100)","v":0.1509037}]
[null,null,null,{"$f":"A19","v":4414},{"$f":"(1.095-(C19*0.0104*100))-((0.52)*(0.0099*E19*100))","v":7.7060896000000087E-2},{"$f":"0.145+(0.0099*E19*100)","v":0.14943519999999999}]
[null,null,null,{"$f":"#REF!","v":{"$error":"#REF!"}},{"$f":"(1.095-(#REF!*0.0104*100))-((0.52)*(0.0099*#REF!*100))","v":{"$error":"#REF!"}},{"$f":"0.145+(0.0099*#REF!*100)","v":{"$error":"#REF!"}}]
[null,null,null,{"$f":"#REF!","v":{"$error":"#REF!"}},{"$f":"(1.095-(#REF!*0.0104*100))-((0.52)*(0.0099*#REF!*100))","v":{"$error":"#REF!"}},{"$f":"0.145+(0.0099*#REF!*100)","v":{"$error":"#REF!"}}]
[null,null,null,{"$f":"#REF!","v":{"$error":"#REF!"}},{"$f":"(1.095-(#REF!*0.0104*100))-((0.52)*(0.0099*#REF!*100))","v":{"$error":"#REF!"}},{"$f":"0.145+(0.0099*#REF!*100)","v":{"$error":"#REF!"}}]
[null,null,null,{"$f":"#REF!","v":{"$error":"#REF!"}},{"$f":"(1.095-(#REF!*0.0104*100))-((0.52)*(0.0099*#REF!*100))","v":{"$error":"#REF!"}},{"$f":"0.145+(0.0099*#REF!*100)","v":{"$error":"#REF!"}}]
[null,null,null,{"$f":"#REF!","v":{"$error":"#REF!"}},{"$f":"(1.095-(#REF!*0.0104*100))-((0.52)*(0.0099*#REF!*100))","v":{"$error":"#REF!"}},{"$f":"0.145+(0.0099*#REF!*100)","v":{"$error":"#REF!"}}]
[null,null,null,{"$f":"#REF!","v":{"$error":"#REF!"}},{"$f":"(1.095-(#REF!*0.0104*100))-((0.52)*(0.0099*#REF!*100))","v":{"$error":"#REF!"}},{"$f":"0.145+(0.0099*#REF!*100)","v":{"$error":"#REF!"}}]
[null,null,null,{"$f":"#REF!","v":{"$error":"#REF!"}},{"$f":"(1.095-(#REF!*0.0104*100))-((0.52)*(0.0099*#REF!*100))","v":{"$error":"#REF!"}},{"$f":"0.145+(0.0099*#REF!*100)","v":{"$error":"#REF!"}}]
[null,null,null,{"$f":"#REF!","v":{"$error":"#REF!"}},{"$f":"(1.095-(#REF!*0.0104*100))-((0.52)*(0.0099*#REF!*100))","v":{"$error":"#REF!"}},{"$f":"0.145+(0.0099*#REF!*100)","v":{"$error":"#REF!"}}]
[null,null,null,{"$f":"#REF!","v":{"$error":"#REF!"}},{"$f":"(1.095-(#REF!*0.0104*100))-((0.52)*(0.0099*#REF!*100))","v":{"$error":"#REF!"}},{"$f":"0.145+(0.0099*#REF!*100)","v":{"$error":"#REF!"}}]
[null,null,null,{"$f":"#REF!","v":{"$error":"#REF!"}},{"$f":"(1.095-(#REF!*0.0104*100))-((0.52)*(0.0099*#REF!*100))","v":{"$error":"#REF!"}},{"$f":"0.145+(0.0099*#REF!*100)","v":{"$error":"#REF!"}}]
[null,null,null,{"$f":"#REF!","v":{"$error":"#REF!"}},{"$f":"(1.095-(#REF!*0.0104*100))-((0.52)*(0.0099*#REF!*100))","v":{"$error":"#REF!"}},{"$f":"0.145+(0.0099*#REF!*100)","v":{"$error":"#REF!"}}]
[null,null,null,{"$f":"#REF!","v":{"$error":"#REF!"}},{"$f":"(1.095-(#REF!*0.0104*100))-((0.52)*(0.0099*#REF!*100))","v":{"$error":"#REF!"}},{"$f":"0.145+(0.0099*#REF!*100)","v":{"$error":"#REF!"}}]
[null,null,null,{"$f":"#REF!","v":{"$error":"#REF!"}},{"$f":"(1.095-(#REF!*0.0104*100))-((0.52)*(0.0099*#REF!*100))","v":{"$error":"#REF!"}},{"$f":"0.145+(0.0099*#REF!*100)","v":{"$error":"#REF!"}}]
[null,null,null,{"$f":"#REF!","v":{"$error":"#REF!"}},{"$f":"(1.095-(#REF!*0.0104*100))-((0.52)*(0.0099*#REF!*100))","v":{"$error":"#REF!"}},{"$f":"0.145+(0.0099*#REF!*100)","v":{"$error":"#REF!"}}]
[null,null,null,{"$f":"#REF!","v":{"$error":"#REF!"}},{"$f":"(1.095-(#REF!*0.0104*100))-((0.52)*(0.0099*#REF!*100))","v":{"$error":"#REF!"}},{"$f":"0.145+(0.0099*#REF!*100)","v":{"$error":"#REF!"}}]
[null,null,null,{"$f":"#REF!","v":{"$error":"#REF!"}},{"$f":"(1.095-(#REF!*0.0104*100))-((0.52)*(0.0099*#REF!*100))","v":{"$error":"#REF!"}},{"$f":"0.145+(0.0099*#REF!*100)","v":{"$error":"#REF!"}}]
[null,null,null,{"$f":"#REF!","v":{"$error":"#REF!"}},{"$f":"(1.095-(#REF!*0.0104*100))-((0.52)*(0.0099*#REF!*100))","v":{"$error":"#REF!"}},{"$f":"0.145+(0.0099*#REF!*100)","v":{"$error":"#REF!"}}]
[]
[]
[]
[]
[null,null,null,null,0.52500000000000002]
[null,null,null,null,1.04]

{"sheet":"raw files","index":2,"n_rows":121,"n_cols":117,"rows_kept":121,"cut":false,"hidden":false,"merged":[]}
["Sample Name",null,"[4399] Chile_7_T1_1 bulk - b - Average","[4399] Chile_7_T1_1 bulk - c - Average","[4399] Chile_7_T1_1 bulk - d - Average",null,"Sample Name",null,"[4400] Chile_7_T1_3 bulk - a - Average","[4400] Chile_7_T1_3 bulk - b - Average","[4400] Chile_7_T1_3 bulk - c - Average",null,"Sample Name",null,"[4401] Chile_7_T1_4 bulk - b - Average","[4401] Chile_7_T1_4 bulk - c - Average","[4401] Chile_7_T1_4 bulk - d - Average",null,null,"Sample Name",null,"[4402] Chile_7_T1_8 bulk - a - Average","[4402] Chile_7_T1_8 bulk - c - Average","[4402] Chile_7_T1_8 bulk - d - Average",null,"Sample Name",null,"[4403] Chile_7_T1_11 bulk - a - Average","[4403] Chile_7_T1_11 bulk - b - Average","[4403] Chile_7_T1_11 bulk - c - Average",null,"Sample Name",null,"[4404] Chile_7_T1_16 bulk - b - Average","[4404] Chile_7_T1_16 bulk - c - Average","[4404] Chile_7_T1_16 bulk - d - Average",null,"Sample Name",null,"[4405] Chile_7_T2_17 bulk - b - Average","[4405] Chile_7_T2_17 bulk - d - Average","[4405] Chile_7_T2_17 bulk - f - Average",null,"Sample Name",null,"[4406] Chile_7_T2_20 bulk - a - Average","[4406] Chile_7_T2_20 bulk - c - Average","[4406] Chile_7_T2_20 bulk - d - Average",null,"Sample Name",null,"[4407] Chile_7_T2_26 bulk - a - Average","[4407] Chile_7_T2_26 bulk - b - Average","[4407] Chile_7_T2_26 bulk - c - Average",null,"Sample Name",null,"[4408] Chile_7_T2_26_b bulk - a - Average","[4408] Chile_7_T2_26_b bulk - d - Average","[4408] Chile_7_T2_26_b bulk - f - Average",null,"Sample Name",null,"[4409] Chile_7_T2_30 bulk - a - Average","[4409] Chile_7_T2_30 bulk - b - Average","[4409] Chile_7_T2_30 bulk - d - Average",null,"Sample Name",null,"[4410] Chile_7_T2_32 bulk - a - Average","[4410] Chile_7_T2_32 bulk - c - Average","[4410] Chile_7_T2_32 bulk - d - Average",null,"Sample Name",null,"[4411] Chile_7_T3_33 bulk - a - Average","[4411] Chile_7_T3_33 bulk - b - Average","[4411] Chile_7_T3_33 bulk - c - Average",null,"Sample Name",null,"[4412] Chile_7_T3_41 bulk - a - Average","[4412] Chile_7_T3_41 bulk - b - Average","[4412] Chile_7_T3_41 bulk - c - Average",null,"Sample Name",null,"[4413] Chile_7_T3_47 bulk - a - Average","[4413] Chile_7_T3_47 bulk - b - Average","[4413] Chile_7_T3_47 bulk - c - Average",null,"Sample Name",null,"[4414] Chile_7_T3_48 bulk - b - Average","[4414] Chile_7_T3_48 bulk - c - Average","[4414] Chile_7_T3_48 bulk - d - Average"]
["Analysis date and time",null,"éåí çîéùé 22 àåâåñè 2019 11:04:25","éåí çîéùé 22 àåâåñè 2019 11:12:26","éåí çîéùé 22 àåâåñè 2019 11:14:50",null,"Analysis date and time",null,"éåí çîéùé 22 àåâåñè 2019 11:37:17","éåí çîéùé 22 àåâåñè 2019 11:39:32","éåí çîéùé 22 àåâåñè 2019 11:45:19",null,"Analysis date and time",null,"éåí çîéùé 22 àåâåñè 2019 11:55:41","éåí çîéùé 22 àåâåñè 2019 12:00:26","éåí çîéùé 22 àåâåñè 2019 12:04:08",null,null,"Analysis date and time",null,"éåí çîéùé 22 àåâåñè 2019 12:12:52","éåí çîéùé 22 àåâåñè 2019 12:21:01","éåí çîéùé 22 àåâåñè 2019 12:24:02",null,"Analysis date and time",null,"éåí çîéùé 22 àåâåñè 2019 12:34:00","éåí çîéùé 22 àåâåñè 2019 12:36:47","éåí çîéùé 22 àåâåñè 2019 12:42:50",null,"Analysis date and time",null,"éåí çîéùé 22 àåâåñè 2019 13:06:51","éåí çîéùé 22 àåâåñè 2019 13:12:56","éåí çîéùé 22 àåâåñè 2019 13:16:51",null,"Analysis date and time",null,"éåí çîéùé 22 àåâåñè 2019 15:04:32","éåí çîéùé 22 àåâåñè 2019 15:29:34","éåí çîéùé 22 àåâåñè 2019 15:48:16",null,"Analysis date and time",null,"éåí çîéùé 22 àåâåñè 2019 16:02:34","éåí çîéùé 22 àåâåñè 2019 16:18:36","éåí çîéùé 22 àåâåñè 2019 16:26:21",null,"Analysis date and time",null,"éåí çîéùé 22 àåâåñè 2019 16:46:54","éåí çîéùé 22 àåâåñè 2019 16:56:09","éåí çîéùé 22 àåâåñè 2019 17:09:06",null,"Analysis date and time",null,"éåí çîéùé 22 àåâåñè 2019 17:26:01","éåí øàùåï 25 àåâåñè 2019 11:27:13","éåí øàùåï 25 àåâåñè 2019 12:20:11",null,"Analysis date and time",null,"éåí øàùåï 25 àåâåñè 2019 12:42:32","éåí øàùåï 25 àåâåñè 2019 12:48:25","éåí øàùåï 25 àåâåñè 2019 13:09:18",null,"Analysis date and time",null,"éåí øàùåï 25 àåâåñè 2019 13:24:14","éåí øàùåï 25 àåâåñè 2019 13:37:23","éåí øàùåï 25 àåâåñè 2019 13:57:20",null,"Analysis date and time",null,"éåí øàùåï 25 àåâåñè 2019 14:20:04","éåí øàùåï 25 àåâåñè 2019 14:26:26","éåí øàùåï 25 àåâåñè 2019 14:35:04",null,"Analysis date and time",null,"éåí øàùåï 25 àåâåñè 2019 14:48:39","éåí øàùåï 25 àåâåñè 2019 14:54:12","éåí øàùåï 25 àåâåñè 2019 15:07:09",null,"Analysis date and time",null,"éåí øàùåï 25 àåâåñè 2019 15:21:59","éåí øàùåï 25 àåâåñè 2019 15:27:51","éåí øàùåï 25 àåâåñè 2019 15:39:15",null,"Analysis date and time",null,"éåí øàùåï 25 àåâåñè 2019 16:00:09","éåí øàùåï 25 àåâåñè 2019 16:07:50","éåí øàùåï 25 àåâåñè 2019 16:11:31"]
["Operator name",null,"Yael","Yael","Yael",null,"Operator name",null,"Yael","Yael","Yael",null,"Operator name",null,"Yael","Yael","Yael",null,null,"Operator name",null,"Yael","Yael","Yael",null,"Operator name",null,"Yael","Yael","Yael",null,"Operator name",null,"Yael","Yael","Yael",null,"Operator name",null,"Yael","Yael","Yael",null,"Operator name",null,"Yael","Yael","Yael",null,"Operator name",null,"Yael","Yael","Yael",null,"Operator name",null,"Yael","Dorina","Dorina",null,"Operator name",null,"Dorina","Dorina","Dorina",null,"Operator name",null,"Dorina","Dorina","Dorina",null,"Operator name",null,"Dorina","Dorina","Dorina",null,"Operator name",null,"Dorina","Dorina","Dorina",null,"Operator name",null,"Dorina","Dorina","Dorina",null,"Operator name",null,"Dorina","Dorina","Dorina"]
["Obscuration",null,11.33,10.1,9.6999999999999993,null,"Obscuration",null,10.039999999999999,9.7200000000000006,10.41,null,"Obscuration",null,8.5,11.01,10.11,null,null,"Obscuration",null,11.02,11.54,11.44,null,"Obscuration",null,12.13,10.87,10.47,null,"Obscuration",null,9.74,10.34,10.28,null,"Obscuration",null,8.41,10.73,8.85,null,"Obscuration",null,8.42,9.9,8.5500000000000007,null,"Obscuration",null,10.24,13.39,11.14,null,"Obscuration",null,9.2200000000000006,11.22,9.5,null,"Obscuration",null,9.01,11.52,9.1300000000000008,null,"Obscuration",null,8.42,12.5,11.97,null,"Obscuration",null,9.91,12.83,11.57,null,"Obscuration",null,10.11,12.05,10.83,null,"Obscuration",null,10.77,11.11,12.1,null,"Obscuration",null,9.7200000000000006,10.050000000000001,9.9]
["Residual",null,0.85199999999999998,0.75900000000000001,0.75,null,"Residual",null,0.92700000000000005,1.012,0.504,null,"Residual",null,0.92400000000000004,0.71799999999999997,0.92100000000000004,null,null,"Residual",null,0.57799999999999996,0.503,0.503,null,"Residual",null,0.40699999999999997,0.45500000000000002,0.33500000000000002,null,"Residual",null,1.022,0.91300000000000003,1.1020000000000001,null,"Residual",null,0.92600000000000005,0.90800000000000003,0.874,null,"Residual",null,0.82099999999999995,0.98399999999999999,0.82199999999999995,null,"Residual",null,0.81599999999999995,0.872,0.70299999999999996,null,"Residual",null,1.2490000000000001,0.76100000000000001,0.96099999999999997,null,"Residual",null,0.55600000000000005,0.504,0.57399999999999995,null,"Residual",null,0.61099999999999999,0.92,0.96499999999999997,null,"Residual",null,0.50700000000000001,0.55900000000000005,0.35599999999999998,null,"Residual",null,0.51,0.53700000000000003,0.48599999999999999,null,"Residual",null,0.62,0.55200000000000005,0.55200000000000005,null,"Residual",null,0.45300000000000001,0.44600000000000001,0.52]
["Mode",null,805.62400000000002,623.697,756.17399999999998,null,"Mode",null,1012.374,922.20299999999997,839.55799999999999,null,"Mode",null,1088.7829999999999,1044.3510000000001,181.08699999999999,null,null,"Mode",null,272.95400000000001,276.18700000000001,275.35300000000001,null,"Mode",null,346.99,340.42399999999998,344.81200000000001,null,"Mode",null,937.03800000000001,797.55399999999997,860.87599999999998,null,"Mode",null,872.09,805.68499999999995,694.36500000000001,null,"Mode",null,799.31,801.78200000000004,731.178,null,"Mode",null,198.56399999999999,206.69900000000001,205.089,null,"Mode",null,704.70600000000002,742.77300000000002,684.69600000000003,null,"Mode",null,445.42899999999997,330.08100000000002,280.74099999999999,null,"Mode",null,607.26199999999994,719.42899999999997,660.82399999999996,null,"Mode",null,287.43400000000003,290.12,311.47199999999998,null,"Mode",null,244.98599999999999,253.446,244.70599999999999,null,"Mode",null,255.34800000000001,246.94200000000001,245.756,null,"Mode",null,316.84500000000003,281.72800000000001,292.52600000000001]
["Skewness",null,0.89600000000000002,0.89900000000000002,0.879,null,"Skewness",null,0.56899999999999995,0.63400000000000001,0.73699999999999999,null,"Skewness",null,0.70099999999999996,0.76300000000000001,1.0940000000000001,null,null,"Skewness",null,2.54,1.855,1.454,null,"Skewness",null,1.0880000000000001,1.296,1.3069999999999999,null,"Skewness",null,0.26500000000000001,0.42699999999999999,0.36699999999999999,null,"Skewness",null,0.52300000000000002,0.60699999999999998,0.74,null,"Skewness",null,0.68200000000000005,0.58899999999999997,0.71899999999999997,null,"Skewness",null,6.1859999999999999,5.5949999999999998,0.442,null,"Skewness",null,0.81399999999999995,0.73299999999999998,0.83199999999999996,null,"Skewness",null,1.2450000000000001,1.3380000000000001,1.361,null,"Skewness",null,0.95799999999999996,0.77300000000000002,0.84499999999999997,null,"Skewness",null,1.3140000000000001,1.4510000000000001,1.339,null,"Skewness",null,1.8879999999999999,1.776,1.726,null,"Skewness",null,1.78,1.95,2.2890000000000001,null,"Skewness",null,1.129,1.5549999999999999,1.571]
["Kurtosis",null,6.2E-2,0.47699999999999998,0.14099999999999999,null,"Kurtosis",null,-0.72099999999999997,-0.53500000000000003,-0.26900000000000002,null,"Kurtosis",null,-0.74,-0.57699999999999996,0.154,null,null,"Kurtosis",null,9.5969999999999995,6.016,2.7749999999999999,null,"Kurtosis",null,1.214,1.8839999999999999,2.5259999999999998,null,"Kurtosis",null,-0.47499999999999998,-0.246,-0.35,null,"Kurtosis",null,-0.41699999999999998,-0.254,8.5000000000000006E-2,null,"Kurtosis",null,-0.22,-0.23799999999999999,-1.9E-2,null,"Kurtosis",null,55.247999999999998,76.108000000000004,0.31900000000000001,null,"Kurtosis",null,0.161,0,0.20100000000000001,null,"Kurtosis",null,1.974,1.861,1.3779999999999999,null,"Kurtosis",null,0.505,-5.0000000000000001E-3,0.19700000000000001,null,"Kurtosis",null,2.0550000000000002,1.851,1.968,null,"Kurtosis",null,4.327,3.1640000000000001,3.4809999999999999,null,"Kurtosis",null,3.6309999999999998,5.1420000000000003,7.1079999999999997,null,"Kurtosis",null,1.0649999999999999,2.319,2.9740000000000002]
["d (0.1)",null,86.156999999999996,74.338999999999999,77.802000000000007,null,"d (0.1)",null,75.384,79.216999999999999,95.864000000000004,null,"d (0.1)",null,127.782,123.54300000000001,115.824,null,null,"d (0.1)",null,153.542,148.755,149.517,null,"d (0.1)",null,157.999,157.03100000000001,161.00200000000001,null,"d (0.1)",null,251.65600000000001,223.453,242.131,null,"d (0.1)",null,206.02500000000001,204.83199999999999,192.16800000000001,null,"d (0.1)",null,178.453,230.6,231.80199999999999,null,"d (0.1)",null,124.15600000000001,130.51300000000001,125.14,null,"d (0.1)",null,219.19800000000001,312.18,227.672,null,"d (0.1)",null,129.065,137.59,140.95400000000001,null,"d (0.1)",null,175.66900000000001,232.11099999999999,241.673,null,"d (0.1)",null,131.97399999999999,147.28800000000001,138.83099999999999,null,"d (0.1)",null,128.60499999999999,137.58699999999999,128.86500000000001,null,"d (0.1)",null,139.56,129.29,136.81100000000001,null,"d (0.1)",null,146.667,150.048,148.84200000000001]
["d (0.5)",null,432.964,425.29,442.89,null,"d (0.5)",null,564.16200000000003,542.01900000000001,509.90699999999998,null,"d (0.5)",null,378.06200000000001,381.738,289.82,null,null,"d (0.5)",null,285.87700000000001,283.57600000000002,286.24900000000002,null,"d (0.5)",null,350.39100000000002,362.82900000000001,346.90300000000002,null,"d (0.5)",null,799.36699999999996,702.47900000000004,745.25599999999997,null,"d (0.5)",null,693.81399999999996,658.49400000000003,591.87199999999996,null,"d (0.5)",null,620.71400000000006,692.77499999999998,643.50300000000004,null,"d (0.5)",null,198.90199999999999,207.06100000000001,202.10599999999999,null,"d (0.5)",null,598.26599999999996,691.005,598.14200000000005,null,"d (0.5)",null,380.67,360.62900000000002,356.78800000000001,null,"d (0.5)",null,493.37900000000002,614.11199999999997,597.44600000000003,null,"d (0.5)",null,300.88200000000001,354.642,329.608,null,"d (0.5)",null,278.29500000000002,305.80700000000002,283.78100000000001,null,"d (0.5)",null,297.35500000000002,265.59399999999999,266.68200000000002,null,"d (0.5)",null,332.46,344.73099999999999,333.31]
["d (0.9)",null,1211.0440000000001,1024.6500000000001,1166.5419999999999,null,"d (0.9)",null,1372.241,1326.011,1274.625,null,"d (0.9)",null,1352.94,1329.665,1248.6189999999999,null,null,"d (0.9)",null,583.59199999999998,562.62699999999995,580.25599999999997,null,"d (0.9)",null,755.30700000000002,852.77800000000002,730.32600000000002,null,"d (0.9)",null,1449.5160000000001,1344.6849999999999,1397.2750000000001,null,"d (0.9)",null,1383.5930000000001,1339.443,1236.58,null,"d (0.9)",null,1311.162,1348.202,1296.2840000000001,null,"d (0.9)",null,319.154,329.12400000000002,316.44299999999998,null,"d (0.9)",null,1247.356,1330.771,1238.6669999999999,null,"d (0.9)",null,877.86599999999999,923.33199999999999,1091.5340000000001,null,"d (0.9)",null,1140.605,1287.973,1261.115,null,"d (0.9)",null,683.04899999999998,1014.967,791.822,null,"d (0.9)",null,739.17499999999995,910.62300000000005,746.91600000000005,null,"d (0.9)",null,793.10699999999997,621.697,618.49599999999998,null,"d (0.9)",null,755.60599999999999,968.35799999999995,823.35599999999999]
["Specific surface area",null,0.159,0.182,0.17699999999999999,null,"Specific surface area",null,0.16800000000000001,0.159,0.13200000000000001,null,"Specific surface area",null,3.2099999999999997E-2,3.6400000000000002E-2,3.8800000000000001E-2,null,null,"Specific surface area",null,4.02E-2,6.4199999999999993E-2,5.5100000000000003E-2,null,"Specific surface area",null,7.1999999999999995E-2,6.9199999999999998E-2,6.4299999999999996E-2,null,"Specific surface area",null,4.4200000000000003E-2,8.0100000000000005E-2,6.6699999999999995E-2,null,"Specific surface area",null,1.8499999999999999E-2,1.8599999999999998E-2,2.52E-2,null,"Specific surface area",null,1.5299999999999999E-2,1.2500000000000001E-2,1.2999999999999999E-2,null,"Specific surface area",null,4.2500000000000003E-2,3.3700000000000001E-2,3.5700000000000003E-2,null,"Specific surface area",null,1.46E-2,1.0800000000000001E-2,1.37E-2,null,"Specific surface area",null,0.108,7.0900000000000005E-2,5.1900000000000002E-2,null,"Specific surface area",null,4.6600000000000003E-2,1.3899999999999999E-2,1.5900000000000001E-2,null,"Specific surface area",null,6.9000000000000006E-2,3.4799999999999998E-2,7.9600000000000004E-2,null,"Specific surface area",null,4.7300000000000002E-2,3.2199999999999999E-2,3.6999999999999998E-2,null,"Specific surface area",null,3.4500000000000003E-2,4.8500000000000001E-2,3.61E-2,null,"Specific surface area",null,3.3599999999999998E-2,3.2300000000000002E-2,3.1899999999999998E-2]
["Result Below 6.000 µm",null,3.31,3.8029999999999999,3.714,null,"Result Below 6.000 µm",null,3.512,3.3149999999999999,2.7240000000000002,null,"Result Below 6.000 µm",null,0.41199999999999998,0.621,0.55400000000000005,null,null,"Result Below 6.000 µm",null,0.79600000000000004,1.3380000000000001,1.1080000000000001,null,"Result Below 6.000 µm",null,1.585,1.5609999999999999,1.4359999999999999,null,"Result Below 6.000 µm",null,1.0920000000000001,1.83,1.5409999999999999,null,"Result Below 6.000 µm",null,0.16500000000000001,0.14699999999999999,0.39100000000000001,null,"Result Below 6.000 µm",null,0,0,0,null,"Result Below 6.000 µm",null,0.61599999999999999,0.18,0,null,"Result Below 6.000 µm",null,0,0,0,null,"Result Below 6.000 µm",null,2.2109999999999999,1.4490000000000001,1.1000000000000001,null,"Result Below 6.000 µm",null,0.997,0,0.08,null,"Result Below 6.000 µm",null,1.359,0.55400000000000005,1.5640000000000001,null,"Result Below 6.000 µm",null,0.90300000000000002,0.376,0.48699999999999999,null,"Result Below 6.000 µm",null,0.43,0.91400000000000003,0.44500000000000001,null,"Result Below 6.000 µm",null,0.45800000000000002,0.47199999999999998,0.41399999999999998]
["Result 6.00µm-63.00µm",null,4.9969999999999999,5.44,5.3760000000000003,null,"Result 6.00µm-63.00µm",null,5.4809999999999999,5.2839999999999998,4.1630000000000003,null,"Result 6.00µm-63.00µm",null,1.659,1.6970000000000001,1.9119999999999999,null,null,"Result 6.00µm-63.00µm",null,0.20799999999999999,1.073,0.99099999999999999,null,"Result 6.00µm-63.00µm",null,2.0070000000000001,1.9970000000000001,2.0019999999999998,null,"Result 6.00µm-63.00µm",null,2.4169999999999998,3.0579999999999998,2.78,null,"Result 6.00µm-63.00µm",null,1.3560000000000001,1.407,1.6990000000000001,null,"Result 6.00µm-63.00µm",null,0.28599999999999998,0,4.2999999999999997E-2,null,"Result 6.00µm-63.00µm",null,0.14499999999999999,4.2999999999999997E-2,2.0099999999999998,null,"Result 6.00µm-63.00µm",null,0.55800000000000005,0,0.21,null,"Result 6.00µm-63.00µm",null,3.8759999999999999,2.9849999999999999,2.7210000000000001,null,"Result 6.00µm-63.00µm",null,1.921,0.53900000000000003,0.84,null,"Result 6.00µm-63.00µm",null,3.2850000000000001,2.1440000000000001,3.0819999999999999,null,"Result 6.00µm-63.00µm",null,2.5099999999999998,1.857,2.0649999999999999,null,"Result 6.00µm-63.00µm",null,2.1989999999999998,2.7109999999999999,2.044,null,"Result 6.00µm-63.00µm",null,2.0219999999999998,1.8129999999999999,1.85]
["Result 63.00µm-2000.00µm",null,91.692999999999998,90.757000000000005,90.91,null,"Result 63.00µm-2000.00µm",null,91.007000000000005,91.400999999999996,93.113,null,"Result 63.00µm-2000.00µm",null,97.929000000000002,97.683000000000007,97.534000000000006,null,null,"Result 63.00µm-2000.00µm",null,98.995999999999995,97.588999999999999,97.900999999999996,null,"Result 63.00µm-2000.00µm",null,96.408000000000001,96.442999999999998,96.563000000000002,null,"Result 63.00µm-2000.00µm",null,96.49,95.113,95.677999999999997,null,"Result 63.00µm-2000.00µm",null,98.478999999999999,98.444999999999993,97.909000000000006,null,"Result 63.00µm-2000.00µm",null,99.713999999999999,100,99.956999999999994,null,"Result 63.00µm-2000.00µm",null,99.238,99.778000000000006,97.99,null,"Result 63.00µm-2000.00µm",null,99.441999999999993,100,99.79,null,"Result 63.00µm-2000.00µm",null,93.912999999999997,95.566999999999993,96.179000000000002,null,"Result 63.00µm-2000.00µm",null,97.081999999999994,99.460999999999999,99.08,null,"Result 63.00µm-2000.00µm",null,95.355999999999995,97.302000000000007,95.352999999999994,null,"Result 63.00µm-2000.00µm",null,96.587000000000003,97.766999999999996,97.447999999999993,null,"Result 63.00µm-2000.00µm",null,97.370999999999995,96.373999999999995,97.51,null,"Result 63.00µm-2000.00µm",null,97.52,97.715000000000003,97.736000000000004]
["Result 63.00µm-125.00µm",null,6.8280000000000003,6.609,6.4409999999999998,null,"Result 63.00µm-125.00µm",null,8.0289999999999999,8.0429999999999993,7.3559999999999999,null,"Result 63.00µm-125.00µm",null,7.2130000000000001,8.048,10.103999999999999,null,null,"Result 63.00µm-125.00µm",null,2.9910000000000001,2.9780000000000002,3.036,null,"Result 63.00µm-125.00µm",null,1.956,2.0990000000000002,1.7390000000000001,null,"Result 63.00µm-125.00µm",null,1.772,1.9259999999999999,1.677,null,"Result 63.00µm-125.00µm",null,2.617,2.6560000000000001,2.8,null,"Result 63.00µm-125.00µm",null,3.45,2.3879999999999999,2.085,null,"Result 63.00µm-125.00µm",null,9.58,7.6669999999999998,7.9370000000000003,null,"Result 63.00µm-125.00µm",null,1.5840000000000001,0.52200000000000002,1.339,null,"Result 63.00µm-125.00µm",null,3.4510000000000001,3.7410000000000001,3.6629999999999998,null,"Result 63.00µm-125.00µm",null,1.827,1.2010000000000001,0.90900000000000003,null,"Result 63.00µm-125.00µm",null,4.1589999999999998,3.6680000000000001,3.298,null,"Result 63.00µm-125.00µm",null,5.7919999999999998,5.1429999999999998,6.57,null,"Result 63.00µm-125.00µm",null,4.3559999999999999,5.4089999999999998,4.7649999999999997,null,"Result 63.00µm-125.00µm",null,3.7490000000000001,3.3439999999999999,3.4780000000000002]
["Result 125.00µm-250.00µm",null,18.5,16.148,17.350000000000001,null,"Result 125.00µm-250.00µm",null,16.760999999999999,16.244,16.359000000000002,null,"Result 125.00µm-250.00µm",null,31.094000000000001,29.582999999999998,32.097999999999999,null,null,"Result 125.00µm-250.00µm",null,35.667999999999999,34.914000000000001,34.667999999999999,null,"Result 125.00µm-250.00µm",null,23.742000000000001,23.106000000000002,23.934999999999999,null,"Result 125.00µm-250.00µm",null,4.66,4.2270000000000003,4.3120000000000003,null,"Result 125.00µm-250.00µm",null,9.1370000000000005,9.3219999999999992,10.098000000000001,null,"Result 125.00µm-250.00µm",null,13.920999999999999,8.8940000000000001,9.2840000000000007,null,"Result 125.00µm-250.00µm",null,62.51,61.478999999999999,62.097999999999999,null,"Result 125.00µm-250.00µm",null,10.948,4.9690000000000003,10.670999999999999,null,"Result 125.00µm-250.00µm",null,19.91,23.504000000000001,24.927,null,"Result 125.00µm-250.00µm",null,15.368,10.021000000000001,9.0060000000000002,null,"Result 125.00µm-250.00µm",null,29.786999999999999,25.393000000000001,26.039000000000001,null,"Result 125.00µm-250.00µm",null,34.215000000000003,31.186,33.429000000000002,null,"Result 125.00µm-250.00µm",null,32.430999999999997,36.835999999999999,38.115000000000002,null,"Result 125.00µm-250.00µm",null,27.266999999999999,26.91,27.795000000000002]
["Result 250.00µm-500.00µm",null,21.145,25.204000000000001,21.468,null,"Result 250.00µm-500.00µm",null,13.044,14.64,18.698,null,"Result 250.00µm-500.00µm",null,12.634,13.712999999999999,17.135000000000002,null,null,"Result 250.00µm-500.00µm",null,45.07,45.420999999999999,44.783000000000001,null,"Result 250.00µm-500.00µm",null,42.338999999999999,39.103999999999999,43.893999999999998,null,"Result 250.00µm-500.00µm",null,13.72,18.747,16.631,null,"Result 250.00µm-500.00µm",null,19.896000000000001,21.827000000000002,25.518000000000001,null,"Result 250.00µm-500.00µm",null,21.727,20.004000000000001,23.791,null,"Result 250.00µm-500.00µm",null,26.033000000000001,30.411000000000001,27.954999999999998,null,"Result 250.00µm-500.00µm",null,26.783000000000001,23.722999999999999,27.338999999999999,null,"Result 250.00µm-500.00µm",null,35.265000000000001,34.332000000000001,32.259,null,"Result 250.00µm-500.00µm",null,30.568999999999999,26.812999999999999,28.785,null,"Result 250.00µm-500.00µm",null,39.546999999999997,34.238,38.610999999999997,null,"Result 250.00µm-500.00µm",null,35.381,34.387,34.959000000000003,null,"Result 250.00µm-500.00µm",null,36.420999999999999,37.838000000000001,38.765000000000001,null,"Result 250.00µm-500.00µm",null,39.17,35.290999999999997,37.685000000000002]
["Result 500.00µm-1000.00µm",null,28.102,31.966999999999999,29.902999999999999,null,"Result 500.00µm-1000.00µm",null,27.728000000000002,29.651,30.542000000000002,null,"Result 500.00µm-1000.00µm",null,21.622,22.896999999999998,20.227,null,null,"Result 500.00µm-1000.00µm",null,12.94,13.103,14.404,null,"Result 500.00µm-1000.00µm",null,25.349,26.289000000000001,24.236999999999998,null,"Result 500.00µm-1000.00µm",null,42.585000000000001,43.99,43.5,null,"Result 500.00µm-1000.00µm",null,39.320999999999998,39.893000000000001,40.029000000000003,null,"Result 500.00µm-1000.00µm",null,37.704999999999998,42.817,42.237000000000002,null,"Result 500.00µm-1000.00µm",null,0.23200000000000001,3.9E-2,0,null,"Result 500.00µm-1000.00µm",null,40.244,45.825000000000003,40.9,null,"Result 500.00µm-1000.00µm",null,28.927,26.149000000000001,22.94,null,"Result 500.00µm-1000.00µm",null,34.409999999999997,39.622,40.115000000000002,null,"Result 500.00µm-1000.00µm",null,19.54,23.616,22.815999999999999,null,"Result 500.00µm-1000.00µm",null,16.742999999999999,18.95,18.273,null,"Result 500.00µm-1000.00µm",null,18.86,13.821,12.991,null,"Result 500.00µm-1000.00µm",null,24.277999999999999,22.946999999999999,23.37]
["Result 1000.00µm-2000.00µm",null,17.119,10.829000000000001,15.747999999999999,null,"Result 1000.00µm-2000.00µm",null,25.443999999999999,22.823,20.157,null,"Result 1000.00µm-2000.00µm",null,25.366,23.440999999999999,17.97,null,null,"Result 1000.00µm-2000.00µm",null,2.3279999999999998,1.173,1.01,null,"Result 1000.00µm-2000.00µm",null,3.0219999999999998,5.8449999999999998,2.758,null,"Result 1000.00µm-2000.00µm",null,33.753,26.222000000000001,29.559000000000001,null,"Result 1000.00µm-2000.00µm",null,27.507000000000001,24.748000000000001,19.463999999999999,null,"Result 1000.00µm-2000.00µm",null,22.91,25.896999999999998,22.56,null,"Result 1000.00µm-2000.00µm",null,0.88400000000000001,0.182,0,null,"Result 1000.00µm-2000.00µm",null,19.882999999999999,24.960999999999999,19.541,null,"Result 1000.00µm-2000.00µm",null,6.3609999999999998,7.84,12.388999999999999,null,"Result 1000.00µm-2000.00µm",null,14.907999999999999,21.803999999999998,20.265000000000001,null,"Result 1000.00µm-2000.00µm",null,2.323,10.387,4.5890000000000004,null,"Result 1000.00µm-2000.00µm",null,4.4569999999999999,8.1020000000000003,4.218,null,"Result 1000.00µm-2000.00µm",null,5.3029999999999999,2.4700000000000002,2.8740000000000001,null,"Result 1000.00µm-2000.00µm",null,3.0579999999999998,9.2219999999999995,5.4080000000000004]
["Result Between User Sizes (Sizes in um)",0.01,null,null,null,null,"Result Between User Sizes (Sizes in um)",0.01,null,null,null,null,"Result Between User Sizes (Sizes in um)",0.01,null,null,null,null,null,"Result Between User Sizes (Sizes in um)",0.01,null,null,null,null,"Result Between User Sizes (Sizes in um)",0.01,null,null,null,null,"Result Between User Sizes (Sizes in um)",0.01,null,null,null,null,"Result Between User Sizes (Sizes in um)",0.01,null,null,null,null,"Result Between User Sizes (Sizes in um)",0.01,null,null,null,null,"Result Between User Sizes (Sizes in um)",0.01,null,null,null,null,"Result Between User Sizes (Sizes in um)",0.01,null,null,null,null,"Result Between User Sizes (Sizes in um)",0.01,null,null,null,null,"Result Between User Sizes (Sizes in um)",0.01,null,null,null,null,"Result Between User Sizes (Sizes in um)",0.01,null,null,null,null,"Result Between User Sizes (Sizes in um)",0.01,null,null,null,null,"Result Between User Sizes (Sizes in um)",0.01,null,null,null,null,"Result Between User Sizes (Sizes in um)",0.01,null,null,null,null,null,null,null,"Result Between User Sizes (Sizes in um)",4399,4400,4401,4402,4403,4404,4405,4406,4407,4408,4409,4410,4411,4412,4413,4414]
[null,1.1481999999999999E-2,0,0,0,null,null,1.1481999999999999E-2,0,0,0,null,null,1.1481999999999999E-2,0,0,0,null,null,null,1.1481999999999999E-2,0,0,0,null,null,1.1481999999999999E-2,0,0,0,null,null,1.1481999999999999E-2,0,0,0,null,null,1.1481999999999999E-2,0,0,0,null,null,1.1481999999999999E-2,0,0,0,null,null,1.1481999999999999E-2,0,0,0,null,null,1.1481999999999999E-2,0,0,0,null,null,1.1481999999999999E-2,0,0,0,null,null,1.1481999999999999E-2,0,0,0,null,null,1.1481999999999999E-2,0,0,0,null,null,1.1481999999999999E-2,0,0,0,null,null,1.1481999999999999E-2,0,0,0,null,null,1.1481999999999999E-2,0,0,0,null,null,null,null,1.1481999999999999E-2,{"$f":"AVERAGE(C22:E22)","v":0},{"$f":"AVERAGE(I22:K22)","v":0},{"$f":"AVERAGE(O22:Q22)","v":0},{"$f":"AVERAGE(V22:X22)","v":0},{"$f":"AVERAGE(AB22:AD22)","v":0},{"$f":"AVERAGE(AH22:AJ22)","v":0},{"$f":"AVERAGE(AN22:AP22)","v":0},{"$f":"AVERAGE(AT22:AV22)","v":0},{"$f":"AVERAGE(AZ22:BB22)","v":0},{"$f":"AVERAGE(BF22:BH22)","v":0},{"$f":"AVERAGE(BL22:BN22)","v":0},{"$f":"AVERAGE(BR22:BT22)","v":0},{"$f":"AVERAGE(BX22:BZ22)","v":0},{"$f":"AVERAGE(CD22:CF22)","v":0},{"$f":"AVERAGE(CJ22:CL22)","v":0},{"$f":"AVERAGE(CP22:CR22)","v":0}]
[null,1.3183E-2,0,0,0,null,null,1.3183E-2,0,0,0,null,null,1.3183E-2,0,0,0,null,null,null,1.3183E-2,0,0,0,null,null,1.3183E-2,0,0,0,null,null,1.3183E-2,0,0,0,null,null,1.3183E-2,0,0,0,null,null,1.3183E-2,0,0,0,null,null,1.3183E-2,0,0,0,null,null,1.3183E-2,0,0,0,null,null,1.3183E-2,0,0,0,null,null,1.3183E-2,0,0,0,null,null,1.3183E-2,0,0,0,null,null,1.3183E-2,0,0,0,null,null,1.3183E-2,0,0,0,null,null,1.3183E-2,0,0,0,null,null,null,null,1.3183E-2,{"$f":"AVERAGE(C23:E23)","v":0},{"$f":"AVERAGE(I23:K23)","v":0},{"$f":"AVERAGE(O23:Q23)","v":0},{"$f":"AVERAGE(V23:X23)","v":0},{"$f":"AVERAGE(AB23:AD23)","v":0},{"$f":"AVERAGE(AH23:AJ23)","v":0},{"$f":"AVERAGE(AN23:AP23)","v":0},{"$f":"AVERAGE(AT23:AV23)","v":0},{"$f":"AVERAGE(AZ23:BB23)","v":0},{"$f":"AVERAGE(BF23:BH23)","v":0},{"$f":"AVERAGE(BL23:BN23)","v":0},{"$f":"AVERAGE(BR23:BT23)","v":0},{"$f":"AVERAGE(BX23:BZ23)","v":0},{"$f":"AVERAGE(CD23:CF23)","v":0},{"$f":"AVERAGE(CJ23:CL23)","v":0},{"$f":"AVERAGE(CP23:CR23)","v":0}]
[null,1.5136E-2,0,0,0,null,null,1.5136E-2,0,0,0,null,null,1.5136E-2,0,0,0,null,null,null,1.5136E-2,0,0,0,null,null,1.5136E-2,0,0,0,null,null,1.5136E-2,0,0,0,null,null,1.5136E-2,0,0,0,null,null,1.5136E-2,0,0,0,null,null,1.5136E-2,0,0,0,null,null,1.5136E-2,0,0,0,null,null,1.5136E-2,0,0,0,null,null,1.5136E-2,0,0,0,null,null,1.5136E-2,0,0,0,null,null,1.5136E-2,0,0,0,null,null,1.5136E-2,0,0,0,null,null,1.5136E-2,0,0,0,null,null,null,null,1.5136E-2,0,0,0,0,0,0,0,0,0,0,0,0,0,0,0,0]
[null,1.7378000000000001E-2,0,0,0,null,null,1.7378000000000001E-2,0,0,0,null,null,1.7378000000000001E-2,0,0,0,null,null,null,1.7378000000000001E-2,0,0,0,null,null,1.7378000000000001E-2,0,0,0,null,null,1.7378000000000001E-2,0,0,0,null,null,1.7378000000000001E-2,0,0,0,null,null,1.7378000000000001E-2,0,0,0,null,null,1.7378000000000001E-2,0,0,0,null,null,1.7378000000000001E-2,0,0,0,null,null,1.7378000000000001E-2,0,0,0,null,null,1.7378000000000001E-2,0,0,0,null,null,1.7378000000000001E-2,0,0,0,null,null,1.7378000000000001E-2,0,0,0,null,null,1.7378000000000001E-2,0,0,0,null,null,1.7378000000000001E-2,0,0,0,null,null,null,null,1.7378000000000001E-2,0,0,0,0,0,0,0,0,0,0,0,0,0,0,0,0]
[null,1.9952999999999999E-2,0,0,0,null,null,1.9952999999999999E-2,0,0,0,null,null,1.9952999999999999E-2,0,0,0,null,null,null,1.9952999999999999E-2,0,0,0,null,null,1.9952999999999999E-2,0,0,0,null,null,1.9952999999999999E-2,0,0,0,null,null,1.9952999999999999E-2,0,0,0,null,null,1.9952999999999999E-2,0,0,0,null,null,1.9952999999999999E-2,0,0,0,null,null,1.9952999999999999E-2,0,0,0,null,null,1.9952999999999999E-2,0,0,0,null,null,1.9952999999999999E-2,0,0,0,null,null,1.9952999999999999E-2,0,0,0,null,null,1.9952999999999999E-2,0,0,0,null,null,1.9952999999999999E-2,0,0,0,null,null,1.9952999999999999E-2,0,0,0,null,null,null,null,1.9952999999999999E-2,0,0,0,0,0,0,0,0,0,0,0,0,0,0,0,0]
[null,2.2908999999999999E-2,0,0,0,null,null,2.2908999999999999E-2,0,0,0,null,null,2.2908999999999999E-2,0,0,0,null,null,null,2.2908999999999999E-2,0,0,0,null,null,2.2908999999999999E-2,0,0,0,null,null,2.2908999999999999E-2,0,0,0,null,null,2.2908999999999999E-2,0,0,0,null,null,2.2908999999999999E-2,0,0,0,null,null,2.2908999999999999E-2,0,0,0,null,null,2.2908999999999999E-2,0,0,0,null,null,2.2908999999999999E-2,0,0,0,null,null,2.2908999999999999E-2,0,0,0,null,null,2.2908999999999999E-2,0,0,0,null,null,2.2908999999999999E-2,0,0,0,null,null,2.2908999999999999E-2,0,0,0,null,null,2.2908999999999999E-2,0,0,0,null,null,null,null,2.2908999999999999E-2,0,0,0,0,0,0,0,0,0,0,0,0,0,0,0,0]
[null,2.6303E-2,0,0,0,null,null,2.6303E-2,0,0,0,null,null,2.6303E-2,0,0,0,null,null,null,2.6303E-2,0,0,0,null,null,2.6303E-2,0,0,0,null,null,2.6303E-2,0,0,0,null,null,2.6303E-2,0,0,0,null,null,2.6303E-2,0,0,0,null,null,2.6303E-2,0,0,0,null,null,2.6303E-2,0,0,0,null,null,2.6303E-2,0,0,0,null,null,2.6303E-2,0,0,0,null,null,2.6303E-2,0,0,0,null,null,2.6303E-2,0,0,0,null,null,2.6303E-2,0,0,0,null,null,2.6303E-2,0,0,0,null,null,null,null,2.6303E-2,0,0,0,0,0,0,0,0,0,0,0,0,0,0,0,0]
[null,3.0200000000000001E-2,0,0,0,null,null,3.0200000000000001E-2,0,0,0,null,null,3.0200000000000001E-2,0,0,0,null,null,null,3.0200000000000001E-2,0,0,0,null,null,3.0200000000000001E-2,0,0,0,null,null,3.0200000000000001E-2,0,0,0,null,null,3.0200000000000001E-2,0,0,0,null,null,3.0200000000000001E-2,0,0,0,null,null,3.0200000000000001E-2,0,0,0,null,null,3.0200000000000001E-2,0,0,0,null,null,3.0200000000000001E-2,0,0,0,null,null,3.0200000000000001E-2,0,0,0,null,null,3.0200000000000001E-2,0,0,0,null,null,3.0200000000000001E-2,0,0,0,null,null,3.0200000000000001E-2,0,0,0,null,null,3.0200000000000001E-2,0,0,0,null,null,null,null,3.0200000000000001E-2,0,0,0,0,0,0,0,0,0,0,0,0,0,0,0,0]
[null,3.4674000000000003E-2,0,0,0,null,null,3.4674000000000003E-2,0,0,0,null,null,3.4674000000000003E-2,0,0,0,null,null,null,3.4674000000000003E-2,0,0,0,null,null,3.4674000000000003E-2,0,0,0,null,null,3.4674000000000003E-2,0,0,0,null,null,3.4674000000000003E-2,0,0,0,null,null,3.4674000000000003E-2,0,0,0,null,null,3.4674000000000003E-2,0,0,0,null,null,3.4674000000000003E-2,0,0,0,null,null,3.4674000000000003E-2,0,0,0,null,null,3.4674000000000003E-2,0,0,0,null,null,3.4674000000000003E-2,0,0,0,null,null,3.4674000000000003E-2,0,0,0,null,null,3.4674000000000003E-2,0,0,0,null,null,3.4674000000000003E-2,0,0,0,null,null,null,null,3.4674000000000003E-2,0,0,0,0,0,0,0,0,0,0,0,0,0,0,0,0]
[null,3.9810999999999999E-2,0,0,0,null,null,3.9810999999999999E-2,0,0,0,null,null,3.9810999999999999E-2,0,0,0,null,null,null,3.9810999999999999E-2,0,0,0,null,null,3.9810999999999999E-2,0,0,0,null,null,3.9810999999999999E-2,0,0,0,null,null,3.9810999999999999E-2,0,0,0,null,null,3.9810999999999999E-2,0,0,0,null,null,3.9810999999999999E-2,0,0,0,null,null,3.9810999999999999E-2,0,0,0,null,null,3.9810999999999999E-2,0,0,0,null,null,3.9810999999999999E-2,0,0,0,null,null,3.9810999999999999E-2,0,0,0,null,null,3.9810999999999999E-2,0,0,0,null,null,3.9810999999999999E-2,0,0,0,null,null,3.9810999999999999E-2,0,0,0,null,null,null,null,3.9810999999999999E-2,0,0,0,0,0,0,0,0,0,0,0,0,0,0,0,0]
[null,4.5709E-2,0,0,0,null,null,4.5709E-2,0,0,0,null,null,4.5709E-2,0,0,0,null,null,null,4.5709E-2,0,0,0,null,null,4.5709E-2,0,0,0,null,null,4.5709E-2,0,0,0,null,null,4.5709E-2,0,0,0,null,null,4.5709E-2,0,0,0,null,null,4.5709E-2,0,0,0,null,null,4.5709E-2,0,0,0,null,null,4.5709E-2,0,0,0,null,null,4.5709E-2,0,0,0,null,null,4.5709E-2,0,0,0,null,null,4.5709E-2,0,0,0,null,null,4.5709E-2,0,0,0,null,null,4.5709E-2,0,0,0,null,null,null,null,4.5709E-2,0,0,0,0,0,0,0,0,0,0,0,0,0,0,0,0]
[null,5.2481E-2,0,0,0,null,null,5.2481E-2,0,0,0,null,null,5.2481E-2,0,0,0,null,null,null,5.2481E-2,0,0,0,null,null,5.2481E-2,0,0,0,null,null,5.2481E-2,0,0,0,null,null,5.2481E-2,0,0,0,null,null,5.2481E-2,0,0,0,null,null,5.2481E-2,0,0,0,null,null,5.2481E-2,0,0,0,null,null,5.2481E-2,0,0,0,null,null,5.2481E-2,0,0,0,null,null,5.2481E-2,0,0,0,null,null,5.2481E-2,0,0,0,null,null,5.2481E-2,0,0,0,null,null,5.2481E-2,0,0,0,null,null,null,null,5.2481E-2,0,0,0,0,0,0,0,0,0,0,0,0,0,0,0,0]
[null,6.0255999999999997E-2,0,0,0,null,null,6.0255999999999997E-2,0,0,0,null,null,6.0255999999999997E-2,0,0,0,null,null,null,6.0255999999999997E-2,0,0,0,null,null,6.0255999999999997E-2,0,0,0,null,null,6.0255999999999997E-2,0,0,0,null,null,6.0255999999999997E-2,0,0,0,null,null,6.0255999999999997E-2,0,0,0,null,null,6.0255999999999997E-2,0,0,0,null,null,6.0255999999999997E-2,0,0,0,null,null,6.0255999999999997E-2,0,0,0,null,null,6.0255999999999997E-2,0,0,0,null,null,6.0255999999999997E-2,0,0,0,null,null,6.0255999999999997E-2,0,0,0,null,null,6.0255999999999997E-2,0,0,0,null,null,6.0255999999999997E-2,0,0,0,null,null,null,null,6.0255999999999997E-2,0,0,0,0,0,0,0,0,0,0,0,0,0,0,0,0]
[null,6.9182999999999995E-2,0,0,0,null,null,6.9182999999999995E-2,0,0,0,null,null,6.9182999999999995E-2,0,0,0,null,null,null,6.9182999999999995E-2,0,0,0,null,null,6.9182999999999995E-2,0,0,0,null,null,6.9182999999999995E-2,0,0,0,null,null,6.9182999999999995E-2,0,0,0,null,null,6.9182999999999995E-2,0,0,0,null,null,6.9182999999999995E-2,0,0,0,null,null,6.9182999999999995E-2,0,0,0,null,null,6.9182999999999995E-2,0,0,0,null,null,6.9182999999999995E-2,0,0,0,null,null,6.9182999999999995E-2,0,0,0,null,null,6.9182999999999995E-2,0,0,0,null,null,6.9182999999999995E-2,0,0,0,null,null,6.9182999999999995E-2,0,0,0,null,null,null,null,6.9182999999999995E-2,0,0,0,0,0,0,0,0,0,0,0,0,0,0,0,0]
[null,7.9433000000000004E-2,0,0,0,null,null,7.9433000000000004E-2,0,0,0,null,null,7.9433000000000004E-2,0,0,0,null,null,null,7.9433000000000004E-2,0,0,0,null,null,7.9433000000000004E-2,0,0,0,null,null,7.9433000000000004E-2,0,0,0,null,null,7.9433000000000004E-2,0,0,0,null,null,7.9433000000000004E-2,0,0,0,null,null,7.9433000000000004E-2,0,0,0,null,null,7.9433000000000004E-2,0,0,0,null,null,7.9433000000000004E-2,0,0,0,null,null,7.9433000000000004E-2,0,0,0,null,null,7.9433000000000004E-2,0,0,0,null,null,7.9433000000000004E-2,0,0,0,null,null,7.9433000000000004E-2,0,0,0,null,null,7.9433000000000004E-2,0,0,0,null,null,null,null,7.9433000000000004E-2,0,0,0,0,0,0,0,0,0,0,0,0,0,0,0,0]
[null,9.1201000000000004E-2,0,0,0,null,null,9.1201000000000004E-2,0,0,0,null,null,9.1201000000000004E-2,0,0,0,null,null,null,9.1201000000000004E-2,0,0,0,null,null,9.1201000000000004E-2,0,0,0,null,null,9.1201000000000004E-2,0,0,0,null,null,9.1201000000000004E-2,0,0,0,null,null,9.1201000000000004E-2,0,0,0,null,null,9.1201000000000004E-2,0,0,0,null,null,9.1201000000000004E-2,0,0,0,null,null,9.1201000000000004E-2,0,0,0,null,null,9.1201000000000004E-2,0,0,0,null,null,9.1201000000000004E-2,0,0,0,null,null,9.1201000000000004E-2,0,0,0,null,null,9.1201000000000004E-2,0,0,0,null,null,9.1201000000000004E-2,0,0,0,null,null,null,null,9.1201000000000004E-2,0,0,0,0,0,0,0,0,0,0,0,0,0,0,0,0]
[null,0.104713,0,0,0,null,null,0.104713,0,0,0,null,null,0.104713,0,0,0,null,null,null,0.104713,0,0,0,null,null,0.104713,0,0,0,null,null,0.104713,0,0,0,null,null,0.104713,0,0,0,null,null,0.104713,0,0,0,null,null,0.104713,0,0,0,null,null,0.104713,0,0,0,null,null,0.104713,0,0,0,null,null,0.104713,0,0,0,null,null,0.104713,0,0,0,null,null,0.104713,0,0,0,null,null,0.104713,0,0,0,null,null,0.104713,0,0,0,null,null,null,null,0.104713,0,0,0,0,0,0,0,0,0,0,0,0,0,0,0,0]
[null,0.120226,0,0,0,null,null,0.120226,0,0,0,null,null,0.120226,0,0,0,null,null,null,0.120226,0,0,0,null,null,0.120226,0,0,0,null,null,0.120226,0,0,0,null,null,0.120226,0,0,0,null,null,0.120226,0,0,0,null,null,0.120226,0,0,0,null,null,0.120226,0,0,0,null,null,0.120226,0,0,0,null,null,0.120226,0,0,0,null,null,0.120226,0,0,0,null,null,0.120226,0,0,0,null,null,0.120226,0,0,0,null,null,0.120226,0,0,0,null,null,null,null,0.120226,0,0,0,0,0,0,0,0,0,0,0,0,0,0,0,0]
[null,0.13803799999999999,0,0,0,null,null,0.13803799999999999,0,0,0,null,null,0.13803799999999999,0,0,0,null,null,null,0.13803799999999999,0,0,0,null,null,0.13803799999999999,0,0,0,null,null,0.13803799999999999,0,0,0,null,null,0.13803799999999999,0,0,0,null,null,0.13803799999999999,0,0,0,null,null,0.13803799999999999,0,0,0,null,null,0.13803799999999999,0,0,0,null,null,0.13803799999999999,0,0,0,null,null,0.13803799999999999,0,0,0,null,null,0.13803799999999999,0,0,0,null,null,0.13803799999999999,0,0,0,null,null,0.13803799999999999,0,0,0,null,null,0.13803799999999999,0,0,0,null,null,null,null,0.13803799999999999,0,0,0,0,0,0,0,0,0,0,0,0,0,0,0,0]
[null,0.15848899999999999,0,0,0,null,null,0.15848899999999999,0,0,0,null,null,0.15848899999999999,0,0,0,null,null,null,0.15848899999999999,0,0,0,null,null,0.15848899999999999,0,0,0,null,null,0.15848899999999999,0,0,0,null,null,0.15848899999999999,0,0,0,null,null,0.15848899999999999,0,0,0,null,null,0.15848899999999999,0,0,0,null,null,0.15848899999999999,0,0,0,null,null,0.15848899999999999,0,0,0,null,null,0.15848899999999999,0,0,0,null,null,0.15848899999999999,0,0,0,null,null,0.15848899999999999,0,0,0,null,null,0.15848899999999999,0,0,0,null,null,0.15848899999999999,0,0,0,null,null,null,null,0.15848899999999999,0,0,0,0,0,0,0,0,0,0,0,0,0,0,0,0]
[null,0.18196999999999999,0,0,0,null,null,0.18196999999999999,0,0,0,null,null,0.18196999999999999,0,0,0,null,null,null,0.18196999999999999,0,0,0,null,null,0.18196999999999999,0,0,0,null,null,0.18196999999999999,0,0,0,null,null,0.18196999999999999,0,0,0,null,null,0.18196999999999999,0,0,0,null,null,0.18196999999999999,0,0,0,null,null,0.18196999999999999,0,0,0,null,null,0.18196999999999999,0,0,0,null,null,0.18196999999999999,0,0,0,null,null,0.18196999999999999,0,0,0,null,null,0.18196999999999999,0,0,0,null,null,0.18196999999999999,0,0,0,null,null,0.18196999999999999,0,0,0,null,null,null,null,0.18196999999999999,0,0,0,0,0,0,0,0,0,0,0,0,0,0,0,0]
[null,0.20893,0,0,0,null,null,0.20893,0,0,0,null,null,0.20893,0,0,0,null,null,null,0.20893,0,0,0,null,null,0.20893,0,0,0,null,null,0.20893,0,0,0,null,null,0.20893,0,0,0,null,null,0.20893,0,0,0,null,null,0.20893,0,0,0,null,null,0.20893,0,0,0,null,null,0.20893,0,0,0,null,null,0.20893,0,0,0,null,null,0.20893,0,0,0,null,null,0.20893,0,0,0,null,null,0.20893,0,0,0,null,null,0.20893,0,0,0,null,null,null,null,0.20893,0,0,0,0,0,0,0,0,0,0,0,0,0,0,0,0]
[null,0.23988300000000001,0,0,0,null,null,0.23988300000000001,0,0,0,null,null,0.23988300000000001,0,0,0,null,null,null,0.23988300000000001,0,0,0,null,null,0.23988300000000001,0,0,0,null,null,0.23988300000000001,0,0,0,null,null,0.23988300000000001,0,0,0,null,null,0.23988300000000001,0,0,0,null,null,0.23988300000000001,0,0,0,null,null,0.23988300000000001,0,0,0,null,null,0.23988300000000001,0,0,0,null,null,0.23988300000000001,0,0,0,null,null,0.23988300000000001,0,0,0,null,null,0.23988300000000001,0,0,0,null,null,0.23988300000000001,0,0,0,null,null,0.23988300000000001,0,0,0,null,null,null,null,0.23988300000000001,0,0,0,0,0,0,0,0,0,0,0,0,0,0,0,0]
[null,0.27542299999999997,0,0,0,null,null,0.27542299999999997,0,0,0,null,null,0.27542299999999997,0,0,0,null,null,null,0.27542299999999997,0,0,0,null,null,0.27542299999999997,0,0,0,null,null,0.27542299999999997,0,0,0,null,null,0.27542299999999997,0,0,0,null,null,0.27542299999999997,0,0,0,null,null,0.27542299999999997,0,0,0,null,null,0.27542299999999997,0,0,0,null,null,0.27542299999999997,0,0,0,null,null,0.27542299999999997,0,0,0,null,null,0.27542299999999997,0,0,0,null,null,0.27542299999999997,0,0,0,null,null,0.27542299999999997,0,0,0,null,null,0.27542299999999997,0,0,0,null,null,null,null,0.27542299999999997,0,0,0,0,0,0,0,0,0,0,0,0,0,0,0,0]
[null,0.31622800000000001,0,0,0,null,null,0.31622800000000001,0,0,0,null,null,0.31622800000000001,0,0,0,null,null,null,0.31622800000000001,0,0,0,null,null,0.31622800000000001,0,0,0,null,null,0.31622800000000001,0,0,0,null,null,0.31622800000000001,0,0,0,null,null,0.31622800000000001,0,0,0,null,null,0.31622800000000001,0,0,0,null,null,0.31622800000000001,0,0,0,null,null,0.31622800000000001,0,0,0,null,null,0.31622800000000001,0,0,0,null,null,0.31622800000000001,0,0,0,null,null,0.31622800000000001,0,0,0,null,null,0.31622800000000001,0,0,0,null,null,0.31622800000000001,0,0,0,null,null,null,null,0.31622800000000001,0,0,0,0,0,0,0,0,0,0,0,0,0,0,0,0]
[null,0.36307800000000001,0,0,0,null,null,0.36307800000000001,0,0,0,null,null,0.36307800000000001,0,0,0,null,null,null,0.36307800000000001,0,0,0,null,null,0.36307800000000001,0,0,0,null,null,0.36307800000000001,0,0,0,null,null,0.36307800000000001,0,0,0,null,null,0.36307800000000001,0,0,0,null,null,0.36307800000000001,0,0,0,null,null,0.36307800000000001,0,0,0,null,null,0.36307800000000001,0,0,0,null,null,0.36307800000000001,0,0,0,null,null,0.36307800000000001,0,0,0,null,null,0.36307800000000001,0,0,0,null,null,0.36307800000000001,0,0,0,null,null,0.36307800000000001,0,0,0,null,null,null,null,0.36307800000000001,0,0,0,0,0,0,0,0,0,0,0,0,0,0,0,0]
[null,0.41686899999999999,0,0,0,null,null,0.41686899999999999,0,0,0,null,null,0.41686899999999999,0,0,0,null,null,null,0.41686899999999999,0,0,0,null,null,0.41686899999999999,0,0,0,null,null,0.41686899999999999,0,0,0,null,null,0.41686899999999999,0,0,0,null,null,0.41686899999999999,0,0,0,null,null,0.41686899999999999,0,0,0,null,null,0.41686899999999999,0,0,0,null,null,0.41686899999999999,0,0,0,null,null,0.41686899999999999,0,0,0,null,null,0.41686899999999999,0,0,0,null,null,0.41686899999999999,0,0,0,null,null,0.41686899999999999,0,0,0,null,null,0.41686899999999999,0,0,0,null,null,null,null,0.41686899999999999,0,0,0,0,0,0,0,0,0,0,0,0,0,0,0,0]
[null,0.47863,4.0176000000000003E-2,6.7133999999999999E-2,6.3676999999999997E-2,null,null,0.47863,5.8023999999999999E-2,5.0992999999999997E-2,2.1305999999999999E-2,null,null,0.47863,0,0,0,null,null,null,0.47863,0,0,0,null,null,0.47863,0,0,0,null,null,0.47863,0,0,0,null,null,0.47863,0,0,0,null,null,0.47863,0,0,0,null,null,0.47863,0,0,0,null,null,0.47863,0,0,0,null,null,0.47863,1.9931999999999998E-2,0,0,null,null,0.47863,0,0,0,null,null,0.47863,0,0,0,null,null,0.47863,0,0,0,null,null,0.47863,0,0,0,null,null,0.47863,0,0,0,null,null,null,null,0.47863,5.6995666666666667E-2,4.3441E-2,0,0,0,0,0,0,0,0,6.6439999999999997E-3,0,0,0,0,0]
[null,0.54954099999999995,8.1730999999999998E-2,9.5682000000000003E-2,9.1175000000000006E-2,null,null,0.54954099999999995,8.0806000000000003E-2,7.1110999999999994E-2,5.2641E-2,null,null,0.54954099999999995,0,0,0,null,null,null,0.54954099999999995,0,0,0,null,null,0.54954099999999995,0,0,0,null,null,0.54954099999999995,0,1.7559999999999999E-2,1.8763999999999999E-2,null,null,0.54954099999999995,0,0,0,null,null,0.54954099999999995,0,0,0,null,null,0.54954099999999995,0,0,0,null,null,0.54954099999999995,0,0,0,null,null,0.54954099999999995,4.5636000000000003E-2,1.6414999999999999E-2,0,null,null,0.54954099999999995,0,0,0,null,null,0.54954099999999995,0,0,1.8693999999999999E-2,null,null,0.54954099999999995,0,0,0,null,null,0.54954099999999995,0,0,0,null,null,0.54954099999999995,0,0,0,null,null,null,null,0.54954099999999995,8.9529333333333336E-2,6.8185999999999997E-2,0,0,0,1.2107999999999999E-2,0,0,0,0,2.0683666666666666E-2,0,6.2313333333333326E-3,0,0,0]
[null,0.63095699999999999,0.10248,0.118342,0.11301899999999999,null,null,0.63095699999999999,9.7310999999999995E-2,0.101325,8.5888000000000006E-2,null,null,0.63095699999999999,0,0,0,null,null,null,0.63095699999999999,0,9.3369999999999998E-3,1.1266999999999999E-2,null,null,0.63095699999999999,1.5618E-2,0,0,null,null,0.63095699999999999,0,2.3321000000000001E-2,2.7046000000000001E-2,null,null,0.63095699999999999,0,0,0,null,null,0.63095699999999999,0,0,0,null,null,0.63095699999999999,0,0,0,null,null,0.63095699999999999,0,0,0,null,null,0.63095699999999999,5.6564999999999997E-2,2.2525E-2,0,null,null,0.63095699999999999,0,0,0,null,null,0.63095699999999999,1.4501E-2,0,2.2839000000000002E-2,null,null,0.63095699999999999,0,0,0,null,null,0.63095699999999999,0,0,0,null,null,0.63095699999999999,0,0,0,null,null,null,null,0.63095699999999999,0.11128033333333333,9.4841333333333333E-2,0,6.8679999999999991E-3,5.2059999999999997E-3,1.6789000000000002E-2,0,0,0,0,2.6363333333333332E-2,0,1.2446666666666667E-2,0,0,0]
[null,0.72443599999999997,0.116757,0.13508600000000001,0.12931400000000001,null,null,0.72443599999999997,0.12536900000000001,0.121161,0.10230400000000001,null,null,0.72443599999999997,0,0,0,null,null,null,0.72443599999999997,0,1.6263E-2,1.7479999999999999E-2,null,null,0.72443599999999997,2.1402000000000001E-2,1.0577E-2,0,null,null,0.72443599999999997,0,4.3213000000000001E-2,3.0268E-2,null,null,0.72443599999999997,0,0,0,null,null,0.72443599999999997,0,0,0,null,null,0.72443599999999997,0,0,0,null,null,0.72443599999999997,0,0,0,null,null,0.72443599999999997,6.5115000000000006E-2,2.5027000000000001E-2,0,null,null,0.72443599999999997,0,0,0,null,null,0.72443599999999997,1.8853999999999999E-2,0,4.1315999999999999E-2,null,null,0.72443599999999997,0,0,0,null,null,0.72443599999999997,0,0,0,null,null,0.72443599999999997,0,0,0,null,null,null,null,0.72443599999999997,0.12705233333333335,0.11627800000000001,0,1.1247666666666664E-2,1.0659666666666666E-2,2.4493666666666667E-2,0,0,0,0,3.0047333333333332E-2,0,2.0056666666666667E-2,0,0,0]
[null,0.83176399999999995,0.126413,0.146458,0.140463,null,null,0.83176399999999995,0.141925,0.128356,0.108181,null,null,0.83176399999999995,0,0,0,null,null,null,0.83176399999999995,0,1.1742000000000001E-2,1.8124000000000001E-2,null,null,0.83176399999999995,3.8907999999999998E-2,3.6804999999999997E-2,7.1609999999999998E-3,null,null,0.83176399999999995,0,5.3080000000000002E-2,3.4145000000000002E-2,null,null,0.83176399999999995,0,0,0,null,null,0.83176399999999995,0,0,0,null,null,0.83176399999999995,0,0,0,null,null,0.83176399999999995,0,0,0,null,null,0.83176399999999995,6.9197999999999996E-2,2.4331999999999999E-2,0,null,null,0.83176399999999995,0,0,0,null,null,0.83176399999999995,3.3134999999999998E-2,0,4.9003999999999999E-2,null,null,0.83176399999999995,0,0,0,null,null,0.83176399999999995,0,0,0,null,null,0.83176399999999995,0,0,0,null,null,null,null,0.83176399999999995,0.13777799999999998,0.12615399999999999,0,9.9553333333333351E-3,2.7624666666666669E-2,2.9075E-2,0,0,0,0,3.1176666666666668E-2,0,2.7379666666666663E-2,0,0,0]
[null,0.95499299999999998,0.131935,0.15295800000000001,0.14702699999999999,null,null,0.95499299999999998,0.144872,0.13403499999999999,0.11332100000000001,null,null,0.95499299999999998,0,0,0,null,null,null,0.95499299999999998,0,3.8961999999999997E-2,2.0590000000000001E-2,null,null,0.95499299999999998,5.0751999999999999E-2,4.6773000000000002E-2,4.3872000000000001E-2,null,null,0.95499299999999998,6.0610000000000004E-3,6.7056000000000004E-2,3.4380000000000001E-2,null,null,0.95499299999999998,0,0,0,null,null,0.95499299999999998,0,0,0,null,null,0.95499299999999998,0,0,0,null,null,0.95499299999999998,0,0,0,null,null,0.95499299999999998,6.9578000000000001E-2,3.7146999999999999E-2,7.718E-3,null,null,0.95499299999999998,1.6968E-2,0,0,null,null,0.95499299999999998,4.3449000000000002E-2,0,5.0761000000000001E-2,null,null,0.95499299999999998,0,0,0,null,null,0.95499299999999998,0,0,0,null,null,0.95499299999999998,0,0,0,null,null,null,null,0.95499299999999998,0.14397333333333331,0.13074266666666667,0,1.9850666666666666E-2,4.7132333333333332E-2,3.5832333333333334E-2,0,0,0,0,3.814766666666667E-2,5.6560000000000004E-3,3.1403333333333332E-2,0,0,0]
[null,1.0964780000000001,0.13530400000000001,0.15692600000000001,0.151225,null,null,1.0964780000000001,0.148039,0.136374,0.115338,null,null,1.0964780000000001,0,0,0,null,null,null,1.0964780000000001,0,6.1101000000000003E-2,1.9168999999999999E-2,null,null,1.0964780000000001,5.4234999999999998E-2,5.7734000000000001E-2,6.6022999999999998E-2,null,null,1.0964780000000001,2.9735999999999999E-2,8.3901000000000003E-2,4.3917999999999999E-2,null,null,1.0964780000000001,0,0,0,null,null,1.0964780000000001,0,0,0,null,null,1.0964780000000001,0,0,0,null,null,1.0964780000000001,0,0,0,null,null,1.0964780000000001,8.0513000000000001E-2,5.0134999999999999E-2,2.196E-2,null,null,1.0964780000000001,4.3639999999999998E-2,0,0,null,null,1.0964780000000001,3.9874E-2,0,5.731E-2,null,null,1.0964780000000001,0,0,0,null,null,1.0964780000000001,0,0,0,null,null,1.0964780000000001,0,0,0,null,null,null,null,1.0964780000000001,0.14781833333333333,0.13325033333333333,0,2.6756666666666668E-2,5.9330666666666664E-2,5.2518333333333334E-2,0,0,0,0,5.0869333333333329E-2,1.4546666666666666E-2,3.2394666666666662E-2,0,0,0]
[null,1.2589250000000001,0.13866400000000001,0.16078500000000001,0.15537799999999999,null,null,1.2589250000000001,0.15021599999999999,0.13894500000000001,0.11749800000000001,null,null,1.2589250000000001,0,0,0,null,null,null,1.2589250000000001,0,6.2562999999999994E-2,2.8131E-2,null,null,1.2589250000000001,6.2348000000000001E-2,7.6635999999999996E-2,7.0349999999999996E-2,null,null,1.2589250000000001,4.2827999999999998E-2,8.4338999999999997E-2,5.7877999999999999E-2,null,null,1.2589250000000001,0,0,0,null,null,1.2589250000000001,0,0,0,null,null,1.2589250000000001,0,0,0,null,null,1.2589250000000001,0,0,0,null,null,1.2589250000000001,9.4789999999999999E-2,4.8134000000000003E-2,1.754E-2,null,null,1.2589250000000001,4.0767999999999999E-2,0,0,null,null,1.2589250000000001,4.3257999999999998E-2,0,7.2049000000000002E-2,null,null,1.2589250000000001,0,0,0,null,null,1.2589250000000001,0,0,0,null,null,1.2589250000000001,0,0,0,null,null,null,null,1.2589250000000001,0.15160899999999999,0.13555300000000001,0,3.0231333333333332E-2,6.9777999999999993E-2,6.1681666666666669E-2,0,0,0,0,5.3488000000000001E-2,1.3589333333333333E-2,3.8435666666666667E-2,0,0,0]
[null,1.4454400000000001,0.144315,0.16717799999999999,0.16202,null,null,1.4454400000000001,0.15512500000000001,0.14379800000000001,0.121383,null,null,1.4454400000000001,0,0,0,null,null,null,1.4454400000000001,2.6339000000000001E-2,6.3140000000000002E-2,4.3295E-2,null,null,1.4454400000000001,8.3514000000000005E-2,7.9275999999999999E-2,7.3366000000000001E-2,null,null,1.4454400000000001,4.2859000000000001E-2,8.8833999999999996E-2,6.3267000000000004E-2,null,null,1.4454400000000001,0,0,0,null,null,1.4454400000000001,0,0,0,null,null,1.4454400000000001,0,0,0,null,null,1.4454400000000001,0,0,0,null,null,1.4454400000000001,9.5436000000000007E-2,4.9555000000000002E-2,2.5260999999999999E-2,null,null,1.4454400000000001,4.3306999999999998E-2,0,0,null,null,1.4454400000000001,4.2762000000000001E-2,0,7.0127999999999996E-2,null,null,1.4454400000000001,0,0,0,null,null,1.4454400000000001,0,0,0,null,null,1.4454400000000001,0,0,0,null,null,null,null,1.4454400000000001,0.15783766666666668,0.14010200000000003,0,4.4257999999999999E-2,7.8718666666666659E-2,6.4986666666666679E-2,0,0,0,0,5.6750666666666671E-2,1.4435666666666666E-2,3.7629999999999997E-2,0,0,0]
[null,1.6595869999999999,0.153672,0.17772199999999999,0.17269000000000001,null,null,1.6595869999999999,0.164081,0.15260799999999999,0.128445,null,null,1.6595869999999999,0,0,0,null,null,null,1.6595869999999999,2.3639E-2,6.8237999999999993E-2,4.4918E-2,null,null,1.6595869999999999,8.6812E-2,8.6343000000000003E-2,8.0505999999999994E-2,null,null,1.6595869999999999,4.7328000000000002E-2,9.3165999999999999E-2,8.4571999999999994E-2,null,null,1.6595869999999999,0,0,0,null,null,1.6595869999999999,0,0,0,null,null,1.6595869999999999,0,0,0,null,null,1.6595869999999999,0,0,0,null,null,1.6595869999999999,0.10183200000000001,5.6156999999999999E-2,4.3268000000000001E-2,null,null,1.6595869999999999,4.6574999999999998E-2,0,0,null,null,1.6595869999999999,4.616E-2,0,7.3974999999999999E-2,null,null,1.6595869999999999,0,0,0,null,null,1.6595869999999999,0,0,0,null,null,1.6595869999999999,0,0,0,null,null,null,null,1.6595869999999999,0.16802799999999998,0.14837800000000001,0,4.5598333333333331E-2,8.455366666666668E-2,7.5021999999999991E-2,0,0,0,0,6.7085666666666668E-2,1.5524999999999999E-2,4.0044999999999997E-2,0,0,0]
[null,1.9054610000000001,0.16712099999999999,0.19283700000000001,0.187803,null,null,1.9054610000000001,0.17759,0.16582,0.13910600000000001,null,null,1.9054610000000001,0,0,2.1655000000000001E-2,null,null,null,1.9054610000000001,4.3505000000000002E-2,7.3237999999999998E-2,4.9037999999999998E-2,null,null,1.9054610000000001,9.4689999999999996E-2,9.3532000000000004E-2,8.7221000000000007E-2,null,null,1.9054610000000001,5.1014999999999998E-2,9.9462999999999996E-2,8.8638999999999996E-2,null,null,1.9054610000000001,0,0,0,null,null,1.9054610000000001,0,0,0,null,null,1.9054610000000001,0,0,0,null,null,1.9054610000000001,0,0,0,null,null,1.9054610000000001,0.11054700000000001,7.9816999999999999E-2,4.7620000000000003E-2,null,null,1.9054610000000001,4.8169999999999998E-2,0,0,null,null,1.9054610000000001,5.3258E-2,0,7.9402E-2,null,null,1.9054610000000001,2.8471E-2,0,0,null,null,1.9054610000000001,0,2.6880000000000001E-2,0,null,null,1.9054610000000001,0,0,0,null,null,null,null,1.9054610000000001,0.18258699999999997,0.16083866666666666,7.2183333333333335E-3,5.5260333333333335E-2,9.1814333333333331E-2,7.9705666666666661E-2,0,0,0,0,7.9327999999999996E-2,1.6056666666666667E-2,4.4220000000000002E-2,9.4903333333333333E-3,8.9600000000000009E-3,0]
[null,2.1877620000000002,0.18362600000000001,0.211289,0.20619399999999999,null,null,2.1877620000000002,0.19448399999999999,0.182425,0.15257699999999999,null,null,2.1877620000000002,0,2.6494E-2,2.2696999999999998E-2,null,null,null,2.1877620000000002,4.6502000000000002E-2,8.0213999999999994E-2,7.3868000000000003E-2,null,null,2.1877620000000002,0.102938,0.10195799999999999,9.5273999999999998E-2,null,null,2.1877620000000002,7.5495999999999994E-2,0.107594,9.6507999999999997E-2,null,null,2.1877620000000002,0,0,0,null,null,2.1877620000000002,0,0,0,null,null,2.1877620000000002,0,0,0,null,null,2.1877620000000002,0,0,0,null,null,2.1877620000000002,0.12216299999999999,8.7399000000000004E-2,7.4005000000000001E-2,null,null,2.1877620000000002,5.2623000000000003E-2,0,0,null,null,2.1877620000000002,8.0349000000000004E-2,0,8.7455000000000005E-2,null,null,2.1877620000000002,2.8334999999999999E-2,0,0,null,null,2.1877620000000002,0,2.6463E-2,0,null,null,2.1877620000000002,0,0,0,null,null,null,null,2.1877620000000002,0.20036966666666667,0.17649533333333334,1.6396999999999998E-2,6.6861333333333328E-2,0.10005666666666667,9.3199333333333315E-2,0,0,0,0,9.4522333333333333E-2,1.7541000000000001E-2,5.5934666666666667E-2,9.4450000000000003E-3,8.8210000000000007E-3,0]
[null,2.5118860000000001,0.20172599999999999,0.23131199999999999,0.226214,null,null,2.5118860000000001,0.21312500000000001,0.20089299999999999,0.16755800000000001,null,null,2.5118860000000001,4.2515999999999998E-2,2.7154999999999999E-2,5.2021999999999999E-2,null,null,null,2.5118860000000001,7.0019999999999999E-2,8.8678000000000007E-2,8.1822000000000006E-2,null,null,2.5118860000000001,0.11197500000000001,0.111105,0.103974,null,null,2.5118860000000001,8.3382999999999999E-2,0.117338,0.10524699999999999,null,null,2.5118860000000001,0,0,1.8283000000000001E-2,null,null,2.5118860000000001,0,0,0,null,null,2.5118860000000001,1.6891E-2,0,0,null,null,2.5118860000000001,0,0,0,null,null,2.5118860000000001,0.135682,9.7864000000000007E-2,8.4686999999999998E-2,null,null,2.5118860000000001,7.5278999999999999E-2,0,0,null,null,2.5118860000000001,9.2215000000000005E-2,1.5259999999999999E-2,9.7355999999999998E-2,null,null,2.5118860000000001,8.0588999999999994E-2,0,0,null,null,2.5118860000000001,0,8.2320000000000004E-2,0,null,null,2.5118860000000001,0,0,0,null,null,null,null,2.5118860000000001,0.21975066666666665,0.19385866666666665,4.0564333333333334E-2,8.0173333333333333E-2,0.109018,0.10198933333333332,6.0943333333333335E-3,0,5.6303333333333335E-3,0,0.10607766666666667,2.5093000000000001E-2,6.827699999999999E-2,2.6862999999999998E-2,2.7440000000000003E-2,0]
[null,2.8840309999999998,0.21987000000000001,0.251058,0.24612100000000001,null,null,2.8840309999999998,0.23180200000000001,0.21954299999999999,0.182556,null,null,2.8840309999999998,5.3657000000000003E-2,7.3015999999999998E-2,6.1560999999999998E-2,null,null,null,2.8840309999999998,7.9250000000000001E-2,9.8280999999999993E-2,9.0246000000000007E-2,null,null,2.8840309999999998,0.121059,0.120363,0.112721,null,null,2.8840309999999998,9.1782000000000002E-2,0.12793599999999999,0.11466999999999999,null,null,2.8840309999999998,0,0,1.8128999999999999E-2,null,null,2.8840309999999998,0,0,0,null,null,2.8840309999999998,6.318E-2,1.5862000000000001E-2,0,null,null,2.8840309999999998,0,0,0,null,null,2.8840309999999998,0.15006,0.10940900000000001,9.5883999999999997E-2,null,null,2.8840309999999998,8.3840999999999999E-2,0,0,null,null,2.8840309999999998,0.10474700000000001,6.1922999999999999E-2,0.108291,null,null,2.8840309999999998,9.5686999999999994E-2,0,3.5802E-2,null,null,2.8840309999999998,1.2599000000000001E-2,9.7321000000000005E-2,3.6563999999999999E-2,null,null,2.8840309999999998,2.0834999999999999E-2,1.7571E-2,1.9342999999999999E-2,null,null,null,null,2.8840309999999998,0.23901633333333336,0.21130033333333334,6.2744666666666671E-2,8.9258999999999991E-2,0.11804766666666666,0.11146266666666667,6.0429999999999998E-3,0,2.6347333333333334E-2,0,0.11845100000000001,2.7947E-2,9.1653666666666675E-2,4.3829666666666663E-2,4.8828000000000003E-2,1.9249666666666665E-2]
[null,3.3113109999999999,0.236654,0.26892199999999999,0.26437899999999998,null,null,3.3113109999999999,0.248969,0.23680599999999999,0.196156,null,null,3.3113109999999999,5.6545999999999999E-2,8.8915999999999995E-2,7.0537000000000002E-2,null,null,null,3.3113109999999999,8.5424E-2,0.10850899999999999,9.9883E-2,null,null,3.3113109999999999,0.12948399999999999,0.12903300000000001,0.120878,null,null,3.3113109999999999,0.10127,0.13848199999999999,0.124198,null,null,3.3113109999999999,1.4174000000000001E-2,1.4135E-2,5.2771999999999999E-2,null,null,3.3113109999999999,0,0,0,null,null,3.3113109999999999,8.2519999999999996E-2,2.4368999999999998E-2,0,null,null,3.3113109999999999,0,0,0,null,null,3.3113109999999999,0.164295,0.120975,0.108255,null,null,3.3113109999999999,9.0444999999999998E-2,0,0,null,null,3.3113109999999999,0.118187,7.5325000000000003E-2,0.11947000000000001,null,null,3.3113109999999999,0.107378,4.2235000000000002E-2,6.7372000000000001E-2,null,null,3.3113109999999999,5.6052999999999999E-2,0.108735,5.0289E-2,null,null,3.3113109999999999,4.9755000000000001E-2,5.2561999999999998E-2,4.2631000000000002E-2,null,null,null,null,3.3113109999999999,0.25665166666666667,0.22731033333333331,7.199966666666667E-2,9.793866666666666E-2,0.12646499999999999,0.12131666666666667,2.7026999999999999E-2,0,3.5629666666666664E-2,0,0.13117500000000001,3.0148333333333333E-2,0.10432733333333334,7.2328333333333328E-2,7.169233333333333E-2,4.8315999999999998E-2]
[null,3.8018939999999999,0.25081599999999998,0.28357900000000003,0.279669,null,null,3.8018939999999999,0.26325300000000001,0.251278,0.20710700000000001,null,null,3.8018939999999999,6.3875000000000001E-2,9.4269000000000006E-2,7.5386999999999996E-2,null,null,null,3.8018939999999999,9.2690999999999996E-2,0.11866699999999999,0.10899300000000001,null,null,3.8018939999999999,0.13666600000000001,0.136461,0.127888,null,null,3.8018939999999999,0.11004800000000001,0.14816699999999999,0.13308800000000001,null,null,3.8018939999999999,1.9852000000000002E-2,2.3401000000000002E-2,6.5853999999999996E-2,null,null,3.8018939999999999,0,0,0,null,null,3.8018939999999999,9.7250000000000003E-2,2.7937E-2,0,null,null,3.8018939999999999,0,0,0,null,null,3.8018939999999999,0.177508,0.13209399999999999,0.119745,null,null,3.8018939999999999,9.7865999999999995E-2,0,1.1077999999999999E-2,null,null,3.8018939999999999,0.130805,8.4948999999999997E-2,0.130213,null,null,3.8018939999999999,0.119881,6.8840999999999999E-2,8.0629000000000006E-2,null,null,3.8018939999999999,7.3252999999999999E-2,0.12137299999999999,6.8686999999999998E-2,null,null,3.8018939999999999,7.6248999999999997E-2,8.0772999999999998E-2,6.7729999999999999E-2,null,null,null,null,3.8018939999999999,0.27135466666666663,0.24054600000000004,7.7843666666666658E-2,0.10678366666666667,0.13367166666666666,0.13043433333333332,3.6368999999999999E-2,0,4.1728999999999995E-2,0,0.14311566666666667,3.6314666666666669E-2,0.11532233333333335,8.9783666666666664E-2,8.7771000000000002E-2,7.4917333333333336E-2]
[null,4.3651580000000001,0.26122299999999998,0.29396600000000001,0.29085299999999997,null,null,4.3651580000000001,0.27347300000000002,0.26174399999999998,0.21434300000000001,null,null,4.3651580000000001,6.2912999999999997E-2,9.8525000000000001E-2,7.9075000000000006E-2,null,null,null,4.3651580000000001,9.7961999999999994E-2,0.127634,0.117086,null,null,4.3651580000000001,0.141929,0.14192299999999999,0.13314799999999999,null,null,4.3651580000000001,0.117918,0.15626000000000001,0.140705,null,null,4.3651580000000001,3.2369000000000002E-2,2.0145E-2,7.0692000000000005E-2,null,null,4.3651580000000001,0,0,0,null,null,4.3651580000000001,0.106652,3.2365999999999999E-2,0,null,null,4.3651580000000001,0,0,0,null,null,4.3651580000000001,0.18879599999999999,0.14174300000000001,0.13,null,null,4.3651580000000001,0.103882,0,2.0979000000000001E-2,null,null,4.3651580000000001,0.14208799999999999,9.0248999999999996E-2,0.13972599999999999,null,null,4.3651580000000001,0.12950300000000001,7.5975000000000001E-2,8.7036000000000002E-2,null,null,4.3651580000000001,8.2559999999999995E-2,0.13140199999999999,8.5783999999999999E-2,null,null,4.3651580000000001,9.2024999999999996E-2,9.5846000000000001E-2,8.3250000000000005E-2,null,null,null,null,4.3651580000000001,0.28201399999999999,0.24985333333333334,8.0171000000000006E-2,0.11422733333333333,0.13899999999999998,0.13829433333333332,4.106866666666667E-2,0,4.6339333333333337E-2,0,0.15351300000000001,4.1620333333333336E-2,0.12402099999999999,9.750466666666667E-2,9.9915333333333314E-2,9.0373666666666672E-2]
[null,5.0118720000000003,0.267345,0.29975499999999999,0.29746600000000001,null,null,5.0118720000000003,0.27912799999999999,0.26768900000000001,0.21740499999999999,null,null,5.0118720000000003,6.1857000000000002E-2,9.7311999999999996E-2,7.7872999999999998E-2,null,null,null,5.0118720000000003,0.10084700000000001,0.13416500000000001,0.122784,null,null,5.0118720000000003,0.14471999999999999,0.14479900000000001,0.13614799999999999,null,null,5.0118720000000003,0.12422999999999999,0.16245599999999999,0.146707,null,null,5.0118720000000003,4.4401999999999997E-2,3.2901E-2,7.0542999999999995E-2,null,null,5.0118720000000003,0,0,0,null,null,5.0118720000000003,0.112386,3.4646000000000003E-2,0,null,null,5.0118720000000003,0,0,0,null,null,5.0118720000000003,0.197605,0.149253,0.13794100000000001,null,null,5.0118720000000003,0.108612,0,1.9872000000000001E-2,null,null,5.0118720000000003,0.15101000000000001,9.6951999999999997E-2,0.147369,null,null,5.0118720000000003,0.135632,7.9957E-2,9.3197000000000002E-2,null,null,5.0118720000000003,8.7085999999999997E-2,0.13822599999999999,8.7881000000000001E-2,null,null,5.0118720000000003,9.3521000000000007E-2,9.6559000000000006E-2,8.5441000000000003E-2,null,null,null,null,5.0118720000000003,0.28818866666666665,0.25474066666666667,7.9014000000000001E-2,0.11926533333333333,0.14188899999999999,0.14446433333333333,4.9281999999999992E-2,0,4.9010666666666668E-2,0,0.16159966666666667,4.2827999999999998E-2,0.13177700000000001,0.10292866666666667,0.10439766666666667,9.1840333333333343E-2]
[null,5.7543990000000003,0.26904800000000001,0.301089,0.299433,null,null,5.7543990000000003,0.28018199999999999,0.269092,0.21634,null,null,5.7543990000000003,5.5501000000000002E-2,8.9792999999999998E-2,7.2617000000000001E-2,null,null,null,5.7543990000000003,0.10043199999999999,0.13650100000000001,0.12450600000000001,null,null,5.7543990000000003,0.14441999999999999,0.14443500000000001,0.13628799999999999,null,null,5.7543990000000003,0.128687,0.166626,0.15088799999999999,null,null,5.7543990000000003,4.1659000000000002E-2,4.4167999999999999E-2,7.3144000000000001E-2,null,null,5.7543990000000003,0,0,0,null,null,5.7543990000000003,0.107388,3.4703999999999999E-2,0,null,null,5.7543990000000003,0,0,0,null,null,5.7543990000000003,0.20336899999999999,0.153784,0.142675,null,null,5.7543990000000003,0.111305,0,2.1305000000000001E-2,null,null,5.7543990000000003,0.156585,9.9528000000000005E-2,0.15232599999999999,null,null,5.7543990000000003,0.13661200000000001,8.3776000000000003E-2,9.4520999999999994E-2,null,null,5.7543990000000003,9.1233999999999996E-2,0.139957,8.9520000000000002E-2,null,null,5.7543990000000003,9.6713999999999994E-2,9.9364999999999995E-2,8.9041999999999996E-2,null,null,null,null,5.7543990000000003,0.28985666666666665,0.25520466666666669,7.2637000000000007E-2,0.12047966666666667,0.1417143333333333,0.14873366666666665,5.2990333333333334E-2,0,4.7363999999999996E-2,0,0.16660933333333333,4.4203333333333338E-2,0.13614633333333334,0.10496966666666667,0.10690366666666666,9.5040333333333338E-2]
[null,6.6069339999999999,0.26700699999999999,0.29891899999999999,0.29749199999999998,null,null,6.6069339999999999,0.27745399999999998,0.26683699999999999,0.21194099999999999,null,null,6.6069339999999999,4.7899999999999998E-2,8.0701999999999996E-2,6.2914999999999999E-2,null,null,null,6.6069339999999999,9.3387999999999999E-2,0.13350300000000001,0.12111,null,null,6.6069339999999999,0.14053599999999999,0.14030999999999999,0.13302600000000001,null,null,6.6069339999999999,0.13134299999999999,0.169128,0.15346799999999999,null,null,6.6069339999999999,4.4061000000000003E-2,4.4179999999999997E-2,7.2770000000000001E-2,null,null,6.6069339999999999,0,0,0,null,null,6.6069339999999999,9.6102999999999994E-2,3.1828000000000002E-2,0,null,null,6.6069339999999999,0,0,0,null,null,6.6069339999999999,0.20603399999999999,0.15492,0.14361699999999999,null,null,6.6069339999999999,0.111735,0,2.1662000000000001E-2,null,null,6.6069339999999999,0.15815199999999999,9.9116999999999997E-2,0.15407799999999999,null,null,6.6069339999999999,0.13181200000000001,8.0019000000000007E-2,9.0844999999999995E-2,null,null,6.6069339999999999,8.9774999999999994E-2,0.13564899999999999,8.6846000000000007E-2,null,null,6.6069339999999999,9.4246999999999997E-2,9.5330999999999999E-2,8.6789000000000005E-2,null,null,null,null,6.6069339999999999,0.28780599999999995,0.25207733333333332,6.3838999999999993E-2,0.11600033333333333,0.13795733333333335,0.151313,5.3670333333333341E-2,0,4.2643666666666663E-2,0,0.16819033333333333,4.446566666666666E-2,0.13711566666666666,0.100892,0.10409,9.2122333333333348E-2]
[null,7.5857760000000001,0.26261499999999999,0.29485600000000001,0.29307,null,null,7.5857760000000001,0.27254099999999998,0.2626,0.205818,null,null,7.5857760000000001,3.4750000000000003E-2,5.9209999999999999E-2,5.1995E-2,null,null,null,7.5857760000000001,8.5017999999999996E-2,0.123291,0.11088099999999999,null,null,7.5857760000000001,0.13281499999999999,0.13228500000000001,0.12604799999999999,null,null,7.5857760000000001,0.132442,0.17044699999999999,0.15478800000000001,null,null,7.5857760000000001,4.1602E-2,3.8942999999999998E-2,7.2081999999999993E-2,null,null,7.5857760000000001,0,0,0,null,null,7.5857760000000001,6.6181000000000004E-2,2.0743999999999999E-2,0,null,null,7.5857760000000001,0,0,0,null,null,7.5857760000000001,0.205789,0.152591,0.14063400000000001,null,null,7.5857760000000001,0.109793,0,2.1925E-2,null,null,7.5857760000000001,0.15546199999999999,9.4966999999999996E-2,0.152337,null,null,7.5857760000000001,0.121659,7.6977000000000004E-2,8.4219000000000002E-2,null,null,7.5857760000000001,8.2507999999999998E-2,0.12531800000000001,7.2594000000000006E-2,null,null,7.5857760000000001,8.7970000000000007E-2,8.9273000000000005E-2,8.2207000000000002E-2,null,null,null,null,7.5857760000000001,0.28351366666666666,0.24698633333333331,4.8651666666666669E-2,0.10639666666666665,0.13038266666666667,0.152559,5.0875666666666673E-2,0,2.8975000000000001E-2,0,0.16633800000000001,4.3906000000000001E-2,0.13425533333333334,9.4285000000000008E-2,9.3473333333333339E-2,8.6483333333333343E-2]
[null,8.7096359999999997,0.25775999999999999,0.29087400000000002,0.28806799999999999,null,null,8.7096359999999997,0.26752100000000001,0.25856099999999999,0.19995499999999999,null,null,8.7096359999999997,1.1552E-2,2.1454999999999998E-2,3.9316999999999998E-2,null,null,null,8.7096359999999997,5.8626999999999999E-2,0.108019,9.5711000000000004E-2,null,null,8.7096359999999997,0.121311,0.120404,0.11512799999999999,null,null,8.7096359999999997,0.132525,0.17125899999999999,0.15541099999999999,null,null,8.7096359999999997,3.9330999999999998E-2,2.2314000000000001E-2,7.1051000000000003E-2,null,null,8.7096359999999997,0,0,0,null,null,8.7096359999999997,1.3011E-2,0,0,null,null,8.7096359999999997,0,0,0,null,null,8.7096359999999997,0.20336299999999999,0.147369,0.13430400000000001,null,null,8.7096359999999997,0.10573299999999999,0,2.1859E-2,null,null,8.7096359999999997,0.149059,8.7623999999999994E-2,0.14740400000000001,null,null,8.7096359999999997,0.107762,5.6808999999999998E-2,7.0962999999999998E-2,null,null,8.7096359999999997,7.3645000000000002E-2,0.110212,4.4110000000000003E-2,null,null,8.7096359999999997,7.9332E-2,7.5986999999999999E-2,7.1322999999999998E-2,null,null,null,null,8.7096359999999997,0.27890066666666669,0.2420123333333333,2.4108000000000001E-2,8.745233333333334E-2,0.11894766666666667,0.15306500000000001,4.4232E-2,0,4.3369999999999997E-3,0,0.16167866666666666,4.2530666666666661E-2,0.12802899999999998,7.8511333333333336E-2,7.5989000000000001E-2,7.5547333333333327E-2]
[null,10,0.25490400000000002,0.28927199999999997,0.28493800000000002,null,null,10,0.26500200000000002,0.25733800000000001,0.19687199999999999,null,null,10,0,1.9949999999999999E-2,2.0641E-2,null,null,null,10,0,8.6011000000000004E-2,7.4279999999999999E-2,null,null,10,0.10693800000000001,0.10598,0.101175,null,null,10,0.132247,0.172128,0.15586900000000001,null,null,10,2.0840999999999998E-2,2.3288E-2,7.0568000000000006E-2,null,null,10,0,0,0,null,null,10,0,0,0,null,null,10,0,0,0,null,null,10,0.20013600000000001,0.140905,0.126498,null,null,10,0.10048799999999999,0,2.1434000000000002E-2,null,null,10,0.14091699999999999,7.8806000000000001E-2,0.14068600000000001,null,null,10,9.4011999999999998E-2,0,4.4344000000000001E-2,null,null,10,5.9423999999999998E-2,9.4123999999999999E-2,3.4447999999999999E-2,null,null,10,6.9057999999999994E-2,4.7606999999999997E-2,4.3928000000000002E-2,null,null,null,null,10,0.27637133333333336,0.23973733333333333,1.3530333333333333E-2,5.3430333333333337E-2,0.10469766666666667,0.15341466666666667,3.8232333333333333E-2,0,0,0,0.15584633333333334,4.0640666666666665E-2,0.12013633333333333,4.6118666666666669E-2,6.2665333333333337E-2,5.3530999999999995E-2]
[null,11.481536,0.25637500000000002,0.29200700000000002,0.28596700000000003,null,null,11.481536,0.26734799999999997,0.26127299999999998,0.19875999999999999,null,null,11.481536,0,1.8366E-2,2.1704999999999999E-2,null,null,null,11.481536,0,3.1112999999999998E-2,2.4591999999999999E-2,null,null,11.481536,9.1088000000000002E-2,9.0597999999999998E-2,8.5404999999999995E-2,null,null,11.481536,0.132351,0.17352200000000001,0.15668000000000001,null,null,11.481536,2.1802999999999999E-2,2.2509999999999999E-2,7.1355000000000002E-2,null,null,11.481536,0,0,0,null,null,11.481536,0,0,0,null,null,11.481536,0,0,0,null,null,11.481536,0.19796900000000001,0.13553299999999999,0.11987200000000001,null,null,11.481536,9.5372999999999999E-2,0,2.0715000000000001E-2,null,null,11.481536,0.134015,7.1057999999999996E-2,0.13442999999999999,null,null,11.481536,8.5114999999999996E-2,0,4.0764000000000002E-2,null,null,11.481536,0,8.1946000000000005E-2,0,null,null,11.481536,4.5828000000000001E-2,4.1508000000000003E-2,2.2187999999999999E-2,null,null,null,null,11.481536,0.27811633333333335,0.24246033333333336,1.3356999999999999E-2,1.8568333333333333E-2,8.9030333333333336E-2,0.15418433333333334,3.8556E-2,0,0,0,0.15112466666666666,3.8696000000000001E-2,0.11316766666666667,4.1959666666666666E-2,2.7315333333333334E-2,3.6507999999999999E-2]
[null,13.182567000000001,0.26401200000000002,0.30021700000000001,0.29295399999999999,null,null,13.182567000000001,0.27622999999999998,0.27177499999999999,0.20708599999999999,null,null,13.182567000000001,4.3028999999999998E-2,6.3070000000000001E-2,5.7676999999999999E-2,null,null,null,13.182567000000001,0,9.0700000000000004E-4,6.2299999999999996E-4,null,null,13.182567000000001,7.9500000000000001E-2,7.7831999999999998E-2,7.1175000000000002E-2,null,null,13.182567000000001,0.13356100000000001,0.175622,0.15820999999999999,null,null,13.182567000000001,2.1884000000000001E-2,4.1092999999999998E-2,7.4083999999999997E-2,null,null,13.182567000000001,0,0,0,null,null,13.182567000000001,0,0,0,null,null,13.182567000000001,0,0,0,null,null,13.182567000000001,0.19928899999999999,0.13467100000000001,0.118382,null,null,13.182567000000001,9.2563999999999994E-2,0,2.0433E-2,null,null,13.182567000000001,0.13290199999999999,6.8368999999999999E-2,0.13229299999999999,null,null,13.182567000000001,8.7040000000000006E-2,0,4.1845E-2,null,null,13.182567000000001,1.2562E-2,8.0508999999999997E-2,0,null,null,13.182567000000001,4.3154999999999999E-2,3.8642999999999997E-2,1.7468000000000001E-2,null,null,null,null,13.182567000000001,0.28572766666666666,0.251697,5.4592000000000002E-2,5.1000000000000004E-4,7.6169000000000001E-2,0.15579766666666664,4.5686999999999998E-2,0,0,0,0.15078066666666667,3.766566666666666E-2,0.111188,4.2961666666666669E-2,3.1023666666666668E-2,3.3088666666666662E-2]
[null,15.135612,0.27879300000000001,0.31409100000000001,0.30682999999999999,null,null,15.135612,0.29236299999999998,0.28921999999999998,0.22228200000000001,null,null,15.135612,0.107567,0.102016,0.11540400000000001,null,null,null,15.135612,0,0,0,null,null,15.135612,5.2989000000000001E-2,7.1258000000000002E-2,6.2100000000000002E-2,null,null,15.135612,0.13650000000000001,0.17846500000000001,0.16073799999999999,null,null,15.135612,3.9095999999999999E-2,4.4255000000000003E-2,7.9297000000000006E-2,null,null,15.135612,0,0,0,null,null,15.135612,0,0,4.5673999999999999E-2,null,null,15.135612,0,0,0,null,null,15.135612,0.20651700000000001,0.14174500000000001,0.12597800000000001,null,null,15.135612,9.4286999999999996E-2,0,2.0244999999999999E-2,null,null,15.135612,0.142342,7.4774999999999994E-2,0.138235,null,null,15.135612,0.104758,5.0008999999999998E-2,7.5801999999999994E-2,null,null,15.135612,6.0965999999999999E-2,9.5960000000000004E-2,3.5149E-2,null,null,15.135612,7.2359999999999994E-2,6.3492000000000007E-2,6.0846999999999998E-2,null,null,null,null,15.135612,0.29990466666666665,0.267955,0.10832900000000001,0,6.2115666666666659E-2,0.15856766666666669,5.4216000000000007E-2,0,1.5224666666666666E-2,0,0.15808,3.8177333333333334E-2,0.11845066666666666,7.6856333333333318E-2,6.4024999999999999E-2,6.5566333333333338E-2]
[null,17.378008000000001,0.29924099999999998,0.33145200000000002,0.32613999999999999,null,null,17.378008000000001,0.31384200000000001,0.311166,0.24221699999999999,null,null,17.378008000000001,0.16432099999999999,0.14882699999999999,0.174873,null,null,null,17.378008000000001,0,0,0,null,null,17.378008000000001,6.5623000000000001E-2,7.4923000000000003E-2,6.2814999999999996E-2,null,null,17.378008000000001,0.14128199999999999,0.181621,0.16414000000000001,null,null,17.378008000000001,6.6389000000000004E-2,6.4045000000000005E-2,8.6862999999999996E-2,null,null,17.378008000000001,1.1632999999999999E-2,0,0,null,null,17.378008000000001,0,0,0.130274,null,null,17.378008000000001,2.2134000000000001E-2,0,0,null,null,17.378008000000001,0.221027,0.15906400000000001,0.14535300000000001,null,null,17.378008000000001,0.102407,0,1.8315999999999999E-2,null,null,17.378008000000001,0.16578499999999999,9.3271000000000007E-2,0.15545700000000001,null,null,17.378008000000001,0.13985900000000001,9.8710999999999993E-2,0.11504,null,null,17.378008000000001,0.100796,0.13150200000000001,9.4686999999999993E-2,null,null,17.378008000000001,0.10252500000000001,9.1477000000000003E-2,9.4796000000000005E-2,null,null,null,null,17.378008000000001,0.31894433333333333,0.28907500000000003,0.16267366666666666,0,6.7787E-2,0.16234766666666667,7.2432333333333335E-2,3.8776666666666664E-3,4.3424666666666667E-2,7.378E-3,0.175148,4.0240999999999999E-2,0.13817100000000002,0.11786999999999999,0.10899499999999999,9.6266000000000004E-2]
[null,19.952622999999999,0.32234699999999999,0.348883,0.34788999999999998,null,null,19.952622999999999,0.33735700000000002,0.333789,0.26337899999999997,null,null,19.952622999999999,0.22106899999999999,0.20408799999999999,0.23685999999999999,null,null,null,19.952622999999999,0,3.3230999999999997E-2,2.6446999999999998E-2,null,null,19.952622999999999,8.8519E-2,9.1430999999999998E-2,7.6882000000000006E-2,null,null,19.952622999999999,0.14757300000000001,0.18446100000000001,0.16803299999999999,null,null,19.952622999999999,8.2572000000000007E-2,8.0715999999999996E-2,9.6298999999999996E-2,null,null,19.952622999999999,4.4502E-2,0,0,null,null,19.952622999999999,0,0,0.25124000000000002,null,null,19.952622999999999,5.7416000000000002E-2,0,8.4960000000000001E-3,null,null,19.952622999999999,0.24294299999999999,0.18723999999999999,0.17719799999999999,null,null,19.952622999999999,0.11777700000000001,3.3763000000000001E-2,3.4304000000000001E-2,null,null,19.952622999999999,0.20456199999999999,0.124988,0.18557699999999999,null,null,19.952622999999999,0.19029299999999999,0.14354,0.162853,null,null,19.952622999999999,0.152311,0.18652299999999999,0.157362,null,null,19.952622999999999,0.140571,0.12731799999999999,0.13202900000000001,null,null,null,null,19.952622999999999,0.33970666666666666,0.31150833333333333,0.22067233333333333,1.9892666666666666E-2,8.5610666666666668E-2,0.166689,8.6529000000000009E-2,1.4834E-2,8.3746666666666678E-2,2.1970666666666666E-2,0.20246033333333333,6.1948000000000003E-2,0.171709,0.16556199999999999,0.16539866666666667,0.13330600000000001]
[null,22.908677000000001,0.34208699999999997,0.36083700000000002,0.36615500000000001,null,null,22.908677000000001,0.35684900000000003,0.35069,0.27975800000000001,null,null,22.908677000000001,0.26653399999999999,0.24854200000000001,0.28836600000000001,null,null,null,22.908677000000001,0,8.6276000000000005E-2,7.2374999999999995E-2,null,null,22.908677000000001,0.113702,0.120083,0.105022,null,null,22.908677000000001,0.15409600000000001,0.186032,0.17150499999999999,null,null,22.908677000000001,9.3908000000000005E-2,9.0435000000000001E-2,0.10607900000000001,null,null,22.908677000000001,6.3265000000000002E-2,0,8.0949999999999998E-3,null,null,22.908677000000001,0,0,0.33760400000000002,null,null,22.908677000000001,7.5013999999999997E-2,0,3.4419999999999999E-2,null,null,22.908677000000001,0.26908300000000002,0.22248699999999999,0.217167,null,null,22.908677000000001,0.13869300000000001,7.3857000000000006E-2,4.5887999999999998E-2,null,null,22.908677000000001,0.25407400000000002,0.166161,0.22555600000000001,null,null,22.908677000000001,0.246286,0.20333300000000001,0.218362,null,null,22.908677000000001,0.21928,0.25197199999999997,0.22808500000000001,null,null,22.908677000000001,0.18806,0.17255300000000001,0.182001,null,null,null,null,22.908677000000001,0.35635966666666663,0.32909900000000003,0.267814,5.2883666666666662E-2,0.11293566666666666,0.17054433333333333,9.6807333333333342E-2,2.3786666666666668E-2,0.11253466666666667,3.6478000000000003E-2,0.23624566666666666,8.6146E-2,0.21526366666666666,0.22266033333333332,0.23311233333333334,0.18087133333333336]
[null,26.302679999999999,0.35209099999999999,0.36212899999999998,0.37460700000000002,null,null,26.302679999999999,0.36647099999999999,0.35598400000000002,0.285692,null,null,26.302679999999999,0.28112599999999999,0.26692399999999999,0.30814999999999998,null,null,null,26.302679999999999,0,0.108663,9.8174999999999998E-2,null,null,26.302679999999999,0.15177199999999999,0.156699,0.144542,null,null,26.302679999999999,0.15917600000000001,0.18552399999999999,0.17353299999999999,null,null,26.302679999999999,0.107055,0.103322,0.114512,null,null,26.302679999999999,6.9742999999999999E-2,0,2.3758999999999999E-2,null,null,26.302679999999999,0,0,0.40151300000000001,null,null,26.302679999999999,8.7774000000000005E-2,0,4.9116E-2,null,null,26.302679999999999,0.29420299999999999,0.25805699999999998,0.25726700000000002,null,null,26.302679999999999,0.161325,8.1476999999999994E-2,6.2701000000000007E-2,null,null,26.302679999999999,0.305616,0.20971200000000001,0.26895400000000003,null,null,26.302679999999999,0.29409600000000002,0.25759199999999999,0.26577699999999999,null,null,26.302679999999999,0.28481299999999998,0.31359999999999999,0.29547499999999999,null,null,26.302679999999999,0.232569,0.21482899999999999,0.229271,null,null,null,null,26.302679999999999,0.36294233333333331,0.33604900000000004,0.28539999999999993,6.8945999999999993E-2,0.15100433333333332,0.17274433333333331,0.10829633333333333,3.1167333333333335E-2,0.13383766666666666,4.5630000000000004E-2,0.26984233333333335,0.10183433333333332,0.26142733333333334,0.27248833333333328,0.29796266666666665,0.22555633333333333]
[null,30.199517,0.34659099999999998,0.34934900000000002,0.367539,null,null,30.199517,0.36171399999999998,0.34576099999999999,0.27722400000000003,null,null,30.199517,0.25259999999999999,0.24465100000000001,0.28071299999999999,null,null,null,30.199517,0,0.12918099999999999,0.122976,null,null,30.199517,0.18909899999999999,0.19153700000000001,0.18653600000000001,null,null,30.199517,0.16078000000000001,0.18259600000000001,0.17310400000000001,null,null,30.199517,0.11669499999999999,0.11368,0.11965099999999999,null,null,30.199517,6.2923000000000007E-2,0,1.1383000000000001E-2,null,null,30.199517,0,0,0.39623900000000001,null,null,30.199517,9.6471000000000001E-2,0,5.4549E-2,null,null,30.199517,0.31010199999999999,0.28283399999999997,0.284831,null,null,30.199517,0.17897099999999999,8.8650999999999994E-2,8.7109000000000006E-2,null,null,30.199517,0.343995,0.24337400000000001,0.303531,null,null,30.199517,0.315668,0.29058099999999998,0.28912599999999999,null,null,30.199517,0.32984599999999997,0.35158299999999998,0.33461099999999999,null,null,30.199517,0.26126700000000003,0.24130499999999999,0.26053399999999999,null,null,null,null,30.199517,0.354493,0.328233,0.25932133333333335,8.4052333333333326E-2,0.18905733333333333,0.17216000000000001,0.11667533333333334,2.4768666666666671E-2,0.13207966666666668,5.0339999999999996E-2,0.29258899999999999,0.11824366666666665,0.29696666666666666,0.29845833333333333,0.33867999999999993,0.25436866666666669]
[null,34.673684999999999,0.32392100000000001,0.32359399999999999,0.343225,null,null,34.673684999999999,0.34298299999999998,0.32151400000000002,0.25539899999999999,null,null,34.673684999999999,0.17624799999999999,0.174398,0.195601,null,null,null,34.673684999999999,0,0.128222,0.128524,null,null,34.673684999999999,0.21495700000000001,0.21217,0.21897800000000001,null,null,34.673684999999999,0.15751699999999999,0.17785899999999999,0.169848,null,null,34.673684999999999,0.121687,0.121173,0.12059400000000001,null,null,34.673684999999999,3.3536000000000003E-2,0,0,null,null,34.673684999999999,0,0,0.30965500000000001,null,null,34.673684999999999,9.6693000000000001E-2,0,4.3640999999999999E-2,null,null,34.673684999999999,0.30864999999999998,0.28545300000000001,0.28539799999999999,null,null,34.673684999999999,0.18340500000000001,9.1005000000000003E-2,9.3949000000000005E-2,null,null,34.673684999999999,0.35324699999999998,0.254552,0.31625399999999998,null,null,34.673684999999999,0.29486200000000001,0.28306599999999998,0.27229799999999998,null,null,34.673684999999999,0.33135700000000001,0.344578,0.32452599999999998,null,null,34.673684999999999,0.25882899999999998,0.237013,0.258521,null,null,null,null,34.673684999999999,0.33024666666666669,0.30663200000000002,0.18208233333333335,8.5582000000000005E-2,0.21536833333333336,0.168408,0.12115133333333335,1.1178666666666668E-2,0.10321833333333334,4.6778000000000007E-2,0.29316700000000001,0.12278633333333334,0.30801766666666669,0.28340866666666664,0.33348700000000003,0.25145433333333334]
[null,39.810716999999997,0.28976200000000002,0.29317300000000002,0.30712800000000001,null,null,39.810716999999997,0.318602,0.29320800000000002,0.22919500000000001,null,null,39.810716999999997,6.7075999999999997E-2,6.7532999999999996E-2,7.0834999999999995E-2,null,null,null,39.810716999999997,0,9.9992999999999999E-2,0.104474,null,null,39.810716999999997,0.21433199999999999,0.20514199999999999,0.225691,null,null,39.810716999999997,0.14951400000000001,0.173378,0.16459199999999999,null,null,39.810716999999997,0.121457,0.12529899999999999,0.118321,null,null,39.810716999999997,0,0,0,null,null,39.810716999999997,0,0,0.137736,null,null,39.810716999999997,8.2115999999999995E-2,0,1.9977000000000002E-2,null,null,39.810716999999997,0.28420200000000001,0.25714199999999998,0.25087399999999999,null,null,39.810716999999997,0.16910700000000001,8.4231E-2,9.9240999999999996E-2,null,null,39.810716999999997,0.31934299999999999,0.232408,0.29361799999999999,null,null,39.810716999999997,0.22570399999999999,0.22539400000000001,0.21169099999999999,null,null,39.810716999999997,0.27607500000000001,0.285661,0.24912799999999999,null,null,39.810716999999997,0.22009699999999999,0.19578400000000001,0.21463599999999999,null,null,null,null,39.810716999999997,0.29668766666666668,0.280335,6.8481333333333325E-2,6.815566666666667E-2,0.215055,0.16249466666666668,0.12169233333333333,0,4.5912000000000001E-2,3.4030999999999999E-2,0.26407266666666668,0.11752633333333333,0.28178966666666666,0.22092966666666666,0.27028800000000003,0.21017233333333332]
[null,45.708818999999998,0.259106,0.27425100000000002,0.27365099999999998,null,null,45.708818999999998,0.30641099999999999,0.28037699999999999,0.21667500000000001,null,null,45.708818999999998,0,0,0,null,null,null,45.708818999999998,0,4.5090999999999999E-2,4.7926000000000003E-2,null,null,45.708818999999998,0.17848900000000001,0.162053,0.19693099999999999,null,null,45.708818999999998,0.13927899999999999,0.172682,0.159742,null,null,45.708818999999998,0.118848,0.12856400000000001,0.11680400000000001,null,null,45.708818999999998,0,0,0,null,null,45.708818999999998,0,0,0,null,null,45.708818999999998,4.0594999999999999E-2,0,0,null,null,45.708818999999998,0.23747299999999999,0.197769,0.17511299999999999,null,null,45.708818999999998,0.13086999999999999,6.5000000000000002E-2,9.7281999999999993E-2,null,null,45.708818999999998,0.240318,0.17601600000000001,0.23369300000000001,null,null,45.708818999999998,0.11150400000000001,0.115809,0.109027,null,null,45.708818999999998,0.15301799999999999,0.163995,0.11376500000000001,null,null,45.708818999999998,0.138237,0.110441,0.120216,null,null,null,null,45.708818999999998,0.26900266666666667,0.26782100000000003,0,3.1005666666666667E-2,0.17915766666666666,0.15723433333333334,0.12140533333333335,0,0,1.3531666666666666E-2,0.20345166666666667,9.7717333333333323E-2,0.21667566666666668,0.11211333333333333,0.14359266666666667,0.12296466666666667]
[null,52.480746000000003,0.25698700000000002,0.29026400000000002,0.266764,null,null,52.480746000000003,0.333592,0.31145099999999998,0.24448,null,null,52.480746000000003,0,0,0,null,null,null,52.480746000000003,0,0,0,null,null,52.480746000000003,0.10577300000000001,8.4822999999999996E-2,0.12732199999999999,null,null,52.480746000000003,0.132267,0.18043999999999999,0.15940099999999999,null,null,52.480746000000003,0.120698,0.13675699999999999,0.123555,null,null,52.480746000000003,0,0,0,null,null,52.480746000000003,0,0,0,null,null,52.480746000000003,0,0,0,null,null,52.480746000000003,0.17930699999999999,0.120101,6.0679999999999998E-2,null,null,52.480746000000003,6.1025000000000003E-2,2.0965999999999999E-2,8.7432999999999997E-2,null,null,52.480746000000003,0.129297,9.6306000000000003E-2,0.14277400000000001,null,null,52.480746000000003,0,0,0,null,null,52.480746000000003,0,0,0,null,null,52.480746000000003,1.6316000000000001E-2,0,0,null,null,null,null,52.480746000000003,0.27133833333333335,0.29650766666666667,0,0,0.10597266666666666,0.15736933333333333,0.12700333333333333,0,0,0,0.12002933333333334,5.6474666666666673E-2,0.12279233333333334,0,0,5.4386666666666672E-3]
[null,60.255958999999997,0.31551099999999999,0.36791099999999999,0.31703300000000001,null,null,60.255958999999997,0.43260799999999999,0.41897099999999998,0.34346500000000002,null,null,60.255958999999997,0,0,0,null,null,null,60.255958999999997,0,0,0,null,null,60.255958999999997,2.9039999999999999E-3,2.1679999999999998E-3,3.6540000000000001E-3,null,null,60.255958999999997,0.13653399999999999,0.20139199999999999,0.168849,null,null,60.255958999999997,0.13802600000000001,0.15926599999999999,0.14927299999999999,null,null,60.255958999999997,0,0,0,null,null,60.255958999999997,0,0,0,null,null,60.255958999999997,0,0,0,null,null,60.255958999999997,0.132936,4.7086999999999997E-2,1.2229999999999999E-3,null,null,60.255958999999997,1.469E-3,3.6999999999999999E-4,5.6362000000000002E-2,null,null,60.255958999999997,3.5599999999999998E-3,2.7209999999999999E-3,4.1260000000000003E-3,null,null,60.255958999999997,0,0,0,null,null,60.255958999999997,0,0,0,null,null,60.255958999999997,0,0,0,null,null,null,null,60.255958999999997,0.33348500000000003,0.39834799999999998,0,0,2.908666666666667E-3,0.16892499999999999,0.14885499999999999,0,0,0,6.0415333333333328E-2,1.9400333333333335E-2,3.4689999999999999E-3,0,0,0]
[null,69.183097000000004,0.46837200000000001,0.53168800000000005,0.45625199999999999,null,null,69.183097000000004,0.63494899999999999,0.63284499999999999,0.54246700000000003,null,null,69.183097000000004,9.0550000000000005E-3,5.3151999999999998E-2,0.11086600000000001,null,null,null,69.183097000000004,0,0,0,null,null,69.183097000000004,0,0,0,null,null,69.183097000000004,0.161409,0.23907200000000001,0.19352,null,null,69.183097000000004,0.184972,0.20838599999999999,0.206677,null,null,69.183097000000004,0,0,0,null,null,69.183097000000004,0,0,0,null,null,69.183097000000004,0,0,0,null,null,69.183097000000004,0.13307099999999999,3.0549E-2,0,null,null,69.183097000000004,0,0,5.0615E-2,null,null,69.183097000000004,0,0,0,null,null,69.183097000000004,0,0,0,null,null,69.183097000000004,0,0,0,null,null,69.183097000000004,0,0,0,null,null,null,null,69.183097000000004,0.48543733333333333,0.60342033333333334,5.7690999999999999E-2,0,0,0.19800033333333333,0.20001166666666667,0,0,0,5.4539999999999998E-2,1.6871666666666667E-2,0,0,0,0]
[null,79.432822999999999,0.73921700000000001,0.79331200000000002,0.70651600000000003,null,null,79.432822999999999,0.95752300000000001,0.96634500000000001,0.85528400000000004,null,null,79.432822999999999,0.22888900000000001,0.37910500000000003,0.60201300000000002,null,null,null,79.432822999999999,0,0,0,null,null,79.432822999999999,0,0,0,null,null,79.432822999999999,0.21460000000000001,0.29355799999999999,0.23702999999999999,null,null,79.432822999999999,0.275142,0.29619000000000001,0.30687700000000001,null,null,79.432822999999999,0.147562,0.11383699999999999,9.0676000000000007E-2,null,null,79.432822999999999,4.1144E-2,0,1.8415000000000001E-2,null,null,79.432822999999999,5.3598E-2,8.5609999999999992E-3,0,null,null,79.432822999999999,0.22156699999999999,0.148253,7.2156999999999999E-2,null,null,79.432822999999999,1.2428E-2,2.4910000000000002E-2,5.3198000000000002E-2,null,null,79.432822999999999,8.3862000000000006E-2,8.9405999999999999E-2,6.2829999999999997E-2,null,null,79.432822999999999,0.108122,9.2619999999999994E-2,0.238149,null,null,79.432822999999999,0,3.7282000000000003E-2,0,null,null,79.432822999999999,4.1423000000000001E-2,0,0,null,null,null,null,79.432822999999999,0.74634833333333328,0.9263840000000001,0.4033356666666667,0,0,0.24839599999999998,0.29273633333333332,0.11735833333333334,1.9852999999999999E-2,2.0719666666666667E-2,0.14732566666666666,3.017866666666667E-2,7.8699333333333329E-2,0.14629699999999998,1.2427333333333334E-2,1.3807666666666668E-2]
[null,91.201083999999994,1.139446,1.1522699999999999,1.078025,null,null,91.201083999999994,1.4013739999999999,1.4156420000000001,1.280343,null,null,91.201083999999994,0.809365,1.046848,1.4602120000000001,null,null,null,91.201083999999994,5.2167999999999999E-2,0.10087599999999999,8.7662000000000004E-2,null,null,91.201083999999994,7.3346999999999996E-2,9.1539999999999996E-2,4.4429999999999997E-2,null,null,91.201083999999994,0.30054399999999998,0.36202699999999999,0.30081200000000002,null,null,91.201083999999994,0.42017500000000002,0.43378800000000001,0.45906799999999998,null,null,91.201083999999994,0.48350599999999999,0.36793100000000001,0.306784,null,null,91.201083999999994,0.69884000000000002,0.367782,0.49051800000000001,null,null,91.201083999999994,0.187277,6.8420999999999996E-2,0.101284,null,null,91.201083999999994,0.44126500000000002,0.43021199999999998,0.36785200000000001,null,null,91.201083999999994,0.161527,0.12853800000000001,0.100757,null,null,91.201083999999994,0.41076099999999999,0.38259900000000002,0.31070900000000001,null,null,91.201083999999994,0.604958,0.530694,0.827793,null,null,91.201083999999994,0.27671699999999999,0.47290100000000002,0.27720299999999998,null,null,91.201083999999994,0.34080899999999997,0.20195099999999999,0.21456,null,null,null,null,91.201083999999994,{"$f":"AVERAGE(C87:E87)","v":1.1232470000000001},{"$f":"AVERAGE(I87:K87)","v":1.3657863333333333},{"$f":"AVERAGE(O87:Q87)","v":1.105475},{"$f":"AVERAGE(V87:X87)","v":8.0235333333333325E-2},{"$f":"AVERAGE(AB87:AD87)","v":6.9772333333333339E-2},{"$f":"AVERAGE(AH87:AJ87)","v":0.3211276666666667},{"$f":"AVERAGE(AN87:AP87)","v":0.43767700000000004},{"$f":"AVERAGE(AT87:AV87)","v":0.38607366666666665},{"$f":"AVERAGE(AZ87:BB87)","v":0.51904666666666666},{"$f":"AVERAGE(BF87:BH87)","v":0.11899399999999999},{"$f":"AVERAGE(BL87:BN87)","v":0.41310966666666671},{"$f":"AVERAGE(BR87:BT87)","v":0.130274},{"$f":"AVERAGE(BX87:BZ87)","v":0.36802299999999999},{"$f":"AVERAGE(CD87:CF87)","v":0.65448166666666663},{"$f":"AVERAGE(CJ87:CL87)","v":0.34227366666666664},{"$f":"AVERAGE(CP87:CR87)","v":0.25243999999999994}]
[null,104.712855,1.6467540000000001,1.5796969999999999,1.54938,null,null,104.712855,1.928353,1.937452,1.779725,null,null,104.712855,1.8057399999999999,2.0515289999999999,2.6124969999999998,null,null,null,104.712855,0.57932300000000003,0.61550400000000005,0.62112100000000003,null,null,104.712855,0.41367100000000001,0.46184199999999997,0.34155999999999997,null,null,104.712855,0.41485699999999998,0.43656,0.38103300000000001,null,null,104.712855,0.62060099999999996,0.62300199999999994,0.66239499999999996,null,null,104.712855,0.90606799999999998,0.62840399999999996,0.54456000000000004,null,null,104.712855,2.256005,1.7087129999999999,1.7725089999999999,null,null,104.712855,0.391872,0.128327,0.34716799999999998,null,null,104.712855,0.81868600000000002,0.91175600000000001,0.90051599999999998,null,null,104.712855,0.44648700000000002,0.296427,0.200826,null,null,104.712855,1.0119339999999999,0.89565499999999998,0.78892700000000004,null,null,104.712855,1.4603459999999999,1.2930219999999999,1.6703939999999999,null,null,104.712855,1.0779449999999999,1.3386929999999999,1.142908,null,null,104.712855,0.92125800000000002,0.81356499999999998,0.85113700000000003,null,null,null,null,104.712855,1.5919436666666666,1.8818433333333333,2.1565886666666665,0.60531600000000008,0.40569100000000002,0.41081666666666666,0.63533266666666666,0.69301066666666677,1.912409,0.28912233333333331,0.87698600000000004,0.31458000000000003,0.89883866666666667,1.4745873333333332,1.1865153333333334,0.86198666666666668]
[null,120.226443,2.2288410000000001,2.043501,2.0899290000000001,null,null,120.226443,2.4880749999999998,2.4779270000000002,2.306848,null,null,120.226443,3.1886749999999999,3.3368980000000001,3.96604,null,null,null,120.226443,1.652069,1.586279,1.635135,null,null,120.226443,1.0321979999999999,1.0923039999999999,0.94330999999999998,null,null,120.226443,0.548983,0.51063700000000001,0.47329900000000003,null,null,120.226443,0.87301899999999999,0.86344200000000004,0.91524499999999998,null,null,120.226443,1.4188000000000001,0.95242700000000002,0.84825899999999999,null,null,120.226443,4.720529,3.9633159999999998,4.012829,null,null,120.226443,0.69232400000000005,0.23105999999999999,0.64365700000000003,null,null,120.226443,1.3706050000000001,1.6193439999999999,1.681746,null,null,120.226443,0.86703699999999995,0.54262200000000005,0.37134400000000001,null,null,120.226443,1.9163269999999999,1.6650609999999999,1.5366489999999999,null,null,120.226443,2.6345130000000001,2.3469190000000002,2.8119260000000001,null,null,120.226443,2.1600579999999998,2.5732189999999999,2.3949009999999999,null,null,120.226443,1.765916,1.6711050000000001,1.7323500000000001,null,null,null,null,120.226443,2.1207569999999998,2.4242833333333333,3.4972043333333329,1.6244943333333335,1.0226039999999998,0.51097300000000001,0.88390199999999997,1.0731620000000002,4.2322246666666663,0.52234700000000001,1.5572316666666666,0.5936676666666667,1.706012333333333,2.5977859999999997,2.3760593333333331,1.7231236666666667]
[null,138.03842599999999,2.8127330000000001,2.4874139999999998,2.6317499999999998,null,null,138.03842599999999,2.990326,2.9477419999999999,2.782286,null,null,138.03842599999999,4.7127179999999997,4.674779,5.2816720000000004,null,null,null,138.03842599999999,3.1035300000000001,2.968213,3.0276670000000001,null,null,138.03842599999999,1.9145529999999999,1.968847,1.8225290000000001,null,null,138.03842599999999,0.68396400000000002,0.57830599999999999,0.56930800000000004,null,null,138.03842599999999,1.155621,1.138568,1.202018,null,null,138.03842599999999,1.944213,1.2638119999999999,1.16062,null,null,138.03842599999999,7.80091,6.9549149999999997,7.0277830000000003,null,null,138.03842599999999,1.0703780000000001,0.35760999999999998,1.024216,null,null,138.03842599999999,2.0678399999999999,2.5027720000000002,2.6583239999999999,null,null,138.03842599999999,1.4304220000000001,0.87645399999999996,0.63737900000000003,null,null,138.03842599999999,3.0699700000000001,2.6415199999999999,2.522068,null,null,138.03842599999999,4.0241819999999997,3.6043379999999998,4.1215679999999999,null,null,138.03842599999999,3.5089579999999998,4.092225,4.0032439999999996,null,null,138.03842599999999,2.8280530000000002,2.7612969999999999,2.8515540000000001,null,null,null,null,138.03842599999999,2.6439656666666664,2.9067846666666668,4.889723,3.0331366666666661,1.9019763333333335,0.61052600000000001,1.1654023333333334,1.456215,7.2612026666666667,0.81740133333333331,2.4096453333333336,0.98141833333333339,2.7445193333333329,3.916696,3.8681423333333331,2.8136346666666667]
[null,158.48931899999999,3.343585,2.88124,3.1247470000000002,null,null,158.48931899999999,3.3648340000000001,3.2815439999999998,3.1519240000000002,null,null,158.48931899999999,6.0675739999999996,5.8159869999999998,6.3443379999999996,null,null,null,158.48931899999999,4.9040889999999999,4.7216800000000001,4.761031,null,null,158.48931899999999,3.0569980000000001,3.073359,2.9904259999999998,null,null,158.48931899999999,0.80644899999999997,0.64609099999999997,0.66897099999999998,null,null,158.48931899999999,1.454019,1.4401090000000001,1.52013,null,null,158.48931899999999,2.4274619999999998,1.540143,1.4690160000000001,null,null,158.48931899999999,10.979383,10.236497999999999,10.369942,null,null,158.48931899999999,1.5186500000000001,0.54024499999999998,1.4677,null,null,158.48931899999999,2.8849149999999999,3.5120619999999998,3.763512,null,null,158.48931899999999,2.1124309999999999,1.2967169999999999,1.0170920000000001,null,null,158.48931899999999,4.404153,3.7684030000000002,3.7023060000000001,null,null,158.48931899999999,5.4996400000000003,4.9534950000000002,5.4845889999999997,null,null,158.48931899999999,4.9988260000000002,5.7588350000000004,5.8217869999999996,null,null,158.48931899999999,4.0391550000000001,4.0019070000000001,4.1243939999999997,null,null,null,null,158.48931899999999,3.1165240000000001,3.2661006666666665,6.0759663333333336,4.7956000000000003,3.0402609999999997,0.70717033333333335,1.4714193333333334,1.8122069999999999,10.528607666666666,1.1755316666666669,3.3868296666666668,1.4754133333333332,3.9582873333333333,5.3125746666666664,5.5264826666666664,4.0551519999999996]
[null,181.97008600000001,3.7477140000000002,3.1934999999999998,3.5027750000000002,null,null,181.97008600000001,3.539533,3.4196059999999999,3.3651300000000002,null,null,181.97008600000001,6.8606249999999998,6.4589489999999996,6.9136379999999997,null,null,null,181.97008600000001,6.7933240000000001,6.6044580000000002,6.5908610000000003,null,null,181.97008600000001,4.3428849999999999,4.2832699999999999,4.3328990000000003,null,null,181.97008600000001,0.90467299999999995,0.73176699999999995,0.77664299999999997,null,null,181.97008600000001,1.7422960000000001,1.7480560000000001,1.8587739999999999,null,null,181.97008600000001,2.7997260000000002,1.7507189999999999,1.752594,null,null,181.97008600000001,13.417667,12.980448000000001,13.170436,null,null,181.97008600000001,2.0032610000000002,0.78728500000000001,1.945282,null,null,181.97008600000001,3.7402350000000002,4.5192180000000004,4.8439399999999999,null,null,181.97008600000001,2.8471639999999998,1.781671,1.5085379999999999,null,null,181.97008600000001,5.7412400000000003,4.8960610000000004,4.9351859999999999,null,null,181.97008600000001,6.8284159999999998,6.1883600000000003,6.6878260000000003,null,null,181.97008600000001,6.4013960000000001,7.309863,7.5494310000000002,null,null,181.97008600000001,5.2440199999999999,5.2201060000000004,5.3780460000000003,null,null,null,null,181.97008600000001,3.4813296666666669,3.4414230000000003,6.7444039999999994,6.6628809999999996,4.3196846666666673,0.80436099999999999,1.783042,2.101013,13.189517,1.5786093333333333,4.3677976666666671,2.0457909999999999,5.1908289999999999,6.5682006666666668,7.0868966666666671,5.2807240000000002]
[null,208.92961299999999,4.001779,3.4421680000000001,3.748656,null,null,208.92961299999999,3.494974,3.35744,3.426666,null,null,208.92961299999999,6.8828149999999999,6.4552560000000003,6.893097,null,null,null,208.92961299999999,8.5623780000000007,8.4037699999999997,8.3151430000000008,null,null,208.92961299999999,5.6860379999999999,5.5087650000000004,5.7635589999999999,null,null,208.92961299999999,0.99063699999999999,0.87724400000000002,0.918408,null,null,208.92961299999999,2.024127,2.0711689999999998,2.2404299999999999,null,null,208.92961299999999,3.0523910000000001,1.9156219999999999,2.038837,null,null,208.92961299999999,14.502732,14.524516,14.708202,null,null,208.92961299999999,2.523628,1.138889,2.4602889999999999,null,null,208.92961299999999,4.596419,5.4456490000000004,5.7962769999999999,null,null,208.92961299999999,3.5999639999999999,2.33494,2.1279119999999998,null,null,208.92961299999999,6.9575979999999999,5.9213639999999996,6.1203859999999999,null,null,208.92961299999999,7.859559,7.1763810000000001,7.6036970000000004,null,null,208.92961299999999,7.5548599999999997,8.5566779999999998,8.952985,null,null,208.92961299999999,6.346139,6.2965720000000003,6.4962989999999996,null,null,null,null,208.92961299999999,3.7308676666666667,3.4263600000000003,6.7437226666666668,8.4270970000000016,5.6527873333333334,0.92876300000000001,2.1119086666666664,2.3356166666666667,14.578483333333333,2.0409353333333335,5.2794483333333337,2.6876053333333334,6.3331159999999995,7.5465456666666668,8.3548410000000004,6.37967]
[null,239.88329200000001,4.1007400000000001,3.6596310000000001,3.8642789999999998,null,null,239.88329200000001,3.259671,3.141311,3.3785229999999999,null,null,239.88329200000001,6.1424729999999998,5.821415,6.3170590000000004,null,null,null,239.88329200000001,9.8855199999999996,9.7827420000000007,9.6182820000000007,null,null,239.88329200000001,6.9040679999999996,6.5797410000000003,7.0854520000000001,null,null,239.88329200000001,1.0952459999999999,1.1338360000000001,1.130342,null,null,239.88329200000001,2.3059660000000002,2.415832,2.6807889999999999,null,null,239.88329200000001,3.207538,2.0821480000000001,2.3679410000000001,null,null,239.88329200000001,13.888756000000001,14.39181,14.464183999999999,null,null,239.88329200000001,3.062602,1.6225020000000001,3.0041790000000002,null,null,239.88329200000001,5.376239,6.1749640000000001,6.4804440000000003,null,null,239.88329200000001,4.301221,2.934294,2.850365,null,null,239.88329200000001,7.8717769999999998,6.6930579999999997,7.0894269999999997,null,null,239.88329200000001,8.4292429999999996,7.7678479999999999,8.0992759999999997,null,null,239.88329200000001,8.2690439999999992,9.2787159999999993,9.7623189999999997,null,null,239.88329200000001,7.2057359999999999,7.0719320000000003,7.322184,null,null,null,null,239.88329200000001,3.874883333333333,3.2598350000000003,6.0936490000000001,9.7621813333333325,6.8564203333333333,1.1198079999999999,2.4675289999999999,2.5525423333333332,14.248249999999999,2.5630943333333334,6.0105490000000001,3.3619599999999998,7.2180873333333331,8.098789,9.1033596666666643,7.1999506666666662]
[null,275.42286999999999,4.0922039999999997,3.9160789999999999,3.9037039999999998,null,null,275.42286999999999,2.9074260000000001,2.8598080000000001,3.3024079999999998,null,null,275.42286999999999,4.8738549999999998,4.7429240000000004,5.345434,null,null,null,275.42286999999999,10.58582,10.550563,10.32995,null,null,275.42286999999999,7.8987350000000003,7.4134279999999997,8.1822569999999999,null,null,275.42286999999999,1.282359,1.574589,1.475624,null,null,275.42286999999999,2.6329570000000002,2.8259669999999999,3.2300970000000002,null,null,275.42286999999999,3.3473510000000002,2.3411740000000001,2.8198370000000001,null,null,275.42286999999999,11.746717,12.63322,12.495259000000001,null,null,275.42286999999999,3.6509469999999999,2.2924500000000001,3.6168849999999999,null,null,275.42286999999999,6.069356,6.678871,6.8533390000000001,null,null,275.42286999999999,4.9439409999999997,3.5982129999999999,3.6816270000000002,null,null,275.42286999999999,8.413691,7.1552800000000003,7.7673649999999999,null,null,275.42286999999999,8.5087119999999992,7.9357369999999996,8.1659220000000001,null,null,275.42286999999999,8.4932999999999996,9.4082679999999996,9.8882110000000001,null,null,275.42286999999999,7.7869020000000004,7.4977010000000002,7.8121460000000003,null,null,null,null,275.42286999999999,3.9706623333333328,3.0232139999999998,4.987404333333334,10.488777666666667,7.8314733333333324,1.4441906666666666,2.8963403333333333,2.8361206666666665,12.291732000000001,3.1867606666666668,6.5338553333333325,4.0745936666666669,7.7787786666666676,8.2034570000000002,9.2632596666666647,7.6989163333333339]
[null,316.22776599999997,4.0508459999999999,4.2683410000000004,3.943794,null,null,316.22776599999997,2.5637189999999999,2.6419260000000002,3.2976450000000002,null,null,316.22776599999997,3.4915379999999998,3.555145,4.2579669999999998,null,null,null,316.22776599999997,10.542676,10.570489999999999,10.334816999999999,null,null,316.22776599999997,8.5460820000000002,7.9185340000000002,8.9020089999999996,null,null,316.22776599999997,1.6255170000000001,2.2455820000000002,2.0072939999999999,null,null,316.22776599999997,3.0466920000000002,3.3336489999999999,3.9064860000000001,null,null,316.22776599999997,3.5681820000000002,2.779541,3.447921,null,null,316.22776599999997,8.7249429999999997,9.7961790000000004,9.4207979999999996,null,null,316.22776599999997,4.2977379999999998,3.1594470000000001,4.31236,null,null,316.22776599999997,6.6403939999999997,6.9405919999999997,6.9027729999999998,null,null,316.22776599999997,5.5064900000000003,4.3126860000000002,4.5741480000000001,null,null,316.22776599999997,8.5394450000000006,7.2768379999999997,8.0840479999999992,null,null,316.22776599999997,8.1419739999999994,7.7108369999999997,7.8576860000000002,null,null,316.22776599999997,8.2488530000000004,8.9667410000000007,9.3567219999999995,null,null,316.22776599999997,8.0640739999999997,7.56081,7.9515010000000004,null,null,null,null,316.22776599999997,4.087660333333333,2.8344299999999998,3.7682166666666661,10.482661,8.455541666666667,1.9594643333333333,3.4289423333333331,3.2652146666666666,9.3139733333333314,3.9231816666666668,6.8279196666666664,4.7977746666666663,7.9667770000000004,7.9034990000000001,8.8574386666666669,7.8587950000000006]
[null,363.07805500000001,4.0619480000000001,4.760103,4.069807,null,null,363.07805500000001,2.352373,2.6050439999999999,3.4495749999999998,null,null,363.07805500000001,2.3284579999999999,2.5435120000000002,3.2944439999999999,null,null,null,363.07805500000001,9.7931690000000007,9.8707159999999998,9.6731619999999996,null,null,363.07805500000001,8.8112469999999998,8.090954,9.1885630000000003,null,null,363.07805500000001,2.2115619999999998,3.1891820000000002,2.7866710000000001,null,null,363.07805500000001,3.6048040000000001,3.9864730000000002,4.7326889999999997,null,null,363.07805500000001,3.9650759999999998,3.4771999999999998,4.2962340000000001,null,null,363.07805500000001,5.53674,6.5632469999999996,6.0102270000000004,null,null,363.07805500000001,5.0361549999999999,4.2409270000000001,5.1220420000000004,null,null,363.07805500000001,7.0885179999999997,7.000597,6.6846500000000004,null,null,363.07805500000001,6.011056,5.0885670000000003,5.5063500000000003,null,null,363.07805500000001,8.2890739999999994,7.1027779999999998,8.0505370000000003,null,null,363.07805500000001,7.4422600000000001,7.188008,7.2818139999999998,null,null,363.07805500000001,7.6448960000000001,8.0743039999999997,8.3154950000000003,null,null,363.07805500000001,8.0722470000000008,7.3242409999999998,7.7976190000000001,null,null,null,null,363.07805500000001,4.2972859999999997,2.8023306666666663,2.7221379999999997,9.7790156666666661,8.6969213333333339,2.7291383333333332,4.1079886666666665,3.9128366666666667,6.0367379999999997,4.7997079999999999,6.9245883333333333,5.5353243333333344,7.8141296666666662,7.3040273333333339,8.0115649999999992,7.7313690000000008]
[null,416.86938300000003,4.1940790000000003,5.3651999999999997,4.3388030000000004,null,null,416.86938300000003,2.3904109999999998,2.836786,3.799499,null,null,416.86938300000003,1.6227780000000001,1.941732,2.6695289999999998,null,null,null,416.86938300000003,8.5105269999999997,8.6183460000000007,8.5115040000000004,null,null,416.86938300000003,8.6878130000000002,7.9578410000000002,9.0230329999999999,null,null,416.86938300000003,3.0827749999999998,4.3648160000000003,3.8139859999999999,null,null,416.86938300000003,4.3229240000000004,4.7819289999999999,5.6590959999999999,null,null,416.86938300000003,4.5733199999999998,4.4354329999999997,5.3195610000000002,null,null,416.86938300000003,2.8532980000000001,3.7415560000000001,3.1384780000000001,null,null,416.86938300000003,5.8464,5.470561,6.0112059999999996,null,null,416.86938300000003,7.3810260000000003,6.9065149999999997,6.2906139999999997,null,null,416.86938300000003,6.4558410000000004,5.8872549999999997,6.4037360000000003,null,null,416.86938300000003,7.7461260000000003,6.7202310000000001,7.714467,null,null,416.86938300000003,6.5726060000000004,6.500769,6.5755929999999996,null,null,416.86938300000003,6.8475039999999998,6.9322150000000002,7.0089160000000001,null,null,416.86938300000003,7.8524149999999997,6.8874709999999997,7.4315230000000003,null,null,null,null,416.86938300000003,4.6326939999999999,3.0088986666666671,2.0780129999999999,8.5467923333333342,8.5562290000000001,3.7538589999999998,4.9213163333333334,4.776104666666666,3.2444440000000001,5.7760556666666671,6.8593850000000005,6.2489439999999989,7.3936080000000004,6.5496559999999997,6.9295450000000001,7.3904696666666654]
[null,478.63009199999999,4.4780139999999999,6.0131230000000002,4.7649470000000003,null,null,478.63009199999999,2.7460529999999999,3.366495,4.3396499999999998,null,null,478.63009199999999,1.4257599999999999,1.832444,2.4688050000000001,null,null,null,478.63009199999999,6.9154669999999996,7.0352139999999999,7.0588769999999998,null,null,478.63009199999999,8.2148889999999994,7.5788869999999999,8.4476479999999992,null,null,478.63009199999999,4.2543449999999998,5.7052440000000004,5.066338,null,null,478.63009199999999,5.1997020000000003,5.7000999999999999,6.6174780000000002,null,null,478.63009199999999,5.3759769999999998,5.6087150000000001,6.4380110000000004,null,null,478.63009199999999,0.89608100000000002,1.5400769999999999,0.88018600000000002,null,null,478.63009199999999,6.6961380000000004,6.7701760000000002,6.9262680000000003,null,null,478.63009199999999,7.4835960000000004,6.7004190000000001,5.813739,null,null,478.63009199999999,6.8402830000000003,6.673197,7.2112579999999999,null,null,478.63009199999999,6.9979519999999997,6.226864,7.1456229999999996,null,null,478.63009199999999,5.6610469999999999,5.7554850000000002,5.8339400000000001,null,null,478.63009199999999,5.9961919999999997,5.7148289999999999,5.646795,null,null,478.63009199999999,7.4374529999999996,6.3456520000000003,6.9236959999999996,null,null,null,null,478.63009199999999,5.0853613333333341,3.4840659999999999,1.9090030000000002,7.0031859999999995,8.0804746666666656,5.0086423333333334,5.8390933333333335,5.8075676666666665,1.105448,6.7975273333333339,6.6659180000000005,6.908246000000001,6.7901463333333334,5.750157333333334,5.7859386666666666,6.9022669999999993]
[null,549.54087400000003,4.8848929999999999,6.5663640000000001,5.2908160000000004,null,null,549.54087400000003,3.4166300000000001,4.139964,4.9939239999999998,null,null,549.54087400000003,1.740942,2.2243369999999998,2.685524,null,null,null,549.54087400000003,5.2899779999999996,5.3977779999999997,5.5559469999999997,null,null,549.54087400000003,7.464162,7.0248010000000001,7.5545179999999998,null,null,549.54087400000003,5.6435709999999997,7.0512170000000003,6.4271719999999997,null,null,549.54087400000003,6.1646020000000004,6.6496420000000001,7.4747469999999998,null,null,549.54087400000003,6.2673740000000002,6.8501440000000002,7.4922230000000001,null,null,549.54087400000003,0.123185,0.19376199999999999,1.0298E-2,null,null,549.54087400000003,7.4859710000000002,7.9830420000000002,7.7440110000000004,null,null,549.54087400000003,7.3478209999999997,6.4058130000000002,5.3455250000000003,null,null,549.54087400000003,7.1275300000000001,7.3669539999999998,7.8447209999999998,null,null,549.54087400000003,6.1354680000000004,5.7198760000000002,6.4302000000000001,null,null,549.54087400000003,4.8183949999999998,5.0457419999999997,5.1270870000000004,null,null,549.54087400000003,5.2073039999999997,4.5867380000000004,4.4203789999999996,null,null,549.54087400000003,6.8528909999999996,5.7849349999999999,6.3313030000000001,null,null,null,null,549.54087400000003,5.5806910000000007,4.1835060000000004,2.2169343333333331,5.4145676666666667,7.3478269999999997,6.3739866666666662,6.7629969999999995,6.8699136666666663,0.10908166666666665,7.7376746666666669,6.3663863333333337,7.4464016666666666,6.0951813333333336,4.9970746666666663,4.7381403333333338,6.3230430000000011]
[null,630.95734400000003,5.3393829999999998,6.8836789999999999,5.8119300000000003,null,null,630.95734400000003,4.3340680000000003,5.0459009999999997,5.65768,null,null,630.95734400000003,2.5574189999999999,3.0659890000000001,3.2182119999999999,null,null,null,630.95734400000003,3.8035899999999998,3.896042,4.063555,null,null,630.95734400000003,6.5077049999999996,6.3433929999999998,6.4408320000000003,null,null,630.95734400000003,7.1221189999999996,8.2373980000000007,7.7520049999999996,null,null,630.95734400000003,7.1230779999999996,7.5201010000000004,8.1036450000000002,null,null,630.95734400000003,7.1103969999999999,7.9891079999999999,8.3292540000000006,null,null,630.95734400000003,3.8986E-2,0,0,null,null,630.95734400000003,8.1012299999999993,8.9587310000000002,8.3372770000000003,null,null,630.95734400000003,6.9358110000000002,6.016286,4.9389710000000004,null,null,630.95734400000003,7.2669439999999996,7.8947310000000002,8.241752,null,null,630.95734400000003,5.2083360000000001,5.25075,5.6311249999999999,null,null,630.95734400000003,4.0821699999999996,4.4100770000000002,4.4632810000000003,null,null,630.95734400000003,4.5154500000000004,3.619904,3.4089480000000001,null,null,630.95734400000003,6.1058180000000002,5.2435539999999996,5.6709240000000003,null,null,null,null,630.95734400000003,6.0116639999999997,5.0125496666666658,2.9472066666666663,3.921062333333333,6.4306433333333333,7.7038406666666672,7.5822746666666667,7.8095863333333329,1.2995333333333333E-2,8.4657460000000011,5.9636893333333338,7.8011423333333338,5.3634036666666667,4.3185093333333331,3.8481006666666668,5.6734319999999991]
[null,724.43596000000002,5.7245309999999998,6.8462490000000003,6.185886,null,null,724.43596000000002,5.3516380000000003,5.914828,6.2028489999999996,null,null,724.43596000000002,3.7862809999999998,4.2113829999999997,3.8988390000000002,null,null,null,724.43596000000002,2.5042849999999999,2.6747399999999999,2.8423530000000001,null,null,724.43596000000002,5.4335529999999999,5.571091,5.2288379999999997,null,null,724.43596000000002,8.4860500000000005,9.0803940000000001,8.844538,null,null,724.43596000000002,7.9378330000000004,8.1702829999999995,8.3838509999999999,null,null,724.43596000000002,7.7417429999999996,8.8273860000000006,8.8035700000000006,null,null,724.43596000000002,0,0,0,null,null,724.43596000000002,8.4100610000000007,9.5417869999999994,8.5797290000000004,null,null,724.43596000000002,6.2464519999999997,5.517252,4.616466,null,null,724.43596000000002,7.1957740000000001,8.1766749999999995,8.3465439999999997,null,null,724.43596000000002,4.2485929999999996,4.8324319999999998,4.8048330000000004,null,null,724.43596000000002,3.45539,3.8647360000000002,3.8324950000000002,null,null,724.43596000000002,3.9112610000000001,2.836598,2.63001,null,null,724.43596000000002,5.2189310000000004,4.7321119999999999,4.9509369999999997,null,null,null,null,724.43596000000002,6.2522219999999997,5.8231050000000009,3.9655009999999997,2.673792666666666,5.4111606666666665,8.8036606666666675,8.1639889999999991,8.4575663333333342,0,8.8438590000000001,5.4600566666666666,7.9063309999999989,4.6286193333333339,3.7175403333333334,3.1259563333333333,4.9673266666666667]
[null,831.76377100000002,5.9232480000000001,6.4115419999999999,6.2873650000000003,null,null,831.76377100000002,6.286626,6.5772870000000001,6.5223829999999996,null,null,831.76377100000002,5.2051160000000003,5.4147400000000001,4.5426200000000003,null,null,null,831.76377100000002,1.603747,1.725557,2.0664220000000002,null,null,831.76377100000002,4.3136570000000001,4.7250509999999997,4.013922,null,null,831.76377100000002,9.5282309999999999,9.4508100000000006,9.528772,null,null,831.76377100000002,8.4770599999999998,8.4818750000000005,8.2513579999999997,null,null,831.76377100000002,8.0321079999999991,9.2141479999999998,8.8333659999999998,null,null,831.76377100000002,6.0489999999999997E-3,0,0,null,null,831.76377100000002,8.3187540000000002,9.6349610000000006,8.4006249999999998,null,null,831.76377100000002,5.3194150000000002,4.8939399999999997,4.3577360000000001,null,null,831.76377100000002,6.8664699999999996,8.1580899999999996,8.1325649999999996,null,null,831.76377100000002,3.2125249999999999,4.4342870000000003,3.98244,null,null,831.76377100000002,2.9053749999999998,3.3982800000000002,3.2127650000000001,null,null,831.76377100000002,3.350374,2.2050299999999998,2.0388190000000002,null,null,831.76377100000002,4.2374780000000003,4.2323750000000002,4.1748500000000002,null,null,null,null,831.76377100000002,6.2073849999999995,6.4620986666666669,5.0541586666666669,1.7985753333333332,4.3508766666666672,9.5026043333333341,8.4034309999999994,8.6932073333333335,2.0163333333333331E-3,8.7847799999999996,4.8570303333333333,7.7190416666666666,3.8764173333333338,3.1721400000000002,2.5314076666666665,4.2149010000000002]
[null,954.99258599999996,5.8470399999999998,5.6258030000000003,6.0413449999999997,null,null,954.99258599999996,6.9431919999999998,6.8922879999999997,6.5414849999999998,null,null,954.99258599999996,6.467886,6.36775,4.9830649999999999,null,null,null,954.99258599999996,1.2426649999999999,1.0346630000000001,1.4427220000000001,null,null,954.99258599999996,3.231665,3.834533,2.8192849999999998,null,null,954.99258599999996,10.062412,9.2868150000000007,9.6733569999999993,null,null,954.99258599999996,8.627732,8.3765739999999997,7.7069720000000004,null,null,954.99258599999996,7.9043729999999996,9.0682430000000007,8.4046120000000002,null,null,954.99258599999996,7.4580999999999995E-2,0,0,null,null,954.99258599999996,7.7978459999999998,9.2116120000000006,7.8010479999999998,null,null,954.99258599999996,4.2546439999999999,4.1639059999999999,4.1122990000000001,null,null,954.99258599999996,6.2672699999999999,7.8126100000000003,7.6033949999999999,null,null,954.99258599999996,2.204307,4.0101800000000001,3.1901359999999999,null,null,954.99258599999996,2.4006370000000001,2.9896639999999999,2.600419,null,null,954.99258599999996,2.7963770000000001,1.68241,1.5780810000000001,null,null,954.99258599999996,3.2384270000000002,3.7219950000000002,3.3682249999999998,null,null,null,null,954.99258599999996,5.8380626666666666,6.7923216666666661,5.9395670000000003,1.2400166666666665,3.2951610000000002,9.6741946666666667,8.2370926666666673,8.4590760000000014,2.4860333333333332E-2,8.2701686666666685,4.1769496666666663,7.2277583333333331,3.1348743333333338,2.6635733333333333,2.0189560000000002,3.4428823333333334]
[null,1096.478196,5.4641739999999999,4.6206009999999997,5.4589549999999996,null,null,1096.478196,7.1579280000000001,6.781345,6.2308050000000001,null,null,1096.478196,7.2029079999999999,6.7953250000000001,5.1038059999999996,null,null,null,1096.478196,0.91946399999999995,0.67706999999999995,0.91388899999999995,null,null,1096.478196,2.207071,2.9469820000000002,1.728361,null,null,1096.478196,9.9683919999999997,8.6114230000000003,9.2298740000000006,null,null,1096.478196,8.3233060000000005,7.8387869999999999,6.8208229999999999,null,null,1096.478196,7.3523649999999998,8.4018390000000007,7.5728799999999996,null,null,1096.478196,0.171541,0,0,null,null,1096.478196,6.9022129999999997,8.3278619999999997,6.8583879999999997,null,null,1096.478196,3.1233249999999999,3.3668309999999999,3.8163670000000001,null,null,1096.478196,5.4419820000000003,7.1526540000000001,6.7979719999999997,null,null,1096.478196,1.50868,3.525264,2.4389880000000002,null,null,1096.478196,1.9228940000000001,2.6135630000000001,2.0132469999999998,null,null,1096.478196,2.2424189999999999,1.2417149999999999,1.203738,null,null,1096.478196,2.280646,3.189349,2.5795240000000002,null,null,null,null,1096.478196,5.1812433333333336,6.7233593333333337,6.3673463333333329,0.83680766666666662,2.2941380000000002,9.2698963333333335,7.6609720000000001,7.7756946666666664,5.7180333333333333E-2,7.3628209999999994,3.4355076666666666,6.4642026666666679,2.4909773333333334,2.1832346666666669,1.5626240000000002,2.683173]
[null,1258.9254120000001,4.7936100000000001,3.5480770000000001,4.6100329999999996,null,null,1258.9254120000001,6.8316509999999999,6.2277760000000004,5.59239,null,null,1258.9254120000001,7.135027,6.5386490000000004,4.8454740000000003,null,null,null,1258.9254120000001,0.61884700000000004,0.40601500000000001,0.44336999999999999,null,null,1258.9254120000001,1.1755340000000001,2.0859260000000002,1.000075,null,null,1258.9254120000001,9.2034590000000005,7.4998120000000004,8.2271490000000007,null,null,1258.9254120000001,7.5441989999999999,6.9009539999999996,5.6921030000000004,null,null,1258.9254120000001,6.4224880000000004,7.2937729999999998,6.4272900000000002,null,null,1258.9254120000001,0.22353899999999999,0,0,null,null,1258.9254120000001,5.7379129999999998,7.085534,5.6835009999999997,null,null,1258.9254120000001,1.9414309999999999,2.4948440000000001,3.4072529999999999,null,null,1258.9254120000001,4.4645520000000003,6.2081710000000001,5.7680809999999996,null,null,1258.9254120000001,0.94601900000000005,2.9643739999999998,1.6807939999999999,null,null,1258.9254120000001,1.4537850000000001,2.2363369999999998,1.4537800000000001,null,null,1258.9254120000001,1.7008620000000001,0.87028399999999995,0.88911099999999998,null,null,1258.9254120000001,1.3135479999999999,2.6295959999999998,1.808222,null,null,null,null,1258.9254120000001,4.31724,6.2172723333333337,6.1730499999999999,0.48941066666666672,1.4205116666666668,8.3101400000000005,6.7124186666666672,6.7145169999999998,7.4512999999999996E-2,6.1689826666666674,2.6145093333333334,5.4802679999999997,1.863729,1.714634,1.1534190000000002,1.917122]
[null,1445.4397710000001,3.8961510000000001,2.43174,3.5358100000000001,null,null,1445.4397710000001,5.9448660000000002,5.2671099999999997,4.6492399999999998,null,null,1445.4397710000001,6.1721890000000004,5.5889720000000001,4.1998239999999996,null,null,null,1445.4397710000001,0.50050799999999995,0.23175899999999999,7.2329999999999998E-3,null,null,1445.4397710000001,0.47740899999999997,1.265452,0.491784,null,null,1445.4397710000001,7.8068030000000004,6.0445380000000002,6.765218,null,null,1445.4397710000001,6.3240759999999998,5.638979,4.419111,null,null,1445.4397710000001,5.2047999999999996,5.8703149999999997,5.0822269999999996,null,null,1445.4397710000001,0.22384699999999999,4.6057000000000001E-2,0,null,null,1445.4397710000001,4.441046,5.6160759999999996,4.4018759999999997,null,null,1445.4397710000001,1.1901219999999999,1.6433610000000001,2.847153,null,null,1445.4397710000001,3.3953869999999999,5.0100360000000004,4.582389,null,null,1445.4397710000001,0.42481600000000003,2.341745,0.938967,null,null,1445.4397710000001,0.99357399999999996,1.8268450000000001,0.91160399999999997,null,null,1445.4397710000001,1.1819850000000001,0.53535100000000002,0.62649900000000003,null,null,1445.4397710000001,0.32713999999999999,2.0518139999999998,1.0350509999999999,null,null,null,null,1445.4397710000001,3.2879003333333334,5.2870719999999993,5.3203283333333333,0.24650000000000002,0.74488166666666666,6.8721863333333344,5.4607220000000005,5.3857806666666663,8.9967999999999992E-2,4.8196659999999998,1.8935453333333332,4.3292706666666669,1.2351759999999998,1.2440076666666668,0.7812783333333333,1.1380016666666666]
[null,1659.5869070000001,2.85819,1.2321120000000001,2.4011170000000002,null,null,1659.5869070000001,4.5988300000000004,3.9956909999999999,3.462872,null,null,1659.5869070000001,4.4937300000000002,4.1158520000000003,3.2317650000000002,null,null,null,1659.5869070000001,0.378106,7.6719999999999997E-2,0,null,null,1659.5869070000001,1.49E-2,0.44400499999999998,0.14135400000000001,null,null,1659.5869070000001,5.9252149999999997,4.3399159999999997,5.0051069999999998,null,null,1659.5869070000001,4.7670190000000003,4.1653359999999999,3.073229,null,null,1659.5869070000001,3.8144480000000001,4.2738829999999997,3.650401,null,null,1659.5869070000001,0.185387,7.0201E-2,0,null,null,1659.5869070000001,3.1311300000000002,4.0454340000000002,3.0804710000000002,null,null,1659.5869070000001,0.79813999999999996,0.99903399999999998,2.141194,null,null,1659.5869070000001,2.272052,3.6162290000000001,3.2966799999999998,null,null,1659.5869070000001,1.3467E-2,1.6780539999999999,0.40069500000000002,null,null,1659.5869070000001,0.49349300000000001,1.367389,0.42542000000000002,null,null,1659.5869070000001,0.66021200000000002,0.230125,0.39995199999999997,null,null,1659.5869070000001,0,1.4683600000000001,0.56137800000000004,null,null,null,null,1659.5869070000001,2.1638063333333335,4.0191310000000007,3.9471156666666665,0.15160866666666667,0.20008633333333334,5.0900793333333327,4.0018613333333333,3.9129106666666669,8.5195999999999994E-2,3.4190116666666674,1.3127893333333334,3.0616536666666665,0.69740533333333321,0.76210066666666665,0.43009633333333336,0.67657933333333331]
[null,1905.460718,1.6055550000000001,0.52835799999999999,1.3209949999999999,null,null,1905.460718,2.6619190000000001,2.2964570000000002,1.911451,null,null,1905.460718,2.257209,2.1767590000000001,1.8548100000000001,null,null,null,1905.460718,0.20012199999999999,3.4012000000000001E-2,0,null,null,1905.460718,0,0.14439099999999999,6.2840999999999994E-2,null,null,1905.460718,3.4019309999999998,2.2262330000000001,2.819553,null,null,1905.460718,2.72879,2.3440310000000002,1.5304949999999999,null,null,1905.460718,2.1418249999999999,2.390768,1.999271,null,null,1905.460718,0.100106,5.151E-2,0,null,null,1905.460718,1.6958139999999999,2.249822,1.5824199999999999,null,null,1905.460718,0.40152100000000002,0.460706,1.2048730000000001,null,null,1905.460718,1.0517110000000001,1.8841939999999999,1.782877,null,null,1905.460718,0,0.90494799999999997,2.4603E-2,null,null,1905.460718,0.22655,0.78314399999999995,0.12171899999999999,null,null,1905.460718,0.27373700000000001,4.4713000000000003E-2,0.155949,null,null,1905.460718,0,0.81496000000000002,0.29542499999999999,null,null,null,null,1905.460718,1.1516360000000001,2.2899423333333337,2.0962593333333337,7.8044666666666665E-2,6.9077333333333324E-2,2.8159056666666671,2.2011053333333335,2.1772880000000003,5.0538666666666669E-2,1.8426853333333331,0.68903333333333328,1.5729273333333333,0.30985033333333334,0.37713766666666659,0.158133,0.37012833333333334]
[null,2187.7616240000002,0.37896299999999999,0.124053,0.31881300000000001,null,null,2187.7616240000002,0.63639699999999999,0.54893000000000003,0.43729800000000002,null,null,2187.7616240000002,0.460339,0.47535699999999997,0.439973,null,null,null,2187.7616240000002,5.4984999999999999E-2,6.0590000000000001E-3,0,null,null,2187.7616240000002,0,3.7615000000000003E-2,1.3266E-2,null,null,2187.7616240000002,0.81226799999999999,0.46758699999999997,0.66517599999999999,null,null,2187.7616240000002,0.65087799999999996,0.55218800000000001,0.31284000000000001,null,null,2187.7616240000002,0.50530600000000003,0.56328500000000004,0.46081699999999998,null,null,2187.7616240000002,2.7470999999999999E-2,1.3738999999999999E-2,0,null,null,2187.7616240000002,0.38884400000000002,0.52867799999999998,0.337918,null,null,2187.7616240000002,7.9939999999999997E-2,8.9521000000000003E-2,0.281335,null,null,2187.7616240000002,0.19572999999999999,0.40384599999999998,0.403783,null,null,2187.7616240000002,0,0.20455899999999999,0,null,null,2187.7616240000002,5.9644000000000003E-2,0.187087,2.6497E-2,null,null,2187.7616240000002,5.2309000000000001E-2,6.5519999999999997E-3,3.8085000000000001E-2,null,null,2187.7616240000002,0,0.19140699999999999,7.2958999999999996E-2,null,null,null,null,2187.7616240000002,0.27394299999999999,0.54087499999999999,0.45855633333333334,2.0348000000000002E-2,1.6960333333333334E-2,0.64834366666666665,0.50530200000000003,0.50980266666666674,1.3736666666666666E-2,0.41847999999999996,0.15026533333333333,0.33445300000000006,6.8186333333333335E-2,9.1076000000000004E-2,3.2315333333333335E-2,8.8121999999999992E-2]
[null,2511.8864319999998,0,0,0,null,null,2511.8864319999998,0,0,0,null,null,2511.8864319999998,0,0,0,null,null,null,2511.8864319999998,0,0,0,null,null,2511.8864319999998,0,0,0,null,null,2511.8864319999998,0,0,0,null,null,2511.8864319999998,0,0,0,null,null,2511.8864319999998,0,0,0,null,null,2511.8864319999998,0,0,0,null,null,2511.8864319999998,0,0,0,null,null,2511.8864319999998,0,0,0,null,null,2511.8864319999998,0,0,0,null,null,2511.8864319999998,0,0,0,null,null,2511.8864319999998,0,0,0,null,null,2511.8864319999998,0,0,0,null,null,2511.8864319999998,0,0,0,null,null,null,null,2511.8864319999998,0,0,0,0,0,0,0,0,0,0,0,0,0,0,0,0]
[null,2884.0315030000002,0,0,0,null,null,2884.0315030000002,0,0,0,null,null,2884.0315030000002,0,0,0,null,null,null,2884.0315030000002,0,0,0,null,null,2884.0315030000002,0,0,0,null,null,2884.0315030000002,0,0,0,null,null,2884.0315030000002,0,0,0,null,null,2884.0315030000002,0,0,0,null,null,2884.0315030000002,0,0,0,null,null,2884.0315030000002,0,0,0,null,null,2884.0315030000002,0,0,0,null,null,2884.0315030000002,0,0,0,null,null,2884.0315030000002,0,0,0,null,null,2884.0315030000002,0,0,0,null,null,2884.0315030000002,0,0,0,null,null,2884.0315030000002,0,0,0,null,null,null,null,2884.0315030000002,0,0,0,0,0,0,0,0,0,0,0,0,0,0,0,0]
[null,3311.3112150000002,0,0,0,null,null,3311.3112150000002,0,0,0,null,null,3311.3112150000002,0,0,0,null,null,null,3311.3112150000002,0,0,0,null,null,3311.3112150000002,0,0,0,null,null,3311.3112150000002,0,0,0,null,null,3311.3112150000002,0,0,0,null,null,3311.3112150000002,0,0,0,null,null,3311.3112150000002,0,0,0,null,null,3311.3112150000002,0,0,0,null,null,3311.3112150000002,0,0,0,null,null,3311.3112150000002,0,0,0,null,null,3311.3112150000002,0,0,0,null,null,3311.3112150000002,0,0,0,null,null,3311.3112150000002,0,0,0,null,null,3311.3112150000002,0,0,0,null,null,null,null,3311.3112150000002,0,0,0,0,0,0,0,0,0,0,0,0,0,0,0,0]
[null,3801.893963,0,0,0,null,null,3801.893963,0,0,0,null,null,3801.893963,0,0,0,null,null,null,3801.893963,0,0,0,null,null,3801.893963,0,0,0,null,null,3801.893963,0,0,0,null,null,3801.893963,0,0,0,null,null,3801.893963,0,0,0,null,null,3801.893963,0,0,0,null,null,3801.893963,0,0,0,null,null,3801.893963,0,0,0,null,null,3801.893963,0,0,0,null,null,3801.893963,0,0,0,null,null,3801.893963,0,0,0,null,null,3801.893963,0,0,0,null,null,3801.893963,0,0,0,null,null,null,null,3801.893963,0,0,0,0,0,0,0,0,0,0,0,0,0,0,0,0]
[null,4365.1583220000002,0,0,0,null,null,4365.1583220000002,0,0,0,null,null,4365.1583220000002,0,0,0,null,null,null,4365.1583220000002,0,0,0,null,null,4365.1583220000002,0,0,0,null,null,4365.1583220000002,0,0,0,null,null,4365.1583220000002,0,0,0,null,null,4365.1583220000002,0,0,0,null,null,4365.1583220000002,0,0,0,null,null,4365.1583220000002,0,0,0,null,null,4365.1583220000002,0,0,0,null,null,4365.1583220000002,0,0,0,null,null,4365.1583220000002,0,0,0,null,null,4365.1583220000002,0,0,0,null,null,4365.1583220000002,0,0,0,null,null,4365.1583220000002,0,0,0,null,null,null,null,4365.1583220000002,0,0,0,0,0,0,0,0,0,0,0,0,0,0,0,0]
[null,5011.8723360000004,0,0,0,null,null,5011.8723360000004,0,0,0,null,null,5011.8723360000004,0,0,0,null,null,null,5011.8723360000004,0,0,0,null,null,5011.8723360000004,0,0,0,null,null,5011.8723360000004,0,0,0,null,null,5011.8723360000004,0,0,0,null,null,5011.8723360000004,0,0,0,null,null,5011.8723360000004,0,0,0,null,null,5011.8723360000004,0,0,0,null,null,5011.8723360000004,0,0,0,null,null,5011.8723360000004,0,0,0,null,null,5011.8723360000004,0,0,0,null,null,5011.8723360000004,0,0,0,null,null,5011.8723360000004,0,0,0,null,null,5011.8723360000004,0,0,0,null,null,null,null,5011.8723360000004,0,0,0,0,0,0,0,0,0,0,0,0,0,0,0,0]
[null,5754.3993730000002,0,0,0,null,null,5754.3993730000002,0,0,0,null,null,5754.3993730000002,0,0,0,null,null,null,5754.3993730000002,0,0,0,null,null,5754.3993730000002,0,0,0,null,null,5754.3993730000002,0,0,0,null,null,5754.3993730000002,0,0,0,null,null,5754.3993730000002,0,0,0,null,null,5754.3993730000002,0,0,0,null,null,5754.3993730000002,0,0,0,null,null,5754.3993730000002,0,0,0,null,null,5754.3993730000002,0,0,0,null,null,5754.3993730000002,0,0,0,null,null,5754.3993730000002,0,0,0,null,null,5754.3993730000002,0,0,0,null,null,5754.3993730000002,0,0,0,null,null,null,null,5754.3993730000002,0,0,0,0,0,0,0,0,0,0,0,0,0,0,0,0]
[null,6606.9344799999999,0,0,0,null,null,6606.9344799999999,0,0,0,null,null,6606.9344799999999,0,0,0,null,null,null,6606.9344799999999,0,0,0,null,null,6606.9344799999999,0,0,0,null,null,6606.9344799999999,0,0,0,null,null,6606.9344799999999,0,0,0,null,null,6606.9344799999999,0,0,0,null,null,6606.9344799999999,0,0,0,null,null,6606.9344799999999,0,0,0,null,null,6606.9344799999999,0,0,0,null,null,6606.9344799999999,0,0,0,null,null,6606.9344799999999,0,0,0,null,null,6606.9344799999999,0,0,0,null,null,6606.9344799999999,0,0,0,null,null,6606.9344799999999,0,0,0,null,null,null,null,6606.9344799999999,0,0,0,0,0,0,0,0,0,0,0,0,0,0,0,0]
[null,7585.7757499999998,0,0,0,null,null,7585.7757499999998,0,0,0,null,null,7585.7757499999998,0,0,0,null,null,null,7585.7757499999998,0,0,0,null,null,7585.7757499999998,0,0,0,null,null,7585.7757499999998,0,0,0,null,null,7585.7757499999998,0,0,0,null,null,7585.7757499999998,0,0,0,null,null,7585.7757499999998,0,0,0,null,null,7585.7757499999998,0,0,0,null,null,7585.7757499999998,0,0,0,null,null,7585.7757499999998,0,0,0,null,null,7585.7757499999998,0,0,0,null,null,7585.7757499999998,0,0,0,null,null,7585.7757499999998,0,0,0,null,null,7585.7757499999998,0,0,0,null,null,null,null,7585.7757499999998,0,0,0,0,0,0,0,0,0,0,0,0,0,0,0,0]
[null,8709.6358999999993,0,0,0,null,null,8709.6358999999993,0,0,0,null,null,8709.6358999999993,0,0,0,null,null,null,8709.6358999999993,0,0,0,null,null,8709.6358999999993,0,0,0,null,null,8709.6358999999993,0,0,0,null,null,8709.6358999999993,0,0,0,null,null,8709.6358999999993,0,0,0,null,null,8709.6358999999993,0,0,0,null,null,8709.6358999999993,0,0,0,null,null,8709.6358999999993,0,0,0,null,null,8709.6358999999993,0,0,0,null,null,8709.6358999999993,0,0,0,null,null,8709.6358999999993,0,0,0,null,null,8709.6358999999993,0,0,0,null,null,8709.6358999999993,0,0,0,null,null,null,null,8709.6358999999993,0,0,0,0,0,0,0,0,0,0,0,0,0,0,0,0]
[null,10000,0,0,0,null,null,10000,0,0,0,null,null,10000,0,0,0,null,null,null,10000,0,0,0,null,null,10000,0,0,0,null,null,10000,0,0,0,null,null,10000,0,0,0,null,null,10000,0,0,0,null,null,10000,0,0,0,null,null,10000,0,0,0,null,null,10000,0,0,0,null,null,10000,0,0,0,null,null,10000,0,0,0,null,null,10000,0,0,0,null,null,10000,0,0,0,null,null,10000,0,0,0,null,null,null,null,10000,0,0,0,0,0,0,0,0,0,0,0,0,0,0,0,0]

{"sheet":"Calculations","index":19,"n_rows":50,"n_cols":12,"rows_kept":50,"cut":false,"hidden":true,"merged":[[0,0,0,1],[16,0,16,1],[26,0,26,1],[35,0,35,1],[0,3,0,4],[16,3,16,4],[26,3,26,4],[35,3,35,4],[0,6,0,7],[16,6,16,7],[26,6,26,7],[35,6,35,7],[0,9,0,10],[16,9,16,10],[26,9,26,10],[35,9,35,10]]}
["Basics",null,null,"Basics",null,null,"Basics",null,null,"Basics"]
[{"$f":"IF('Texture Calculator'!$G$4+1.5*'Texture Calculator'!$E$4<0.15,1,0)","v":1},"((silt + 1.5*clay) < 15)","SAND",{"$f":"IF('Texture Calculator'!$G$5+1.5*'Texture Calculator'!$E$5<0.15,1,0)","v":1},"((silt + 1.5*clay) < 15)","SAND",{"$f":"IF('Texture Calculator'!$G$6+1.5*'Texture Calculator'!$E$6<0.15,1,0)","v":1},"((silt + 1.5*clay) < 15)","SAND",{"$f":"IF('Texture Calculator'!$G$7+1.5*'Texture Calculator'!$E$7<0.15,1,0)","v":1},"((silt + 1.5*clay) < 15)","SAND"]
[{"$f":"IF(AND('Texture Calculator'!$G$4+1.5*'Texture Calculator'!$E$4>=0.15, 'Texture Calculator'!$G$4+2*'Texture Calculator'!$E$4<0.3), 2, 0)","v":0},"((silt + 1.5*clay >= 15) && (silt + 2*clay < 30))","LOAMY SAND",{"$f":"IF(AND('Texture Calculator'!$G$5+1.5*'Texture Calculator'!$E$5>=0.15, 'Texture Calculator'!$G$5+2*'Texture Calculator'!$E$5<0.3), 2, 0)","v":0},"((silt + 1.5*clay >= 15) && (silt + 2*clay < 30))","LOAMY SAND",{"$f":"IF(AND('Texture Calculator'!$G$6+1.5*'Texture Calculator'!$E$6>=0.15, 'Texture Calculator'!$G$6+2*'Texture Calculator'!$E$6<0.3), 2, 0)","v":0},"((silt + 1.5*clay >= 15) && (silt + 2*clay < 30))","LOAMY SAND",{"$f":"IF(AND('Texture Calculator'!$G$7+1.5*'Texture Calculator'!$E$7>=0.15, 'Texture Calculator'!$G$7+2*'Texture Calculator'!$E$7<0.3), 2, 0)","v":0},"((silt + 1.5*clay >= 15) && (silt + 2*clay < 30))","LOAMY SAND"]
[{"$f":"IF(OR(AND('Texture Calculator'!$E$4>=0.07, 'Texture Calculator'!$E$4<0.2,'Texture Calculator'!$C$4>0.52,'Texture Calculator'!$G$4+2*'Texture Calculator'!$E$4>=0.3), AND('Texture Calculator'!$E$4<0.07, 'Texture Calculator'!$G$4<0.5, 'Texture Calculator'!$G$4+2*'Texture Calculator'!$E$4>=0.3)), 3,0)","v":0},"((clay >= 7 && clay < 20) && (sand > 52) && ((silt + 2*clay) >= 30) || (clay < 7 && silt < 50 && (silt+2*clay)>=30))","SANDY LOAM",{"$f":"IF(OR(AND('Texture Calculator'!$E$5>=0.07, 'Texture Calculator'!$E$5<0.2,'Texture Calculator'!$C$5>0.52,'Texture Calculator'!$G$5+2*'Texture Calculator'!$E$5>=0.3), AND('Texture Calculator'!$E$5<0.07, 'Texture Calculator'!$G$5<0.5, 'Texture Calculator'!$G$5+2*'Texture Calculator'!$E$5>=0.3)), 3,0)","v":0},"((clay >= 7 && clay < 20) && (sand > 52) && ((silt + 2*clay) >= 30) || (clay < 7 && silt < 50 && (silt+2*clay)>=30))","SANDY LOAM",{"$f":"IF(OR(AND('Texture Calculator'!$E$6>=0.07, 'Texture Calculator'!$E$6<0.2,'Texture Calculator'!$C$6>0.52,'Texture Calculator'!$G$6+2*'Texture Calculator'!$E$6>=0.3), AND('Texture Calculator'!$E$6<0.07, 'Texture Calculator'!$G$6<0.5, 'Texture Calculator'!$G$6+2*'Texture Calculator'!$E$6>=0.3)), 3,0)","v":0},"((clay >= 7 && clay < 20) && (sand > 52) && ((silt + 2*clay) >= 30) || (clay < 7 && silt < 50 && (silt+2*clay)>=30))","SANDY LOAM",{"$f":"IF(OR(AND('Texture Calculator'!$E$7>=0.07, 'Texture Calculator'!$E$7<0.2,'Texture Calculator'!$C$7>0.52,'Texture Calculator'!$G$7+2*'Texture Calculator'!$E$7>=0.3), AND('Texture Calculator'!$E$7<0.07, 'Texture Calculator'!$G$7<0.5, 'Texture Calculator'!$G$7+2*'Texture Calculator'!$E$7>=0.3)), 3,0)","v":0},"((clay >= 7 && clay < 20) && (sand > 52) && ((silt + 2*clay) >= 30) || (clay < 7 && silt < 50 && (silt+2*clay)>=30))","SANDY LOAM"]
[{"$f":"IF(AND('Texture Calculator'!$E$4>=0.07, 'Texture Calculator'!$E$4<0.27, 'Texture Calculator'!$G$4>=0.28, 'Texture Calculator'!$G$4<0.5, 'Texture Calculator'!$C$4<=0.52), 4, 0)","v":0},"((clay >= 7 && clay < 27) && (silt >= 28 && silt < 50) && (sand <= 52))","LOAM",{"$f":"IF(AND('Texture Calculator'!$E$5>=0.07, 'Texture Calculator'!$E$5<0.27, 'Texture Calculator'!$G$5>=0.28, 'Texture Calculator'!$G$5<0.5, 'Texture Calculator'!$C$5<=0.52), 4, 0)","v":0},"((clay >= 7 && clay < 27) && (silt >= 28 && silt < 50) && (sand <= 52))","LOAM",{"$f":"IF(AND('Texture Calculator'!$E$6>=0.07, 'Texture Calculator'!$E$6<0.27, 'Texture Calculator'!$G$6>=0.28, 'Texture Calculator'!$G$6<0.5, 'Texture Calculator'!$C$6<=0.52), 4, 0)","v":0},"((clay >= 7 && clay < 27) && (silt >= 28 && silt < 50) && (sand <= 52))","LOAM",{"$f":"IF(AND('Texture Calculator'!$E$7>=0.07, 'Texture Calculator'!$E$7<0.27, 'Texture Calculator'!$G$7>=0.28, 'Texture Calculator'!$G$7<0.5, 'Texture Calculator'!$C$7<=0.52), 4, 0)","v":0},"((clay >= 7 && clay < 27) && (silt >= 28 && silt < 50) && (sand <= 52))","LOAM"]
[{"$f":"IF(OR(AND('Texture Calculator'!$G$4>=0.5, 'Texture Calculator'!$E$4>=0.12,'Texture Calculator'!$E$4<0.27), AND('Texture Calculator'!$G$4>=0.5,'Texture Calculator'!$G$4<0.8,'Texture Calculator'!$E$4<0.12)), 5,0)","v":0},"((silt >= 50 && (clay >= 12 && clay < 27)) || ((silt >= 50 && silt < 80) && clay < 12))","SILT LOAM",{"$f":"IF(OR(AND('Texture Calculator'!$G$5>=0.5, 'Texture Calculator'!$E$5>=0.12,'Texture Calculator'!$E$5<0.27), AND('Texture Calculator'!$G$5>=0.5,'Texture Calculator'!$G$5<0.8,'Texture Calculator'!$E$5<0.12)), 5,0)","v":0},"((silt >= 50 && (clay >= 12 && clay < 27)) || ((silt >= 50 && silt < 80) && clay < 12))","SILT LOAM",{"$f":"IF(OR(AND('Texture Calculator'!$G$6>=0.5, 'Texture Calculator'!$E$6>=0.12,'Texture Calculator'!$E$6<0.27), AND('Texture Calculator'!$G$6>=0.5,'Texture Calculator'!$G$6<0.8,'Texture Calculator'!$E$6<0.12)), 5,0)","v":0},"((silt >= 50 && (clay >= 12 && clay < 27)) || ((silt >= 50 && silt < 80) && clay < 12))","SILT LOAM",{"$f":"IF(OR(AND('Texture Calculator'!$G$7>=0.5, 'Texture Calculator'!$E$7>=0.12,'Texture Calculator'!$E$7<0.27), AND('Texture Calculator'!$G$7>=0.5,'Texture Calculator'!$G$7<0.8,'Texture Calculator'!$E$7<0.12)), 5,0)","v":0},"((silt >= 50 && (clay >= 12 && clay < 27)) || ((silt >= 50 && silt < 80) && clay < 12))","SILT LOAM"]
[{"$f":"IF(AND('Texture Calculator'!$G$4>=0.8, 'Texture Calculator'!$E$4<0.12), 6, 0)","v":0},"(silt >= 80 && clay < 12)","SILT",{"$f":"IF(AND('Texture Calculator'!$G$5>=0.8, 'Texture Calculator'!$E$5<0.12), 6, 0)","v":0},"(silt >= 80 && clay < 12)","SILT",{"$f":"IF(AND('Texture Calculator'!$G$6>=0.8, 'Texture Calculator'!$E$6<0.12), 6, 0)","v":0},"(silt >= 80 && clay < 12)","SILT",{"$f":"IF(AND('Texture Calculator'!$G$7>=0.8, 'Texture Calculator'!$E$7<0.12), 6, 0)","v":0},"(silt >= 80 && clay < 12)","SILT"]
[{"$f":"IF(AND('Texture Calculator'!$E$4>=0.2, 'Texture Calculator'!$E$4<0.35, 'Texture Calculator'!$G$4<0.28, 'Texture Calculator'!$C$4>0.45), 7, 0)","v":0},"((clay >= 20 && clay < 35) && (silt < 28) && (sand > 45)) ","SANDY CLAY LOAM",{"$f":"IF(AND('Texture Calculator'!$E$5>=0.2, 'Texture Calculator'!$E$5<0.35, 'Texture Calculator'!$G$5<0.28, 'Texture Calculator'!$C$5>0.45), 7, 0)","v":0},"((clay >= 20 && clay < 35) && (silt < 28) && (sand > 45)) ","SANDY CLAY LOAM",{"$f":"IF(AND('Texture Calculator'!$E$6>=0.2, 'Texture Calculator'!$E$6<0.35, 'Texture Calculator'!$G$6<0.28, 'Texture Calculator'!$C$6>0.45), 7, 0)","v":0},"((clay >= 20 && clay < 35) && (silt < 28) && (sand > 45)) ","SANDY CLAY LOAM",{"$f":"IF(AND('Texture Calculator'!$E$7>=0.2, 'Texture Calculator'!$E$7<0.35, 'Texture Calculator'!$G$7<0.28, 'Texture Calculator'!$C$7>0.45), 7, 0)","v":0},"((clay >= 20 && clay < 35) && (silt < 28) && (sand > 45)) ","SANDY CLAY LOAM"]
[{"$f":"IF(AND('Texture Calculator'!$E$4>=0.27, 'Texture Calculator'!$E$4<0.4, 'Texture Calculator'!$C$4>0.2, 'Texture Calculator'!$C$4<=0.45), 8, 0)","v":0},"((clay >= 27 && clay < 40) && (sand > 20 && sand <= 45))","CLAY LOAM",{"$f":"IF(AND('Texture Calculator'!$E$5>=0.27, 'Texture Calculator'!$E$5<0.4, 'Texture Calculator'!$C$5>0.2, 'Texture Calculator'!$C$5<=0.45), 8, 0)","v":0},"((clay >= 27 && clay < 40) && (sand > 20 && sand <= 45))","CLAY LOAM",{"$f":"IF(AND('Texture Calculator'!$E$6>=0.27, 'Texture Calculator'!$E$6<0.4, 'Texture Calculator'!$C$6>0.2, 'Texture Calculator'!$C$6<=0.45), 8, 0)","v":0},"((clay >= 27 && clay < 40) && (sand > 20 && sand <= 45))","CLAY LOAM",{"$f":"IF(AND('Texture Calculator'!$E$7>=0.27, 'Texture Calculator'!$E$7<0.4, 'Texture Calculator'!$C$7>0.2, 'Texture Calculator'!$C$7<=0.45), 8, 0)","v":0},"((clay >= 27 && clay < 40) && (sand > 20 && sand <= 45))","CLAY LOAM"]
[{"$f":"IF(AND('Texture Calculator'!$E$4>=0.27, 'Texture Calculator'!$E$4<0.4, 'Texture Calculator'!$C$4<=0.2), 9, 0)","v":0},"((clay >= 27 && clay < 40) && (sand  <= 20))","SILTY CLAY LOAM",{"$f":"IF(AND('Texture Calculator'!$E$5>=0.27, 'Texture Calculator'!$E$5<0.4, 'Texture Calculator'!$C$5<=0.2), 9, 0)","v":0},"((clay >= 27 && clay < 40) && (sand  <= 20))","SILTY CLAY LOAM",{"$f":"IF(AND('Texture Calculator'!$E$6>=0.27, 'Texture Calculator'!$E$6<0.4, 'Texture Calculator'!$C$6<=0.2), 9, 0)","v":0},"((clay >= 27 && clay < 40) && (sand  <= 20))","SILTY CLAY LOAM",{"$f":"IF(AND('Texture Calculator'!$E$7>=0.27, 'Texture Calculator'!$E$7<0.4, 'Texture Calculator'!$C$7<=0.2), 9, 0)","v":0},"((clay >= 27 && clay < 40) && (sand  <= 20))","SILTY CLAY LOAM"]
[{"$f":"IF(AND('Texture Calculator'!$E$4>=0.35, 'Texture Calculator'!$C$4>0.45), 10, 0)","v":0},"(clay >= 35 && sand > 45)","SANDY CLAY",{"$f":"IF(AND('Texture Calculator'!$E$5>=0.35, 'Texture Calculator'!$C$5>0.45), 10, 0)","v":0},"(clay >= 35 && sand > 45)","SANDY CLAY",{"$f":"IF(AND('Texture Calculator'!$E$6>=0.35, 'Texture Calculator'!$C$6>0.45), 10, 0)","v":0},"(clay >= 35 && sand > 45)","SANDY CLAY",{"$f":"IF(AND('Texture Calculator'!$E$7>=0.35, 'Texture Calculator'!$C$7>0.45), 10, 0)","v":0},"(clay >= 35 && sand > 45)","SANDY CLAY"]
[{"$f":"IF(AND('Texture Calculator'!$E$4>=0.4, 'Texture Calculator'!$G$4>=0.4), 11, 0)","v":0},"(clay >= 40 && silt >= 40)","SILTY CLAY",{"$f":"IF(AND('Texture Calculator'!$E$5>=0.4, 'Texture Calculator'!$G$5>=0.4), 11, 0)","v":0},"(clay >= 40 && silt >= 40)","SILTY CLAY",{"$f":"IF(AND('Texture Calculator'!$E$6>=0.4, 'Texture Calculator'!$G$6>=0.4), 11, 0)","v":0},"(clay >= 40 && silt >= 40)","SILTY CLAY",{"$f":"IF(AND('Texture Calculator'!$E$7>=0.4, 'Texture Calculator'!$G$7>=0.4), 11, 0)","v":0},"(clay >= 40 && silt >= 40)","SILTY CLAY"]
[{"$f":"IF(AND('Texture Calculator'!$E$4>=0.4, 'Texture Calculator'!$C$4<=0.45,'Texture Calculator'!$G$4<0.4), 12, 0)","v":0},"(clay >= 40 && sand <= 45 && silt < 40)","CLAY",{"$f":"IF(AND('Texture Calculator'!$E$5>=0.4, 'Texture Calculator'!$C$5<=0.45,'Texture Calculator'!$G$5<0.4), 12, 0)","v":0},"(clay >= 40 && sand <= 45 && silt < 40)","CLAY",{"$f":"IF(AND('Texture Calculator'!$E$6>=0.4, 'Texture Calculator'!$C$6<=0.45,'Texture Calculator'!$G$6<0.4), 12, 0)","v":0},"(clay >= 40 && sand <= 45 && silt < 40)","CLAY",{"$f":"IF(AND('Texture Calculator'!$E$7>=0.4, 'Texture Calculator'!$C$7<=0.45,'Texture Calculator'!$G$7<0.4), 12, 0)","v":0},"(clay >= 40 && sand <= 45 && silt < 40)","CLAY"]
[{"$f":"SUM(A2:A13)","v":1},null,null,{"$f":"SUM(D2:D13)","v":1},null,null,{"$f":"SUM(G2:G13)","v":1},null,null,{"$f":"SUM(J2:J13)","v":1}]
[]
[]
["Sand",null,null,"Sand",null,null,"Sand",null,null,"Sand"]
[{"$f":"IF(AND(SUM('Texture Calculator'!$C$13:$C$17)='Texture Calculator'!$C$4, 'Texture Calculator'!$C$13+'Texture Calculator'!$C$14>=0.25, 'Texture Calculator'!$C$15<0.5, 'Texture Calculator'!$C$16<0.5, 'Texture Calculator'!$C$17<0.5), 1, 0)","v":0},"vcscs >= 25 && ms < 50 && fs < 50 && vfs < 50","COARSE SAND",{"$f":"IF(AND(SUM('Texture Calculator'!$C$20:$C$34)='Texture Calculator'!$C$5, 'Texture Calculator'!#REF!+'Texture Calculator'!#REF!>=0.25, 'Texture Calculator'!#REF!<0.5, 'Texture Calculator'!#REF!<0.5, 'Texture Calculator'!$C$34<0.5), 1, 0)","v":{"$error":"#REF!"}},"vcscs >= 25 && ms < 50 && fs < 50 && vfs < 50","COARSE SAND",{"$f":"IF(AND(SUM('Texture Calculator'!$C$39:$C$43)='Texture Calculator'!$C$6, 'Texture Calculator'!#REF!+'Texture Calculator'!$C$40>=0.25, 'Texture Calculator'!$C$41<0.5, 'Texture Calculator'!$C$42<0.5, 'Texture Calculator'!$C$43<0.5), 1, 0)","v":{"$error":"#REF!"}},"vcscs >= 25 && ms < 50 && fs < 50 && vfs < 50","COARSE SAND",{"$f":"IF(AND(SUM('Texture Calculator'!$C$48:$C$62)='Texture Calculator'!$C$7, 'Texture Calculator'!$C$48+'Texture Calculator'!$C$49>=0.25, 'Texture Calculator'!$C$60<0.5, 'Texture Calculator'!$C$61<0.5, 'Texture Calculator'!$C$62<0.5), 1, 0)","v":0},"vcscs >= 25 && ms < 50 && fs < 50 && vfs < 50","COARSE SAND"]
[{"$f":"IF(AND(SUM('Texture Calculator'!$C$13:$C$17)='Texture Calculator'!$C$4,SUM($A$18) = 0, 'Texture Calculator'!$C$13+'Texture Calculator'!$C$14+'Texture Calculator'!$C$15>=0.25, 'Texture Calculator'!$C$13+'Texture Calculator'!$C$14<0.25, 'Texture Calculator'!$C$16<0.5,'Texture Calculator'!$C$17<0.5), 2, 0)","v":0},"vcscsms >= 25 && vcscs < 25 && fs < 50 && vfs < 50","SAND",{"$f":"IF(AND(SUM('Texture Calculator'!$C$20:$C$34)='Texture Calculator'!$C$5,SUM($D$18) = 0, 'Texture Calculator'!#REF!+'Texture Calculator'!#REF!+'Texture Calculator'!#REF!>=0.25, 'Texture Calculator'!#REF!+'Texture Calculator'!#REF!<0.25, 'Texture Calculator'!#REF!<0.5,'Texture Calculator'!$C$34<0.5), 2, 0)","v":{"$error":"#REF!"}},"vcscsms >= 25 && vcscs < 25 && fs < 50 && vfs < 50","SAND",{"$f":"IF(AND(SUM('Texture Calculator'!$C$39:$C$43)='Texture Calculator'!$C$6,SUM($G$18) = 0, 'Texture Calculator'!#REF!+'Texture Calculator'!$C$40+'Texture Calculator'!$C$41>=0.25, 'Texture Calculator'!#REF!+'Texture Calculator'!$C$40<0.25, 'Texture Calculator'!$C$42<0.5,'Texture Calculator'!$C$43<0.5), 2, 0)","v":{"$error":"#REF!"}},"vcscsms >= 25 && vcscs < 25 && fs < 50 && vfs < 50","SAND",{"$f":"IF(AND(SUM('Texture Calculator'!$C$48:$C$62)='Texture Calculator'!$C$7,SUM($J$18) = 0, 'Texture Calculator'!$C$48+'Texture Calculator'!$C$49+'Texture Calculator'!$C$60>=0.25, 'Texture Calculator'!$C$48+'Texture Calculator'!$C$49<0.25, 'Texture Calculator'!$C$61<0.5,'Texture Calculator'!$C$62<0.5), 2, 0)","v":0},"vcscsms >= 25 && vcscs < 25 && fs < 50 && vfs < 50","SAND"]
[{"$f":"IF(AND(SUM('Texture Calculator'!$C$13:$C$17)='Texture Calculator'!$C$4,SUM($A$18:$A$19) = 0, 'Texture Calculator'!$C$15>=0.5, 'Texture Calculator'!$C$13+'Texture Calculator'!$C$14>=0.25), 3, 0)","v":0},"ms >= 50 && vcscs >= 25","SAND",{"$f":"IF(AND(SUM('Texture Calculator'!$C$20:$C$34)='Texture Calculator'!$C$5,SUM($D$18:$D$19) = 0, 'Texture Calculator'!#REF!>=0.5, 'Texture Calculator'!#REF!+'Texture Calculator'!#REF!>=0.25), 3, 0)","v":{"$error":"#REF!"}},"ms >= 50 && vcscs >= 25","SAND",{"$f":"IF(AND(SUM('Texture Calculator'!$C$39:$C$43)='Texture Calculator'!$C$6,SUM($G$18:$G$19) = 0, 'Texture Calculator'!$C$41>=0.5, 'Texture Calculator'!#REF!+'Texture Calculator'!$C$40>=0.25), 3, 0)","v":{"$error":"#REF!"}},"ms >= 50 && vcscs >= 25","SAND",{"$f":"IF(AND(SUM('Texture Calculator'!$C$48:$C$62)='Texture Calculator'!$C$7,SUM($J$18:$J$19) = 0, 'Texture Calculator'!$C$60>=0.5, 'Texture Calculator'!$C$48+'Texture Calculator'!$C$49>=0.25), 3, 0)","v":0},"ms >= 50 && vcscs >= 25","SAND"]
[{"$f":"IF(AND(SUM('Texture Calculator'!$C$13:$C$17)='Texture Calculator'!$C$4,SUM($A$18:$A$20) = 0, 'Texture Calculator'!$C$16>=0.5, 'Texture Calculator'!$C$16>'Texture Calculator'!$C$17), 4, 0)","v":0},"fs >= 50 && fs > vfs","FINE SAND",{"$f":"IF(AND(SUM('Texture Calculator'!$C$20:$C$34)='Texture Calculator'!$C$5,SUM($D$18:$D$20) = 0, 'Texture Calculator'!#REF!>=0.5, 'Texture Calculator'!#REF!>'Texture Calculator'!$C$34), 4, 0)","v":{"$error":"#REF!"}},"fs >= 50 && fs > vfs","FINE SAND",{"$f":"IF(AND(SUM('Texture Calculator'!$C$39:$C$43)='Texture Calculator'!$C$6,SUM($G$18:$G$20) = 0, 'Texture Calculator'!$C$42>=0.5, 'Texture Calculator'!$C$42>'Texture Calculator'!$C$43), 4, 0)","v":{"$error":"#REF!"}},"fs >= 50 && fs > vfs","FINE SAND",{"$f":"IF(AND(SUM('Texture Calculator'!$C$48:$C$62)='Texture Calculator'!$C$7,SUM($J$18:$J$20) = 0, 'Texture Calculator'!$C$61>=0.5, 'Texture Calculator'!$C$61>'Texture Calculator'!$C$62), 4, 0)","v":0},"fs >= 50 && fs > vfs","FINE SAND"]
[{"$f":"IF(AND(SUM('Texture Calculator'!$C$13:$C$17)='Texture Calculator'!$C$4,SUM($A$18:$A$21) = 0, 'Texture Calculator'!$C$13+'Texture Calculator'!$C$14+'Texture Calculator'!$C$15<0.25, 'Texture Calculator'!$C$17<0.5), 5, 0)","v":0},"vcscsms < 25 && vfs < 50","FINE SAND",{"$f":"IF(AND(SUM('Texture Calculator'!$C$20:$C$34)='Texture Calculator'!$C$5,SUM($D$18:$D$21) = 0, 'Texture Calculator'!#REF!+'Texture Calculator'!#REF!+'Texture Calculator'!#REF!<0.25, 'Texture Calculator'!$C$34<0.5), 5, 0)","v":{"$error":"#REF!"}},"vcscsms < 25 && vfs < 50","FINE SAND",{"$f":"IF(AND(SUM('Texture Calculator'!$C$39:$C$43)='Texture Calculator'!$C$6,SUM($G$18:$G$21) = 0, 'Texture Calculator'!#REF!+'Texture Calculator'!$C$40+'Texture Calculator'!$C$41<0.25, 'Texture Calculator'!$C$43<0.5), 5, 0)","v":{"$error":"#REF!"}},"vcscsms < 25 && vfs < 50","FINE SAND",{"$f":"IF(AND(SUM('Texture Calculator'!$C$48:$C$62)='Texture Calculator'!$C$7,SUM($J$18:$J$21) = 0, 'Texture Calculator'!$C$48+'Texture Calculator'!$C$49+'Texture Calculator'!$C$60<0.25, 'Texture Calculator'!$C$62<0.5), 5, 0)","v":0},"vcscsms < 25 && vfs < 50","FINE SAND"]
[{"$f":"IF(AND(SUM('Texture Calculator'!$C$13:$C$17)='Texture Calculator'!$C$4,SUM($A$18:$A$22) = 0, 'Texture Calculator'!$C$17>=0.5), 6, 0)","v":0},"vfs >= 50","VERY FINE SAND",{"$f":"IF(AND(SUM('Texture Calculator'!$C$20:$C$34)='Texture Calculator'!$C$5,SUM($D$18:$D$22) = 0, 'Texture Calculator'!$C$34>=0.5), 6, 0)","v":{"$error":"#REF!"}},"vfs >= 50","VERY FINE SAND",{"$f":"IF(AND(SUM('Texture Calculator'!$C$39:$C$43)='Texture Calculator'!$C$6,SUM($G$18:$G$22) = 0, 'Texture Calculator'!$C$43>=0.5), 6, 0)","v":{"$error":"#REF!"}},"vfs >= 50","VERY FINE SAND",{"$f":"IF(AND(SUM('Texture Calculator'!$C$48:$C$62)='Texture Calculator'!$C$7,SUM($J$18:$J$22) = 0, 'Texture Calculator'!$C$62>=0.5), 6, 0)","v":0},"vfs >= 50","VERY FINE SAND"]
[{"$f":"SUM(A18:A23)+1","v":1},null,null,{"$f":"SUM(D18:D23)+1","v":{"$error":"#REF!"}},null,null,{"$f":"SUM(G18:G23)+1","v":{"$error":"#REF!"}},null,null,{"$f":"SUM(J18:J23)+1","v":1}]
[]
[]
["Loam Sand",null,null,"Loam Sand",null,null,"Loam Sand",null,null,"Loam Sand"]
[{"$f":"IF(AND(SUM('Texture Calculator'!$C$13:$C$17)='Texture Calculator'!$C$4, 'Texture Calculator'!$C$13+'Texture Calculator'!$C$14>=0.25, 'Texture Calculator'!$C$15<0.5, 'Texture Calculator'!$C$16<0.5, 'Texture Calculator'!$C$17<0.5), 1, 0)","v":0},"vcscs >= 25 && ms < 50 && fs < 50 && vfs < 50","LOAMY COARSE SAND",{"$f":"IF(AND(SUM('Texture Calculator'!$C$20:$C$34)='Texture Calculator'!$C$5, 'Texture Calculator'!#REF!+'Texture Calculator'!#REF!>=0.25, 'Texture Calculator'!#REF!<0.5, 'Texture Calculator'!#REF!<0.5, 'Texture Calculator'!$C$34<0.5), 1, 0)","v":{"$error":"#REF!"}},"vcscs >= 25 && ms < 50 && fs < 50 && vfs < 50","LOAMY COARSE SAND",{"$f":"IF(AND(SUM('Texture Calculator'!$C$39:$C$43)='Texture Calculator'!$C$6, 'Texture Calculator'!#REF!+'Texture Calculator'!$C$40>=0.25, 'Texture Calculator'!$C$41<0.5, 'Texture Calculator'!$C$42<0.5, 'Texture Calculator'!$C$43<0.5), 1, 0)","v":{"$error":"#REF!"}},"vcscs >= 25 && ms < 50 && fs < 50 && vfs < 50","LOAMY COARSE SAND",{"$f":"IF(AND(SUM('Texture Calculator'!$C$48:$C$62)='Texture Calculator'!$C$7, 'Texture Calculator'!$C$48+'Texture Calculator'!$C$49>=0.25, 'Texture Calculator'!$C$60<0.5, 'Texture Calculator'!$C$61<0.5, 'Texture Calculator'!$C$62<0.5), 1, 0)","v":0},"vcscs >= 25 && ms < 50 && fs < 50 && vfs < 50","LOAMY COARSE SAND"]
[{"$f":"IF(AND(SUM('Texture Calculator'!$C$13:$C$17)='Texture Calculator'!$C$4,SUM($A$28) = 0, 'Texture Calculator'!$C$13+'Texture Calculator'!$C$14+'Texture Calculator'!$C$15>=0.25, 'Texture Calculator'!$C$13+'Texture Calculator'!$C$14<0.25, 'Texture Calculator'!$C$16<0.5,'Texture Calculator'!$C$17<0.5), 2, 0)","v":0},"vcscsms >= 25 && vcscs < 25 && fs < 50 && vfs < 50","LOAMY SAND",{"$f":"IF(AND(SUM('Texture Calculator'!$C$20:$C$34)='Texture Calculator'!$C$5,SUM($D$28) = 0, 'Texture Calculator'!#REF!+'Texture Calculator'!#REF!+'Texture Calculator'!#REF!>=0.25, 'Texture Calculator'!#REF!+'Texture Calculator'!#REF!<0.25, 'Texture Calculator'!#REF!<0.5,'Texture Calculator'!$C$34<0.5), 2, 0)","v":{"$error":"#REF!"}},"vcscsms >= 25 && vcscs < 25 && fs < 50 && vfs < 50","LOAMY SAND",{"$f":"IF(AND(SUM('Texture Calculator'!$C$39:$C$43)='Texture Calculator'!$C$6,SUM($A$28) = 0, 'Texture Calculator'!$C$13+'Texture Calculator'!$C$14+'Texture Calculator'!$C$15>=0.25, 'Texture Calculator'!$C$13+'Texture Calculator'!$C$14<0.25, 'Texture Calculator'!$C$16<0.5,'Texture Calculator'!$C$17<0.5), 2, 0)","v":0},"vcscsms >= 25 && vcscs < 25 && fs < 50 && vfs < 50","LOAMY SAND",{"$f":"IF(AND(SUM('Texture Calculator'!$C$48:$C$62)='Texture Calculator'!$C$7,SUM($J$28) = 0, 'Texture Calculator'!$C$48+'Texture Calculator'!$C$49+'Texture Calculator'!$C$60>=0.25, 'Texture Calculator'!$C$48+'Texture Calculator'!$C$49<0.25, 'Texture Calculator'!$C$61<0.5,'Texture Calculator'!$C$62<0.5), 2, 0)","v":0},"vcscsms >= 25 && vcscs < 25 && fs < 50 && vfs < 50","LOAMY SAND"]
[{"$f":"IF(AND(SUM('Texture Calculator'!$C$13:$C$17)='Texture Calculator'!$C$4,SUM($A$28:$A$29) = 0, 'Texture Calculator'!$C$15>=0.5, 'Texture Calculator'!$C$13+'Texture Calculator'!$C$14>=0.25),3, 0)","v":0},"ms >= 50 && vcscs >= 25","LOAMY SAND",{"$f":"IF(AND(SUM('Texture Calculator'!$C$20:$C$34)='Texture Calculator'!$C$5,SUM($D$28:$D$29) = 0, 'Texture Calculator'!#REF!>=0.5, 'Texture Calculator'!#REF!+'Texture Calculator'!#REF!>=0.25),3, 0)","v":{"$error":"#REF!"}},"ms >= 50 && vcscs >= 25","LOAMY SAND",{"$f":"IF(AND(SUM('Texture Calculator'!$C$39:$C$43)='Texture Calculator'!$C$6,SUM($G$28:$G$29) = 0, 'Texture Calculator'!$C$41>=0.5, 'Texture Calculator'!#REF!+'Texture Calculator'!$C$40>=0.25),3, 0)","v":{"$error":"#REF!"}},"ms >= 50 && vcscs >= 25","LOAMY SAND",{"$f":"IF(AND(SUM('Texture Calculator'!$C$48:$C$62)='Texture Calculator'!$C$7,SUM($J$28:$J$29) = 0, 'Texture Calculator'!$C$60>=0.5, 'Texture Calculator'!$C$48+'Texture Calculator'!$C$49>=0.25),3, 0)","v":0},"ms >= 50 && vcscs >= 25","LOAMY SAND"]
[{"$f":"IF(AND(SUM('Texture Calculator'!$C$13:$C$17)='Texture Calculator'!$C$4,SUM($A$28:$A$30) = 0, 'Texture Calculator'!$C$16>=0.5), 4, 0)","v":0},"fs >= 50","LOAMY FINE SAND",{"$f":"IF(AND(SUM('Texture Calculator'!$C$20:$C$34)='Texture Calculator'!$C$5,SUM($D$28:$D$30) = 0, 'Texture Calculator'!#REF!>=0.5), 4, 0)","v":{"$error":"#REF!"}},"fs >= 50","LOAMY FINE SAND",{"$f":"IF(AND(SUM('Texture Calculator'!$C$39:$C$43)='Texture Calculator'!$C$6,SUM($G$28:$G$30) = 0, 'Texture Calculator'!$C$42>=0.5), 4, 0)","v":{"$error":"#REF!"}},"fs >= 50","LOAMY FINE SAND",{"$f":"IF(AND(SUM('Texture Calculator'!$C$48:$C$62)='Texture Calculator'!$C$7,SUM($J$28:$J$30) = 0, 'Texture Calculator'!$C$61>=0.5), 4, 0)","v":0},"fs >= 50","LOAMY FINE SAND"]
[{"$f":"IF(AND(SUM('Texture Calculator'!$C$13:$C$17)='Texture Calculator'!$C$4,SUM($A$28:$A$31) = 0, 'Texture Calculator'!$C$13+'Texture Calculator'!$C$14+'Texture Calculator'!$C$15<0.25, 'Texture Calculator'!$C$17<0.5), 5, 0)","v":0},"vcscsms < 25 && vfs < 50","LOAMY FINE SAND",{"$f":"IF(AND(SUM('Texture Calculator'!$C$20:$C$34)='Texture Calculator'!$C$5,SUM($D$28:$D$31) = 0, 'Texture Calculator'!#REF!+'Texture Calculator'!#REF!+'Texture Calculator'!#REF!<0.25, 'Texture Calculator'!$C$34<0.5), 5, 0)","v":{"$error":"#REF!"}},"vcscsms < 25 && vfs < 50","LOAMY FINE SAND",{"$f":"IF(AND(SUM('Texture Calculator'!$C$39:$C$43)='Texture Calculator'!$C$6,SUM($G$28:$G$31) = 0, 'Texture Calculator'!#REF!+'Texture Calculator'!$C$40+'Texture Calculator'!$C$41<0.25, 'Texture Calculator'!$C$43<0.5), 5, 0)","v":{"$error":"#REF!"}},"vcscsms < 25 && vfs < 50","LOAMY FINE SAND",{"$f":"IF(AND(SUM('Texture Calculator'!$C$48:$C$62)='Texture Calculator'!$C$7,SUM($J$28:$J$31) = 0, 'Texture Calculator'!$C$48+'Texture Calculator'!$C$49+'Texture Calculator'!$C$60<0.25, 'Texture Calculator'!$C$62<0.5), 5, 0)","v":0},"vcscsms < 25 && vfs < 50","LOAMY FINE SAND"]
[{"$f":"IF(AND(SUM('Texture Calculator'!$C$13:$C$17)='Texture Calculator'!$C$4,SUM($A$28:$A$32) = 0, 'Texture Calculator'!$C$17>=0.5), 6, 0)","v":0},"vfs >= 50","LOAMY VERY FINE SAND",{"$f":"IF(AND(SUM('Texture Calculator'!$C$20:$C$34)='Texture Calculator'!$C$5,SUM($D$28:$D$32) = 0, 'Texture Calculator'!$C$34>=0.5), 6, 0)","v":{"$error":"#REF!"}},"vfs >= 50","LOAMY VERY FINE SAND",{"$f":"IF(AND(SUM('Texture Calculator'!$C$39:$C$43)='Texture Calculator'!$C$6,SUM($G$28:$G$32) = 0, 'Texture Calculator'!$C$43>=0.5), 6, 0)","v":{"$error":"#REF!"}},"vfs >= 50","LOAMY VERY FINE SAND",{"$f":"IF(AND(SUM('Texture Calculator'!$C$48:$C$62)='Texture Calculator'!$C$7,SUM($J$28:$J$32) = 0, 'Texture Calculator'!$C$62>=0.5), 6, 0)","v":0},"vfs >= 50","LOAMY VERY FINE SAND"]
[{"$f":"SUM(A28:A33)+1","v":1},null,null,{"$f":"SUM(D28:D33)+1","v":{"$error":"#REF!"}},null,null,{"$f":"SUM(G28:G33)+1","v":{"$error":"#REF!"}},null,null,{"$f":"SUM(J28:J33)+1","v":1}]
[]
["Sand Loam",null,null,"Sand Loam",null,null,"Sand Loam",null,null,"Sand Loam"]
[{"$f":"IF(AND(SUM('Texture Calculator'!$C$13:$C$17)='Texture Calculator'!$C$4, 'Texture Calculator'!$C$13+'Texture Calculator'!$C$14>=0.25, 'Texture Calculator'!$C$15<0.5, 'Texture Calculator'!$C$16<0.5, 'Texture Calculator'!$C$17<0.5), 1, 0)","v":0},"vcscs >= 25 && ms < 50 && fs < 50 && vfs < 50","COARSE SANDY LOAM",{"$f":"IF(AND(SUM('Texture Calculator'!$C$20:$C$34)='Texture Calculator'!$C$5, 'Texture Calculator'!#REF!+'Texture Calculator'!#REF!>=0.25, 'Texture Calculator'!#REF!<0.5, 'Texture Calculator'!#REF!<0.5, 'Texture Calculator'!$C$34<0.5), 1, 0)","v":{"$error":"#REF!"}},"vcscs >= 25 && ms < 50 && fs < 50 && vfs < 50","COARSE SANDY LOAM",{"$f":"IF(AND(SUM('Texture Calculator'!$C$39:$C$43)='Texture Calculator'!$C$6, 'Texture Calculator'!#REF!+'Texture Calculator'!$C$40>=0.25, 'Texture Calculator'!$C$41<0.5, 'Texture Calculator'!$C$42<0.5, 'Texture Calculator'!$C$43<0.5), 1, 0)","v":{"$error":"#REF!"}},"vcscs >= 25 && ms < 50 && fs < 50 && vfs < 50","COARSE SANDY LOAM",{"$f":"IF(AND(SUM('Texture Calculator'!$C$48:$C$62)='Texture Calculator'!$C$7, 'Texture Calculator'!$C$48+'Texture Calculator'!$C$49>=0.25, 'Texture Calculator'!$C$60<0.5, 'Texture Calculator'!$C$61<0.5, 'Texture Calculator'!$C$62<0.5), 1, 0)","v":0},"vcscs >= 25 && ms < 50 && fs < 50 && vfs < 50","COARSE SANDY LOAM"]
[{"$f":"IF(AND(SUM('Texture Calculator'!$C$13:$C$17)='Texture Calculator'!$C$4,SUM($A$37) = 0,'Texture Calculator'!$C$13+'Texture Calculator'!$C$14+'Texture Calculator'!$C$15>=0.3, 'Texture Calculator'!$C$17>=0.3, 'Texture Calculator'!$C$17<0.5), 2,0)","v":0},"vcscsms >= 30 && vfs >= 30 && vfs < 50","COARSE SANDY LOAM",{"$f":"IF(AND(SUM('Texture Calculator'!$C$20:$C$34)='Texture Calculator'!$C$5,SUM($D$37) = 0,'Texture Calculator'!#REF!+'Texture Calculator'!#REF!+'Texture Calculator'!#REF!>=0.3, 'Texture Calculator'!$C$34>=0.3, 'Texture Calculator'!$C$34<0.5), 2,0)","v":{"$error":"#REF!"}},"vcscsms >= 30 && vfs >= 30 && vfs < 50","COARSE SANDY LOAM",{"$f":"IF(AND(SUM('Texture Calculator'!$C$39:$C$43)='Texture Calculator'!$C$6,SUM($G$37) = 0,'Texture Calculator'!#REF!+'Texture Calculator'!$C$40+'Texture Calculator'!$C$41>=0.3, 'Texture Calculator'!$C$43>=0.3, 'Texture Calculator'!$C$43<0.5), 2,0)","v":{"$error":"#REF!"}},"vcscsms >= 30 && vfs >= 30 && vfs < 50","COARSE SANDY LOAM",{"$f":"IF(AND(SUM('Texture Calculator'!$C$48:$C$62)='Texture Calculator'!$C$7,SUM($J$37) = 0,'Texture Calculator'!$C$48+'Texture Calculator'!$C$49+'Texture Calculator'!$C$60>=0.3, 'Texture Calculator'!$C$62>=0.3, 'Texture Calculator'!$C$62<0.5), 2,0)","v":0},"vcscsms >= 30 && vfs >= 30 && vfs < 50","COARSE SANDY LOAM"]
[{"$f":"IF(AND(SUM('Texture Calculator'!$C$13:$C$17)='Texture Calculator'!$C$4,SUM($A$37:$A$38) = 0, 'Texture Calculator'!$C$13+'Texture Calculator'!$C$14+'Texture Calculator'!$C$15>=0.3, 'Texture Calculator'!$C$13+'Texture Calculator'!$C$14<0.25, 'Texture Calculator'!$C$16<0.3,'Texture Calculator'!$C$17<0.3), 3, 0)","v":0},"vcscsms >= 30 && vcscs < 25 && fs < 30 && vfs < 30","SANDY LOAM",{"$f":"IF(AND(SUM('Texture Calculator'!$C$20:$C$34)='Texture Calculator'!$C$5,SUM($D$37:$D$38) = 0, 'Texture Calculator'!#REF!+'Texture Calculator'!#REF!+'Texture Calculator'!#REF!>=0.3, 'Texture Calculator'!#REF!+'Texture Calculator'!#REF!<0.25, 'Texture Calculator'!#REF!<0.3,'Texture Calculator'!$C$34<0.3), 3, 0)","v":{"$error":"#REF!"}},"vcscsms >= 30 && vcscs < 25 && fs < 30 && vfs < 30","SANDY LOAM",{"$f":"IF(AND(SUM('Texture Calculator'!$C$39:$C$43)='Texture Calculator'!$C$6,SUM($G$37:$G$38) = 0, 'Texture Calculator'!#REF!+'Texture Calculator'!$C$40+'Texture Calculator'!$C$41>=0.3, 'Texture Calculator'!#REF!+'Texture Calculator'!$C$40<0.25, 'Texture Calculator'!$C$42<0.3,'Texture Calculator'!$C$43<0.3), 3, 0)","v":{"$error":"#REF!"}},"vcscsms >= 30 && vcscs < 25 && fs < 30 && vfs < 30","SANDY LOAM",{"$f":"IF(AND(SUM('Texture Calculator'!$C$48:$C$62)='Texture Calculator'!$C$7,SUM($J$37:$J$38) = 0, 'Texture Calculator'!$C$48+'Texture Calculator'!$C$49+'Texture Calculator'!$C$60>=0.3, 'Texture Calculator'!$C$48+'Texture Calculator'!$C$49<0.25, 'Texture Calculator'!$C$61<0.3,'Texture Calculator'!$C$62<0.3), 3, 0)","v":0},"vcscsms >= 30 && vcscs < 25 && fs < 30 && vfs < 30","SANDY LOAM"]
[{"$f":"IF(AND(SUM('Texture Calculator'!$C$13:$C$17)='Texture Calculator'!$C$4,SUM($A$37:$A$39) = 0,'Texture Calculator'!$C$13+'Texture Calculator'!$C$14+'Texture Calculator'!$C$15<=0.15,'Texture Calculator'!$C$16<0.3,'Texture Calculator'!$C$17<0.3,'Texture Calculator'!$C$16+'Texture Calculator'!$C$17<0.4), 4, 0)","v":0},"vcscsms <= 15 && fs < 30 && vfs < 30 && fsvfs < 40","SANDY LOAM",{"$f":"IF(AND(SUM('Texture Calculator'!$C$20:$C$34)='Texture Calculator'!$C$5,SUM($D$37:$D$39) = 0,'Texture Calculator'!#REF!+'Texture Calculator'!#REF!+'Texture Calculator'!#REF!<=0.15,'Texture Calculator'!#REF!<0.3,'Texture Calculator'!$C$34<0.3,'Texture Calculator'!#REF!+'Texture Calculator'!$C$34<0.4), 4, 0)","v":{"$error":"#REF!"}},"vcscsms <= 15 && fs < 30 && vfs < 30 && fsvfs < 40","SANDY LOAM",{"$f":"IF(AND(SUM('Texture Calculator'!$C$39:$C$43)='Texture Calculator'!$C$6,SUM($G$37:$G$39) = 0,'Texture Calculator'!#REF!+'Texture Calculator'!$C$40+'Texture Calculator'!$C$41<=0.15,'Texture Calculator'!$C$42<0.3,'Texture Calculator'!$C$43<0.3,'Texture Calculator'!$C$42+'Texture Calculator'!$C$43<0.4), 4, 0)","v":{"$error":"#REF!"}},"vcscsms <= 15 && fs < 30 && vfs < 30 && fsvfs < 40","SANDY LOAM",{"$f":"IF(AND(SUM('Texture Calculator'!$C$48:$C$62)='Texture Calculator'!$C$7,SUM($J$37:$J$39) = 0,'Texture Calculator'!$C$48+'Texture Calculator'!$C$49+'Texture Calculator'!$C$60<=0.15,'Texture Calculator'!$C$61<0.3,'Texture Calculator'!$C$62<0.3,'Texture Calculator'!$C$61+'Texture Calculator'!$C$62<0.4), 4, 0)","v":0},"vcscsms <= 15 && fs < 30 && vfs < 30 && fsvfs < 40","SANDY LOAM"]
[{"$f":"IF(AND(SUM('Texture Calculator'!$C$13:$C$17)='Texture Calculator'!$C$4,SUM($A$37:$A$40) = 0,'Texture Calculator'!$C$13+'Texture Calculator'!$C$14>=0.25, 'Texture Calculator'!$C$15>=0.5), 5, 0)","v":0},"vcscs >= 25 && ms >= 50","SANDY LOAM",{"$f":"IF(AND(SUM('Texture Calculator'!$C$20:$C$34)='Texture Calculator'!$C$5,SUM($D$37:$D$40) = 0,'Texture Calculator'!#REF!+'Texture Calculator'!#REF!>=0.25, 'Texture Calculator'!#REF!>=0.5), 5, 0)","v":{"$error":"#REF!"}},"vcscs >= 25 && ms >= 50","SANDY LOAM",{"$f":"IF(AND(SUM('Texture Calculator'!$C$39:$C$43)='Texture Calculator'!$C$6,SUM($G$37:$G$40) = 0,'Texture Calculator'!#REF!+'Texture Calculator'!$C$40>=0.25, 'Texture Calculator'!$C$41>=0.5), 5, 0)","v":{"$error":"#REF!"}},"vcscs >= 25 && ms >= 50","SANDY LOAM",{"$f":"IF(AND(SUM('Texture Calculator'!$C$48:$C$62)='Texture Calculator'!$C$7,SUM($J$37:$J$40) = 0,'Texture Calculator'!$C$48+'Texture Calculator'!$C$49>=0.25, 'Texture Calculator'!$C$60>=0.5), 5, 0)","v":0},"vcscs >= 25 && ms >= 50","SANDY LOAM"]
[{"$f":"IF(AND(SUM('Texture Calculator'!$C$13:$C$17)='Texture Calculator'!$C$4,SUM($A$37:$A$41) = 0,'Texture Calculator'!$C$16>=0.3,'Texture Calculator'!$C$17<0.3, 'Texture Calculator'!$C$13+'Texture Calculator'!$C$14<0.25), 6, 0)","v":0},"fs >= 30 && vfs < 30 && vcscs < 25","FINE SANDY LOAM",{"$f":"IF(AND(SUM('Texture Calculator'!$C$20:$C$34)='Texture Calculator'!$C$5,SUM($D$37:$D$41) = 0,'Texture Calculator'!#REF!>=0.3,'Texture Calculator'!$C$34<0.3, 'Texture Calculator'!#REF!+'Texture Calculator'!#REF!<0.25), 6, 0)","v":{"$error":"#REF!"}},"fs >= 30 && vfs < 30 && vcscs < 25","FINE SANDY LOAM",{"$f":"IF(AND(SUM('Texture Calculator'!$C$39:$C$43)='Texture Calculator'!$C$6,SUM($G$37:$G$41) = 0,'Texture Calculator'!$C$42>=0.3,'Texture Calculator'!$C$43<0.3, 'Texture Calculator'!#REF!+'Texture Calculator'!$C$40<0.25), 6, 0)","v":{"$error":"#REF!"}},"fs >= 30 && vfs < 30 && vcscs < 25","FINE SANDY LOAM",{"$f":"IF(AND(SUM('Texture Calculator'!$C$48:$C$62)='Texture Calculator'!$C$7,SUM($J$37:$J$41) = 0,'Texture Calculator'!$C$61>=0.3,'Texture Calculator'!$C$62<0.3, 'Texture Calculator'!$C$48+'Texture Calculator'!$C$49<0.25), 6, 0)","v":0},"fs >= 30 && vfs < 30 && vcscs < 25","FINE SANDY LOAM"]
[{"$f":"IF(AND(SUM('Texture Calculator'!$C$13:$C$17)='Texture Calculator'!$C$4,SUM($A$37:$A$42) = 0,'Texture Calculator'!$C$13+'Texture Calculator'!$C$14+'Texture Calculator'!$C$15>=0.15, 'Texture Calculator'!$C$13+'Texture Calculator'!$C$14+'Texture Calculator'!$C$15<0.3, 'Texture Calculator'!$C$13+'Texture Calculator'!$C$14<0.25), 7, 0)","v":0},"vcscsms >= 15 && vcscsms < 30 && vcscs < 25","FINE SANDY LOAM",{"$f":"IF(AND(SUM('Texture Calculator'!$C$20:$C$34)='Texture Calculator'!$C$5,SUM($D$37:$D$42) = 0,'Texture Calculator'!#REF!+'Texture Calculator'!#REF!+'Texture Calculator'!#REF!>=0.15, 'Texture Calculator'!#REF!+'Texture Calculator'!#REF!+'Texture Calculator'!#REF!<0.3, 'Texture Calculator'!#REF!+'Texture Calculator'!#REF!<0.25), 7, 0)","v":{"$error":"#REF!"}},"vcscsms >= 15 && vcscsms < 30 && vcscs < 25","FINE SANDY LOAM",{"$f":"IF(AND(SUM('Texture Calculator'!$C$39:$C$43)='Texture Calculator'!$C$6,SUM($G$37:$G$42) = 0,'Texture Calculator'!#REF!+'Texture Calculator'!$C$40+'Texture Calculator'!$C$41>=0.15, 'Texture Calculator'!#REF!+'Texture Calculator'!$C$40+'Texture Calculator'!$C$41<0.3, 'Texture Calculator'!#REF!+'Texture Calculator'!$C$40<0.25), 7, 0)","v":{"$error":"#REF!"}},"vcscsms >= 15 && vcscsms < 30 && vcscs < 25","FINE SANDY LOAM",{"$f":"IF(AND(SUM('Texture Calculator'!$C$48:$C$62)='Texture Calculator'!$C$7,SUM($J$37:$J$42) = 0,'Texture Calculator'!$C$48+'Texture Calculator'!$C$49+'Texture Calculator'!$C$60>=0.15, 'Texture Calculator'!$C$48+'Texture Calculator'!$C$49+'Texture Calculator'!$C$60<0.3, 'Texture Calculator'!$C$48+'Texture Calculator'!$C$49<0.25), 7, 0)","v":0},"vcscsms >= 15 && vcscsms < 30 && vcscs < 25","FINE SANDY LOAM"]
[{"$f":"IF(AND(SUM('Texture Calculator'!$C$13:$C$17)='Texture Calculator'!$C$4,SUM($A$37:$A$43) = 0,'Texture Calculator'!$C$16+'Texture Calculator'!$C$17>=0.4, 'Texture Calculator'!$C$16>='Texture Calculator'!$C$17, 'Texture Calculator'!$C$13+'Texture Calculator'!$C$14+'Texture Calculator'!$C$15<=0.15), 8, 0)","v":0},"fsvfs >= 40 && fs >= vfs && vcscsms <= 15","FINE SANDY LOAM",{"$f":"IF(AND(SUM('Texture Calculator'!$C$20:$C$34)='Texture Calculator'!$C$5,SUM($D$37:$D$43) = 0,'Texture Calculator'!#REF!+'Texture Calculator'!$C$34>=0.4, 'Texture Calculator'!#REF!>='Texture Calculator'!$C$34, 'Texture Calculator'!#REF!+'Texture Calculator'!#REF!+'Texture Calculator'!#REF!<=0.15), 8, 0)","v":{"$error":"#REF!"}},"fsvfs >= 40 && fs >= vfs && vcscsms <= 15","FINE SANDY LOAM",{"$f":"IF(AND(SUM('Texture Calculator'!$C$39:$C$43)='Texture Calculator'!$C$6,SUM($G$37:$G$43) = 0,'Texture Calculator'!$C$42+'Texture Calculator'!$C$43>=0.4, 'Texture Calculator'!$C$42>='Texture Calculator'!$C$43, 'Texture Calculator'!#REF!+'Texture Calculator'!$C$40+'Texture Calculator'!$C$41<=0.15), 8, 0)","v":{"$error":"#REF!"}},"fsvfs >= 40 && fs >= vfs && vcscsms <= 15","FINE SANDY LOAM",{"$f":"IF(AND(SUM('Texture Calculator'!$C$48:$C$62)='Texture Calculator'!$C$7,SUM($J$37:$J$43) = 0,'Texture Calculator'!$C$61+'Texture Calculator'!$C$62>=0.4, 'Texture Calculator'!$C$61>='Texture Calculator'!$C$62, 'Texture Calculator'!$C$48+'Texture Calculator'!$C$49+'Texture Calculator'!$C$60<=0.15), 8, 0)","v":0},"fsvfs >= 40 && fs >= vfs && vcscsms <= 15","FINE SANDY LOAM"]
[{"$f":"IF(AND(SUM('Texture Calculator'!$C$13:$C$17)='Texture Calculator'!$C$4,SUM($A$37:$A$44) = 0,'Texture Calculator'!$C$13+'Texture Calculator'!$C$14>=0.25, 'Texture Calculator'!$C$16>=0.5), 9, 0)","v":0},"vcscs >= 25 && fs >= 50","FINE SANDY LOAM",{"$f":"IF(AND(SUM('Texture Calculator'!$C$20:$C$34)='Texture Calculator'!$C$5,SUM($D$37:$D$44) = 0,'Texture Calculator'!#REF!+'Texture Calculator'!#REF!>=0.25, 'Texture Calculator'!#REF!>=0.5), 9, 0)","v":{"$error":"#REF!"}},"vcscs >= 25 && fs >= 50","FINE SANDY LOAM",{"$f":"IF(AND(SUM('Texture Calculator'!$C$39:$C$43)='Texture Calculator'!$C$6,SUM($G$37:$G$44) = 0,'Texture Calculator'!#REF!+'Texture Calculator'!$C$40>=0.25, 'Texture Calculator'!$C$42>=0.5), 9, 0)","v":{"$error":"#REF!"}},"vcscs >= 25 && fs >= 50","FINE SANDY LOAM",{"$f":"IF(AND(SUM('Texture Calculator'!$C$48:$C$62)='Texture Calculator'!$C$7,SUM($J$37:$J$44) = 0,'Texture Calculator'!$C$48+'Texture Calculator'!$C$49>=0.25, 'Texture Calculator'!$C$61>=0.5), 9, 0)","v":0},"vcscs >= 25 && fs >= 50","FINE SANDY LOAM"]
[{"$f":"IF(AND(SUM('Texture Calculator'!$C$13:$C$17)='Texture Calculator'!$C$4,SUM($A$37:$A$45) = 0,'Texture Calculator'!$C$17>=0.3, 'Texture Calculator'!$C$13+'Texture Calculator'!$C$14+'Texture Calculator'!$C$15<0.15, 'Texture Calculator'!$C$17>'Texture Calculator'!$C$16), 10, 0)","v":0},"vfs >= 30 && vcscsms < 15 && vfs > fs","VERY FINE SANDY LOAM",{"$f":"IF(AND(SUM('Texture Calculator'!$C$20:$C$34)='Texture Calculator'!$C$5,SUM($D$37:$D$45) = 0,'Texture Calculator'!$C$34>=0.3, 'Texture Calculator'!#REF!+'Texture Calculator'!#REF!+'Texture Calculator'!#REF!<0.15, 'Texture Calculator'!$C$34>'Texture Calculator'!#REF!), 10, 0)","v":{"$error":"#REF!"}},"vfs >= 30 && vcscsms < 15 && vfs > fs","VERY FINE SANDY LOAM",{"$f":"IF(AND(SUM('Texture Calculator'!$C$39:$C$43)='Texture Calculator'!$C$6,SUM($G$37:$G$45) = 0,'Texture Calculator'!$C$43>=0.3, 'Texture Calculator'!#REF!+'Texture Calculator'!$C$40+'Texture Calculator'!$C$41<0.15, 'Texture Calculator'!$C$43>'Texture Calculator'!$C$42), 10, 0)","v":{"$error":"#REF!"}},"vfs >= 30 && vcscsms < 15 && vfs > fs","VERY FINE SANDY LOAM",{"$f":"IF(AND(SUM('Texture Calculator'!$C$48:$C$62)='Texture Calculator'!$C$7,SUM($J$37:$J$45) = 0,'Texture Calculator'!$C$62>=0.3, 'Texture Calculator'!$C$48+'Texture Calculator'!$C$49+'Texture Calculator'!$C$60<0.15, 'Texture Calculator'!$C$62>'Texture Calculator'!$C$61), 10, 0)","v":0},"vfs >= 30 && vcscsms < 15 && vfs > fs","VERY FINE SANDY LOAM"]
[{"$f":"IF(AND(SUM('Texture Calculator'!$C$13:$C$17)='Texture Calculator'!$C$4,SUM($A$37:$A$46) = 0,'Texture Calculator'!$C$16+'Texture Calculator'!$C$17>=0.4, 'Texture Calculator'!$C$17>'Texture Calculator'!$C$16, 'Texture Calculator'!$C$13+'Texture Calculator'!$C$14+'Texture Calculator'!$C$15<15), 11, 0)","v":0},"fsvfs >= 40 && vfs > fs && vcscsms < 15","VERY FINE SANDY LOAM",{"$f":"IF(AND(SUM('Texture Calculator'!$C$20:$C$34)='Texture Calculator'!$C$5,SUM($D$37:$D$46) = 0,'Texture Calculator'!#REF!+'Texture Calculator'!$C$34>=0.4, 'Texture Calculator'!$C$34>'Texture Calculator'!#REF!, 'Texture Calculator'!#REF!+'Texture Calculator'!#REF!+'Texture Calculator'!#REF!<15), 11, 0)","v":{"$error":"#REF!"}},"fsvfs >= 40 && vfs > fs && vcscsms < 15","VERY FINE SANDY LOAM",{"$f":"IF(AND(SUM('Texture Calculator'!$C$39:$C$43)='Texture Calculator'!$C$6,SUM($G$37:$G$46) = 0,'Texture Calculator'!$C$42+'Texture Calculator'!$C$43>=0.4, 'Texture Calculator'!$C$43>'Texture Calculator'!$C$42, 'Texture Calculator'!#REF!+'Texture Calculator'!$C$40+'Texture Calculator'!$C$41<15), 11, 0)","v":{"$error":"#REF!"}},"fsvfs >= 40 && vfs > fs && vcscsms < 15","VERY FINE SANDY LOAM",{"$f":"IF(AND(SUM('Texture Calculator'!$C$48:$C$62)='Texture Calculator'!$C$7,SUM($J$37:$J$46) = 0,'Texture Calculator'!$C$61+'Texture Calculator'!$C$62>=0.4, 'Texture Calculator'!$C$62>'Texture Calculator'!$C$61, 'Texture Calculator'!$C$48+'Texture Calculator'!$C$49+'Texture Calculator'!$C$60<15), 11, 0)","v":0},"fsvfs >= 40 && vfs > fs && vcscsms < 15","VERY FINE SANDY LOAM"]
[{"$f":"IF(AND(SUM('Texture Calculator'!$C$13:$C$17)='Texture Calculator'!$C$4,SUM($A$37:$A$47) = 0,'Texture Calculator'!$C$13+'Texture Calculator'!$C$14>=0.25, 'Texture Calculator'!$C$17>=0.5), 12, 0)","v":0},"vcscs >= 25 && vfs >= 50","VERY FINE SANDY LOAM",{"$f":"IF(AND(SUM('Texture Calculator'!$C$20:$C$34)='Texture Calculator'!$C$5,SUM($D$37:$D$47) = 0,'Texture Calculator'!#REF!+'Texture Calculator'!#REF!>=0.25, 'Texture Calculator'!$C$34>=0.5), 12, 0)","v":{"$error":"#REF!"}},"vcscs >= 25 && vfs >= 50","VERY FINE SANDY LOAM",{"$f":"IF(AND(SUM('Texture Calculator'!$C$39:$C$43)='Texture Calculator'!$C$6,SUM($G$37:$G$47) = 0,'Texture Calculator'!#REF!+'Texture Calculator'!$C$40>=0.25, 'Texture Calculator'!$C$43>=0.5), 12, 0)","v":{"$error":"#REF!"}},"vcscs >= 25 && vfs >= 50","VERY FINE SANDY LOAM",{"$f":"IF(AND(SUM('Texture Calculator'!$C$48:$C$62)='Texture Calculator'!$C$7,SUM($J$37:$J$47) = 0,'Texture Calculator'!$C$48+'Texture Calculator'!$C$49>=0.25, 'Texture Calculator'!$C$62>=0.5), 12, 0)","v":0},"vcscs >= 25 && vfs >= 50","VERY FINE SANDY LOAM"]
[{"$f":"IF(AND(SUM('Texture Calculator'!$C$13:$C$17)='Texture Calculator'!$C$4,SUM($A$37:$A$48) = 0,'Texture Calculator'!$C$13+'Texture Calculator'!$C$14+'Texture Calculator'!$C$15>=0.3, 'Texture Calculator'!$C$17>=0.5), 13,0)","v":0},"vcscsms >= 30 && vfs >= 50","VERY FINE SANDY LOAM",{"$f":"IF(AND(SUM('Texture Calculator'!$C$20:$C$34)='Texture Calculator'!$C$5,SUM($D$37:$D$48) = 0,'Texture Calculator'!#REF!+'Texture Calculator'!#REF!+'Texture Calculator'!#REF!>=0.3, 'Texture Calculator'!$C$34>=0.5), 13,0)","v":{"$error":"#REF!"}},"vcscsms >= 30 && vfs >= 50","VERY FINE SANDY LOAM",{"$f":"IF(AND(SUM('Texture Calculator'!$C$39:$C$43)='Texture Calculator'!$C$6,SUM($G$37:$G$48) = 0,'Texture Calculator'!#REF!+'Texture Calculator'!$C$40+'Texture Calculator'!$C$41>=0.3, 'Texture Calculator'!$C$43>=0.5), 13,0)","v":{"$error":"#REF!"}},"vcscsms >= 30 && vfs >= 50","VERY FINE SANDY LOAM",{"$f":"IF(AND(SUM('Texture Calculator'!$C$48:$C$62)='Texture Calculator'!$C$7,SUM($J$37:$J$48) = 0,'Texture Calculator'!$C$48+'Texture Calculator'!$C$49+'Texture Calculator'!$C$60>=0.3, 'Texture Calculator'!$C$62>=0.5), 13,0)","v":0},"vcscsms >= 30 && vfs >= 50","VERY FINE SANDY LOAM"]
[{"$f":"SUM(A37:A49)+1","v":1},null,null,{"$f":"SUM(D37:D49)+1","v":{"$error":"#REF!"}},null,null,{"$f":"SUM(G37:G49)+1","v":{"$error":"#REF!"}},null,null,{"$f":"SUM(J37:J49)+1","v":1}]

{"sheet":"Sheet1","index":20,"n_rows":0,"n_cols":0,"rows_kept":0,"cut":false,"hidden":false,"merged":[]}