{"text_format":"1","workbook":"xlsx","n_sheets":26,"sheets":["Results","Texture Calculator","raw files","4428 ","4429 ","4430","4431","4432","4433","4433a ","4434 ","4435","4436 ","4437 ","4438","4438a","4438b","4439 ","4440 ","4441","Calculations","4442","4443","4444 ","4445 ","Sheet1"],"not_rendered":{"charts":45,"images":1,"macros":1,"external_links":0,"defined_names":0,"comments":0,"pivot_tables":0},"unopened":[{"sheet":"4428 ","index":3,"reason":"not_a_worksheet"},{"sheet":"4429 ","index":4,"reason":"not_a_worksheet"},{"sheet":"4430","index":5,"reason":"not_a_worksheet"},{"sheet":"4431","index":6,"reason":"not_a_worksheet"},{"sheet":"4432","index":7,"reason":"not_a_worksheet"},{"sheet":"4433","index":8,"reason":"not_a_worksheet"},{"sheet":"4433a ","index":9,"reason":"not_a_worksheet"},{"sheet":"4434 ","index":10,"reason":"not_a_worksheet"},{"sheet":"4435","index":11,"reason":"not_a_worksheet"},{"sheet":"4436 ","index":12,"reason":"not_a_worksheet"},{"sheet":"4437 ","index":13,"reason":"not_a_worksheet"},{"sheet":"4438","index":14,"reason":"not_a_worksheet"},{"sheet":"4438a","index":15,"reason":"not_a_worksheet"},{"sheet":"4438b","index":16,"reason":"not_a_worksheet"},{"sheet":"4439 ","index":17,"reason":"not_a_worksheet"},{"sheet":"4440 ","index":18,"reason":"not_a_worksheet"},{"sheet":"4441","index":19,"reason":"not_a_worksheet"},{"sheet":"4442","index":21,"reason":"not_a_worksheet"},{"sheet":"4443","index":22,"reason":"not_a_worksheet"},{"sheet":"4444 ","index":23,"reason":"not_a_worksheet"},{"sheet":"4445 ","index":24,"reason":"not_a_worksheet"}],"bounds":{"document_bytes":16777216,"sheet_cells":100000,"rows_first":2000,"rows_last":500,"rows_between":2000,"halvings":0,"cell_chars":16384,"cell_head_chars":4096},"cells_cut":0,"cells_raw":0,"read":"whole","date_system":"1900"}

{"sheet":"Results","index":0,"n_rows":69,"n_cols":88,"rows_kept":69,"cut":false,"hidden":false,"merged":[[7,2,7,5],[8,2,8,5]]}
["Soil Lab, Geological Survey of Israel"]
["Particle Size Analysis by laser diffraction,  Instrument:  Mastersizer 2000"]
["Aviv Lee Zada"]
["Sample description: sand"]
["Samples ID's: [4428-4445]"]
[]
[]
["Particle",null,{"$f":"'raw files'!C1","v":"[4428] Chile_10_T1_0 bulk - c - Average"},null,null,null,null,null,null,"Particle",null,{"$f":"'raw files'!I1","v":"[4429] Chile_10_T1_2 bulk- a - Average"},null,null,null,null,null,null,"Particle",null,{"$f":"'raw files'!O1","v":"[4430] C10_T1_10 bulk - a - Average"},null,null,null,null,null,null,"Particle",null,{"$f":"'raw files'!V1","v":"[4431] C10_T1_11 bulk - c - Average"},null,null,null,null,null,null,"Particle",null,{"$f":"'raw files'!AB1","v":"[4432] C10_T1_21 bulk - a - Average"},null,null,null,null,null,null,"Particle",null,{"$f":"'raw files'!AH1","v":"[4433] C10_T1_25 bulk - a - Average"},null,null,null,null,null,null,"Particle",null,{"$f":"'raw files'!AN1","v":"[4433a] C10_T1_25 bulk- a - Average"},null,null,null,null,null,null,"Particle",null,{"$f":"'raw files'!AT1","v":"[4434] C10_T1_31 bulk - d - Average"},null,null,null,null,null,null,"Particle",null,{"$f":"'raw files'!AZ1","v":"[4435] C10_T1_34 bulk - a - Average"},null,null,null,null,null,"Particle",null,{"$f":"'raw files'!BF1","v":"[4436] C10_T1_39 bulk - a - Average"}]
["Diameter",null,"Differential Volume (%)",null,null,null,null,null,null,"Diameter",null,"Differential Volume (%)",null,null,null,null,null,null,"Diameter",null,"Differential Volume (%)",null,null,null,null,null,null,"Diameter",null,"Differential Volume (%)",null,null,null,null,null,null,"Diameter",null,"Differential Volume (%)",null,null,null,null,null,null,"Diameter",null,"Differential Volume (%)",null,null,null,null,null,null,"Diameter",null,"Differential Volume (%)",null,null,null,null,null,null,"Diameter",null,"Differential Volume (%)",null,null,null,null,null,null,"Diameter",null,"Differential Volume (%)",null,null,null,null,null,"Diameter",null,"Differential Volume (%)"]
["Range (mm)","Size Class","Rep. 1","Rep. 2","Rep. 3","Average","SE",null,null,"Range (mm)","Size Class","Rep. 1","Rep. 2","Rep. 3","Average","SE",null,null,"Range (mm)","Size Class","Rep. 1","Rep. 2","Rep. 3","Average","SE",null,null,"Range (mm)","Size Class","Rep. 1","Rep. 2","Rep. 3","Average","SE",null,null,"Range (mm)","Size Class","Rep. 1","Rep. 2","Rep. 3","Average","SE",null,null,"Range (mm)","Size Class","Rep. 1","Rep. 2","Rep. 3","Average","SE",null,null,"Range (mm)","Size Class","Rep. 1","Rep. 2","Rep. 3","Average","SE",null,null,"Range (mm)","Size Class","Rep. 1","Rep. 2","Rep. 3","Average","SE",null,"Range (mm)","Size Class","Rep. 1","Rep. 2","Rep. 3","Average","SE",null,null,"Range (mm)","Size Class","Rep. 1","Rep. 2","Rep. 3","Average","SE"]
["< 6","Clay",{"$f":"'raw files'!C13","v":1.657},{"$f":"'raw files'!D13","v":2.3170000000000002},{"$f":"'raw files'!E13","v":2.4329999999999998},{"$f":"AVERAGE(C11:E11)","v":2.1356666666666668},{"$f":"(STDEV(C11:E11))/SQRT(3)","v":0.24166459769229237},null,null,"< 6","Clay",{"$f":"'raw files'!I13","v":2.0670000000000002},{"$f":"'raw files'!J13","v":1.9379999999999999},{"$f":"'raw files'!K13","v":1.66},{"$f":"AVERAGE(L11,N11)","v":1.8635000000000002},{"$f":"(STDEV(L11:N11))/SQRT(3)","v":0.12008654286712475},null,null,"< 6","Clay",{"$f":"'raw files'!O13","v":0.61299999999999999},{"$f":"'raw files'!P13","v":1.476},{"$f":"'raw files'!Q13","v":1.325},{"$f":"AVERAGE(U11:W11)","v":1.1379999999999999},{"$f":"(STDEV(U11:W11))/SQRT(3)","v":0.26609459470897462},null,null,"< 6","Clay",{"$f":"'raw files'!U13","v":0.66500000000000004},{"$f":"'raw files'!V13","v":1.718},{"$f":"'raw files'!W13","v":1.7969999999999999},{"$f":"AVERAGE(AD11:AF11)","v":1.3933333333333333},{"$f":"(STDEV(AD11:AF11))/SQRT(3)","v":0.36488004117030648},null,null,"< 6","Clay",{"$f":"'raw files'!AB13","v":0.28799999999999998},{"$f":"'raw files'!AC13","v":0.374},{"$f":"'raw files'!AD13","v":0.36099999999999999},{"$f":"AVERAGE(AM11:AO11)","v":0.34099999999999997},{"$f":"(STDEV(AM11:AO11))/SQRT(3)","v":2.676440422152784E-2},null,null,"< 6","Clay",{"$f":"'raw files'!AH13","v":0},{"$f":"'raw files'!AI13","v":0},{"$f":"'raw files'!AJ13","v":0},{"$f":"AVERAGE(AV11:AX11)","v":0},{"$f":"(STDEV(AV11:AX11))/SQRT(3)","v":0},null,null,"< 6","Clay",{"$f":"'raw files'!AN13","v":1.0369999999999999},{"$f":"'raw files'!AO13","v":0.96599999999999997},{"$f":"'raw files'!AP13","v":1.0580000000000001},{"$f":"AVERAGE(BE11:BG11)","v":1.0203333333333333},{"$f":"(STDEV(BE11:BG11))/SQRT(3)","v":2.7834830299065569E-2},null,null,"< 6","Clay",{"$f":"'raw files'!AT13","v":1.48},{"$f":"'raw files'!AU13","v":1.5209999999999999},{"$f":"'raw files'!AV13","v":2.871},{"$f":"AVERAGE(BN11:BP11)","v":1.9573333333333334},{"$f":"(STDEV(BN11:BP11))/SQRT(3)","v":0.45698662756997355},null,"< 6","Clay",{"$f":"'raw files'!AZ13","v":1.516},{"$f":"'raw files'!BA13","v":1.2989999999999999},{"$f":"'raw files'!BB13","v":2.2509999999999999},{"$f":"AVERAGE(BV11:BX11)","v":1.6886666666666665},{"$f":"(STDEV(BV11:BX11))/SQRT(3)","v":0.28806037175872989},null,null,"< 6","Clay",{"$f":"'raw files'!BF13","v":6.7409999999999997},{"$f":"'raw files'!BG13","v":7.234},{"$f":"'raw files'!BH13","v":7.0030000000000001},{"$f":"AVERAGE(CE11:CG11)","v":6.9926666666666675},{"$f":"(STDEV(CE11:CG11))/SQRT(3)","v":0.14241059573563269}]
["6 - 63","Silt",{"$f":"'raw files'!C14","v":5.2489999999999997},{"$f":"'raw files'!D14","v":6.4909999999999997},{"$f":"'raw files'!E14","v":6.7140000000000004},{"$f":"AVERAGE(C12:E12)","v":6.1513333333333335},{"$f":"(STDEV(C12:E12))/SQRT(3)","v":0.45573615661306094},null,null,"6 - 63","Silt",{"$f":"'raw files'!I14","v":5.7830000000000004},{"$f":"'raw files'!J14","v":5.4779999999999998},{"$f":"'raw files'!K14","v":4.7130000000000001},{"$f":"AVERAGE(L12,N12)","v":5.2480000000000002},{"$f":"(STDEV(L12:N12))/SQRT(3)","v":0.3182547896122086},null,null,"6 - 63","Silt",{"$f":"'raw files'!O14","v":1.7929999999999999},{"$f":"'raw files'!P14","v":3.5569999999999999},{"$f":"'raw files'!Q14","v":2.9540000000000002},{"$f":"AVERAGE(U12:W12)","v":2.7680000000000002},{"$f":"(STDEV(U12:W12))/SQRT(3)","v":0.51764563168252442},null,null,"6 - 63","Silt",{"$f":"'raw files'!U14","v":3.052},{"$f":"'raw files'!V14","v":4.7889999999999997},{"$f":"'raw files'!W14","v":5.452},{"$f":"AVERAGE(AD12:AF12)","v":4.431},{"$f":"(STDEV(AD12:AF12))/SQRT(3)","v":0.71557040184736531},null,null,"6 - 63","Silt",{"$f":"'raw files'!AB14","v":0.40799999999999997},{"$f":"'raw files'!AC14","v":2.2429999999999999},{"$f":"'raw files'!AD14","v":0.376},{"$f":"AVERAGE(AM12:AO12)","v":1.0089999999999999},{"$f":"(STDEV(AM12:AO12))/SQRT(3)","v":0.61706914793508627},null,null,"6 - 63","Silt",{"$f":"'raw files'!AH14","v":0},{"$f":"'raw files'!AI14","v":0},{"$f":"'raw files'!AJ14","v":0},{"$f":"AVERAGE(AV12:AX12)","v":0},{"$f":"(STDEV(AV12:AX12))/SQRT(3)","v":0},null,null,"6 - 63","Silt",{"$f":"'raw files'!AN14","v":5.5439999999999996},{"$f":"'raw files'!AO14","v":5.3170000000000002},{"$f":"'raw files'!AP14","v":4.6719999999999997},{"$f":"AVERAGE(BE12:BG12)","v":5.1776666666666671},{"$f":"(STDEV(BE12:BG12))/SQRT(3)","v":0.26118724658332343},null,null,"6 - 63","Silt",{"$f":"'raw files'!AT14","v":5.1150000000000002},{"$f":"'raw files'!AU14","v":5.2830000000000004},{"$f":"'raw files'!AV14","v":8.7949999999999999},{"$f":"AVERAGE(BN12:BP12)","v":6.3976666666666659},{"$f":"(STDEV(BN12:BP12))/SQRT(3)","v":1.1996473555915435},null,"6 - 63","Silt",{"$f":"'raw files'!AZ14","v":4.6550000000000002},{"$f":"'raw files'!BA14","v":3.8769999999999998},{"$f":"'raw files'!BB14","v":6.0430000000000001},{"$f":"AVERAGE(BV12:BX12)","v":4.8583333333333334},{"$f":"(STDEV(BV12:BX12))/SQRT(3)","v":0.63348173699887556},null,null,"6 - 63","Silt",{"$f":"'raw files'!BF14","v":19.937999999999999},{"$f":"'raw files'!BG14","v":20.448},{"$f":"'raw files'!BH14","v":19.753},{"$f":"AVERAGE(CE12:CG12)","v":20.046333333333333},{"$f":"(STDEV(CE12:CG12))/SQRT(3)","v":0.20781268274845785}]
["63 - 2000","Sand",{"$f":"'raw files'!C15","v":93.093999999999994},{"$f":"'raw files'!D15","v":91.191999999999993},{"$f":"'raw files'!E15","v":90.852999999999994},91.713000000000008,{"$f":"(STDEV(C13:E13))/SQRT(3)","v":0.69740017206765881},null,null,"63 - 2000","Sand",{"$f":"'raw files'!I15","v":92.149000000000001},{"$f":"'raw files'!J15","v":92.584000000000003},{"$f":"'raw files'!K15","v":93.626999999999995},92.888000000000005,{"$f":"(STDEV(L13:N13))/SQRT(3)","v":0.43853024727808243},null,null,"63 - 2000","Sand",{"$f":"'raw files'!O15","v":97.593000000000004},{"$f":"'raw files'!P15","v":94.966999999999999},{"$f":"'raw files'!Q15","v":95.721000000000004},96.093666666666664,{"$f":"(STDEV(U13:W13))/SQRT(3)","v":0.78062567498414137},null,null,"63 - 2000","Sand",{"$f":"'raw files'!U15","v":96.283000000000001},{"$f":"'raw files'!V15","v":93.492999999999995},{"$f":"'raw files'!W15","v":92.751000000000005},94.175666666666686,{"$f":"(STDEV(AD13:AF13))/SQRT(3)","v":1.0752180140686713},null,null,"63 - 2000","Sand",{"$f":"'raw files'!AB15","v":99.305000000000007},{"$f":"'raw files'!AC15","v":97.382999999999996},{"$f":"'raw files'!AD15","v":99.263000000000005},98.650333333333336,0.63378264763596115,null,null,"63 - 2000","Sand",{"$f":"'raw files'!AH15","v":100},{"$f":"'raw files'!AI15","v":100},{"$f":"'raw files'!AJ15","v":100},100,0,null,null,"63 - 2000","Sand",{"$f":"'raw files'!AN15","v":93.418999999999997},{"$f":"'raw files'!AO15","v":93.716999999999999},{"$f":"'raw files'!AP15","v":94.269000000000005},93.801666666666662,{"$f":"(STDEV(BE13:BG13))/SQRT(3)","v":0.24899888442409887},null,null,"63 - 2000","Sand",{"$f":"'raw files'!AT15","v":93.405000000000001},{"$f":"'raw files'!AU15","v":93.195999999999998},{"$f":"'raw files'!AV15","v":88.334000000000003},91.644999999999996,1.6565990261174639,null,"63 - 2000","Sand",{"$f":"'raw files'!AZ15","v":93.828999999999994},{"$f":"'raw files'!BA15","v":94.823999999999998},{"$f":"'raw files'!BB15","v":91.706000000000003},93.452999999999989,{"$f":"(STDEV(BV13:BX13))/SQRT(3)","v":0.9195130957921861},null,null,"63 - 2000","Sand",{"$f":"'raw files'!BF15","v":73.320999999999998},{"$f":"'raw files'!BG15","v":72.319000000000003},{"$f":"'raw files'!BH15","v":73.244},72.961333333333329,{"$f":"(STDEV(CE13:CG13))/SQRT(3)","v":0.32193494857053079}]
["63 - 125","VF Sand",{"$f":"'raw files'!C16","v":3.8860000000000001},{"$f":"'raw files'!D16","v":4.8289999999999997},{"$f":"'raw files'!E16","v":4.907},4.5406666666666666,0.32810685928689604,null,null,"63 - 125","VF Sand",{"$f":"'raw files'!I16","v":4.9589999999999996},{"$f":"'raw files'!J16","v":3.7949999999999999},{"$f":"'raw files'!K16","v":4.0090000000000003},4.484,0.35770813676950497,null,null,"63 - 125","VF Sand",{"$f":"'raw files'!O16","v":2.0779999999999998},{"$f":"'raw files'!P16","v":3.4670000000000001},{"$f":"'raw files'!Q16","v":2.367},2.6373333333333333,0.42313919432945141,null,null,"63 - 125","VF Sand",{"$f":"'raw files'!U16","v":2.3660000000000001},{"$f":"'raw files'!V16","v":3.4569999999999999},{"$f":"'raw files'!W16","v":4.4859999999999998},3.4363333333333337,0.61207851711288574,null,null,"63 - 125","VF Sand",{"$f":"'raw files'!AB16","v":0.154},{"$f":"'raw files'!AC16","v":0.193},{"$f":"'raw files'!AD16","v":0.61399999999999999},0.3203333333333333,0.14726431264151466,null,null,"63 - 125","VF Sand",{"$f":"'raw files'!AH16","v":1.4910000000000001},{"$f":"'raw files'!AI16","v":2.8119999999999998},{"$f":"'raw files'!AJ16","v":1.788},2.0303333333333335,0.40012678546236352,null,null,"63 - 125","VF Sand",{"$f":"'raw files'!AN16","v":11.760999999999999},{"$f":"'raw files'!AO16","v":11.407},{"$f":"'raw files'!AP16","v":10.257999999999999},{"$f":"AVERAGE(BE14:BG14)","v":11.142000000000001},{"$f":"(STDEV(BE14:BG14))/SQRT(3)","v":0.45365956399044444},null,null,"63 - 125","VF Sand",{"$f":"'raw files'!AT16","v":7.74},{"$f":"'raw files'!AU16","v":8.0920000000000005},{"$f":"'raw files'!AV16","v":12.01},{"$f":"AVERAGE(BN14:BP14)","v":9.2806666666666668},1.3684445346613221,null,"63 - 125","VF Sand",{"$f":"'raw files'!AZ16","v":11.664999999999999},{"$f":"'raw files'!BA16","v":11.516999999999999},{"$f":"'raw files'!BB16","v":15.432},12.871333333333332,1.2810459702047376,null,null,"63 - 125","VF Sand",{"$f":"'raw files'!BF16","v":17.001000000000001},{"$f":"'raw files'!BG16","v":17.872},{"$f":"'raw files'!BH16","v":16.908000000000001},17.260333333333335,0.30700940991731424]
["125 - 250","F Sand",{"$f":"'raw files'!C17","v":21.667000000000002},{"$f":"'raw files'!D17","v":22.911999999999999},{"$f":"'raw files'!E17","v":21.398},21.992333333333335,0.46634405515432209,null,null,"125 - 250","F Sand",{"$f":"'raw files'!I17","v":36.018999999999998},{"$f":"'raw files'!J17","v":38.375},{"$f":"'raw files'!K17","v":36.628},36.323499999999996,0.70606995246772708,null,null,"125 - 250","F Sand",{"$f":"'raw files'!O17","v":11.016999999999999},{"$f":"'raw files'!P17","v":14.114000000000001},{"$f":"'raw files'!Q17","v":13.526},12.885666666666665,0.9496266517836367,null,null,"125 - 250","F Sand",{"$f":"'raw files'!U17","v":30.163},{"$f":"'raw files'!V17","v":31.395},{"$f":"'raw files'!W17","v":32.856000000000002},31.471333333333334,0.77833847250266286,null,null,"125 - 250","F Sand",{"$f":"'raw files'!AB17","v":26.303000000000001},{"$f":"'raw files'!AC17","v":28.341000000000001},{"$f":"'raw files'!AD17","v":33.037999999999997},29.227333333333334,1.9940951442808439,null,null,"125 - 250","F Sand",{"$f":"'raw files'!AH17","v":55.783000000000001},{"$f":"'raw files'!AI17","v":55.451000000000001},{"$f":"'raw files'!AJ17","v":57.92},56.384666666666668,0.77362616582199761,null,null,"125 - 250","F Sand",{"$f":"'raw files'!AN17","v":44.131},{"$f":"'raw files'!AO17","v":46.548999999999999},{"$f":"'raw files'!AP17","v":47.844999999999999},{"$f":"AVERAGE(BE15:BG15)","v":46.175000000000004},{"$f":"(STDEV(BE15:BG15))/SQRT(3)","v":1.0883253190108182},null,null,"125 - 250","F Sand",{"$f":"'raw files'!AT17","v":36.042000000000002},{"$f":"'raw files'!AU17","v":38.893000000000001},{"$f":"'raw files'!AV17","v":37.432000000000002},37.455666666666666,0.82309787456359684,null,"125 - 250","F Sand",{"$f":"'raw files'!AZ17","v":56.500999999999998},{"$f":"'raw files'!BA17","v":51.408999999999999},{"$f":"'raw files'!BB17","v":52.238999999999997},53.383000000000003,1.5773044516938803,null,null,"125 - 250","F Sand",{"$f":"'raw files'!BF17","v":37.734000000000002},{"$f":"'raw files'!BG17","v":37.981999999999999},{"$f":"'raw files'!BH17","v":36.555},37.423666666666669,0.44019402287829618]
["250 - 500","M Sand",{"$f":"'raw files'!C18","v":27.114000000000001},{"$f":"'raw files'!D18","v":30.155000000000001},{"$f":"'raw files'!E18","v":31.25},29.506333333333334,1.2372281295074263,null,null,"250 - 500","M Sand",{"$f":"'raw files'!I18","v":38.820999999999998},{"$f":"'raw files'!J18","v":41.286999999999999},{"$f":"'raw files'!K18","v":38.228000000000002},38.524500000000003,0.93660990338086347,null,null,"250 - 500","M Sand",{"$f":"'raw files'!O18","v":22.905999999999999},{"$f":"'raw files'!P18","v":24.908999999999999},{"$f":"'raw files'!Q18","v":22.888999999999999},23.567999999999998,0.67051795899389099,null,null,"250 - 500","M Sand",{"$f":"'raw files'!U18","v":48.962000000000003},{"$f":"'raw files'!V18","v":47.984999999999999},{"$f":"'raw files'!W18","v":45.905000000000001},47.617333333333335,0.90142412018119711,null,null,"250 - 500","M Sand",{"$f":"'raw files'!AB18","v":59.697000000000003},{"$f":"'raw files'!AC18","v":60.408000000000001},{"$f":"'raw files'!AD18","v":57.225000000000001},59.110000000000007,0.96458955001596414,null,null,"250 - 500","M Sand",{"$f":"'raw files'!AH18","v":42.68},{"$f":"'raw files'!AI18","v":41.646999999999998},{"$f":"'raw files'!AJ18","v":40.253999999999998},41.526999999999994,0.70289140934666017,null,null,"250 - 500","M Sand",{"$f":"'raw files'!AN18","v":29.079000000000001},{"$f":"'raw files'!AO18","v":31.5},{"$f":"'raw files'!AP18","v":32.372},30.983666666666664,0.98504015710584647,null,null,"250 - 500","M Sand",{"$f":"'raw files'!AT18","v":30.433},{"$f":"'raw files'!AU18","v":34.021999999999998},{"$f":"'raw files'!AV18","v":26.564},30.33966666666667,2.1534448629527936,null,"250 - 500","M Sand",{"$f":"'raw files'!AZ18","v":25.663},{"$f":"'raw files'!BA18","v":25.03},{"$f":"'raw files'!BB18","v":24.033999999999999},24.909000000000002,0.47412761995057873,null,null,"250 - 500","M Sand",{"$f":"'raw files'!BF18","v":18.564},{"$f":"'raw files'!BG18","v":16.452000000000002},{"$f":"'raw files'!BH18","v":16.96},17.325333333333337,0.63645825559192071]
["500 - 1000","C Sand",{"$f":"'raw files'!C19","v":22.753},{"$f":"'raw files'!D19","v":21.734999999999999},{"$f":"'raw files'!E19","v":24.390999999999998},22.959666666666664,0.7736530948113054,null,null,"500 - 1000","C Sand",{"$f":"'raw files'!I19","v":10.551},{"$f":"'raw files'!J19","v":7.0629999999999997},{"$f":"'raw files'!K19","v":9.5},10.025500000000001,1.0330567909526229,null,null,"500 - 1000","C Sand",{"$f":"'raw files'!O19","v":38.076000000000001},{"$f":"'raw files'!P19","v":33.069000000000003}," ",35.572500000000005,2.0440991903525614,null,null,"500 - 1000","C Sand",{"$f":"'raw files'!U19","v":14.707000000000001},{"$f":"'raw files'!V19","v":10.657},{"$f":"'raw files'!W19","v":9.5030000000000001},11.622333333333335,1.5779000109146435,null,null,"500 - 1000","C Sand",{"$f":"'raw files'!AB19","v":12.891},{"$f":"'raw files'!AC19","v":8.4410000000000007},{"$f":"'raw files'!AD19","v":8.3859999999999992},9.9060000000000006,1.4925844476388375,null,null,"500 - 1000","C Sand",{"$f":"'raw files'!AH19","v":4.4999999999999998E-2},{"$f":"'raw files'!AI19","v":0.09},{"$f":"'raw files'!AJ19","v":3.6999999999999998E-2},5.733333333333334E-2,1.649579070887815E-2,null,null,"500 - 1000","C Sand",{"$f":"'raw files'!AN19","v":4.32},{"$f":"'raw files'!AO19","v":1.5},{"$f":"'raw files'!AP19","v":1.6020000000000001},2.4740000000000002,0.92346954470626719,null,null,"500 - 1000","C Sand",{"$f":"'raw files'!AT19","v":10.627000000000001},{"$f":"'raw files'!AU19","v":8.2469999999999999},{"$f":"'raw files'!AV19","v":6.2619999999999996},8.3786666666666676,1.2617855514221812,null,"500 - 1000","C Sand",{"$f":"'raw files'!AZ19","v":0},{"$f":"'raw files'!BA19","v":3.9169999999999998},{"$f":"'raw files'!BB19","v":0},1.3056666666666665,1.3056666666666665,null,null,"500 - 1000","C Sand",{"$f":"'raw files'!BF19","v":2.1999999999999999E-2},{"$f":"'raw files'!BG19","v":1.2E-2},{"$f":"'raw files'!BH19","v":1.647},0.56033333333333335,0.54334100199087165]
["1000 - 2000","VC Sand",{"$f":"'raw files'!C20","v":17.673999999999999},{"$f":"'raw files'!D20","v":11.561999999999999},{"$f":"'raw files'!E20","v":8.907},12.714333333333334,2.5955716347485205,null,null,"1000 - 2000","VC Sand",{"$f":"'raw files'!I20","v":1.7989999999999999},{"$f":"'raw files'!J20","v":2.0640000000000001},{"$f":"'raw files'!K20","v":5.2619999999999996},3.5305,1.112799223180494,null,null,"1000 - 2000","VC Sand",{"$f":"'raw files'!O20","v":23.515999999999998},{"$f":"'raw files'!P20","v":19.407},{"$f":"'raw files'!Q20","v":24.036999999999999},22.320000000000004,1.4642446289241877,null,null,"1000 - 2000","VC Sand",{"$f":"'raw files'!U20","v":8.4000000000000005E-2},{"$f":"'raw files'!V20","v":0},{"$f":"'raw files'!W20","v":0},2.8000000000000001E-2,2.8000000000000001E-2,null,null,"1000 - 2000","VC Sand",{"$f":"'raw files'!AB20","v":0.26100000000000001},{"$f":"'raw files'!AC20","v":0},{"$f":"'raw files'!AD20","v":0},8.7000000000000008E-2,8.7000000000000008E-2,null,null,"1000 - 2000","VC Sand",{"$f":"'raw files'!AH20","v":0},{"$f":"'raw files'!AI20","v":0},{"$f":"'raw files'!AJ20","v":0},0,0,null,null,"1000 - 2000","VC Sand",{"$f":"'raw files'!AN20","v":4.1269999999999998},{"$f":"'raw files'!AO20","v":2.7610000000000001},{"$f":"'raw files'!AP20","v":2.1930000000000001},3.0269999999999997,0.57392101663324191,null,null,"1000 - 2000","VC Sand",{"$f":"'raw files'!AT20","v":8.5640000000000001},{"$f":"'raw files'!AU20","v":3.9420000000000002},{"$f":"'raw files'!AV20","v":6.0670000000000002},6.1909999999999998,1.3356961979931412,null,"1000 - 2000","VC Sand",{"$f":"'raw files'!AZ20","v":0},{"$f":"'raw files'!BA20","v":2.952},{"$f":"'raw files'!BB20","v":0},0.98399999999999999,0.9840000000000001,null,null,"1000 - 2000","VC Sand",{"$f":"'raw files'!BF20","v":0},{"$f":"'raw files'!BG20","v":0},{"$f":"'raw files'!BH20","v":1.1739999999999999},0.39133333333333331,0.39133333333333331]
[null,null,null,"Textural Class:",null,{"$f":"'Texture Calculator'!N4","v":"SAND"},null,null,null,null,null,null,"Textural Class:",null,{"$f":"'Texture Calculator'!N5","v":"SAND"},null,null,null,null,null,null,"Textural Class:",{"$f":"'Texture Calculator'!N6","v":"SAND"},null,null,null,null,null,null,null,"Textural Class:",{"$f":"'Texture Calculator'!N7","v":"SAND"},null,null,null,null,null,null,"Textural Class:",null,{"$f":"'Texture Calculator'!N8","v":"SAND"},null,null,null,null,null,null,"Textural Class:",null,{"$f":"'Texture Calculator'!N9","v":"SAND"},null,null,null,null,null,null,"Textural Class:",null,{"$f":"'Texture Calculator'!N10","v":"SAND"},null,null,null,null,null,"Textural Class:",null,{"$f":"'Texture Calculator'!N11","v":"SAND"},null,null,null,null,null,null,"Textural Class:",null,{"$f":"'Texture Calculator'!N12","v":"SAND"},null,null,null,null,null,"Textural Class:",null,{"$f":"'Texture Calculator'!N13","v":"SAND"}]
[null,null,null,"avg mode:",null,{"$f":"AVERAGE('raw files'!C6:E6)","v":291.46566666666666},null,null,null,null,null,null,"avg mode:",null,{"$f":"AVERAGE('raw files'!I6:K6)","v":254.36533333333333},null,null,null,null,null,null,"avg mode:",null,{"$f":"AVERAGE('raw files'!O6:Q6)","v":838.14700000000005},null,null,null,null,null,null,"avg mode:",null,{"$f":"AVERAGE('raw files'!V6:W6)","v":294.79250000000002},null,null,null,null,null,"avg mode:",null,{"$f":"AVERAGE('raw files'!AF6:AH6)","v":236.471},null,null,null,null,null,null,"avg mode:",null,{"$f":"AVERAGE('raw files'!AH6:AJ6)","v":233.82233333333332},null,null,null,null,null,null,"avg mode:",null,{"$f":"AVERAGE('raw files'!AN6:AP6)","v":216.98666666666668},null,null,null,null,null,"avg mode:",null,{"$f":"AVERAGE('raw files'!AU6:AV6)","v":226.12},null,null,null,null,null,null,"avg mode:",null,{"$f":"AVERAGE('raw files'!AZ6:BB6)","v":198.60033333333331},null,null,null,null,null,null,"avg mode:",null,{"$f":"AVERAGE('raw files'!BF6:BH6)","v":187.95633333333333}]
[]
[]
[]
["Particle",null,{"$f":"'raw files'!BL1","v":"[4437] C10_T1_43 bulk - a new Averaged Result"},null,null,null,null,null,null,"Particle",null,{"$f":"'raw files'!BR1","v":"[4438] C10_dark bulk - a - Average"},null,null,null,null,null,null,"Particle",null,{"$f":"'raw files'!BX1","v":"[4438a] C10_dune bulk - a - Average"},null,null,null,null,null,null,"Particle",null,{"$f":"'raw files'!CD1","v":"[4438b] C10_interdune bulk - a - Average"},null,null,null,null,null,null,"Particle",null,{"$f":"'raw files'!CJ1","v":"[4439] C10_T2_44 bulk - a - Average"},null,null,null,null,null,null,"Particle",null,{"$f":"'raw files'!CP1","v":"[4440] C10_T2_51 bulk - a - Average"},null,null,null,null,null,null,"Particle",null,{"$f":"'raw files'!CV1","v":"[4441] C10_T2_55 bulk - b - Average"},null,null,null,null,null,null,"Particle",null,{"$f":"'raw files'!DB1","v":"[4442] C10_T2_63 bulk - a - Average"},null,null,null,null,null,null,"Particle",null,{"$f":"'raw files'!DH1","v":"[4443] C10_T2_67 bulk - b - Average"},null,null,null,null,null,null,"Particle",null,{"$f":"'raw files'!DN1","v":"[4444] C10_T2_76 bulk - c - Average"}]
["Diameter",null,"Differential Volume (%)",null,null,null,null,null,null,"Diameter",null,"Differential Volume (%)",null,null,null,null,null,null,"Diameter",null,"Differential Volume (%)",null,null,null,null,null,null,"Diameter",null,"Differential Volume (%)",null,null,null,null,null,null,"Diameter",null,"Differential Volume (%)",null,null,null,null,null,null,"Diameter",null,"Differential Volume (%)",null,null,null,null,null,null,"Diameter",null,"Differential Volume (%)",null,null,null,null,null,null,"Diameter",null,"Differential Volume (%)",null,null,null,null,null,null,"Diameter",null,"Differential Volume (%)",null,null,null,null,null,null,"Diameter",null,"Differential Volume (%)"]
["Range (mm)","Size Class","Rep. 1","Rep. 2","Rep. 3","Average","SE",null,null,"Range (mm)","Size Class","Rep. 1","Rep. 2","Rep. 3","Average","SE",null,null,"Range (mm)","Size Class","Rep. 1","Rep. 2","Rep. 3","Average","SE",null,null,"Range (mm)","Size Class","Rep. 1","Rep. 2","Rep. 3","Average","SE",null,null,"Range (mm)","Size Class","Rep. 1","Rep. 2","Rep. 3","Average","SE",null,null,"Range (mm)","Size Class","Rep. 1","Rep. 2","Rep. 3","Average","SE",null,null,"Range (mm)","Size Class","Rep. 1","Rep. 2","Rep. 3","Average","SE",null,null,"Range (mm)","Size Class","Rep. 1","Rep. 2","Rep. 3","Average","SE",null,null,"Range (mm)","Size Class","Rep. 1","Rep. 2","Rep. 3","Average","SE",null,null,"Range (mm)","Size Class","Rep. 1","Rep. 2","Rep. 3","Average","SE"]
["< 6","Clay",{"$f":"'raw files'!BL13","v":16.643000000000001},{"$f":"'raw files'!BM13","v":18.283999999999999},{"$f":"'raw files'!BN13","v":18.038},{"$f":"AVERAGE(D27:E27)","v":18.161000000000001},{"$f":"(STDEV(D27:E27))/SQRT(2)","v":0.12299999999999932},null,null,"< 6","Clay",{"$f":"'raw files'!BR13","v":0},{"$f":"'raw files'!BS13","v":0},{"$f":"'raw files'!BT13","v":0},{"$f":"AVERAGE(L27:N27)","v":0},{"$f":"(STDEV(L27:N27))/SQRT(3)","v":0},null,null,"< 6","Clay",{"$f":"'raw files'!BX13","v":0},{"$f":"'raw files'!BY13","v":0},{"$f":"'raw files'!BZ13","v":0},{"$f":"AVERAGE(U27:W27)","v":0},{"$f":"(STDEV(U27:W27))/SQRT(3)","v":0},null,null,"< 6","Clay",{"$f":"'raw files'!CD13","v":0.65700000000000003},{"$f":"'raw files'!CE13","v":0.66800000000000004},{"$f":"'raw files'!CF13","v":0.96299999999999997},{"$f":"AVERAGE(AD27:AF27)","v":0.76266666666666671},{"$f":"(STDEV(AD27:AF27))/SQRT(3)","v":0.10021698680585235},null,null,"< 6","Clay",{"$f":"'raw files'!CJ13","v":15.071},{"$f":"'raw files'!CK13","v":13.739000000000001},{"$f":"'raw files'!CL13","v":13.257},{"$f":"AVERAGE(AM27:AO27)","v":14.022333333333334},{"$f":"(STDEV(AM27:AO27))/SQRT(3)","v":0.54248113126428432},null,null,"< 6","Clay",{"$f":"'raw files'!CP13","v":1.2070000000000001},{"$f":"'raw files'!CQ13","v":1.1519999999999999},{"$f":"'raw files'!CR13","v":1.653},{"$f":"AVERAGE(AV27:AX27)","v":1.3373333333333335},{"$f":"(STDEV(AV27:AX27))/SQRT(3)","v":0.15862989770041588},null,null,"< 6","Clay",{"$f":"'raw files'!CV13","v":0},{"$f":"'raw files'!CW13","v":0.83499999999999996},{"$f":"'raw files'!CX13","v":0.76600000000000001},{"$f":"AVERAGE(BE27:BG27)","v":0.53366666666666662},{"$f":"(STDEV(BE27:BG27))/SQRT(3)","v":0.26757574213253671},null,null,"< 6","Clay",{"$f":"'raw files'!DB13","v":0},{"$f":"'raw files'!DC13","v":0.42},{"$f":"'raw files'!DD13","v":0.41299999999999998},{"$f":"AVERAGE(BN27:BO27)","v":0.21},{"$f":"(STDEV(BN27:BO27))/SQRT(2)","v":0.21},null,null,"< 6","Clay",{"$f":"'raw files'!DH13","v":0},{"$f":"'raw files'!DI13","v":0.31},{"$f":"'raw files'!DJ13","v":0.16800000000000001},{"$f":"AVERAGE(BW27:BY27)","v":0.15933333333333333},{"$f":"(STDEV(BW27:BY27))/SQRT(3)","v":8.9594146634203245E-2},null,null,"< 6","Clay",{"$f":"'raw files'!DN13","v":1.3069999999999999},{"$f":"'raw files'!DO13","v":1.4019999999999999},{"$f":"'raw files'!DP13","v":0.57999999999999996},{"$f":"AVERAGE(CF27:CG27)","v":1.3544999999999998},{"$f":"(STDEV(CF27:CG27))/SQRT(2)","v":4.7499999999999987E-2}]
["6 - 63","Silt",{"$f":"'raw files'!BL14","v":39.616999999999997},{"$f":"'raw files'!BM14","v":43.63},{"$f":"'raw files'!BN14","v":42.887},{"$f":"AVERAGE(D28:E28)","v":43.258499999999998},0.371500000000001,null,null,"6 - 63","Silt",{"$f":"'raw files'!BR14","v":0},{"$f":"'raw files'!BS14","v":0},{"$f":"'raw files'!BT14","v":1.9019999999999999},{"$f":"AVERAGE(L28:N28)","v":0.63400000000000001},{"$f":"(STDEV(L28:N28))/SQRT(3)","v":0.63400000000000001},null,null,"6 - 63","Silt",{"$f":"'raw files'!BX14","v":0},{"$f":"'raw files'!BY14","v":0},{"$f":"'raw files'!BZ14","v":2.226},{"$f":"AVERAGE(U28:W28)","v":0.74199999999999999},{"$f":"(STDEV(U28:W28))/SQRT(3)","v":0.74199999999999999},null,null,"6 - 63","Silt",{"$f":"'raw files'!CD14","v":3.1659999999999999},{"$f":"'raw files'!CE14","v":3.1280000000000001},{"$f":"'raw files'!CF14","v":3.7919999999999998},{"$f":"AVERAGE(AD28:AF28)","v":3.3620000000000001},{"$f":"(STDEV(AD28:AF28))/SQRT(3)","v":0.21527966307418198},null,null,"6 - 63","Silt",{"$f":"'raw files'!CJ14","v":41.741},{"$f":"'raw files'!CK14","v":37.94},{"$f":"'raw files'!CL14","v":38.481000000000002},{"$f":"AVERAGE(AM28:AO28)","v":39.387333333333338},{"$f":"(STDEV(AM28:AO28))/SQRT(3)","v":1.1871506971643397},null,null,"6 - 63","Silt",{"$f":"'raw files'!CP14","v":3.879},{"$f":"'raw files'!CQ14","v":4.0179999999999998},{"$f":"'raw files'!CR14","v":4.6219999999999999},{"$f":"AVERAGE(AV28:AX28)","v":4.173},{"$f":"(STDEV(AV28:AX28))/SQRT(3)","v":0.22805774122650019},null,null,"6 - 63","Silt",{"$f":"'raw files'!CV14","v":2.2170000000000001},{"$f":"'raw files'!CW14","v":4.5460000000000003},{"$f":"'raw files'!CX14","v":4.085},{"$f":"AVERAGE(BE28:BG28)","v":3.6159999999999997},{"$f":"(STDEV(BE28:BG28))/SQRT(3)","v":0.71204658087328443},null,null,"6 - 63","Silt",{"$f":"'raw files'!DB14","v":3.1190000000000002},{"$f":"'raw files'!DC14","v":4.1130000000000004},{"$f":"'raw files'!DD14","v":4.2949999999999999},{"$f":"AVERAGE(BN28:BO28)","v":3.6160000000000005},{"$f":"(STDEV(BN28:BO28))/SQRT(2)","v":0.49699999999999667},null,null,"6 - 63","Silt",{"$f":"'raw files'!DH14","v":3.7469999999999999},{"$f":"'raw files'!DI14","v":3.3090000000000002},{"$f":"'raw files'!DJ14","v":4.0250000000000004},{"$f":"AVERAGE(BW28:BY28)","v":3.6936666666666667},{"$f":"(STDEV(BW28:BY28))/SQRT(3)","v":0.20840452117083366},null,null,"6 - 63","Silt",{"$f":"'raw files'!DN14","v":6.085},{"$f":"'raw files'!DO14","v":6.2190000000000003},{"$f":"'raw files'!DP14","v":3.6869999999999998},{"$f":"AVERAGE(CF28:CG28)","v":6.1520000000000001},{"$f":"(STDEV(CF28:CG28))/SQRT(2)","v":6.7000000000000157E-2}]
["63 - 2000","Sand",{"$f":"'raw files'!BL15","v":43.74},{"$f":"'raw files'!BM15","v":38.085999999999999},{"$f":"'raw files'!BN15","v":39.075000000000003},38.580500000000001,{"$f":"(STDEV(D29:E29))/SQRT(2)","v":0.49450000000000216},null,null,"63 - 2000","Sand",{"$f":"'raw files'!BR15","v":100},{"$f":"'raw files'!BS15","v":100},{"$f":"'raw files'!BT15","v":98.097999999999999},99.366,{"$f":"(STDEV(L29:N29))/SQRT(3)","v":0.63400000000000034},null,null,"63 - 2000","Sand",{"$f":"'raw files'!BX15","v":100},{"$f":"'raw files'!BY15","v":100},{"$f":"'raw files'!BZ15","v":97.774000000000001},99.257999999999996,0.74199999999999977,null,null,"63 - 2000","Sand",{"$f":"'raw files'!CD15","v":96.177999999999997},{"$f":"'raw files'!CE15","v":96.203999999999994},{"$f":"'raw files'!CF15","v":95.244},95.87533333333333,0.31575588320374465,null,null,"63 - 2000","Sand",{"$f":"'raw files'!CJ15","v":43.188000000000002},{"$f":"'raw files'!CK15","v":48.320999999999998},{"$f":"'raw files'!CL15","v":48.262},46.590333333333341,1.7012519246458202,null,null,"63 - 2000","Sand",{"$f":"'raw files'!CP15","v":94.914000000000001},{"$f":"'raw files'!CQ15","v":94.83},{"$f":"'raw files'!CR15","v":93.724999999999994},94.489666666666665,0.38310152411309883,null,null,"63 - 2000","Sand",{"$f":"'raw files'!CV15","v":97.783000000000001},{"$f":"'raw files'!CW15","v":94.617999999999995},{"$f":"'raw files'!CX15","v":95.149000000000001},95.850000000000009,0.97858009380939415,null,null,"63 - 2000","Sand",{"$f":"'raw files'!DB15","v":96.881},{"$f":"'raw files'!DC15","v":95.465999999999994},{"$f":"'raw files'!DD15","v":95.292000000000002},96.17349999999999,0.70750000000000313,null,null,"63 - 2000","Sand",{"$f":"'raw files'!DH15","v":96.253},{"$f":"'raw files'!DI15","v":96.381},{"$f":"'raw files'!DJ15","v":95.807000000000002},96.147000000000006,{"$f":"(STDEV(BW29:BY29))/SQRT(3)","v":0.17396934595880134},null,null,"63 - 2000","Sand",{"$f":"'raw files'!DN15","v":92.608999999999995},{"$f":"'raw files'!DO15","v":92.379000000000005},{"$f":"'raw files'!DP15","v":95.733999999999995},92.494,0.11499999999999487]
["63 - 125","VF Sand",{"$f":"'raw files'!BL16","v":20.294},{"$f":"'raw files'!BM16","v":20.852},{"$f":"'raw files'!BN16","v":20.169},20.5105,0.34149999999999986,null,null,"63 - 125","VF Sand",{"$f":"'raw files'!BR16","v":1.3280000000000001},{"$f":"'raw files'!BS16","v":3.5430000000000001},{"$f":"'raw files'!BT16","v":2.484},{"$f":"AVERAGE(L30:N30)","v":2.4516666666666667},{"$f":"(STDEV(L30:N30))/SQRT(3)","v":0.6396197655204573},null,null,"63 - 125","VF Sand",{"$f":"'raw files'!BX16","v":1.6519999999999999},{"$f":"'raw files'!BY16","v":2.3410000000000002},{"$f":"'raw files'!BZ16","v":3.5529999999999999},2.5153333333333334,0.55565106956714339,null,null,"63 - 125","VF Sand",{"$f":"'raw files'!CD16","v":2.016},{"$f":"'raw files'!CE16","v":2.4359999999999999},{"$f":"'raw files'!CF16","v":2.5379999999999998},2.33,0.15973728431396345,null,null,"63 - 125","VF Sand",{"$f":"'raw files'!CJ16","v":17.898},{"$f":"'raw files'!CK16","v":15.946999999999999},{"$f":"'raw files'!CL16","v":17.521000000000001},{"$f":"AVERAGE(AM30:AO30)","v":17.122},0.59749504879399107,null,null,"63 - 125","VF Sand",{"$f":"'raw files'!CP16","v":11.874000000000001},{"$f":"'raw files'!CQ16","v":12.477},{"$f":"'raw files'!CR16","v":12.532},{"$f":"AVERAGE(AV30:AX30)","v":12.294333333333332},{"$f":"(STDEV(AV30:AX30))/SQRT(3)","v":0.21076553587128768},null,null,"63 - 125","VF Sand",{"$f":"'raw files'!CV16","v":15.768000000000001},{"$f":"'raw files'!CW16","v":20.201000000000001},{"$f":"'raw files'!CX16","v":19.949000000000002},18.639333333333337,1.4375085313756384,null,null,"63 - 125","VF Sand",{"$f":"'raw files'!DB16","v":8.9580000000000002},{"$f":"'raw files'!DC16","v":7.2069999999999999},{"$f":"'raw files'!DD16","v":7.9189999999999996},8.0824999999999996,0.87550000000001205,null,null,"63 - 125","VF Sand",{"$f":"'raw files'!DH16","v":3.3889999999999998},{"$f":"'raw files'!DI16","v":1.9219999999999999},{"$f":"'raw files'!DJ16","v":3.2869999999999999},{"$f":"AVERAGE(BW30:BY30)","v":2.8659999999999997},{"$f":"(STDEV(BW30:BY30))/SQRT(3)","v":0.47291754038098527},null,null,"63 - 125","VF Sand",{"$f":"'raw files'!DN16","v":4.4240000000000004},{"$f":"'raw files'!DO16","v":4.8579999999999997},{"$f":"'raw files'!DP16","v":2.21},4.641,0.21699999999999961]
["125 - 250","F Sand",{"$f":"'raw files'!BL17","v":12.776},{"$f":"'raw files'!BM17","v":12.042},{"$f":"'raw files'!BN17","v":12.968},12.504999999999999,0.46300000000000008,null,null,"125 - 250","F Sand",{"$f":"'raw files'!BR17","v":56.453000000000003},{"$f":"'raw files'!BS17","v":57.801000000000002},{"$f":"'raw files'!BT17","v":58.634999999999998},{"$f":"AVERAGE(L31:N31)","v":57.629666666666672},0.63568790385778895,null,null,"125 - 250","F Sand",{"$f":"'raw files'!BX17","v":54.716000000000001},{"$f":"'raw files'!BY17","v":57.417999999999999},{"$f":"'raw files'!BZ17","v":54.658000000000001},55.597333333333331,0.91048729321781863,null,null,"125 - 250","F Sand",{"$f":"'raw files'!CD17","v":47.024999999999999},{"$f":"'raw files'!CE17","v":48.764000000000003},{"$f":"'raw files'!CF17","v":47.624000000000002},47.804333333333339,0.51003932310275091,null,null,"125 - 250","F Sand",{"$f":"'raw files'!CJ17","v":18.308},{"$f":"'raw files'!CK17","v":17.009},{"$f":"'raw files'!CL17","v":18.161999999999999},{"$f":"AVERAGE(AM31:AO31)","v":17.826333333333334},0.41083424611122371,null,null,"125 - 250","F Sand",{"$f":"'raw files'!CP17","v":63.23},{"$f":"'raw files'!CQ17","v":63.462000000000003},{"$f":"'raw files'!CR17","v":62.194000000000003},{"$f":"AVERAGE(AV31:AX31)","v":62.96200000000001},{"$f":"(STDEV(AV31:AX31))/SQRT(3)","v":0.3897965281186237},null,null,"125 - 250","F Sand",{"$f":"'raw files'!CV17","v":54.642000000000003},{"$f":"'raw files'!CW17","v":55.09},{"$f":"'raw files'!CX17","v":55.365000000000002},55.032333333333334,0.21069435472055489,null,null,"125 - 250","F Sand",{"$f":"'raw files'!DB17","v":48.616999999999997},{"$f":"'raw files'!DC17","v":46.719000000000001},{"$f":"'raw files'!DD17","v":47.25},47.667999999999999,0.94899999999999807,null,null,"125 - 250","F Sand",{"$f":"'raw files'!DH17","v":38.540999999999997},{"$f":"'raw files'!DI17","v":36.176000000000002},{"$f":"'raw files'!DJ17","v":37.616},{"$f":"AVERAGE(BW31:BY31)","v":37.444333333333333},0.68809115998132298,null,null,"125 - 250","F Sand",{"$f":"'raw files'!DN17","v":13.412000000000001},{"$f":"'raw files'!DO17","v":13.465},{"$f":"'raw files'!DP17","v":11.053000000000001},13.438500000000001,2.649999999999952E-2]
["250 - 500","M Sand",{"$f":"'raw files'!BL18","v":6.5540000000000003},{"$f":"'raw files'!BM18","v":4.5640000000000001},{"$f":"'raw files'!BN18","v":3.3420000000000001},3.9530000000000003,0.61099999999999755,null,null,"250 - 500","M Sand",{"$f":"'raw files'!BR18","v":42.191000000000003},{"$f":"'raw files'!BS18","v":38.601999999999997},{"$f":"'raw files'!BT18","v":36.947000000000003},39.24666666666667,1.5477489388714758,null,null,"250 - 500","M Sand",{"$f":"'raw files'!BX18","v":43.567},{"$f":"'raw files'!BY18","v":40.192},{"$f":"'raw files'!BZ18","v":39.505000000000003},41.088000000000001,1.2552653106017067,null,null,"250 - 500","M Sand",{"$f":"'raw files'!CD18","v":45.973999999999997},{"$f":"'raw files'!CE18","v":44.104999999999997},{"$f":"'raw files'!CF18","v":43.970999999999997},44.68333333333333,0.64649164298113282,null,null,"250 - 500","M Sand",{"$f":"'raw files'!CJ18","v":6.8970000000000002},{"$f":"'raw files'!CK18","v":8.3740000000000006},{"$f":"'raw files'!CL18","v":9.8699999999999992},8.3803333333333327,0.85823701724976942,null,null,"250 - 500","M Sand",{"$f":"'raw files'!CP18","v":19.809999999999999},{"$f":"'raw files'!CQ18","v":18.890999999999998},{"$f":"'raw files'!CR18","v":18.998999999999999},19.233333333333331,0.29001398433715431,null,null,"250 - 500","M Sand",{"$f":"'raw files'!CV18","v":19.058},{"$f":"'raw files'!CW18","v":19.327000000000002},{"$f":"'raw files'!CX18","v":19.835000000000001},19.40666666666667,0.22781010610691646,null,null,"250 - 500","M Sand",{"$f":"'raw files'!DB18","v":38.326999999999998},{"$f":"'raw files'!DC18","v":39.945999999999998},{"$f":"'raw files'!DD18","v":38.857999999999997},39.136499999999998,0.80949999999999978,null,null,"250 - 500","M Sand",{"$f":"'raw files'!DH18","v":49.801000000000002},{"$f":"'raw files'!DI18","v":53.529000000000003},{"$f":"'raw files'!DJ18","v":50.015999999999998},51.115333333333332,1.2084282261589974,null,null,"250 - 500","M Sand",{"$f":"'raw files'!DN18","v":44.872999999999998},{"$f":"'raw files'!DO18","v":42.465000000000003},{"$f":"'raw files'!DP18","v":45.383000000000003},43.668999999999997,1.2039999999999971]
["500 - 1000","C Sand",{"$f":"'raw files'!BL19","v":3.6040000000000001},{"$f":"'raw files'!BM19","v":0.628},{"$f":"'raw files'!BN19","v":1.3220000000000001},0.97500000000000009,0.34699999999999981,null,null,"500 - 1000","C Sand",{"$f":"'raw files'!BR19","v":2.8000000000000001E-2},{"$f":"'raw files'!BS19","v":5.3999999999999999E-2},{"$f":"'raw files'!BT19","v":3.1E-2},3.7666666666666668E-2,8.2124566631699408E-3,null,null,"500 - 1000","C Sand",{"$f":"'raw files'!BX19","v":6.6000000000000003E-2},{"$f":"'raw files'!BY19","v":4.9000000000000002E-2},{"$f":"'raw files'!BZ19","v":5.8000000000000003E-2},5.7666666666666672E-2,4.9103066208854036E-3,null,null,"500 - 1000","C Sand",{"$f":"'raw files'!CD19","v":1.163},{"$f":"'raw files'!CE19","v":0.89900000000000002},{"$f":"'raw files'!CF19","v":1.111},1.0576666666666668,8.0741012571748302E-2,null,null,"500 - 1000","C Sand",{"$f":"'raw files'!CJ19","v":8.5000000000000006E-2},{"$f":"'raw files'!CK19","v":3.5070000000000001},{"$f":"'raw files'!CL19","v":2.6909999999999998},2.0943333333333332,1.031912356312837,null,null,"500 - 1000","C Sand",{"$f":"'raw files'!CP19","v":0},{"$f":"'raw files'!CQ19","v":0},{"$f":"'raw files'!CR19","v":0},0,0,null,null,"500 - 1000","C Sand",{"$f":"'raw files'!CV19","v":3.4809999999999999},{"$f":"'raw files'!CW19","v":0},{"$f":"'raw files'!CX19","v":0},1.1603333333333332,1.1603333333333332,null,null,"500 - 1000","C Sand",{"$f":"'raw files'!DB19","v":0.97899999999999998},{"$f":"'raw files'!DC19","v":1.5940000000000001},{"$f":"'raw files'!DD19","v":1.264},1.2865,0.30750000000000016,null,null,"500 - 1000","C Sand",{"$f":"'raw files'!DH19","v":4.5209999999999999},{"$f":"'raw files'!DI19","v":4.7539999999999996},{"$f":"'raw files'!DJ19","v":4.8879999999999999},4.7209999999999992,0.107220955663216,null,null,"500 - 1000","C Sand",{"$f":"'raw files'!DN19","v":29.489000000000001},{"$f":"'raw files'!DO19","v":30.497},{"$f":"'raw files'!DP19","v":35.304000000000002},29.993000000000002,0.50399999999999956]
["1000 - 2000","VC Sand",{"$f":"'raw files'!BL20","v":0.51100000000000001},{"$f":"'raw files'!BM20","v":0},{"$f":"'raw files'!BN20","v":1.2729999999999999},0.63649999999999995,0.63649999999999995,null,null,"1000 - 2000","VC Sand",{"$f":"'raw files'!BR20","v":0},{"$f":"'raw files'!BS20","v":0},{"$f":"'raw files'!BT20","v":0},0,0,null,null,"1000 - 2000","VC Sand",{"$f":"'raw files'!BX20","v":0},{"$f":"'raw files'!BY20","v":0},{"$f":"'raw files'!BZ20","v":0},0,0,null,null,"1000 - 2000","VC Sand",{"$f":"'raw files'!CD20","v":0},{"$f":"'raw files'!CE20","v":0},{"$f":"'raw files'!CF20","v":0},0,0,null,null,"1000 - 2000","VC Sand",{"$f":"'raw files'!CJ20","v":0},{"$f":"'raw files'!CK20","v":3.484},{"$f":"'raw files'!CL20","v":1.9E-2},1.1676666666666666,1.1581796540740608,null,null,"1000 - 2000","VC Sand",{"$f":"'raw files'!CP20","v":0},{"$f":"'raw files'!CQ20","v":0},{"$f":"'raw files'!CR20","v":0},0,{"$f":"(STDEV(AV34:AX34))/SQRT(3)","v":0},null,null,"1000 - 2000","VC Sand",{"$f":"'raw files'!CV20","v":4.835},{"$f":"'raw files'!CW20","v":0},{"$f":"'raw files'!CX20","v":0},1.6116666666666666,1.6116666666666666,null,null,"1000 - 2000","VC Sand",{"$f":"'raw files'!DB20","v":0},{"$f":"'raw files'!DC20","v":0},{"$f":"'raw files'!DD20","v":0},0,0,null,null,"1000 - 2000","VC Sand",{"$f":"'raw files'!DH20","v":0},{"$f":"'raw files'!DI20","v":0},{"$f":"'raw files'!DJ20","v":0},0,0,null,null,"1000 - 2000","VC Sand",{"$f":"'raw files'!DN20","v":0.41099999999999998},{"$f":"'raw files'!DO20","v":1.093},{"$f":"'raw files'!DP20","v":1.7829999999999999},0.752,0.34099999999999975]
[null,null,null,"Textural Class:",null,{"$f":"'Texture Calculator'!N13","v":"SAND"},null,null,null,null,null,null,"Textural Class:",{"$f":"'Texture Calculator'!N14","v":"SAND"},null,null,null,null,null,null,null,"Textural Class:",{"$f":"'Texture Calculator'!N15","v":"SAND"},null,null,null,null,null,null,null,"Textural Class:",{"$f":"'Texture Calculator'!N16","v":"SAND"},null,null,null,null,null,null,null,"Textural Class:",{"$f":"'Texture Calculator'!N17","v":"SAND"},null,null,null,null,null,null,null,"Textural Class:",{"$f":"'Texture Calculator'!N18","v":"SAND"},null,null,null,null,null,null,null,"Textural Class:",{"$f":"'Texture Calculator'!N19","v":"SAND"},null,null,null,null,null,null,null,"Textural Class:",{"$f":"'Texture Calculator'!N20","v":"SAND"},null,null,null,null,null,null,null,"Textural Class:",{"$f":"'Texture Calculator'!N21","v":"SAND"},null,null,null,null,null,null,null,"Textural Class:",{"$f":"'Texture Calculator'!$N$22","v":"SAND"}]
[null,null,null,"avg mode:",null,{"$f":"AVERAGE('raw files'!BL6:BN6)","v":72.974666666666664},null,null,null,null,null,null,"avg mode:",{"$f":"AVERAGE('raw files'!BR6:BT6)","v":229.29766666666669},null,null,null,null,null,null,null,"avg mode:",{"$f":"AVERAGE('raw files'!BX6:BY6)","v":234.245},null,null,null,null,null,null,null,"avg mode:",{"$f":"AVERAGE('raw files'!CE6:CF6)","v":244.64699999999999},null,null,null,null,null,null,null,"avg mode:",{"$f":"AVERAGE('raw files'!CJ6:CL6)","v":143.92666666666668},null,null,null,null,null,null,null,"avg mode:",{"$f":"AVERAGE('raw files'!CP6:CR6)","v":187.46166666666667},null,null,null,null,null,null,null,"avg mode:",{"$f":"AVERAGE('raw files'!CV6:CW6)","v":183.03300000000002},null,null,null,null,null,null,null,"avg mode:",{"$f":"AVERAGE('raw files'!DB6:DC6)","v":233.69049999999999},null,null,null,null,null,null,null,"avg mode:",{"$f":"AVERAGE('raw files'!DH6:DJ6)","v":278.88733333333334},null,null,null,null,null,null,null,"avg mode:",{"$f":"AVERAGE('raw files'!DO6:DP6)","v":449.4735}]
[]
[]
[]
["Particle",null,{"$f":"'raw files'!DT1","v":"[4445] C10_T2_83 bulk - a - Average"}]
["Diameter",null,"Differential Volume (%)"]
["Range (mm)","Size Class","Rep. 1","Rep. 2","Rep. 3","Average","SE"]
["< 6","Clay",{"$f":"'raw files'!DT13","v":4.1669999999999998},{"$f":"'raw files'!DU13","v":4.8529999999999998},{"$f":"'raw files'!DV13","v":4.6529999999999996},{"$f":"AVERAGE(C43:E43)","v":4.5576666666666661},{"$f":"(STDEV(C43:E43))/SQRT(3)","v":0.20368712390439517}]
["6 - 63","Silt",{"$f":"'raw files'!DT14","v":20.648},{"$f":"'raw files'!DU14","v":23.634},{"$f":"'raw files'!DV14","v":22.609000000000002},{"$f":"AVERAGE(C44:E44)","v":22.296999999999997},{"$f":"(STDEV(C44:E44))/SQRT(3)","v":0.87598649152446062}]
["63 - 2000","Sand",{"$f":"'raw files'!DT15","v":75.183999999999997},{"$f":"'raw files'!DU15","v":71.513000000000005},{"$f":"'raw files'!DV15","v":72.738},73.144999999999996,1.0790886586992419]
["63 - 125","VF Sand",{"$f":"'raw files'!DT16","v":20.61},{"$f":"'raw files'!DU16","v":23.346},{"$f":"'raw files'!DV16","v":22.297999999999998},22.084666666666667,0.7969854313460053]
["125 - 250","F Sand",{"$f":"'raw files'!DT17","v":31.859000000000002},{"$f":"'raw files'!DU17","v":31.902999999999999},{"$f":"'raw files'!DV17","v":31.927},31.896333333333331,1.9910912697423382E-2]
["250 - 500","M Sand",{"$f":"'raw files'!DT18","v":21.297000000000001},{"$f":"'raw files'!DU18","v":16.222999999999999},{"$f":"'raw files'!DV18","v":18.056999999999999},18.525666666666666,1.4833638948162489]
["500 - 1000","C Sand",{"$f":"'raw files'!DT19","v":1.419},{"$f":"'raw files'!DU19","v":4.1000000000000002E-2},{"$f":"'raw files'!DV19","v":0.45500000000000002},0.63833333333333331,0.40821943989858106]
["1000 - 2000","VC Sand",{"$f":"'raw files'!DT20","v":0},{"$f":"'raw files'!DU20","v":0},{"$f":"'raw files'!DV20","v":0},0,0]
[null,null,null,"Textural Class:",null,{"$f":"'Texture Calculator'!$N$23","v":"SAND"}]
[null,null,null,"avg mode:",null,{"$f":"AVERAGE('raw files'!DT6:DV6)","v":190.47000000000003}]
[]
[]
[]
[]
[]
[]
[]
[]
[]
[]
[]
[]
[]
[]
[null,null,null,null,null,null,null,null,null,null,null,null,null,null,null,null,null,"Clay","Silt"]
[null,null,null,null,null,null,null,null,null,null,null,null,null,null,null,null,0,6,63]
[null,null,null,null,null,null,null,null,null,null,null,null,null,null,null,null,18,6,63]

{"sheet":"Texture Calculator","index":1,"n_rows":65,"n_cols":14,"rows_kept":65,"cut":false,"hidden":false,"merged":[[50,1,50,2],[12,7,12,12],[13,7,13,12],[14,7,14,12],[15,7,15,12],[16,7,16,12],[17,7,17,12],[18,7,18,12],[47,1,49,2],[20,7,20,12],[21,7,21,12],[25,7,25,12],[23,7,23,12],[29,7,29,12],[30,7,30,12],[31,7,31,12],[0,1,0,7],[27,7,27,12],[28,7,28,12],[22,7,22,12],[8,7,8,12],[24,7,24,12],[26,7,26,12],[2,1,2,2],[2,3,2,4],[2,5,2,6],[6,7,6,12],[2,7,2,12],[3,7,3,12],[4,7,4,12],[5,7,5,12],[7,7,7,12],[9,7,9,12],[32,7,32,12],[33,7,33,12],[34,7,34,12],[43,1,45,2],[10,7,10,12],[11,7,11,12],[19,7,19,12],[35,7,35,12]]}
[null,"Enter your data into the yellow highlighted cells",null,null,null,null,null,null,"Password = Texture"]
[]
[null,"Sand",null,"Clay",null,"Silt",null,"USDA Texture"]
[4428,"% Sand 1",{"$f":"Results!$F$13/100","v":0.91713000000000011},"%Clay 1",{"$f":"Results!$F$11/100","v":2.135666666666667E-2},"% Silt 1",{"$f":"1-C4-E4","v":6.1513333333333219E-2},{"$f":"GRAIN(C4,E4,G4)","v":"SAND"},null,null,null,null,null,{"$f":"H4","v":"SAND"}]
[4429,"% Sand 2",{"$f":"Results!$O$13/100","v":0.92888000000000004},"%Clay 2",{"$f":"Results!$O$11/100","v":1.8635000000000002E-2},"% Silt 2",{"$f":"1-C5-E5","v":5.2484999999999962E-2},{"$f":"GRAIN(C5,E5,G5)","v":"SAND"},null,null,null,null,null,{"$f":"H5","v":"SAND"}]
[4430,"% Sand 3",{"$f":"Results!$X$13/100","v":0.96093666666666666},"%Clay 3",{"$f":"Results!X11/100","v":1.1379999999999999E-2},"% Silt 3",{"$f":"1-C6-E6","v":2.7683333333333338E-2},"SAND",null,null,null,null,null,{"$f":"H6","v":"SAND"}]
[4431,"% Sand 4",{"$f":"Results!$AG$13/100","v":0.94175666666666691},"%Clay 4",{"$f":"Results!$AG$11/100","v":1.3933333333333332E-2},"% Silt 4",{"$f":"1-C7-E7","v":4.4309999999999759E-2},{"$f":"GRAIN(C7,E7,G7)","v":"SAND"},null,null,null,null,null,{"$f":"H7","v":"SAND"}]
[4432,"% Sand 5",{"$f":"Results!$AP$13/100","v":0.9865033333333334},"%Clay 5",{"$f":"Results!$AP$11/100","v":3.4099999999999998E-3},"% Silt 5",{"$f":"1-C8-E8","v":1.0086666666666601E-2},{"$f":"GRAIN(C8,E8,G8)","v":"SAND"},null,null,null,null,null,{"$f":"H8","v":"SAND"}]
[4433,"% Sand 6",{"$f":"Results!$AY$13/100","v":1},"%Clay 6",{"$f":"Results!$AY$11/100","v":0},"% Silt 6",{"$f":"1-C9-E9","v":0},{"$f":"GRAIN(C9,E9,G9)","v":"SAND"},null,null,null,null,null,"SAND"]
["4433a","% Sand 7",{"$f":"Results!$BH$13/100","v":0.93801666666666661},"%Clay 7",{"$f":"Results!$BH$11/100","v":1.0203333333333333E-2},"% Silt 7",5.1780000000000055E-2,"SAND",null,null,null,null,null,"SAND"]
[4434,"% Sand 8",{"$f":"Results!$BQ$13/100","v":0.91644999999999999},"%Clay 8",{"$f":"Results!$BQ$11/100","v":1.9573333333333335E-2},"% Silt 8",{"$f":"1-C11-E11","v":6.3976666666666682E-2},{"$f":"GRAIN(C11,E11,G11)","v":"SAND"},null,null,null,null,null,"SAND"]
[4435,"% Sand 9",{"$f":"Results!$BY$13/100","v":0.93452999999999986},"%Clay 9",{"$f":"Results!$BY$11/100","v":1.6886666666666664E-2},"% Silt 9",4.8583333333333478E-2,"SAND",null,null,null,null,null,"SAND"]
[4436,"% Sand 11",{"$f":"Results!$BH$13/100","v":0.93801666666666661},"%Clay 11",{"$f":"Results!$BH$11/100","v":1.0203333333333333E-2},"% Silt 11",{"$f":"1-C13-E13","v":5.1780000000000055E-2},{"$f":"GRAIN(C13,E13,G13)","v":"SAND"},null,null,null,null,null,"SAND"]
[4437,"% Sand 12",{"$f":"Results!$BQ$13/100","v":0.91644999999999999},"%Clay 12",{"$f":"Results!$BQ$11/100","v":1.9573333333333335E-2},"% Silt 12",6.3976666666666682E-2,"SAND",null,null,null,null,null,"SAND"]
[4438,"% Sand 13",{"$f":"Results!$O$29/100","v":0.99365999999999999},"%Clay 13",{"$f":"Results!$O$27/100","v":0},"% Silt 13",6.3400000000000123E-3,"SAND",null,null,null,null,null,"SAND"]
["4438a","% Sand 14",{"$f":"Results!$X$29/100","v":0.99257999999999991},"%Clay 14",{"$f":"Results!$X$27/100","v":0},"% Silt 14",7.4200000000000932E-3,"SAND",null,null,null,null,null,"SAND"]
["4438b","% Sand 15",{"$f":"Results!$AG$29/100","v":0.95875333333333335},"%Clay 15",{"$f":"Results!$AG$27/100","v":7.626666666666667E-3},"% Silt 15",3.3619999999999983E-2,"SAND",null,null,null,null,null,{"$f":"H17","v":"SAND"}]
[4439,"% Sand 16",{"$f":"Results!$O$29/100","v":0.99365999999999999},"%Clay 16",{"$f":"Results!$O$27/100","v":0},"% Silt 16",{"$f":"1-C18-E18","v":6.3400000000000123E-3},{"$f":"GRAIN(C18,E18,G18)","v":"SAND"},null,null,null,null,null,{"$f":"H18","v":"SAND"}]
[4440,"% Sand 17",{"$f":"Results!$AY$29/100","v":0.94489666666666661},"%Clay 17",{"$f":"Results!$AY$27/100","v":1.3373333333333334E-2},"% Silt 17",{"$f":"1-C19-E19","v":4.1730000000000059E-2},{"$f":"GRAIN(C19,E19,G19)","v":"SAND"},null,null,null,null,null,"SAND"]
[4441,"% Sand 18",{"$f":"Results!$BH$29/100","v":0.95850000000000013},"%Clay 18",{"$f":"Results!$BH$27/100","v":5.3366666666666666E-3},"% Silt 18",{"$f":"1-C20-E20","v":3.61633333333332E-2},{"$f":"GRAIN(C20,E20,G20)","v":"SAND"},null,null,null,null,null,"SAND"]
[4442,"% Sand 19",{"$f":"Results!$BQ$29/100","v":0.9617349999999999},"%Clay 19",{"$f":"Results!$BQ$27/100","v":2.0999999999999999E-3},"% Silt 19",3.6165000000000107E-2,"SAND",null,null,null,null,null,"SAND"]
[4443,"% Sand 20",{"$f":"Results!$BZ$29/100","v":0.96147000000000005},"%Clay 20",{"$f":"Results!$BZ$27/100","v":1.5933333333333333E-3},"% Silt 20",3.6936666666666618E-2,{"$f":"GRAIN(C22,E22,G22)","v":"SAND"},null,null,null,null,null,"SAND"]
[4444,"% Sand 21",{"$f":"Results!$CI$29/100","v":0.92493999999999998},"%Clay 21",{"$f":"Results!$CI$27/100","v":1.3544999999999998E-2},"% Silt 21",{"$f":"1-C23-E23","v":6.1515000000000014E-2},{"$f":"GRAIN(C23,E23,G23)","v":"SAND"},null,null,null,null,null,"SAND"]
[4445,"% Sand 22",{"$f":"Results!BQ29/100","v":0.9617349999999999},"%Clay 22",{"$f":"Results!BQ27/100","v":2.0999999999999999E-3},"% Silt 22",3.6165000000000107E-2,"SAND",null,null,null,null,null,"SAND"]
[null,"% Sand 23",{"$f":"Results!$O$45/100","v":0},"%Clay 23",{"$f":"Results!$O$43/100","v":0},"% Silt 23",1,"SILT",null,null,null,null,null,"SILT"]
[null,"% Sand 24",{"$f":"Results!$X$45/100","v":0},"%Clay 24",{"$f":"Results!$X$43/100","v":0},"% Silt 24",{"$f":"1-C26-E26","v":1},{"$f":"GRAIN(C26,E26,G26)","v":"SILT"},null,null,null,null,null,"SILT"]
[null,"% Sand 25",{"$f":"Results!$AG$45/100","v":0},"%Clay 25",{"$f":"Results!$AG$43/100","v":0},"% Silt 25",{"$f":"1-C27-E27","v":1},{"$f":"GRAIN(C27,E27,G27)","v":"SILT"},null,null,null,null,null,{"$f":"H27","v":"SILT"}]
[null,"% Sand 26",{"$f":"Results!$AY$45/100","v":0},"%Clay 26",{"$f":"Results!$AY$43/100","v":0},"% Silt 26",1,"SILT"]
[null,"% Sand 27",{"$f":"Results!$BQ$45/100","v":0},"%Clay 27",{"$f":"Results!$BQ$43/100","v":0},"% Silt 27",1,"SILT"]
[null,"% Sand 28",{"$f":"Results!$BZ$45/100","v":0},"%Clay 28",{"$f":"Results!$BZ$43/100","v":0},"% Silt 28",{"$f":"1-C30-E30","v":1},{"$f":"GRAIN(C30,E30,G30)","v":"SILT"}]
[null,"% Sand 29",{"$f":"Results!$BQ$45/100","v":0},"%Clay 29",{"$f":"Results!$BQ$43/100","v":0},"% Silt 29",1,"SILT"]
[null,"% Sand 30",{"$f":"Results!$BZ$45/100","v":0},"%Clay 30",{"$f":"Results!$BZ$43/100","v":0},"% Silt 30",1,"SILT"]
[null,"% Sand 31",{"$f":"Results!$BZ$45/100","v":0},"%Clay 31",{"$f":"Results!$BZ$43/100","v":0},"% Silt 31",1,"SILT"]
[null,"% Sand 32",{"$f":"Results!$CI$45/100","v":0},"%Clay 32",{"$f":"Results!$CI$43/100","v":0},"% Silt 32",1,{"$f":"GRAIN(C34,E34,G34)","v":"SILT"}]
[null,"% Sand 33",{"$f":"Results!$BQ$45/100","v":0},"%Clay 33",{"$f":"Results!$BQ$43/100","v":0},"% Silt 33",1,"SILT"]
[null,"% Sand 34",{"$f":"Results!$BQ$45/100","v":0},"%Clay 34",{"$f":"Results!$BQ$43/100","v":0},"% Silt 34",{"$f":"1-C36-E36","v":1},{"$f":"GRAIN(C36,E36,G36)","v":"SILT"}]
[]
[]
[null,null,null,{"$f":"A4","v":4428},{"$f":"(1.095-(C7*0.0104*100))-((0.52)*(0.0099*E7*100))","v":0.10840018666666634},{"$f":"0.145+(0.0099*E7*100)","v":0.15879399999999999}]
[null,null,null,4429,6.7281065333333376E-2,0.14837589999999998]
[null,null,null,4430,5.4999999999999938E-2,0.14499999999999999]
[null,null,null,4431,0.11420999066666672,0.1551013]
[null,null,null,4432,0.13181564800000001,0.16437759999999998]
[null,null,null,4433,0.11439554400000011,0.16171779999999999]
[null,null,null,"4433a",{"$f":"(1.095-(C13*0.0104*100))-((0.52)*(0.0099*E13*100))","v":0.11420999066666672},{"$f":"0.145+(0.0099*E13*100)","v":0.1551013}]
[null,null,null,4434,0.13181564800000001,0.16437759999999998]
[null,null,null,4435,6.1593600000000137E-2,0.14499999999999999]
[null,null,null,4436,6.2716800000000017E-2,0.14499999999999999]
[null,null,null,4437,9.3970325333333368E-2,0.1525504]
[null,null,null,4438,6.1593600000000137E-2,0.14499999999999999]
[null,null,null,"4438a",0.1054228746666668,0.15823959999999998]
[null,null,null,"4438b",9.5412683999999914E-2,0.15028329999999998]
[null,null,null,4439,9.3714520000000093E-2,0.14707899999999999]
[null,null,null,4440,9.4250951999999916E-2,0.1465774]
[null,null,null,4441,0.12608943400000003,0.15840954999999998]
[null,null,null,4442,9.3714520000000093E-2,0.14707899999999999]
[null,null,null,4443,1.095,0.14499999999999999]
[null,null,null,4444,1.095,0.14499999999999999]
[null,null,null,4445,{"$f":"(1.095-(C27*0.0104*100))-((0.52)*(0.0099*E27*100))","v":1.095},{"$f":"0.145+(0.0099*E27*100)","v":0.14499999999999999}]
[]
[]
[]
[]
[null,null,null,null,0.52500000000000002]
[null,null,null,null,1.04]

{"sheet":"raw files","index":2,"n_rows":142,"n_cols":239,"rows_kept":142,"cut":false,"hidden":false,"merged":[]}
["Sample Name",null,"[4428] Chile_10_T1_0 bulk - c - Average","[4428] Chile_10_T1_0 bulk - e - Average","[4428] Chile_10_T1_0 bulk - f - Average",null,"Sample Name",null,"[4429] Chile_10_T1_2 bulk- a - Average","[4429] Chile_10_T1_2 bulk- b - Average","[4429] Chile_10_T1_2 bulk- c - Average",null,"Sample Name",null,"[4430] C10_T1_10 bulk - a - Average","[4430] C10_T1_10 bulk - c - Average","[4430] C10_T1_10 bulk - d -newAverage",null,"Sample Name",null,"[4431] C10_T1_11 bulk - a - Average","[4431] C10_T1_11 bulk - c - Average","[4431] C10_T1_11 bulk - d - Average",null,null,"Sample Name",null,"[4432] C10_T1_21 bulk - a - Average","[4432] C10_T1_21 bulk - b - Average","[4432] C10_T1_21 bulk - c - Average",null,"Sample Name",null,"[4433] C10_T1_25 bulk - a - Average","[4433] C10_T1_25 bulk - b - Average","[4433] C10_T1_25 bulk - f - Average",null,"Sample Name",null,"[4433a] C10_T1_25 bulk- a - Average","[4433a] C10_T1_25 bulk- b - Average","[4433a] C10_T1_25 bulk- c - Average",null,"Sample Name",null,"[4434] C10_T1_31 bulk - d - Average","[4434] C10_T1_31 bulk - e - Average","[4434] C10_T1_31 bulk - f - Average",null,"Sample Name",null,"[4435] C10_T1_34 bulk - a - Average","[4435] C10_T1_34 bulk - b - Average","[4435] C10_T1_34 bulk - c - Average",null,"Sample Name",null,"[4436] C10_T1_39 bulk - a - Average","[4436] C10_T1_39 bulk - b - Average","[4436] C10_T1_39 bulk - c - Average",null,"Sample Name",null,"[4437] C10_T1_43 bulk - a new Averaged Result","[4437] C10_T1_43 bulk - c - Average","[4437] C10_T1_43 bulk - d - Average",null,"Sample Name",null,"[4438] C10_dark bulk - a - Average","[4438] C10_dark bulk - b - Average","[4438] C10_dark bulk - c - Average",null,"Sample Name",null,"[4438a] C10_dune bulk - a - Average","[4438a] C10_dune bulk - b - Average","[4438a] C10_dune bulk - c - Average",null,"Sample Name",null,"[4438b] C10_interdune bulk - a - Average","[4438b] C10_interdune bulk - b - Average","[4438b] C10_interdune bulk - c - Average",null,"Sample Name",null,"[4439] C10_T2_44 bulk - a - Average","[4439] C10_T2_44 bulk - b - Average","[4439] C10_T2_44 bulk - e - Average",null,"Sample Name",null,"[4440] C10_T2_51 bulk - a - Average","[4440] C10_T2_51 bulk - b - Average","[4440] C10_T2_51 bulk - c - Average",null,"Sample Name",null,"[4441] C10_T2_55 bulk - b - Average","[4441] C10_T2_55 bulk - d - Average","[4441] C10_T2_55 bulk - e - Average",null,"Sample Name",null,"[4442] C10_T2_63 bulk - a - Average","[4442] C10_T2_63 bulk - b - Average","[4442] C10_T2_63 bulk - c - Average",null,"Sample Name",null,"[4443] C10_T2_67 bulk - b - Average","[4443] C10_T2_67 bulk - d - Average","[4443] C10_T2_67 bulk - e - Average",null,"Sample Name",null,"[4444] C10_T2_76 bulk - c - Average","[4444] C10_T2_76 bulk - b - Average","[4444] C10_T2_76 bulk - d - Average",null,"Sample Name",null,"[4445] C10_T2_83 bulk - a - Average","[4445] C10_T2_83 bulk - c - Average","[4445] C10_T2_83 bulk - d - Average"]
["Analysis date and time",null,"éåí øáéòé 04 ñôèîáø 2019 14:29:00","éåí øáéòé 04 ñôèîáø 2019 14:41:43","éåí øáéòé 04 ñôèîáø 2019 14:44:22",null,"Analysis date and time",null,"éåí ùðé 09 ñôèîáø 2019 11:25:50","éåí ùðé 09 ñôèîáø 2019 11:29:06","éåí ùðé 09 ñôèîáø 2019 11:35:50",null,"Analysis date and time",null,"éåí øàùåï 01 ñôèîáø 2019 15:29:22","éåí øàùåï 01 ñôèîáø 2019 15:42:54","éåí øàùåï 01 ñôèîáø 2019 15:58:11",null,"Analysis date and time",null,"éåí øàùåï 01 ñôèîáø 2019 16:41:31","éåí øàùåï 01 ñôèîáø 2019 17:02:55","éåí øàùåï 01 ñôèîáø 2019 17:09:40",null,null,"Analysis date and time",null,"éåí øàùåï 01 ñôèîáø 2019 18:23:59","éåí øàùåï 01 ñôèîáø 2019 18:29:57","éåí øàùåï 01 ñôèîáø 2019 18:35:20",null,"Analysis date and time",null,"éåí ùìéùé 03 ñôèîáø 2019 10:49:33","éåí ùìéùé 03 ñôèîáø 2019 10:56:22","éåí çîéùé 12 ñôèîáø 2019 09:13:43",null,"Analysis date and time",null,"éåí ùðé 09 ñôèîáø 2019 12:21:04","éåí ùðé 09 ñôèîáø 2019 12:23:44","éåí ùðé 09 ñôèîáø 2019 12:33:07",null,"Analysis date and time",null,"éåí ùðé 09 ñôèîáø 2019 13:08:06","éåí ùðé 09 ñôèîáø 2019 13:11:05","éåí ùðé 09 ñôèîáø 2019 13:22:33",null,"Analysis date and time",null,"éåí ùðé 09 ñôèîáø 2019 14:36:15","éåí ùðé 09 ñôèîáø 2019 14:38:47","éåí ùðé 09 ñôèîáø 2019 14:46:21",null,"Analysis date and time",null,"éåí ùðé 09 ñôèîáø 2019 15:06:46","éåí ùðé 09 ñôèîáø 2019 15:16:39","éåí ùðé 09 ñôèîáø 2019 15:19:08",null,"Analysis date and time",null,"éåí ùìéùé 10 ñôèîáø 2019 12:17:09","éåí ùìéùé 10 ñôèîáø 2019 12:27:06","éåí ùìéùé 10 ñôèîáø 2019 12:29:22",null,"Analysis date and time",null,"éåí ùìéùé 03 ñôèîáø 2019 11:52:05","éåí ùìéùé 03 ñôèîáø 2019 12:05:19","éåí ùìéùé 03 ñôèîáø 2019 12:17:20",null,"Analysis date and time",null,"éåí ùìéùé 03 ñôèîáø 2019 12:32:46","éåí ùìéùé 03 ñôèîáø 2019 12:51:52","éåí ùìéùé 03 ñôèîáø 2019 13:36:33",null,"Analysis date and time",null,"éåí ùìéùé 03 ñôèîáø 2019 13:51:57","éåí ùìéùé 03 ñôèîáø 2019 14:00:14","éåí ùìéùé 03 ñôèîáø 2019 14:10:45",null,"Analysis date and time",null,"éåí ùìéùé 10 ñôèîáø 2019 12:48:10","éåí ùìéùé 10 ñôèîáø 2019 12:50:56","éåí ùìéùé 10 ñôèîáø 2019 13:39:43",null,"Analysis date and time",null,"éåí ùìéùé 10 ñôèîáø 2019 13:53:52","éåí ùìéùé 10 ñôèîáø 2019 13:57:30","éåí ùìéùé 10 ñôèîáø 2019 14:04:08",null,"Analysis date and time",null,"éåí ùìéùé 10 ñôèîáø 2019 14:20:57","éåí ùìéùé 10 ñôèîáø 2019 14:30:43","éåí ùìéùé 10 ñôèîáø 2019 14:32:55",null,"Analysis date and time",null,"éåí ùìéùé 03 ñôèîáø 2019 14:29:30","éåí ùìéùé 03 ñôèîáø 2019 14:40:45","éåí ùìéùé 03 ñôèîáø 2019 14:47:55",null,"Analysis date and time",null,"éåí ùìéùé 03 ñôèîáø 2019 15:06:04","éåí ùìéùé 03 ñôèîáø 2019 15:20:12","éåí ùìéùé 03 ñôèîáø 2019 15:32:44",null,"Analysis date and time",null,"éåí øáéòé 11 ñôèîáø 2019 09:09:49","éåí øáéòé 11 ñôèîáø 2019 09:12:17","éåí øáéòé 11 ñôèîáø 2019 09:19:28",null,"Analysis date and time",null,"éåí øáéòé 11 ñôèîáø 2019 10:03:26","éåí øáéòé 11 ñôèîáø 2019 10:13:15","éåí øáéòé 11 ñôèîáø 2019 10:16:10"]
["Operator name",null,"Yael","Yael","Yael",null,"Operator name",null,"Yael","Yael","Yael",null,"Operator name",null,"Yael","Yael","Yael",null,"Operator name",null,"Yael","Yael","Yael",null,null,"Operator name",null,"Yael","Yael","Yael",null,"Operator name",null,"dorina","dorina","Yael",null,"Operator name",null,"Yael","Yael","Yael",null,"Operator name",null,"Yael","Yael","Yael",null,"Operator name",null,"Yael","Yael","Yael",null,"Operator name",null,"Yael","Yael","Yael",null,"Operator name",null,"Yael","Yael","Yael",null,"Operator name",null,"dorina","dorina","dorina",null,"Operator name",null,"dorina","dorina","dorina",null,"Operator name",null,"dorina","dorina","dorina",null,"Operator name",null,"Yael","Yael","Yael",null,"Operator name",null,"Yael","Yael","Yael",null,"Operator name",null,"Yael","Yael","Yael",null,"Operator name",null,"dorina","dorina","dorina",null,"Operator name",null,"dorina","dorina","dorina",null,"Operator name",null,"Yael","Yael","Yael",null,"Operator name",null,"Yael","Yael","Yael"]
["Obscuration",null,8.1300000000000008,9.24,9.06,null,"Obscuration",null,8.07,8.16,9.15,null,"Obscuration",null,9.44,9.32,12.26,null,"Obscuration",null,9.15,9.33,11.72,null,null,"Obscuration",null,9.25,11.22,10.029999999999999,null,"Obscuration",null,8.94,10.94,7.48,null,"Obscuration",null,7.86,7.84,8.92,null,"Obscuration",null,12.22,11.05,10.58,null,"Obscuration",null,9.33,9.2899999999999991,8.69,null,"Obscuration",null,8.5399999999999991,7.15,6.85,null,"Obscuration",null,7.23,7.56,7.44,null,"Obscuration",null,12.51,11.99,9.06,null,"Obscuration",null,9.2799999999999994,11.81,11.95,null,"Obscuration",null,10.14,9.44,10.199999999999999,null,"Obscuration",null,8.91,8.7200000000000006,11.51,null,"Obscuration",null,7.43,7.35,8.44,null,"Obscuration",null,7.63,7.57,7.84,null,"Obscuration",null,12.12,12.31,12.08,null,"Obscuration",null,7.89,6.7,7.51,null,"Obscuration",null,7.16,7.01,8.5500000000000007,null,"Obscuration",null,8.1,9.1300000000000008,8.82]
["Residual",null,1.2929999999999999,0.60399999999999998,0.747,null,"Residual",null,0.73799999999999999,0.8,0.83299999999999996,null,"Residual",null,0.74,0.72899999999999998,0.54700000000000004,null,"Residual",null,0.49399999999999999,0.56399999999999995,0.52600000000000002,null,null,"Residual",null,0.91800000000000004,0.73,0.83899999999999997,null,"Residual",null,0.84499999999999997,0.95899999999999996,0.92800000000000005,null,"Residual",null,0.751,0.67,0.69699999999999995,null,"Residual",null,0.65600000000000003,0.63900000000000001,0.63,null,"Residual",null,0.65500000000000003,0.755,0.80800000000000005,null,"Residual",null,0.44800000000000001,0.40899999999999997,0.47099999999999997,null,"Residual",null,0.25900000000000001,0.80400000000000005,1.0840000000000001,null,"Residual",null,7.1669999999999998,1.036,0.79700000000000004,null,"Residual",null,0.66800000000000004,0.78500000000000003,0.78300000000000003,null,"Residual",null,0.54,0.497,0.53100000000000003,null,"Residual",null,0.315,0.32700000000000001,0.27400000000000002,null,"Residual",null,0.63900000000000001,0.63400000000000001,0.61499999999999999,null,"Residual",null,0.82399999999999995,0.90900000000000003,0.93600000000000005,null,"Residual",null,0.77500000000000002,0.71599999999999997,0.71499999999999997,null,"Residual",null,1.23,1.0589999999999999,1.169,null,"Residual",null,0.66400000000000003,0.61499999999999999,0.61,null,"Residual",null,0.214,0.28299999999999997,0.28999999999999998]
["Mode",null,270.04599999999999,283.52999999999997,320.82100000000003,null,"Mode",null,255.18100000000001,255.51300000000001,252.40199999999999,null,"Mode",null,810.18200000000002,791.86099999999999,912.39800000000002,null,"Mode",null,306.98399999999998,300.44099999999997,289.14400000000001,null,null,"Mode",null,320.59399999999999,308.16500000000002,297.68700000000001,null,"Mode",null,236.471,233.77500000000001,231.221,null,"Mode",null,214.16,217.82499999999999,218.97499999999999,null,"Mode",null,231.31,235.08099999999999,217.15899999999999,null,"Mode",null,200.78899999999999,198.91800000000001,196.09399999999999,null,"Mode",null,191.19399999999999,185.60900000000001,187.066,null,"Mode",null,74.64,72.176000000000002,72.108000000000004,null,"Mode",null,235.77,226.58600000000001,225.53700000000001,null,"Mode",null,238.18299999999999,230.30699999999999,231.21,null,"Mode",null,249.37100000000001,244.03299999999999,245.261,null,"Mode",null,140.989,150.51,140.28100000000001,null,"Mode",null,188.60499999999999,186.464,187.316,null,"Mode",null,183.964,182.102,182.679,null,"Mode",null,230.34800000000001,237.03299999999999,233.80699999999999,null,"Mode",null,275.173,283.46600000000001,278.02300000000002,null,"Mode",null,431.29399999999998,444.06,454.887,null,"Mode",null,203.31700000000001,180.46100000000001,187.63200000000001]
["Skewness",null,1.05,1.3460000000000001,1.3109999999999999,null,"Skewness",null,2.008,2.9769999999999999,2.496,null,"Skewness",null,0.64400000000000002,0.79100000000000004,0.64900000000000002,null,"Skewness",null,0.77300000000000002,0.43099999999999999,0.46400000000000002,null,null,"Skewness",null,1.339,0.42199999999999999,0.63800000000000001,"Mode","Skewness",null,0.66400000000000003,0.66900000000000004,0.69099999999999995,null,"Skewness",null,3.1139999999999999,3.915,4.0810000000000004,null,"Skewness",null,2.0539999999999998,2.7130000000000001,2.552,null,"Skewness",null,0.18,3.5110000000000001,0.22900000000000001,null,"Skewness",null,0.52900000000000003,0.495,3.88,null,"Skewness",null,3.6110000000000002,2.6859999999999999,5.5919999999999996,null,"Skewness",null,0.65600000000000003,0.70399999999999996,0.36699999999999999,"Mode","Skewness",null,0.65600000000000003,0.69399999999999995,0.36,null,"Skewness",null,0.249,0.25700000000000001,0.21299999999999999,null,"Skewness",null,1.5469999999999999,3.4470000000000001,2.2090000000000001,null,"Skewness",null,0.16700000000000001,0.18,0.111,null,"Skewness",null,3.3039999999999998,0.36499999999999999,0.38600000000000001,null,"Skewness",null,0.51800000000000002,0.432,0.42499999999999999,null,"Skewness",null,0.41499999999999998,0.34399999999999997,0.38700000000000001,null,"Skewness",null,0.36799999999999999,0.45700000000000002,0.5,null,"Skewness",null,0.86899999999999999,0.84699999999999998,0.88100000000000001]
["Kurtosis",null,0.26100000000000001,1.401,1.64,null,"Kurtosis",null,6.2539999999999996,13.845000000000001,7.2389999999999999,null,"Kurtosis",null,-0.22800000000000001,-0.02,-0.379,null,"Kurtosis",null,0.72399999999999998,3.7999999999999999E-2,6.0999999999999999E-2,null,null,"Kurtosis",null,4.7229999999999999,0.38400000000000001,0.249,null,"Kurtosis",null,0.127,4.5999999999999999E-2,0.20300000000000001,null,"Kurtosis",null,11.173999999999999,19.120999999999999,22.03,null,"Kurtosis",null,3.9790000000000001,9.1259999999999994,6.88,null,"Kurtosis",null,8.2000000000000003E-2,14.878,-0.13100000000000001,null,"Kurtosis",null,-0.32800000000000001,-0.42199999999999999,23.404,null,"Kurtosis",null,17.904,9.8650000000000002,37.968000000000004,null,"Kurtosis",null,0.13800000000000001,0.13700000000000001,0.51300000000000001,null,"Kurtosis",null,7.6999999999999999E-2,0.161,0.22600000000000001,null,"Kurtosis",null,0.40899999999999997,0.41299999999999998,0.38300000000000001,null,"Kurtosis",null,2.2650000000000001,13.055999999999999,6.0110000000000001,null,"Kurtosis",null,0.38200000000000001,0.40699999999999997,0.32400000000000001,null,"Kurtosis",null,11.331,-1.4E-2,3.0000000000000001E-3,null,"Kurtosis",null,0.02,5.0999999999999997E-2,3.6999999999999998E-2,null,"Kurtosis",null,-2.5000000000000001E-2,0.123,-1.6E-2,null,"Kurtosis",null,-0.19,-6.3E-2,0.107,null,"Kurtosis",null,0.246,0.17699999999999999,0.30599999999999999]
["d (0.1)",null,117.907,86.555000000000007,78.686999999999998,null,"d (0.1)",null,107.077,117.295,122.789,null,"d (0.1)",null,192.499,141.93199999999999,162.256,null,"d (0.1)",null,150.66499999999999,125.271,111.45699999999999,null,null,"d (0.1)",null,192.25700000000001,182.12799999999999,176.428,null,"d (0.1)",null,158.16999999999999,150.285,155.24199999999999,null,"d (0.1)",null,93.07,96.38,103.363,null,"d (0.1)",null,103.16,101.19199999999999,48.082000000000001,null,"d (0.1)",null,100.93300000000001,104.498,80.575999999999993,null,"d (0.1)",null,10.292999999999999,9.3469999999999995,9.8539999999999992,null,"d (0.1)",null,3.0150000000000001,2.7429999999999999,2.7839999999999998,null,"d (0.1)",null,159.31299999999999,146.119,146.114,null,"d (0.1)",null,157.626,152.309,140.74199999999999,null,"d (0.1)",null,145.56299999999999,142.47300000000001,138.47399999999999,null,"d (0.1)",null,3.601,4.0179999999999998,4.1820000000000004,null,"d (0.1)",null,107.012,105.76900000000001,101.218,null,"d (0.1)",null,106.14400000000001,88.117000000000004,90.421000000000006,null,"d (0.1)",null,117.71899999999999,118.11799999999999,114.788,null,"d (0.1)",null,141.02199999999999,153.58099999999999,139.88399999999999,null,"d (0.1)",null,92.706999999999994,87.968000000000004,190.68600000000001,null,"d (0.1)",null,22.556999999999999,18.309000000000001,19.468]
["d (0.5)",null,378.964,333.44600000000003,343.61399999999998,null,"d (0.5)",null,254.15899999999999,251.30600000000001,260.37700000000001,null,"d (0.5)",null,630.61400000000003,529.66999999999996,592.95799999999997,null,"d (0.5)",null,299.60700000000003,280.30399999999997,268.78699999999998,null,null,"d (0.5)",null,320.17200000000003,302.99599999999998,294.68799999999999,null,"d (0.5)",null,235.78100000000001,232.44200000000001,231.124,null,"d (0.5)",null,210.357,208.10400000000001,210.61699999999999,null,"d (0.5)",null,248.506,236.67500000000001,208.62100000000001,null,"d (0.5)",null,191.047,199.74700000000001,181.369,null,"d (0.5)",null,142.99,137.24799999999999,143.25299999999999,null,"d (0.5)",null,50.924999999999997,42.234000000000002,43.148000000000003,null,"d (0.5)",null,235.202,225.995,224.154,null,"d (0.5)",null,237.24600000000001,230.298,227.102,null,"d (0.5)",null,243.30199999999999,238.37899999999999,238.31299999999999,null,"d (0.5)",null,47.036000000000001,58.226999999999997,58.401000000000003,null,"d (0.5)",null,183.32300000000001,181.02500000000001,180.33699999999999,null,"d (0.5)",null,188.44900000000001,171.54,172.99799999999999,null,"d (0.5)",null,220.90899999999999,226.60400000000001,222.76499999999999,null,"d (0.5)",null,262.40699999999998,272.72899999999998,264.27199999999999,null,"d (0.5)",null,380.52499999999998,384.94299999999998,423.54700000000003,null,"d (0.5)",null,139.83600000000001,119.664,126.328]
["d (0.9)",null,1241.4059999999999,1060.982,959.56899999999996,null,"d (0.9)",null,541.97699999999998,485.46699999999998,632.846,null,"d (0.9)",null,1321.5509999999999,1250.934,1344.1210000000001,null,"d (0.9)",null,555.29600000000005,507.315,494.28100000000001,null,null,"d (0.9)",null,531.25900000000001,484.83,483.67099999999999,null,"d (0.9)",null,349.49099999999999,356.108,343.245,null,"d (0.9)",null,453.072,390.00299999999999,385.262,null,"d (0.9)",null,912.95399999999995,556.30600000000004,627.27499999999998,null,"d (0.9)",null,314.73599999999999,392.74299999999999,313.50900000000001,null,"d (0.9)",null,302.04500000000002,288.91699999999997,319.08100000000002,null,"d (0.9)",null,264.38299999999998,175.35900000000001,188.97399999999999,null,"d (0.9)",null,345.61200000000002,347.87799999999999,336.709,null,"d (0.9)",null,354.68,347.48899999999998,352.65,null,"d (0.9)",null,384.14600000000002,377.15600000000001,380.471,null,"d (0.9)",null,218.172,348.29899999999998,284.35199999999998,null,"d (0.9)",null,290.11500000000001,285.98500000000001,286.67399999999998,null,"d (0.9)",null,382.87200000000001,292.34800000000001,294.57499999999999,null,"d (0.9)",null,378.98599999999999,390.125,383.89400000000001,null,"d (0.9)",null,439.459,443.64400000000001,444.04599999999999,null,"d (0.9)",null,697.76900000000001,724.37199999999996,767.13699999999994,null,"d (0.9)",null,342.779,294.83999999999997,311.637]
["Specific surface area",null,7.3800000000000004E-2,0.108,0.114,null,"Specific surface area",null,9.5299999999999996E-2,0.09,7.5800000000000006E-2,null,"Specific surface area",null,3.15E-2,7.3400000000000007E-2,5.9200000000000003E-2,null,"Specific surface area",null,4.0800000000000003E-2,8.1600000000000006E-2,8.7300000000000003E-2,null,null,"Specific surface area",null,2.6800000000000001E-2,3.1699999999999999E-2,2.9499999999999998E-2,null,"Specific surface area",null,2.6700000000000002E-2,2.7300000000000001E-2,2.7199999999999998E-2,null,"Specific surface area",null,6.2100000000000002E-2,6.0299999999999999E-2,6.1499999999999999E-2,null,"Specific surface area",null,7.0400000000000004E-2,7.3099999999999998E-2,0.14199999999999999,null,"Specific surface area",null,7.6799999999999993E-2,6.7000000000000004E-2,0.11799999999999999,null,"Specific surface area",null,0.309,0.32900000000000001,0.318,null,"Specific surface area",null,0.73399999999999999,0.79600000000000004,0.78600000000000003,null,"Specific surface area",null,2.6700000000000002E-2,2.81E-2,3.1399999999999997E-2,null,"Specific surface area",null,2.6599999999999999E-2,2.7400000000000001E-2,3.2099999999999997E-2,null,"Specific surface area",null,4.4499999999999998E-2,4.53E-2,5.2999999999999999E-2,null,"Specific surface area",null,0.68,0.62,0.60799999999999998,null,"Specific surface area",null,6.6900000000000001E-2,6.6500000000000004E-2,8.48E-2,null,"Specific surface area",null,3.8300000000000001E-2,6.2100000000000002E-2,5.9700000000000003E-2,null,"Specific surface area",null,3.4700000000000002E-2,4.3999999999999997E-2,4.4699999999999997E-2,null,"Specific surface area",null,2.9499999999999998E-2,3.4299999999999997E-2,3.32E-2,null,"Specific surface area",null,6.3799999999999996E-2,6.7599999999999993E-2,3.5400000000000001E-2,null,"Specific surface area",null,0.216,0.251,0.23899999999999999]
["Result Below 6.000 µm",null,1.657,2.3170000000000002,2.4329999999999998,null,"Result Below 6.000 µm",null,2.0670000000000002,1.9379999999999999,1.66,null,"Result Below 6.000 µm",null,0.61299999999999999,1.476,1.325,null,"Result Below 6.000 µm",null,0.66500000000000004,1.718,1.7969999999999999,null,null,"Result Below 6.000 µm",null,0.28799999999999998,0.374,0.36099999999999999,null,"Result Below 6.000 µm",null,0,0,0,null,"Result Below 6.000 µm",null,1.0369999999999999,0.96599999999999997,1.0580000000000001,null,"Result Below 6.000 µm",null,1.48,1.5209999999999999,2.871,null,"Result Below 6.000 µm",null,1.516,1.2989999999999999,2.2509999999999999,null,"Result Below 6.000 µm",null,6.7409999999999997,7.234,7.0030000000000001,null,"Result Below 6.000 µm",null,16.643000000000001,18.283999999999999,18.038,null,"Result Below 6.000 µm",null,0,0,0,null,"Result Below 6.000 µm",null,0,0,0,null,"Result Below 6.000 µm",null,0.65700000000000003,0.66800000000000004,0.96299999999999997,null,"Result Below 6.000 µm",null,15.071,13.739000000000001,13.257,null,"Result Below 6.000 µm",null,1.2070000000000001,1.1519999999999999,1.653,null,"Result Below 6.000 µm",null,0,0.83499999999999996,0.76600000000000001,null,"Result Below 6.000 µm",null,0,0.42,0.41299999999999998,null,"Result Below 6.000 µm",null,0,0.31,0.16800000000000001,null,"Result Below 6.000 µm",null,1.3069999999999999,1.4019999999999999,0.57999999999999996,null,"Result Below 6.000 µm",null,4.1669999999999998,4.8529999999999998,4.6529999999999996]
["Result 6.00µm-63.00µm",null,5.2489999999999997,6.4909999999999997,6.7140000000000004,null,"Result 6.00µm-63.00µm",null,5.7830000000000004,5.4779999999999998,4.7130000000000001,null,"Result 6.00µm-63.00µm",null,1.7929999999999999,3.5569999999999999,2.9540000000000002,null,"Result 6.00µm-63.00µm",null,3.052,4.7889999999999997,5.452,null,null,"Result 6.00µm-63.00µm",null,0.40799999999999997,2.2429999999999999,0.376,null,"Result 6.00µm-63.00µm",null,0,0,0,null,"Result 6.00µm-63.00µm",null,5.5439999999999996,5.3170000000000002,4.6719999999999997,null,"Result 6.00µm-63.00µm",null,5.1150000000000002,5.2830000000000004,8.7949999999999999,null,"Result 6.00µm-63.00µm",null,4.6550000000000002,3.8769999999999998,6.0430000000000001,null,"Result 6.00µm-63.00µm",null,19.937999999999999,20.448,19.753,null,"Result 6.00µm-63.00µm",null,39.616999999999997,43.63,42.887,null,"Result 6.00µm-63.00µm",null,0,0,1.9019999999999999,null,"Result 6.00µm-63.00µm",null,0,0,2.226,null,"Result 6.00µm-63.00µm",null,3.1659999999999999,3.1280000000000001,3.7919999999999998,null,"Result 6.00µm-63.00µm",null,41.741,37.94,38.481000000000002,null,"Result 6.00µm-63.00µm",null,3.879,4.0179999999999998,4.6219999999999999,null,"Result 6.00µm-63.00µm",null,2.2170000000000001,4.5460000000000003,4.085,null,"Result 6.00µm-63.00µm",null,3.1190000000000002,4.1130000000000004,4.2949999999999999,null,"Result 6.00µm-63.00µm",null,3.7469999999999999,3.3090000000000002,4.0250000000000004,null,"Result 6.00µm-63.00µm",null,6.085,6.2190000000000003,3.6869999999999998,null,"Result 6.00µm-63.00µm",null,20.648,23.634,22.609000000000002]
["Result 63.00µm-2000.00µm",null,93.093999999999994,91.191999999999993,90.852999999999994,null,"Result 63.00µm-2000.00µm",null,92.149000000000001,92.584000000000003,93.626999999999995,null,"Result 63.00µm-2000.00µm",null,97.593000000000004,94.966999999999999,95.721000000000004,null,"Result 63.00µm-2000.00µm",null,96.283000000000001,93.492999999999995,92.751000000000005,null,null,"Result 63.00µm-2000.00µm",null,99.305000000000007,97.382999999999996,99.263000000000005,null,"Result 63.00µm-2000.00µm",null,100,100,100,null,"Result 63.00µm-2000.00µm",null,93.418999999999997,93.716999999999999,94.269000000000005,null,"Result 63.00µm-2000.00µm",null,93.405000000000001,93.195999999999998,88.334000000000003,null,"Result 63.00µm-2000.00µm",null,93.828999999999994,94.823999999999998,91.706000000000003,null,"Result 63.00µm-2000.00µm",null,73.320999999999998,72.319000000000003,73.244,null,"Result 63.00µm-2000.00µm",null,43.74,38.085999999999999,39.075000000000003,null,"Result 63.00µm-2000.00µm",null,100,100,98.097999999999999,null,"Result 63.00µm-2000.00µm",null,100,100,97.774000000000001,null,"Result 63.00µm-2000.00µm",null,96.177999999999997,96.203999999999994,95.244,null,"Result 63.00µm-2000.00µm",null,43.188000000000002,48.320999999999998,48.262,null,"Result 63.00µm-2000.00µm",null,94.914000000000001,94.83,93.724999999999994,null,"Result 63.00µm-2000.00µm",null,97.783000000000001,94.617999999999995,95.149000000000001,null,"Result 63.00µm-2000.00µm",null,96.881,95.465999999999994,95.292000000000002,null,"Result 63.00µm-2000.00µm",null,96.253,96.381,95.807000000000002,null,"Result 63.00µm-2000.00µm",null,92.608999999999995,92.379000000000005,95.733999999999995,null,"Result 63.00µm-2000.00µm",null,75.183999999999997,71.513000000000005,72.738]
["Result 63.00µm-125.00µm",null,3.8860000000000001,4.8289999999999997,4.907,null,"Result 63.00µm-125.00µm",null,4.9589999999999996,3.7949999999999999,4.0090000000000003,null,"Result 63.00µm-125.00µm",null,2.0779999999999998,3.4670000000000001,2.367,null,"Result 63.00µm-125.00µm",null,2.3660000000000001,3.4569999999999999,4.4859999999999998,null,null,"Result 63.00µm-125.00µm",null,0.154,0.193,0.61399999999999999,null,"Result 63.00µm-125.00µm",null,1.4910000000000001,2.8119999999999998,1.788,null,"Result 63.00µm-125.00µm",null,11.760999999999999,11.407,10.257999999999999,null,"Result 63.00µm-125.00µm",null,7.74,8.0920000000000005,12.01,null,"Result 63.00µm-125.00µm",null,11.664999999999999,11.516999999999999,15.432,null,"Result 63.00µm-125.00µm",null,17.001000000000001,17.872,16.908000000000001,null,"Result 63.00µm-125.00µm",null,20.294,20.852,20.169,null,"Result 63.00µm-125.00µm",null,1.3280000000000001,3.5430000000000001,2.484,null,"Result 63.00µm-125.00µm",null,1.6519999999999999,2.3410000000000002,3.5529999999999999,null,"Result 63.00µm-125.00µm",null,2.016,2.4359999999999999,2.5379999999999998,null,"Result 63.00µm-125.00µm",null,17.898,15.946999999999999,17.521000000000001,null,"Result 63.00µm-125.00µm",null,11.874000000000001,12.477,12.532,null,"Result 63.00µm-125.00µm",null,15.768000000000001,20.201000000000001,19.949000000000002,null,"Result 63.00µm-125.00µm",null,8.9580000000000002,7.2069999999999999,7.9189999999999996,null,"Result 63.00µm-125.00µm",null,3.3889999999999998,1.9219999999999999,3.2869999999999999,null,"Result 63.00µm-125.00µm",null,4.4240000000000004,4.8579999999999997,2.21,null,"Result 63.00µm-125.00µm",null,20.61,23.346,22.297999999999998]
["Result 125.00µm-250.00µm",null,21.667000000000002,22.911999999999999,21.398,null,"Result 125.00µm-250.00µm",null,36.018999999999998,38.375,36.628,null,"Result 125.00µm-250.00µm",null,11.016999999999999,14.114000000000001,13.526,null,"Result 125.00µm-250.00µm",null,30.163,31.395,32.856000000000002,null,null,"Result 125.00µm-250.00µm",null,26.303000000000001,28.341000000000001,33.037999999999997,null,"Result 125.00µm-250.00µm",null,55.783000000000001,55.451000000000001,57.92,null,"Result 125.00µm-250.00µm",null,44.131,46.548999999999999,47.844999999999999,null,"Result 125.00µm-250.00µm",null,36.042000000000002,38.893000000000001,37.432000000000002,null,"Result 125.00µm-250.00µm",null,56.500999999999998,51.408999999999999,52.238999999999997,null,"Result 125.00µm-250.00µm",null,37.734000000000002,37.981999999999999,36.555,null,"Result 125.00µm-250.00µm",null,12.776,12.042,12.968,null,"Result 125.00µm-250.00µm",null,56.453000000000003,57.801000000000002,58.634999999999998,null,"Result 125.00µm-250.00µm",null,54.716000000000001,57.417999999999999,54.658000000000001,null,"Result 125.00µm-250.00µm",null,47.024999999999999,48.764000000000003,47.624000000000002,null,"Result 125.00µm-250.00µm",null,18.308,17.009,18.161999999999999,null,"Result 125.00µm-250.00µm",null,63.23,63.462000000000003,62.194000000000003,null,"Result 125.00µm-250.00µm",null,54.642000000000003,55.09,55.365000000000002,null,"Result 125.00µm-250.00µm",null,48.616999999999997,46.719000000000001,47.25,null,"Result 125.00µm-250.00µm",null,38.540999999999997,36.176000000000002,37.616,null,"Result 125.00µm-250.00µm",null,13.412000000000001,13.465,11.053000000000001,null,"Result 125.00µm-250.00µm",null,31.859000000000002,31.902999999999999,31.927]
["Result 250.00µm-500.00µm",null,27.114000000000001,30.155000000000001,31.25,null,"Result 250.00µm-500.00µm",null,38.820999999999998,41.286999999999999,38.228000000000002,null,"Result 250.00µm-500.00µm",null,22.905999999999999,24.908999999999999,22.888999999999999,null,"Result 250.00µm-500.00µm",null,48.962000000000003,47.984999999999999,45.905000000000001,null,null,"Result 250.00µm-500.00µm",null,59.697000000000003,60.408000000000001,57.225000000000001,null,"Result 250.00µm-500.00µm",null,42.68,41.646999999999998,40.253999999999998,null,"Result 250.00µm-500.00µm",null,29.079000000000001,31.5,32.372,null,"Result 250.00µm-500.00µm",null,30.433,34.021999999999998,26.564,null,"Result 250.00µm-500.00µm",null,25.663,25.03,24.033999999999999,null,"Result 250.00µm-500.00µm",null,18.564,16.452000000000002,16.96,null,"Result 250.00µm-500.00µm",null,6.5540000000000003,4.5640000000000001,3.3420000000000001,null,"Result 250.00µm-500.00µm",null,42.191000000000003,38.601999999999997,36.947000000000003,null,"Result 250.00µm-500.00µm",null,43.567,40.192,39.505000000000003,null,"Result 250.00µm-500.00µm",null,45.973999999999997,44.104999999999997,43.970999999999997,null,"Result 250.00µm-500.00µm",null,6.8970000000000002,8.3740000000000006,9.8699999999999992,null,"Result 250.00µm-500.00µm",null,19.809999999999999,18.890999999999998,18.998999999999999,null,"Result 250.00µm-500.00µm",null,19.058,19.327000000000002,19.835000000000001,null,"Result 250.00µm-500.00µm",null,38.326999999999998,39.945999999999998,38.857999999999997,null,"Result 250.00µm-500.00µm",null,49.801000000000002,53.529000000000003,50.015999999999998,null,"Result 250.00µm-500.00µm",null,44.872999999999998,42.465000000000003,45.383000000000003,null,"Result 250.00µm-500.00µm",null,21.297000000000001,16.222999999999999,18.056999999999999]
["Result 500.00µm-1000.00µm",null,22.753,21.734999999999999,24.390999999999998,null,"Result 500.00µm-1000.00µm",null,10.551,7.0629999999999997,9.5,null,"Result 500.00µm-1000.00µm",null,38.076000000000001,33.069000000000003,32.902000000000001,null,"Result 500.00µm-1000.00µm",null,14.707000000000001,10.657,9.5030000000000001,null,null,"Result 500.00µm-1000.00µm",null,12.891,8.4410000000000007,8.3859999999999992,null,"Result 500.00µm-1000.00µm",null,4.4999999999999998E-2,0.09,3.6999999999999998E-2,null,"Result 500.00µm-1000.00µm",null,4.32,1.5,1.6020000000000001,null,"Result 500.00µm-1000.00µm",null,10.627000000000001,8.2469999999999999,6.2619999999999996,null,"Result 500.00µm-1000.00µm",null,0,3.9169999999999998,0,null,"Result 500.00µm-1000.00µm",null,2.1999999999999999E-2,1.2E-2,1.647,null,"Result 500.00µm-1000.00µm",null,3.6040000000000001,0.628,1.3220000000000001,null,"Result 500.00µm-1000.00µm",null,2.8000000000000001E-2,5.3999999999999999E-2,3.1E-2,null,"Result 500.00µm-1000.00µm",null,6.6000000000000003E-2,4.9000000000000002E-2,5.8000000000000003E-2,null,"Result 500.00µm-1000.00µm",null,1.163,0.89900000000000002,1.111,null,"Result 500.00µm-1000.00µm",null,8.5000000000000006E-2,3.5070000000000001,2.6909999999999998,null,"Result 500.00µm-1000.00µm",null,0,0,0,null,"Result 500.00µm-1000.00µm",null,3.4809999999999999,0,0,null,"Result 500.00µm-1000.00µm",null,0.97899999999999998,1.5940000000000001,1.264,null,"Result 500.00µm-1000.00µm",null,4.5209999999999999,4.7539999999999996,4.8879999999999999,null,"Result 500.00µm-1000.00µm",null,29.489000000000001,30.497,35.304000000000002,null,"Result 500.00µm-1000.00µm",null,1.419,4.1000000000000002E-2,0.45500000000000002]
["Result 1000.00µm-2000.00µm",null,17.673999999999999,11.561999999999999,8.907,null,"Result 1000.00µm-2000.00µm",null,1.7989999999999999,2.0640000000000001,5.2619999999999996,null,"Result 1000.00µm-2000.00µm",null,23.515999999999998,19.407,24.036999999999999,null,"Result 1000.00µm-2000.00µm",null,8.4000000000000005E-2,0,0,null,null,"Result 1000.00µm-2000.00µm",null,0.26100000000000001,0,0,null,"Result 1000.00µm-2000.00µm",null,0,0,0,null,"Result 1000.00µm-2000.00µm",null,4.1269999999999998,2.7610000000000001,2.1930000000000001,null,"Result 1000.00µm-2000.00µm",null,8.5640000000000001,3.9420000000000002,6.0670000000000002,null,"Result 1000.00µm-2000.00µm",null,0,2.952,0,null,"Result 1000.00µm-2000.00µm",null,0,0,1.1739999999999999,null,"Result 1000.00µm-2000.00µm",null,0.51100000000000001,0,1.2729999999999999,null,"Result 1000.00µm-2000.00µm",null,0,0,0,null,"Result 1000.00µm-2000.00µm",null,0,0,0,null,"Result 1000.00µm-2000.00µm",null,0,0,0,null,"Result 1000.00µm-2000.00µm",null,0,3.484,1.9E-2,null,"Result 1000.00µm-2000.00µm",null,0,0,0,null,"Result 1000.00µm-2000.00µm",null,4.835,0,0,null,"Result 1000.00µm-2000.00µm",null,0,0,0,null,"Result 1000.00µm-2000.00µm",null,0,0,0,null,"Result 1000.00µm-2000.00µm",null,0.41099999999999998,1.093,1.7829999999999999,null,"Result 1000.00µm-2000.00µm",null,0,0,0]
["Result Between User Sizes (Sizes in um)",0.01,null,null,null,null,"Result Between User Sizes (Sizes in um)",0.01,null,null,null,null,"Result Between User Sizes (Sizes in um)",0.01,null,null,null,null,"Result Between User Sizes (Sizes in um)",0.01,null,null,null,null,null,"Result Between User Sizes (Sizes in um)",0.01,null,null,null,null,"Result Between User Sizes (Sizes in um)",0.01,null,null,null,null,"Result Between User Sizes (Sizes in um)",0.01,null,null,null,null,"Result Between User Sizes (Sizes in um)",0.01,null,null,null,null,"Result Between User Sizes (Sizes in um)",0.01,null,null,null,null,"Result Between User Sizes (Sizes in um)",0.01,null,null,null,null,"Result Between User Sizes (Sizes in um)",0.01,null,null,null,null,"Result Between User Sizes (Sizes in um)",0.01,null,null,null,null,"Result Between User Sizes (Sizes in um)",0.01,null,null,null,null,"Result Between User Sizes (Sizes in um)",0.01,null,null,null,null,"Result Between User Sizes (Sizes in um)",0.01,null,null,null,null,"Result Between User Sizes (Sizes in um)",0.01,null,null,null,null,"Result Between User Sizes (Sizes in um)",0.01,null,null,null,null,"Result Between User Sizes (Sizes in um)",0.01,null,null,null,null,"Result Between User Sizes (Sizes in um)",0.01,null,null,null,null,"Result Between User Sizes (Sizes in um)",0.01,null,null,null,null,"Result Between User Sizes (Sizes in um)",0.01,null,null,null,null,null,null,null,"Result Between User Sizes (Sizes in um)",4428,4429,4430,4431,4432,4433,"4433a",4434,4435,4436,4437,4438,"4438a","4438b",4439,4440,4441,4442,4443,4444,4445]
[null,1.1481999999999999E-2,0,0,0,null,null,1.1481999999999999E-2,0,0,0,null,null,1.1481999999999999E-2,0,0,0,null,null,1.1481999999999999E-2,0,0,0,null,null,null,1.1481999999999999E-2,0,0,0,null,null,1.1481999999999999E-2,0,0,0,null,null,1.1481999999999999E-2,0,0,0,null,null,1.1481999999999999E-2,0,0,0,null,null,1.1481999999999999E-2,0,0,0,null,null,1.1481999999999999E-2,0,0,0,null,null,1.1481999999999999E-2,0,0,0,null,null,1.1481999999999999E-2,0,0,0,null,null,1.1481999999999999E-2,0,0,0,null,null,1.1481999999999999E-2,0,0,0,null,null,1.1481999999999999E-2,0,0,0,null,null,1.1481999999999999E-2,0,0,0,null,null,1.1481999999999999E-2,0,0,0,null,null,1.1481999999999999E-2,0,0,0,null,null,1.1481999999999999E-2,0,0,0,null,null,1.1481999999999999E-2,0,0,0,null,null,1.1481999999999999E-2,0,0,0,null,null,null,null,1.1481999999999999E-2,{"$f":"AVERAGE(C22:E22)","v":0},{"$f":"AVERAGE(I22:K22)","v":0},{"$f":"AVERAGE(O22:Q22)","v":0},{"$f":"AVERAGE(V22:X22)","v":0},{"$f":"AVERAGE(AB22:AD22)","v":0},{"$f":"AVERAGE(AH22:AJ22)","v":0},{"$f":"AVERAGE(AN22:AP22)","v":0},{"$f":"AVERAGE(AT22:AV22)","v":0},{"$f":"AVERAGE(AZ22:BB22)","v":0},{"$f":"AVERAGE(BF22:BH22)","v":0},{"$f":"AVERAGE(BL22:BN22)","v":0},{"$f":"AVERAGE(BR22:BT22)","v":0},{"$f":"AVERAGE(BX22:BZ22)","v":0},{"$f":"AVERAGE(CD22:CF22)","v":0},{"$f":"AVERAGE(CJ22:CL22)","v":0},{"$f":"AVERAGE(CP22:CR22)","v":0},{"$f":"AVERAGE(CV22:CX22)","v":0},{"$f":"AVERAGE(DB22:DD22)","v":0},{"$f":"AVERAGE(DH22:DJ22)","v":0},{"$f":"AVERAGE(DN22:DP22)","v":0},{"$f":"AVERAGE(DT22:DV22)","v":0}]
[null,1.3183E-2,0,0,0,null,null,1.3183E-2,0,0,0,null,null,1.3183E-2,0,0,0,null,null,1.3183E-2,0,0,0,null,null,null,1.3183E-2,0,0,0,null,null,1.3183E-2,0,0,0,null,null,1.3183E-2,0,0,0,null,null,1.3183E-2,0,0,0,null,null,1.3183E-2,0,0,0,null,null,1.3183E-2,0,0,0,null,null,1.3183E-2,0,0,0,null,null,1.3183E-2,0,0,0,null,null,1.3183E-2,0,0,0,null,null,1.3183E-2,0,0,0,null,null,1.3183E-2,0,0,0,null,null,1.3183E-2,0,0,0,null,null,1.3183E-2,0,0,0,null,null,1.3183E-2,0,0,0,null,null,1.3183E-2,0,0,0,null,null,1.3183E-2,0,0,0,null,null,1.3183E-2,0,0,0,null,null,null,null,1.3183E-2,0,0,0,0,0,0,0,0,0,0,0,0,0,0,0,0,0,0,0,0,0]
[null,1.5136E-2,0,0,0,null,null,1.5136E-2,0,0,0,null,null,1.5136E-2,0,0,0,null,null,1.5136E-2,0,0,0,null,null,null,1.5136E-2,0,0,0,null,null,1.5136E-2,0,0,0,null,null,1.5136E-2,0,0,0,null,null,1.5136E-2,0,0,0,null,null,1.5136E-2,0,0,0,null,null,1.5136E-2,0,0,0,null,null,1.5136E-2,0,0,0,null,null,1.5136E-2,0,0,0,null,null,1.5136E-2,0,0,0,null,null,1.5136E-2,0,0,0,null,null,1.5136E-2,0,0,0,null,null,1.5136E-2,0,0,0,null,null,1.5136E-2,0,0,0,null,null,1.5136E-2,0,0,0,null,null,1.5136E-2,0,0,0,null,null,1.5136E-2,0,0,0,null,null,1.5136E-2,0,0,0,null,null,null,null,1.5136E-2,0,0,0,0,0,0,0,0,0,0,0,0,0,0,0,0,0,0,0,0,0]
[null,1.7378000000000001E-2,0,0,0,null,null,1.7378000000000001E-2,0,0,0,null,null,1.7378000000000001E-2,0,0,0,null,null,1.7378000000000001E-2,0,0,0,null,null,null,1.7378000000000001E-2,0,0,0,null,null,1.7378000000000001E-2,0,0,0,null,null,1.7378000000000001E-2,0,0,0,null,null,1.7378000000000001E-2,0,0,0,null,null,1.7378000000000001E-2,0,0,0,null,null,1.7378000000000001E-2,0,0,0,null,null,1.7378000000000001E-2,0,0,0,null,null,1.7378000000000001E-2,0,0,0,null,null,1.7378000000000001E-2,0,0,0,null,null,1.7378000000000001E-2,0,0,0,null,null,1.7378000000000001E-2,0,0,0,null,null,1.7378000000000001E-2,0,0,0,null,null,1.7378000000000001E-2,0,0,0,null,null,1.7378000000000001E-2,0,0,0,null,null,1.7378000000000001E-2,0,0,0,null,null,1.7378000000000001E-2,0,0,0,null,null,1.7378000000000001E-2,0,0,0,null,null,null,null,1.7378000000000001E-2,0,0,0,0,0,0,0,0,0,0,0,0,0,0,0,0,0,0,0,0,0]
[null,1.9952999999999999E-2,0,0,0,null,null,1.9952999999999999E-2,0,0,0,null,null,1.9952999999999999E-2,0,0,0,null,null,1.9952999999999999E-2,0,0,0,null,null,null,1.9952999999999999E-2,0,0,0,null,null,1.9952999999999999E-2,0,0,0,null,null,1.9952999999999999E-2,0,0,0,null,null,1.9952999999999999E-2,0,0,0,null,null,1.9952999999999999E-2,0,0,0,null,null,1.9952999999999999E-2,0,0,0,null,null,1.9952999999999999E-2,0,0,0,null,null,1.9952999999999999E-2,0,0,0,null,null,1.9952999999999999E-2,0,0,0,null,null,1.9952999999999999E-2,0,0,0,null,null,1.9952999999999999E-2,0,0,0,null,null,1.9952999999999999E-2,0,0,0,null,null,1.9952999999999999E-2,0,0,0,null,null,1.9952999999999999E-2,0,0,0,null,null,1.9952999999999999E-2,0,0,0,null,null,1.9952999999999999E-2,0,0,0,null,null,1.9952999999999999E-2,0,0,0,null,null,null,null,1.9952999999999999E-2,0,0,0,0,0,0,0,0,0,0,0,0,0,0,0,0,0,0,0,0,0]
[null,2.2908999999999999E-2,0,0,0,null,null,2.2908999999999999E-2,0,0,0,null,null,2.2908999999999999E-2,0,0,0,null,null,2.2908999999999999E-2,0,0,0,null,null,null,2.2908999999999999E-2,0,0,0,null,null,2.2908999999999999E-2,0,0,0,null,null,2.2908999999999999E-2,0,0,0,null,null,2.2908999999999999E-2,0,0,0,null,null,2.2908999999999999E-2,0,0,0,null,null,2.2908999999999999E-2,0,0,0,null,null,2.2908999999999999E-2,0,0,0,null,null,2.2908999999999999E-2,0,0,0,null,null,2.2908999999999999E-2,0,0,0,null,null,2.2908999999999999E-2,0,0,0,null,null,2.2908999999999999E-2,0,0,0,null,null,2.2908999999999999E-2,0,0,0,null,null,2.2908999999999999E-2,0,0,0,null,null,2.2908999999999999E-2,0,0,0,null,null,2.2908999999999999E-2,0,0,0,null,null,2.2908999999999999E-2,0,0,0,null,null,2.2908999999999999E-2,0,0,0,null,null,null,null,2.2908999999999999E-2,0,0,0,0,0,0,0,0,0,0,0,0,0,0,0,0,0,0,0,0,0]
[null,2.6303E-2,0,0,0,null,null,2.6303E-2,0,0,0,null,null,2.6303E-2,0,0,0,null,null,2.6303E-2,0,0,0,null,null,null,2.6303E-2,0,0,0,null,null,2.6303E-2,0,0,0,null,null,2.6303E-2,0,0,0,null,null,2.6303E-2,0,0,0,null,null,2.6303E-2,0,0,0,null,null,2.6303E-2,0,0,0,null,null,2.6303E-2,0,0,0,null,null,2.6303E-2,0,0,0,null,null,2.6303E-2,0,0,0,null,null,2.6303E-2,0,0,0,null,null,2.6303E-2,0,0,0,null,null,2.6303E-2,0,0,0,null,null,2.6303E-2,0,0,0,null,null,2.6303E-2,0,0,0,null,null,2.6303E-2,0,0,0,null,null,2.6303E-2,0,0,0,null,null,2.6303E-2,0,0,0,null,null,null,null,2.6303E-2,0,0,0,0,0,0,0,0,0,0,0,0,0,0,0,0,0,0,0,0,0]
[null,3.0200000000000001E-2,0,0,0,null,null,3.0200000000000001E-2,0,0,0,null,null,3.0200000000000001E-2,0,0,0,null,null,3.0200000000000001E-2,0,0,0,null,null,null,3.0200000000000001E-2,0,0,0,null,null,3.0200000000000001E-2,0,0,0,null,null,3.0200000000000001E-2,0,0,0,null,null,3.0200000000000001E-2,0,0,0,null,null,3.0200000000000001E-2,0,0,0,null,null,3.0200000000000001E-2,0,0,0,null,null,3.0200000000000001E-2,0,0,0,null,null,3.0200000000000001E-2,0,0,0,null,null,3.0200000000000001E-2,0,0,0,null,null,3.0200000000000001E-2,0,0,0,null,null,3.0200000000000001E-2,0,0,0,null,null,3.0200000000000001E-2,0,0,0,null,null,3.0200000000000001E-2,0,0,0,null,null,3.0200000000000001E-2,0,0,0,null,null,3.0200000000000001E-2,0,0,0,null,null,3.0200000000000001E-2,0,0,0,null,null,3.0200000000000001E-2,0,0,0,null,null,null,null,3.0200000000000001E-2,0,0,0,0,0,0,0,0,0,0,0,0,0,0,0,0,0,0,0,0,0]
[null,3.4674000000000003E-2,0,0,0,null,null,3.4674000000000003E-2,0,0,0,null,null,3.4674000000000003E-2,0,0,0,null,null,3.4674000000000003E-2,0,0,0,null,null,null,3.4674000000000003E-2,0,0,0,null,null,3.4674000000000003E-2,0,0,0,null,null,3.4674000000000003E-2,0,0,0,null,null,3.4674000000000003E-2,0,0,0,null,null,3.4674000000000003E-2,0,0,0,null,null,3.4674000000000003E-2,0,0,0,null,null,3.4674000000000003E-2,0,0,0,null,null,3.4674000000000003E-2,0,0,0,null,null,3.4674000000000003E-2,0,0,0,null,null,3.4674000000000003E-2,0,0,0,null,null,3.4674000000000003E-2,0,0,0,null,null,3.4674000000000003E-2,0,0,0,null,null,3.4674000000000003E-2,0,0,0,null,null,3.4674000000000003E-2,0,0,0,null,null,3.4674000000000003E-2,0,0,0,null,null,3.4674000000000003E-2,0,0,0,null,null,3.4674000000000003E-2,0,0,0,null,null,null,null,3.4674000000000003E-2,0,0,0,0,0,0,0,0,0,0,0,0,0,0,0,0,0,0,0,0,0]
[null,3.9810999999999999E-2,0,0,0,null,null,3.9810999999999999E-2,0,0,0,null,null,3.9810999999999999E-2,0,0,0,null,null,3.9810999999999999E-2,0,0,0,null,null,null,3.9810999999999999E-2,0,0,0,null,null,3.9810999999999999E-2,0,0,0,null,null,3.9810999999999999E-2,0,0,0,null,null,3.9810999999999999E-2,0,0,0,null,null,3.9810999999999999E-2,0,0,0,null,null,3.9810999999999999E-2,0,0,0,null,null,3.9810999999999999E-2,0,0,0,null,null,3.9810999999999999E-2,0,0,0,null,null,3.9810999999999999E-2,0,0,0,null,null,3.9810999999999999E-2,0,0,0,null,null,3.9810999999999999E-2,0,0,0,null,null,3.9810999999999999E-2,0,0,0,null,null,3.9810999999999999E-2,0,0,0,null,null,3.9810999999999999E-2,0,0,0,null,null,3.9810999999999999E-2,0,0,0,null,null,3.9810999999999999E-2,0,0,0,null,null,3.9810999999999999E-2,0,0,0,null,null,null,null,3.9810999999999999E-2,0,0,0,0,0,0,0,0,0,0,0,0,0,0,0,0,0,0,0,0,0]
[null,4.5709E-2,0,0,0,null,null,4.5709E-2,0,0,0,null,null,4.5709E-2,0,0,0,null,null,4.5709E-2,0,0,0,null,null,null,4.5709E-2,0,0,0,null,null,4.5709E-2,0,0,0,null,null,4.5709E-2,0,0,0,null,null,4.5709E-2,0,0,0,null,null,4.5709E-2,0,0,0,null,null,4.5709E-2,0,0,0,null,null,4.5709E-2,0,0,0,null,null,4.5709E-2,0,0,0,null,null,4.5709E-2,0,0,0,null,null,4.5709E-2,0,0,0,null,null,4.5709E-2,0,0,0,null,null,4.5709E-2,0,0,0,null,null,4.5709E-2,0,0,0,null,null,4.5709E-2,0,0,0,null,null,4.5709E-2,0,0,0,null,null,4.5709E-2,0,0,0,null,null,4.5709E-2,0,0,0,null,null,null,null,4.5709E-2,0,0,0,0,0,0,0,0,0,0,0,0,0,0,0,0,0,0,0,0,0]
[null,5.2481E-2,0,0,0,null,null,5.2481E-2,0,0,0,null,null,5.2481E-2,0,0,0,null,null,5.2481E-2,0,0,0,null,null,null,5.2481E-2,0,0,0,null,null,5.2481E-2,0,0,0,null,null,5.2481E-2,0,0,0,null,null,5.2481E-2,0,0,0,null,null,5.2481E-2,0,0,0,null,null,5.2481E-2,0,0,0,null,null,5.2481E-2,0,0,0,null,null,5.2481E-2,0,0,0,null,null,5.2481E-2,0,0,0,null,null,5.2481E-2,0,0,0,null,null,5.2481E-2,0,0,0,null,null,5.2481E-2,0,0,0,null,null,5.2481E-2,0,0,0,null,null,5.2481E-2,0,0,0,null,null,5.2481E-2,0,0,0,null,null,5.2481E-2,0,0,0,null,null,5.2481E-2,0,0,0,null,null,null,null,5.2481E-2,0,0,0,0,0,0,0,0,0,0,0,0,0,0,0,0,0,0,0,0,0]
[null,6.0255999999999997E-2,0,0,0,null,null,6.0255999999999997E-2,0,0,0,null,null,6.0255999999999997E-2,0,0,0,null,null,6.0255999999999997E-2,0,0,0,null,null,null,6.0255999999999997E-2,0,0,0,null,null,6.0255999999999997E-2,0,0,0,null,null,6.0255999999999997E-2,0,0,0,null,null,6.0255999999999997E-2,0,0,0,null,null,6.0255999999999997E-2,0,0,0,null,null,6.0255999999999997E-2,0,0,0,null,null,6.0255999999999997E-2,0,0,0,null,null,6.0255999999999997E-2,0,0,0,null,null,6.0255999999999997E-2,0,0,0,null,null,6.0255999999999997E-2,0,0,0,null,null,6.0255999999999997E-2,0,0,0,null,null,6.0255999999999997E-2,0,0,0,null,null,6.0255999999999997E-2,0,0,0,null,null,6.0255999999999997E-2,0,0,0,null,null,6.0255999999999997E-2,0,0,0,null,null,6.0255999999999997E-2,0,0,0,null,null,6.0255999999999997E-2,0,0,0,null,null,null,null,6.0255999999999997E-2,0,0,0,0,0,0,0,0,0,0,0,0,0,0,0,0,0,0,0,0,0]
[null,6.9182999999999995E-2,0,0,0,null,null,6.9182999999999995E-2,0,0,0,null,null,6.9182999999999995E-2,0,0,0,null,null,6.9182999999999995E-2,0,0,0,null,null,null,6.9182999999999995E-2,0,0,0,null,null,6.9182999999999995E-2,0,0,0,null,null,6.9182999999999995E-2,0,0,0,null,null,6.9182999999999995E-2,0,0,0,null,null,6.9182999999999995E-2,0,0,0,null,null,6.9182999999999995E-2,0,0,0,null,null,6.9182999999999995E-2,0,0,0,null,null,6.9182999999999995E-2,0,0,0,null,null,6.9182999999999995E-2,0,0,0,null,null,6.9182999999999995E-2,0,0,0,null,null,6.9182999999999995E-2,0,0,0,null,null,6.9182999999999995E-2,0,0,0,null,null,6.9182999999999995E-2,0,0,0,null,null,6.9182999999999995E-2,0,0,0,null,null,6.9182999999999995E-2,0,0,0,null,null,6.9182999999999995E-2,0,0,0,null,null,6.9182999999999995E-2,0,0,0,null,null,null,null,6.9182999999999995E-2,0,0,0,0,0,0,0,0,0,0,0,0,0,0,0,0,0,0,0,0,0]
[null,7.9433000000000004E-2,0,0,0,null,null,7.9433000000000004E-2,0,0,0,null,null,7.9433000000000004E-2,0,0,0,null,null,7.9433000000000004E-2,0,0,0,null,null,null,7.9433000000000004E-2,0,0,0,null,null,7.9433000000000004E-2,0,0,0,null,null,7.9433000000000004E-2,0,0,0,null,null,7.9433000000000004E-2,0,0,0,null,null,7.9433000000000004E-2,0,0,0,null,null,7.9433000000000004E-2,0,0,0,null,null,7.9433000000000004E-2,0,0,0,null,null,7.9433000000000004E-2,0,0,0,null,null,7.9433000000000004E-2,0,0,0,null,null,7.9433000000000004E-2,0,0,0,null,null,7.9433000000000004E-2,0,0,0,null,null,7.9433000000000004E-2,0,0,0,null,null,7.9433000000000004E-2,0,0,0,null,null,7.9433000000000004E-2,0,0,0,null,null,7.9433000000000004E-2,0,0,0,null,null,7.9433000000000004E-2,0,0,0,null,null,7.9433000000000004E-2,0,0,0,null,null,null,null,7.9433000000000004E-2,0,0,0,0,0,0,0,0,0,0,0,0,0,0,0,0,0,0,0,0,0]
[null,9.1201000000000004E-2,0,0,0,null,null,9.1201000000000004E-2,0,0,0,null,null,9.1201000000000004E-2,0,0,0,null,null,9.1201000000000004E-2,0,0,0,null,null,null,9.1201000000000004E-2,0,0,0,null,null,9.1201000000000004E-2,0,0,0,null,null,9.1201000000000004E-2,0,0,0,null,null,9.1201000000000004E-2,0,0,0,null,null,9.1201000000000004E-2,0,0,0,null,null,9.1201000000000004E-2,0,0,0,null,null,9.1201000000000004E-2,0,0,0,null,null,9.1201000000000004E-2,0,0,0,null,null,9.1201000000000004E-2,0,0,0,null,null,9.1201000000000004E-2,0,0,0,null,null,9.1201000000000004E-2,0,0,0,null,null,9.1201000000000004E-2,0,0,0,null,null,9.1201000000000004E-2,0,0,0,null,null,9.1201000000000004E-2,0,0,0,null,null,9.1201000000000004E-2,0,0,0,null,null,9.1201000000000004E-2,0,0,0,null,null,9.1201000000000004E-2,0,0,0,null,null,null,null,9.1201000000000004E-2,0,0,0,0,0,0,0,0,0,0,0,0,0,0,0,0,0,0,0,0,0]
[null,0.104713,0,0,0,null,null,0.104713,0,0,0,null,null,0.104713,0,0,0,null,null,0.104713,0,0,0,null,null,null,0.104713,0,0,0,null,null,0.104713,0,0,0,null,null,0.104713,0,0,0,null,null,0.104713,0,0,0,null,null,0.104713,0,0,0,null,null,0.104713,0,0,0,null,null,0.104713,0,0,0,null,null,0.104713,0,0,0,null,null,0.104713,0,0,0,null,null,0.104713,0,0,0,null,null,0.104713,0,0,0,null,null,0.104713,0,0,0,null,null,0.104713,0,0,0,null,null,0.104713,0,0,0,null,null,0.104713,0,0,0,null,null,0.104713,0,0,0,null,null,0.104713,0,0,0,null,null,null,null,0.104713,0,0,0,0,0,0,0,0,0,0,0,0,0,0,0,0,0,0,0,0,0]
[null,0.120226,0,0,0,null,null,0.120226,0,0,0,null,null,0.120226,0,0,0,null,null,0.120226,0,0,0,null,null,null,0.120226,0,0,0,null,null,0.120226,0,0,0,null,null,0.120226,0,0,0,null,null,0.120226,0,0,0,null,null,0.120226,0,0,0,null,null,0.120226,0,0,0,null,null,0.120226,0,0,0,null,null,0.120226,0,0,0,null,null,0.120226,0,0,0,null,null,0.120226,0,0,0,null,null,0.120226,0,0,0,null,null,0.120226,0,0,0,null,null,0.120226,0,0,0,null,null,0.120226,0,0,0,null,null,0.120226,0,0,0,null,null,0.120226,0,0,0,null,null,0.120226,0,0,0,null,null,null,null,0.120226,0,0,0,0,0,0,0,0,0,0,0,0,0,0,0,0,0,0,0,0,0]
[null,0.13803799999999999,0,0,0,null,null,0.13803799999999999,0,0,0,null,null,0.13803799999999999,0,0,0,null,null,0.13803799999999999,0,0,0,null,null,null,0.13803799999999999,0,0,0,null,null,0.13803799999999999,0,0,0,null,null,0.13803799999999999,0,0,0,null,null,0.13803799999999999,0,0,0,null,null,0.13803799999999999,0,0,0,null,null,0.13803799999999999,0,0,0,null,null,0.13803799999999999,0,0,0,null,null,0.13803799999999999,0,0,0,null,null,0.13803799999999999,0,0,0,null,null,0.13803799999999999,0,0,0,null,null,0.13803799999999999,0,0,0,null,null,0.13803799999999999,0,0,0,null,null,0.13803799999999999,0,0,0,null,null,0.13803799999999999,0,0,0,null,null,0.13803799999999999,0,0,0,null,null,0.13803799999999999,0,0,0,null,null,0.13803799999999999,0,0,0,null,null,null,null,0.13803799999999999,0,0,0,0,0,0,0,0,0,0,0,0,0,0,0,0,0,0,0,0,0]
[null,0.15848899999999999,0,0,0,null,null,0.15848899999999999,0,0,0,null,null,0.15848899999999999,0,0,0,null,null,0.15848899999999999,0,0,0,null,null,null,0.15848899999999999,0,0,0,null,null,0.15848899999999999,0,0,0,null,null,0.15848899999999999,0,0,0,null,null,0.15848899999999999,0,0,0,null,null,0.15848899999999999,0,0,0,null,null,0.15848899999999999,0,0,0,null,null,0.15848899999999999,0,0,0,null,null,0.15848899999999999,0,0,0,null,null,0.15848899999999999,0,0,0,null,null,0.15848899999999999,0,0,0,null,null,0.15848899999999999,0,0,0,null,null,0.15848899999999999,0,0,0,null,null,0.15848899999999999,0,0,0,null,null,0.15848899999999999,0,0,0,null,null,0.15848899999999999,0,0,0,null,null,0.15848899999999999,0,0,0,null,null,0.15848899999999999,0,0,0,null,null,null,null,0.15848899999999999,0,0,0,0,0,0,0,0,0,0,0,0,0,0,0,0,0,0,0,0,0]
[null,0.18196999999999999,0,0,0,null,null,0.18196999999999999,0,0,0,null,null,0.18196999999999999,0,0,0,null,null,0.18196999999999999,0,0,0,null,null,null,0.18196999999999999,0,0,0,null,null,0.18196999999999999,0,0,0,null,null,0.18196999999999999,0,0,0,null,null,0.18196999999999999,0,0,0,null,null,0.18196999999999999,0,0,0,null,null,0.18196999999999999,0,0,0,null,null,0.18196999999999999,0,0,0,null,null,0.18196999999999999,0,0,0,null,null,0.18196999999999999,0,0,0,null,null,0.18196999999999999,0,0,0,null,null,0.18196999999999999,0,0,0,null,null,0.18196999999999999,0,0,0,null,null,0.18196999999999999,0,0,0,null,null,0.18196999999999999,0,0,0,null,null,0.18196999999999999,0,0,0,null,null,0.18196999999999999,0,0,0,null,null,0.18196999999999999,0,0,0,null,null,null,null,0.18196999999999999,0,0,0,0,0,0,0,0,0,0,0,0,0,0,0,0,0,0,0,0,0]
[null,0.20893,0,0,0,null,null,0.20893,0,0,0,null,null,0.20893,0,0,0,null,null,0.20893,0,0,0,null,null,null,0.20893,0,0,0,null,null,0.20893,0,0,0,null,null,0.20893,0,0,0,null,null,0.20893,0,0,0,null,null,0.20893,0,0,0,null,null,0.20893,0,0,0,null,null,0.20893,0,0,0,null,null,0.20893,0,0,0,null,null,0.20893,0,0,0,null,null,0.20893,0,0,0,null,null,0.20893,0,0,0,null,null,0.20893,0,0,0,null,null,0.20893,0,0,0,null,null,0.20893,0,0,0,null,null,0.20893,0,0,0,null,null,0.20893,0,0,0,null,null,0.20893,0,0,0,null,null,null,null,0.20893,0,0,0,0,0,0,0,0,0,0,0,0,0,0,0,0,0,0,0,0,0]
[null,0.23988300000000001,0,0,0,null,null,0.23988300000000001,0,0,0,null,null,0.23988300000000001,0,0,0,null,null,0.23988300000000001,0,0,0,null,null,null,0.23988300000000001,0,0,0,null,null,0.23988300000000001,0,0,0,null,null,0.23988300000000001,0,0,0,null,null,0.23988300000000001,0,0,0,null,null,0.23988300000000001,0,0,0,null,null,0.23988300000000001,0,0,0,null,null,0.23988300000000001,0,0,0,null,null,0.23988300000000001,0,0,0,null,null,0.23988300000000001,0,0,0,null,null,0.23988300000000001,0,0,0,null,null,0.23988300000000001,0,0,0,null,null,0.23988300000000001,0,0,0,null,null,0.23988300000000001,0,0,0,null,null,0.23988300000000001,0,0,0,null,null,0.23988300000000001,0,0,0,null,null,0.23988300000000001,0,0,0,null,null,0.23988300000000001,0,0,0,null,null,null,null,0.23988300000000001,0,0,0,0,0,0,0,0,0,0,0,0,0,0,0,0,0,0,0,0,0]
[null,0.27542299999999997,0,0,0,null,null,0.27542299999999997,0,0,0,null,null,0.27542299999999997,0,0,0,null,null,0.27542299999999997,0,0,0,null,null,null,0.27542299999999997,0,0,0,null,null,0.27542299999999997,0,0,0,null,null,0.27542299999999997,0,0,0,null,null,0.27542299999999997,0,0,0,null,null,0.27542299999999997,0,0,0,null,null,0.27542299999999997,0,0,0,null,null,0.27542299999999997,0,0,0,null,null,0.27542299999999997,0,0,0,null,null,0.27542299999999997,0,0,0,null,null,0.27542299999999997,0,0,0,null,null,0.27542299999999997,0,0,0,null,null,0.27542299999999997,0,0,0,null,null,0.27542299999999997,0,0,0,null,null,0.27542299999999997,0,0,0,null,null,0.27542299999999997,0,0,0,null,null,0.27542299999999997,0,0,0,null,null,0.27542299999999997,0,0,0,null,null,null,null,0.27542299999999997,0,0,0,0,0,0,0,0,0,0,0,0,0,0,0,0,0,0,0,0,0]
[null,0.31622800000000001,0,0,0,null,null,0.31622800000000001,0,0,0,null,null,0.31622800000000001,0,0,0,null,null,0.31622800000000001,0,0,0,null,null,null,0.31622800000000001,0,0,0,null,null,0.31622800000000001,0,0,0,null,null,0.31622800000000001,0,0,0,null,null,0.31622800000000001,0,0,0,null,null,0.31622800000000001,0,0,0,null,null,0.31622800000000001,0,0,0,null,null,0.31622800000000001,0,0,0,null,null,0.31622800000000001,0,0,0,null,null,0.31622800000000001,0,0,0,null,null,0.31622800000000001,0,0,0,null,null,0.31622800000000001,0,0,0,null,null,0.31622800000000001,0,0,0,null,null,0.31622800000000001,0,0,0,null,null,0.31622800000000001,0,0,0,null,null,0.31622800000000001,0,0,0,null,null,0.31622800000000001,0,0,0,null,null,0.31622800000000001,0,0,0,null,null,null,null,0.31622800000000001,0,0,0,0,0,0,0,0,0,0,0,0,0,0,0,0,0,0,0,0,0]
[null,0.36307800000000001,0,0,0,null,null,0.36307800000000001,0,0,0,null,null,0.36307800000000001,0,0,0,null,null,0.36307800000000001,0,0,0,null,null,null,0.36307800000000001,0,0,0,null,null,0.36307800000000001,0,0,0,null,null,0.36307800000000001,0,0,0,null,null,0.36307800000000001,0,0,0,null,null,0.36307800000000001,0,0,0,null,null,0.36307800000000001,0,0,0,null,null,0.36307800000000001,0,0,0,null,null,0.36307800000000001,0,0,0,null,null,0.36307800000000001,0,0,0,null,null,0.36307800000000001,0,0,0,null,null,0.36307800000000001,0,0,0,null,null,0.36307800000000001,0,0,0,null,null,0.36307800000000001,0,0,0,null,null,0.36307800000000001,0,0,0,null,null,0.36307800000000001,0,0,0,null,null,0.36307800000000001,0,0,0,null,null,0.36307800000000001,0,0,0,null,null,null,null,0.36307800000000001,0,0,0,0,0,0,0,0,0,0,0,0,0,0,0,0,0,0,0,0,0]
[null,0.41686899999999999,0,0,0,null,null,0.41686899999999999,0,0,0,null,null,0.41686899999999999,0,0,0,null,null,0.41686899999999999,0,0,0,null,null,null,0.41686899999999999,0,0,0,null,null,0.41686899999999999,0,0,0,null,null,0.41686899999999999,0,0,0,null,null,0.41686899999999999,0,0,0,null,null,0.41686899999999999,0,0,0,null,null,0.41686899999999999,0,0,0,null,null,0.41686899999999999,3.2585999999999997E-2,0,0,null,null,0.41686899999999999,0,0,0,null,null,0.41686899999999999,0,0,0,null,null,0.41686899999999999,0,0,0,null,null,0.41686899999999999,0,0,0,null,null,0.41686899999999999,0,0,0,null,null,0.41686899999999999,0,0,0,null,null,0.41686899999999999,0,0,0,null,null,0.41686899999999999,0,0,0,null,null,0.41686899999999999,0,0,0,null,null,0.41686899999999999,0,0,0,null,null,null,null,0.41686899999999999,0,0,0,0,0,0,0,0,0,0,1.0861999999999998E-2,0,0,0,0,0,0,0,0,0,0]
[null,0.47863,0,0,0,null,null,0.47863,0,0,0,null,null,0.47863,0,1.8321E-2,0,null,null,0.47863,0,0,0,null,null,null,0.47863,0,0,0,null,null,0.47863,0,0,0,null,null,0.47863,0,0,0,null,null,0.47863,0,0,0,null,null,0.47863,0,0,0,null,null,0.47863,6.5024999999999999E-2,7.1936E-2,7.0458999999999994E-2,null,null,0.47863,0.19625300000000001,0.20358299999999999,0.20013700000000001,null,null,0.47863,0,0,0,null,null,0.47863,0,0,0,null,null,0.47863,0,0,0,null,null,0.47863,0.18570600000000001,0.17241300000000001,0.17593500000000001,null,null,0.47863,0,0,0,null,null,0.47863,0,0,0,null,null,0.47863,0,0,0,null,null,0.47863,0,0,0,null,null,0.47863,0,0,0,null,null,0.47863,0,1.6064999999999999E-2,0,null,null,null,null,0.47863,0,0,6.1070000000000004E-3,0,0,0,0,0,0,6.9139999999999993E-2,0.199991,0,0,0,0.17801800000000001,0,0,0,0,0,5.3549999999999995E-3]
[null,0.54954099999999995,0,1.7545999999999999E-2,3.4835999999999999E-2,null,null,0.54954099999999995,0,0,0,null,null,0.54954099999999995,0,2.4659E-2,0,null,null,0.54954099999999995,0,0,0,null,null,null,0.54954099999999995,0,0,0,null,null,0.54954099999999995,0,0,0,null,null,0.54954099999999995,0,0,0,null,null,0.54954099999999995,0,0,3.3569000000000002E-2,null,null,0.54954099999999995,0,0,0,null,null,0.54954099999999995,0.11111500000000001,0.11752799999999999,0.114714,null,null,0.54954099999999995,0.31902599999999998,0.34211999999999998,0.33660400000000001,null,null,0.54954099999999995,0,0,0,null,null,0.54954099999999995,0,0,0,null,null,0.54954099999999995,0,0,0,null,null,0.54954099999999995,0.30154799999999998,0.26572600000000002,0.26721699999999998,null,null,0.54954099999999995,0,0,0,null,null,0.54954099999999995,0,0,0,null,null,0.54954099999999995,0,0,0,null,null,0.54954099999999995,0,0,0,null,null,0.54954099999999995,0,0,0,null,null,0.54954099999999995,6.9634000000000001E-2,8.8372000000000006E-2,7.9434000000000005E-2,null,null,null,null,0.54954099999999995,1.7460666666666666E-2,0,8.2196666666666668E-3,0,0,0,0,1.1189666666666667E-2,0,0.11445233333333332,0.33258333333333334,0,0,0,0.2781636666666667,0,0,0,0,0,7.9146666666666671E-2]
[null,0.63095699999999999,0,4.5768999999999997E-2,5.0525E-2,null,null,0.63095699999999999,0,0,0,null,null,0.63095699999999999,0,2.9019E-2,0,null,null,0.63095699999999999,0,1.4269E-2,1.4607E-2,null,null,null,0.63095699999999999,0,0,0,null,null,0.63095699999999999,0,0,0,null,null,0.63095699999999999,0,0,0,null,null,0.63095699999999999,0,0,6.8739999999999996E-2,null,null,0.63095699999999999,0,0,4.6445E-2,null,null,0.63095699999999999,0.145924,0.16031699999999999,0.15626399999999999,null,null,0.63095699999999999,0.41566700000000001,0.44750600000000001,0.44056200000000001,null,null,0.63095699999999999,0,0,0,null,null,0.63095699999999999,0,0,0,null,null,0.63095699999999999,0,0,0,null,null,0.63095699999999999,0.38477,0.352939,0.35138999999999998,null,null,0.63095699999999999,0,0,0,null,null,0.63095699999999999,0,0,0,null,null,0.63095699999999999,0,0,0,null,null,0.63095699999999999,0,0,0,null,null,0.63095699999999999,0,0,0,null,null,0.63095699999999999,0.100705,0.12063599999999999,0.114492,null,null,null,null,0.63095699999999999,3.2097999999999995E-2,0,9.6729999999999993E-3,1.4437999999999999E-2,0,0,0,2.2913333333333331E-2,1.5481666666666666E-2,0.15416833333333332,0.43457833333333334,0,0,0,0.36303299999999999,0,0,0,0,0,0.11194433333333333]
[null,0.72443599999999997,0,5.5021E-2,5.5263E-2,null,null,0.72443599999999997,2.7014E-2,1.0749E-2,0,null,null,0.72443599999999997,0,3.3070000000000002E-2,0,null,null,0.72443599999999997,0,2.2214000000000001E-2,1.9899E-2,null,null,null,0.72443599999999997,0,0,0,null,null,0.72443599999999997,0,0,0,null,null,0.72443599999999997,0,0,0,null,null,0.72443599999999997,0,0,8.2529000000000005E-2,null,null,0.72443599999999997,0,0,6.6493999999999998E-2,null,null,0.72443599999999997,0.17381099999999999,0.18796599999999999,0.18318100000000001,null,null,0.72443599999999997,0.49689100000000003,0.53932999999999998,0.53122999999999998,null,null,0.72443599999999997,0,0,0,null,null,0.72443599999999997,0,0,0,null,null,0.72443599999999997,0,0,0,null,null,0.72443599999999997,0.45457399999999998,0.410551,0.40585300000000002,null,null,0.72443599999999997,0,0,0,null,null,0.72443599999999997,0,0,0,null,null,0.72443599999999997,0,0,0,null,null,0.72443599999999997,0,0,0,null,null,0.72443599999999997,0,0,0,null,null,0.72443599999999997,0.121821,0.145008,0.1381,null,null,null,null,0.72443599999999997,3.6761333333333333E-2,1.2587666666666665E-2,1.1023333333333335E-2,2.1056499999999999E-2,0,0,0,2.7509666666666668E-2,2.2164666666666666E-2,0.18165266666666668,0.52248366666666668,0,0,0,0.42365933333333333,0,0,0,0,0,0.13497633333333334]
[null,0.83176399999999995,8.7489999999999998E-3,6.1809999999999997E-2,6.3934000000000005E-2,null,null,0.83176399999999995,4.7639000000000001E-2,3.1780000000000003E-2,0,null,null,0.83176399999999995,0,3.3491E-2,1.3561999999999999E-2,null,null,0.83176399999999995,0,2.0473000000000002E-2,3.1935999999999999E-2,null,null,null,0.83176399999999995,0,0,0,null,null,0.83176399999999995,0,0,0,null,null,0.83176399999999995,0,0,0,null,null,0.83176399999999995,0,0,8.7599999999999997E-2,null,null,0.83176399999999995,0,0,7.0553000000000005E-2,null,null,0.83176399999999995,0.19109799999999999,0.208563,0.203267,null,null,0.83176399999999995,0.55695899999999998,0.60597599999999996,0.59720600000000001,null,null,0.83176399999999995,0,0,0,null,null,0.83176399999999995,0,0,0,null,null,0.83176399999999995,0,0,0,null,null,0.83176399999999995,0.49910399999999999,0.45354,0.44502599999999998,null,null,0.83176399999999995,0,0,1.0089000000000001E-2,null,null,0.83176399999999995,0,0,0,null,null,0.83176399999999995,0,0,0,null,null,0.83176399999999995,0,0,0,null,null,0.83176399999999995,0,0,0,null,null,0.83176399999999995,0.13481199999999999,0.16001799999999999,0.15264,null,null,null,null,0.83176399999999995,4.4831000000000003E-2,2.6473E-2,1.5684333333333331E-2,2.6204499999999999E-2,0,0,0,2.92E-2,2.3517666666666669E-2,0.20097600000000002,0.58671366666666669,0,0,0,0.46588999999999997,3.3630000000000001E-3,0,0,0,0,0.14915666666666666]
[null,0.95499299999999998,2.9656999999999999E-2,6.3806000000000002E-2,6.2762999999999999E-2,null,null,0.95499299999999998,4.4568000000000003E-2,5.1867999999999997E-2,1.7507999999999999E-2,null,null,0.95499299999999998,0,4.4491000000000003E-2,4.9286999999999997E-2,null,null,0.95499299999999998,0,3.1909E-2,5.3069999999999999E-2,null,null,null,0.95499299999999998,0,0,0,null,null,0.95499299999999998,0,0,0,null,null,0.95499299999999998,0,0,0,null,null,0.95499299999999998,0,0,9.1793E-2,null,null,0.95499299999999998,0,0,6.8935999999999997E-2,null,null,0.95499299999999998,0.202541,0.22118299999999999,0.21560299999999999,null,null,0.95499299999999998,0.60332200000000002,0.65787099999999998,0.64870099999999997,null,null,0.95499299999999998,0,0,0,null,null,0.95499299999999998,0,0,0,null,null,0.95499299999999998,0,0,0,null,null,0.95499299999999998,0.52861800000000003,0.47989900000000002,0.46738099999999999,null,null,0.95499299999999998,0,0,2.1961999999999999E-2,null,null,0.95499299999999998,0,0,0,null,null,0.95499299999999998,0,0,0,null,null,0.95499299999999998,0,0,0,null,null,0.95499299999999998,9.6179999999999998E-3,1.7704000000000001E-2,0,null,null,0.95499299999999998,0.14355299999999999,0.16989799999999999,0.162387,null,null,null,null,0.95499299999999998,{"$f":"AVERAGE(C54:E54)","v":5.2075333333333335E-2},{"$f":"AVERAGE(I54:K54)","v":3.7981333333333332E-2},{"$f":"AVERAGE(O54:Q54)","v":3.1259333333333333E-2},{"$f":"AVERAGE(V54:X54)","v":4.2489499999999999E-2},{"$f":"AVERAGE(AB54:AD54)","v":0},{"$f":"AVERAGE(AH54:AJ54)","v":0},{"$f":"AVERAGE(AN54:AP54)","v":0},{"$f":"AVERAGE(AT54:AV54)","v":3.0597666666666665E-2},{"$f":"AVERAGE(AZ54:BB54)","v":2.2978666666666665E-2},{"$f":"AVERAGE(BF54:BH54)","v":0.21310899999999999},{"$f":"AVERAGE(BL54:BN54)","v":0.63663133333333333},{"$f":"AVERAGE(BR54:BT54)","v":0},{"$f":"AVERAGE(BX54:BZ54)","v":0},{"$f":"AVERAGE(CD54:CF54)","v":0},{"$f":"AVERAGE(CJ54:CL54)","v":0.49196600000000007},{"$f":"AVERAGE(CP54:CR54)","v":7.3206666666666663E-3},{"$f":"AVERAGE(CV54:CX54)","v":0},{"$f":"AVERAGE(DB54:DD54)","v":0},{"$f":"AVERAGE(DH54:DJ54)","v":0},{"$f":"AVERAGE(DN54:DP54)","v":9.1073333333333336E-3},{"$f":"AVERAGE(DT54:DV54)","v":0.15861266666666665}]
[null,1.0964780000000001,5.0188999999999998E-2,6.5045000000000006E-2,7.7015E-2,null,null,1.0964780000000001,5.7020000000000001E-2,6.5554000000000001E-2,4.2264000000000003E-2,null,null,1.0964780000000001,0,5.7491E-2,6.2631000000000006E-2,null,null,1.0964780000000001,0,5.2726000000000002E-2,6.5253000000000005E-2,null,null,null,1.0964780000000001,0,0,0,null,null,1.0964780000000001,0,0,0,null,null,1.0964780000000001,0,0,0,null,null,1.0964780000000001,0,0,9.4306000000000001E-2,null,null,1.0964780000000001,0,0,7.0485999999999993E-2,null,null,1.0964780000000001,0.21148600000000001,0.231459,0.225607,null,null,1.0964780000000001,0.64390499999999995,0.70293399999999995,0.69349799999999995,null,null,1.0964780000000001,0,0,0,null,null,1.0964780000000001,0,0,0,null,null,1.0964780000000001,0,0,0,null,null,1.0964780000000001,0.55002700000000004,0.500054,0.48339199999999999,null,null,1.0964780000000001,0,0,1.5233E-2,null,null,1.0964780000000001,0,0,0,null,null,1.0964780000000001,0,0,0,null,null,1.0964780000000001,0,0,0,null,null,1.0964780000000001,1.9155999999999999E-2,4.6406999999999997E-2,0,null,null,1.0964780000000001,0.14968000000000001,0.176755,0.16922599999999999,null,null,null,null,1.0964780000000001,6.4083000000000001E-2,5.4946000000000002E-2,4.0040666666666669E-2,5.89895E-2,0,0,0,3.1435333333333336E-2,2.349533333333333E-2,0.22285066666666667,0.68011233333333332,0,0,0,0.51115766666666673,5.077666666666667E-3,0,0,0,2.1854333333333333E-2,0.16522033333333333]
[null,1.2589250000000001,6.6171999999999995E-2,7.6222999999999999E-2,9.4630000000000006E-2,null,null,1.2589250000000001,7.5405E-2,6.6131999999999996E-2,4.7669999999999997E-2,null,null,1.2589250000000001,2.7118E-2,5.6294999999999998E-2,6.6124000000000002E-2,null,null,1.2589250000000001,0,6.7143999999999995E-2,6.3621999999999998E-2,null,null,null,1.2589250000000001,0,0,0,null,null,1.2589250000000001,0,0,0,null,null,1.2589250000000001,0,0,0,null,null,1.2589250000000001,3.1827000000000001E-2,3.1237999999999998E-2,9.8395999999999997E-2,null,null,1.2589250000000001,0,0,7.1498999999999993E-2,null,null,1.2589250000000001,0.222969,0.24390999999999999,0.23760800000000001,null,null,1.2589250000000001,0.68783700000000003,0.75153599999999998,0.74176699999999995,null,null,1.2589250000000001,0,0,0,null,null,1.2589250000000001,0,0,0,null,null,1.2589250000000001,0,0,0,null,null,1.2589250000000001,0.573851,0.52215599999999995,0.50160800000000005,null,null,1.2589250000000001,0,0,3.2460000000000003E-2,null,null,1.2589250000000001,0,0,0,null,null,1.2589250000000001,0,0,0,null,null,1.2589250000000001,0,0,0,null,null,1.2589250000000001,3.3979000000000002E-2,4.2812000000000003E-2,0,null,null,1.2589250000000001,0.15659799999999999,0.18452299999999999,0.17697199999999999,null,null,null,null,1.2589250000000001,7.9008333333333333E-2,6.3069E-2,4.984566666666667E-2,6.5382999999999997E-2,0,0,0,5.3820333333333331E-2,2.3832999999999997E-2,0.23482899999999998,0.72704666666666673,0,0,0,0.53253833333333334,1.0820000000000001E-2,0,0,0,2.5596999999999998E-2,0.17269766666666667]
[null,1.4454400000000001,6.9319000000000006E-2,9.7686999999999996E-2,9.9284999999999998E-2,null,null,1.4454400000000001,7.8898999999999997E-2,7.3798000000000002E-2,6.9786000000000001E-2,null,null,1.4454400000000001,1.9418999999999999E-2,5.7424000000000003E-2,6.5997E-2,null,null,1.4454400000000001,0,6.8099000000000007E-2,6.9530999999999996E-2,null,null,null,1.4454400000000001,0,0,0,null,null,1.4454400000000001,0,0,0,null,null,1.4454400000000001,0,0,0,null,null,1.4454400000000001,4.7407999999999999E-2,4.7305E-2,0.106019,null,null,1.4454400000000001,3.2691999999999999E-2,0,7.6198000000000002E-2,null,null,1.4454400000000001,0.241678,0.26372699999999999,0.25658999999999998,null,null,1.4454400000000001,0.74397000000000002,0.81346300000000005,0.80313199999999996,null,null,1.4454400000000001,0,0,0,null,null,1.4454400000000001,0,0,0,null,null,1.4454400000000001,0,0,0,null,null,1.4454400000000001,0.609796,0.55540800000000001,0.53144100000000005,null,null,1.4454400000000001,0,0,6.3917000000000002E-2,null,null,1.4454400000000001,0,0,0,null,null,1.4454400000000001,0,0,0,null,null,1.4454400000000001,0,0,0,null,null,1.4454400000000001,6.6013000000000002E-2,5.1978000000000003E-2,0,null,null,1.4454400000000001,0.16728799999999999,0.196656,0.18893699999999999,null,null,null,null,1.4454400000000001,8.8763666666666671E-2,7.4160999999999991E-2,4.7613333333333334E-2,6.8815000000000001E-2,0,0,0,6.691066666666666E-2,3.6296666666666665E-2,0.25399833333333333,0.78685500000000008,0,0,0,0.56554833333333343,2.1305666666666667E-2,0,0,0,3.9330333333333335E-2,0.18429366666666666]
[null,1.6595869999999999,7.9047000000000006E-2,0.105187,0.11024200000000001,null,null,1.6595869999999999,8.9567999999999995E-2,8.2812999999999998E-2,7.5117000000000003E-2,null,null,1.6595869999999999,2.172E-2,6.3519999999999993E-2,7.0871000000000003E-2,null,null,1.6595869999999999,0,7.6469999999999996E-2,7.6580999999999996E-2,null,null,null,1.6595869999999999,0,0,0,null,null,1.6595869999999999,0,0,0,null,null,1.6595869999999999,0,0,0,null,null,1.6595869999999999,6.9355E-2,7.0362999999999995E-2,0.118453,null,null,1.6595869999999999,6.6540000000000002E-2,2.614E-2,8.5222999999999993E-2,null,null,1.6595869999999999,0.27012700000000001,0.29361399999999999,0.28515200000000002,null,null,1.6595869999999999,0.81499699999999997,0.89189499999999999,0.88071299999999997,null,null,1.6595869999999999,0,0,0,null,null,1.6595869999999999,0,0,0,null,null,1.6595869999999999,0,0,0,null,null,1.6595869999999999,0.66288000000000002,0.60419999999999996,0.57754099999999997,null,null,1.6595869999999999,0,0,6.8108000000000002E-2,null,null,1.6595869999999999,0,0,0,null,null,1.6595869999999999,0,0,0,null,null,1.6595869999999999,0,0,0,null,null,1.6595869999999999,6.9427000000000003E-2,7.5204999999999994E-2,0,null,null,1.6595869999999999,0.18337100000000001,0.21496899999999999,0.206867,null,null,null,null,1.6595869999999999,9.8158666666666672E-2,8.2499333333333327E-2,5.2037E-2,7.6525499999999996E-2,0,0,0,8.6057000000000008E-2,5.9300999999999993E-2,0.28296433333333337,0.86253499999999994,0,0,0,0.61487366666666665,2.2702666666666666E-2,0,0,0,4.8210666666666659E-2,0.20173566666666667]
[null,1.9054610000000001,8.9960999999999999E-2,0.118931,0.123681,null,null,1.9054610000000001,0.102606,9.5438999999999996E-2,8.7171999999999999E-2,null,null,1.9054610000000001,2.3016999999999999E-2,8.5440000000000002E-2,7.5497999999999996E-2,null,null,1.9054610000000001,0,8.6249000000000006E-2,8.7374999999999994E-2,null,null,null,1.9054610000000001,0,0,0,null,null,1.9054610000000001,0,0,0,null,null,1.9054610000000001,4.7043000000000001E-2,0,2.3452000000000001E-2,null,null,1.9054610000000001,7.9639000000000001E-2,8.1143999999999994E-2,0.135793,null,null,1.9054610000000001,7.6344999999999996E-2,5.339E-2,9.9160999999999999E-2,null,null,1.9054610000000001,0.30873,0.334202,0.32392199999999999,null,null,1.9054610000000001,0.89876900000000004,0.98472700000000002,0.97244399999999998,null,null,1.9054610000000001,0,0,0,null,null,1.9054610000000001,0,0,0,null,null,1.9054610000000001,0,0,0,null,null,1.9054610000000001,0.73339399999999999,0.66879999999999995,0.64018699999999995,null,null,1.9054610000000001,5.1084999999999998E-2,4.6168000000000001E-2,8.1212000000000006E-2,null,null,1.9054610000000001,0,0,0,null,null,1.9054610000000001,0,0,0,null,null,1.9054610000000001,0,0,0,null,null,1.9054610000000001,7.6562000000000005E-2,8.0976000000000006E-2,0,null,null,1.9054610000000001,0.204957,0.23947399999999999,0.23077700000000001,null,null,null,null,1.9054610000000001,0.11085766666666667,9.5072333333333328E-2,6.1318333333333329E-2,8.6812E-2,0,0,2.3498333333333333E-2,9.8858666666666664E-2,7.6298666666666667E-2,0.32228466666666672,0.95197999999999994,0,0,0,0.68079366666666663,5.9488333333333338E-2,0,0,0,5.2512666666666673E-2,0.22506933333333334]
[null,2.1877620000000002,0.102978,0.13447100000000001,0.139707,null,null,2.1877620000000002,0.11852799999999999,0.110606,0.100607,null,null,2.1877620000000002,2.5481E-2,9.0674000000000005E-2,8.2052E-2,null,null,2.1877620000000002,0,9.8893999999999996E-2,0.100775,null,null,null,2.1877620000000002,0,0,0,null,null,2.1877620000000002,0,0,0,null,null,2.1877620000000002,4.9969E-2,6.5128000000000005E-2,6.8224999999999994E-2,null,null,2.1877620000000002,9.4273999999999997E-2,9.6464999999999995E-2,0.15670000000000001,null,null,2.1877620000000002,9.2536999999999994E-2,8.4810999999999998E-2,0.11722399999999999,null,null,2.1877620000000002,0.35505399999999998,0.38306299999999999,0.37063200000000002,null,null,2.1877620000000002,0.98675400000000002,1.0828629999999999,1.0693440000000001,null,null,2.1877620000000002,0,0,0,null,null,2.1877620000000002,0,0,0,null,null,2.1877620000000002,0,0,0,null,null,2.1877620000000002,0.81583000000000006,0.74419100000000005,0.71418000000000004,null,null,2.1877620000000002,7.7911999999999995E-2,7.306E-2,9.7255999999999995E-2,null,null,2.1877620000000002,0,0,0,null,null,2.1877620000000002,0,0,0,null,null,2.1877620000000002,0,0,0,null,null,2.1877620000000002,8.6555999999999994E-2,9.1370000000000007E-2,2.0355999999999999E-2,null,null,2.1877620000000002,0.23027600000000001,0.26802399999999998,0.25858599999999998,null,null,null,null,2.1877620000000002,0.12571866666666667,0.10991366666666667,6.6069000000000003E-2,9.9834499999999993E-2,0,0,6.1107333333333326E-2,0.115813,9.8190666666666662E-2,0.36958299999999999,1.0463203333333333,0,0,0,0.75806700000000005,8.2742666666666673E-2,0,0,0,6.6094E-2,0.25229533333333332]
[null,2.5118860000000001,0.117025,0.15148,0.157086,null,null,2.5118860000000001,0.13630700000000001,0.12767700000000001,0.115824,null,null,2.5118860000000001,4.5606000000000001E-2,9.8113000000000006E-2,8.9909000000000003E-2,null,null,2.5118860000000001,5.6284000000000001E-2,0.113358,0.116031,null,null,null,2.5118860000000001,0,0,0,null,null,2.5118860000000001,0,0,0,null,null,2.5118860000000001,8.0897999999999998E-2,7.6248999999999997E-2,8.2681000000000004E-2,null,null,2.5118860000000001,0.110149,0.113149,0.17963399999999999,null,null,2.5118860000000001,0.111509,0.10256999999999999,0.13838500000000001,null,null,2.5118860000000001,0.40664699999999998,0.437585,0.42286600000000002,null,null,2.5118860000000001,1.0712090000000001,1.178042,1.1632199999999999,null,null,2.5118860000000001,0,0,0,null,null,2.5118860000000001,0,0,0,null,null,2.5118860000000001,0,0,7.1060999999999999E-2,null,null,2.5118860000000001,0.90486299999999997,0.825569,0.79428500000000002,null,null,2.5118860000000001,9.5591999999999996E-2,8.9926000000000006E-2,0.116411,null,null,2.5118860000000001,0,6.7044000000000006E-2,5.9783999999999997E-2,null,null,2.5118860000000001,0,0,0,null,null,2.5118860000000001,0,0,0,null,null,2.5118860000000001,9.7037999999999999E-2,0.102558,4.0577000000000002E-2,null,null,2.5118860000000001,0.25746400000000003,0.29844599999999999,0.28817599999999999,null,null,null,null,2.5118860000000001,0.14186366666666667,0.12660266666666667,7.7876000000000001E-2,0.1146945,0,0,7.9942666666666662E-2,0.13431066666666666,0.117488,0.42236600000000002,1.1374903333333333,0,0,2.3687E-2,0.84157233333333326,0.100643,4.2276000000000001E-2,0,0,8.0057666666666666E-2,0.281362]
[null,2.8840309999999998,0.13137699999999999,0.168901,0.17482200000000001,null,null,2.8840309999999998,0.155224,0.14593700000000001,0.13214899999999999,null,null,2.8840309999999998,5.1804999999999997E-2,0.106181,9.8547999999999997E-2,null,null,2.8840309999999998,6.9684999999999997E-2,0.12886400000000001,0.13225899999999999,null,null,null,2.8840309999999998,0,3.9631E-2,0,null,null,2.8840309999999998,0,0,0,null,null,2.8840309999999998,9.7862000000000005E-2,9.1801999999999995E-2,9.9640000000000006E-2,null,null,2.8840309999999998,0.126752,0.13059599999999999,0.203209,null,null,2.8840309999999998,0.132517,0.12175,0.16142599999999999,null,null,2.8840309999999998,0.461536,0.495475,0.47850599999999999,null,null,2.8840309999999998,1.1473800000000001,1.2651110000000001,1.2489239999999999,null,null,2.8840309999999998,0,0,0,null,null,2.8840309999999998,0,0,0,null,null,2.8840309999999998,1.6146000000000001E-2,1.5531E-2,9.3285999999999994E-2,null,null,2.8840309999999998,0.99698399999999998,0.90979900000000002,0.87681100000000001,null,null,2.8840309999999998,0.11505700000000001,0.108734,0.13752400000000001,null,null,2.8840309999999998,0,8.9159000000000002E-2,8.0925999999999998E-2,null,null,2.8840309999999998,0,0,0,null,null,2.8840309999999998,0,1.4281E-2,1.5606999999999999E-2,null,null,2.8840309999999998,0.107725,0.11405999999999999,6.3450999999999994E-2,null,null,2.8840309999999998,0.285167,0.32924900000000001,0.31807200000000002,null,null,null,null,2.8840309999999998,0.15836666666666666,0.14443666666666666,8.5511333333333328E-2,0.1305615,1.3210333333333333E-2,0,9.6434666666666669E-2,0.15351899999999999,0.13856433333333332,0.47850566666666666,1.2204716666666666,0,0,4.1654333333333328E-2,0.92786466666666667,0.12043833333333336,5.6694999999999995E-2,0,9.9626666666666665E-3,9.5078666666666659E-2,0.31082933333333335]
[null,3.3113109999999999,0.14552899999999999,0.186033,0.19219600000000001,null,null,3.3113109999999999,0.17477100000000001,0.16487399999999999,0.14915300000000001,null,null,3.3113109999999999,5.6415E-2,0.114079,0.107367,null,null,3.3113109999999999,8.0147999999999997E-2,0.14480399999999999,0.148841,null,null,null,3.3113109999999999,1.2779E-2,5.5100000000000003E-2,2.7413E-2,null,null,3.3113109999999999,0,0,0,null,null,3.3113109999999999,0.113248,0.107349,0.116151,null,null,3.3113109999999999,0.14352599999999999,0.14816599999999999,0.22637499999999999,null,null,3.3113109999999999,0.15415200000000001,0.14183499999999999,0.184949,null,null,3.3113109999999999,0.51827199999999995,0.55493099999999995,0.53581900000000005,null,null,3.3113109999999999,1.2139990000000001,1.3424780000000001,1.3248690000000001,null,null,3.3113109999999999,0,0,0,null,null,3.3113109999999999,0,0,0,null,null,3.3113109999999999,7.7104000000000006E-2,7.7649999999999997E-2,0.11186599999999999,null,null,3.3113109999999999,1.090579,0.99544999999999995,0.95980399999999999,null,null,3.3113109999999999,0.135493,0.12867799999999999,0.15914300000000001,null,null,3.3113109999999999,0,0.106462,9.7559999999999994E-2,null,null,3.3113109999999999,0,3.9314000000000002E-2,2.588E-2,null,null,3.3113109999999999,0,3.8807000000000001E-2,2.222E-2,null,null,3.3113109999999999,0.118215,0.12528,7.3510000000000006E-2,null,null,3.3113109999999999,0.31271900000000002,0.35976799999999998,0.34761799999999998,null,null,null,null,3.3113109999999999,0.17458600000000002,0.16293266666666664,9.2620333333333346E-2,0.14682249999999999,3.1764000000000008E-2,0,0.11224933333333333,0.17268899999999998,0.16031200000000001,0.53634066666666669,1.293782,0,0,8.8873333333333318E-2,1.0152776666666667,0.14110466666666666,6.8007333333333322E-2,2.1731333333333335E-2,2.0342333333333334E-2,0.10566833333333335,0.34003500000000003]
[null,3.8018939999999999,0.159165,0.20244799999999999,0.20873900000000001,null,null,3.8018939999999999,0.19450400000000001,0.184032,0.166462,null,null,3.8018939999999999,5.8831000000000001E-2,0.121657,0.115832,null,null,3.8018939999999999,8.9414999999999994E-2,0.16075900000000001,0.16538900000000001,null,null,null,3.8018939999999999,3.4292999999999997E-2,5.5351999999999998E-2,6.0440000000000001E-2,null,null,3.8018939999999999,0,0,0,null,null,3.8018939999999999,0.12967400000000001,0.123998,0.13361500000000001,null,null,3.8018939999999999,0.15979399999999999,0.16511100000000001,0.248253,null,null,3.8018939999999999,0.175095,0.16051599999999999,0.20726900000000001,null,null,3.8018939999999999,0.57554000000000005,0.61436800000000003,0.59319299999999997,null,null,3.8018939999999999,1.2718989999999999,1.4106719999999999,1.391635,null,null,3.8018939999999999,0,0,0,null,null,3.8018939999999999,0,0,0,null,null,3.8018939999999999,0.10502,0.106595,0.13097300000000001,null,null,3.8018939999999999,1.185082,1.0820209999999999,1.042378,null,null,3.8018939999999999,0.15446599999999999,0.14749699999999999,0.17938999999999999,null,null,3.8018939999999999,0,0.121488,0.112252,null,null,3.8018939999999999,0,6.8876999999999994E-2,6.5203999999999998E-2,null,null,3.8018939999999999,0,4.9169999999999998E-2,2.3948000000000001E-2,null,null,3.8018939999999999,0.12828400000000001,0.13584599999999999,7.7873999999999999E-2,null,null,3.8018939999999999,0.33990100000000001,0.38983499999999999,0.376666,null,null,null,null,3.8018939999999999,0.19011733333333333,0.18166599999999999,9.8773333333333338E-2,0.163074,5.0028333333333334E-2,0,0.12909566666666669,0.19105266666666668,0.18096000000000001,0.59436699999999998,1.3580686666666668,0,0,0.11419600000000001,1.1031603333333333,0.16045099999999998,7.7913333333333334E-2,4.4693666666666666E-2,2.4372666666666667E-2,0.11400133333333333,0.36880066666666661]
[null,4.3651580000000001,0.17183999999999999,0.21759600000000001,0.22392799999999999,null,null,4.3651580000000001,0.213528,0.20249,0.183172,null,null,4.3651580000000001,7.5979000000000005E-2,0.128358,0.123353,null,null,4.3651580000000001,0.100762,0.176126,0.18132499999999999,null,null,null,4.3651580000000001,5.7881000000000002E-2,6.3920000000000005E-2,7.3968999999999993E-2,null,null,4.3651580000000001,0,0,0,null,null,4.3651580000000001,0.14443800000000001,0.13912099999999999,0.14921599999999999,null,null,4.3651580000000001,0.174623,0.18044299999999999,0.26775599999999999,null,null,4.3651580000000001,0.193075,0.17599300000000001,0.22620399999999999,null,null,4.3651580000000001,0.63137399999999999,0.67163600000000001,0.64843499999999998,null,null,4.3651580000000001,1.322748,1.4710639999999999,1.4507110000000001,null,null,4.3651580000000001,0,0,0,null,null,4.3651580000000001,0,0,0,null,null,4.3651580000000001,0.121631,0.124308,0.151119,null,null,4.3651580000000001,1.2797700000000001,1.1688419999999999,1.1238030000000001,null,null,4.3651580000000001,0.169539,0.16279399999999999,0.19570199999999999,null,null,4.3651580000000001,0,0.133796,0.12377100000000001,null,null,4.3651580000000001,0,8.0982999999999999E-2,8.4419999999999995E-2,null,null,4.3651580000000001,0,5.3411E-2,2.7764E-2,null,null,4.3651580000000001,0.13805200000000001,0.145733,8.4769999999999998E-2,null,null,4.3651580000000001,0.36649399999999999,0.419294,0.40508899999999998,null,null,null,null,4.3651580000000001,0.20445466666666667,0.19972999999999999,0.10922999999999999,0.17872549999999998,6.5256666666666671E-2,0,0.14425833333333335,0.20760733333333334,0.19842400000000002,0.65048166666666674,1.414841,0,0,0.13235266666666667,1.1908049999999999,0.17601166666666668,8.5855666666666663E-2,5.5134333333333334E-2,2.7058333333333334E-2,0.12285166666666668,0.39695900000000001]
[null,5.0118720000000003,0.18323600000000001,0.231188,0.23755299999999999,null,null,5.0118720000000003,0.23088400000000001,0.21926699999999999,0.19825499999999999,null,null,5.0118720000000003,8.9827000000000004E-2,0.13389799999999999,0.12948000000000001,null,null,5.0118720000000003,0.11093799999999999,0.19040000000000001,0.19619300000000001,null,null,null,5.0118720000000003,7.5091000000000005E-2,6.6344E-2,8.0859E-2,null,null,5.0118720000000003,0,0,0,null,null,5.0118720000000003,0.156968,0.15201400000000001,0.16221099999999999,null,null,5.0118720000000003,0.18706999999999999,0.19320499999999999,0.28411599999999998,null,null,5.0118720000000003,0.20607800000000001,0.186166,0.23985400000000001,null,null,5.0118720000000003,0.68471000000000004,0.72562300000000002,0.70036299999999996,null,null,5.0118720000000003,1.3694569999999999,1.5266470000000001,1.505274,null,null,5.0118720000000003,0,0,0,null,null,5.0118720000000003,0,0,0,null,null,5.0118720000000003,0.138822,0.14186699999999999,0.168319,null,null,5.0118720000000003,1.3759399999999999,1.257109,1.2055130000000001,null,null,5.0118720000000003,0.17801600000000001,0.17192199999999999,0.205708,null,null,5.0118720000000003,0,0.13941700000000001,0.12870300000000001,null,null,5.0118720000000003,0,9.3658000000000005E-2,9.6541000000000002E-2,null,null,5.0118720000000003,0,6.3261999999999999E-2,3.1720999999999999E-2,null,null,5.0118720000000003,0.147921,0.15529299999999999,9.0787999999999994E-2,null,null,5.0118720000000003,0.39282400000000001,0.44859500000000002,0.43333500000000003,null,null,null,null,5.0118720000000003,0.21732566666666667,0.21613533333333332,0.11773499999999999,0.19329650000000001,7.4097999999999997E-2,0,0.15706433333333333,0.22146366666666664,0.21069933333333335,0.70356533333333326,1.4671260000000002,0,0,0.14966933333333332,1.2795206666666665,0.18521533333333332,8.9373333333333346E-2,6.3399666666666674E-2,3.1661000000000002E-2,0.13133399999999998,0.42491800000000007]
[null,5.7543990000000003,0.19261400000000001,0.24252099999999999,0.24904699999999999,null,null,5.7543990000000003,0.24480499999999999,0.23258899999999999,0.20988899999999999,null,null,5.7543990000000003,9.0332999999999997E-2,0.13770299999999999,0.13361400000000001,null,null,5.7543990000000003,0.120085,0.20243900000000001,0.20888399999999999,null,null,null,5.7543990000000003,8.1104999999999997E-2,7.1629999999999999E-2,8.9800000000000005E-2,null,null,5.7543990000000003,0,0,0,null,null,5.7543990000000003,0.16550699999999999,0.16073000000000001,0.17058699999999999,null,null,5.7543990000000003,0.19576499999999999,0.202038,0.29617500000000002,null,null,5.7543990000000003,0.211918,0.18918499999999999,0.24632799999999999,null,null,5.7543990000000003,0.73318499999999998,0.77397300000000002,0.74663800000000002,null,null,5.7543990000000003,1.413171,1.578654,1.556856,null,null,5.7543990000000003,0,0,0,null,null,5.7543990000000003,0,0,0,null,null,5.7543990000000003,0.151006,0.153894,0.18069299999999999,null,null,5.7543990000000003,1.472437,1.3457730000000001,1.2873190000000001,null,null,5.7543990000000003,0.17754200000000001,0.172481,0.207237,null,null,5.7543990000000003,0,0.137769,0.126281,null,null,5.7543990000000003,0,0.104548,0.10745,null,null,5.7543990000000003,0,6.9015999999999994E-2,3.4966999999999998E-2,null,null,5.7543990000000003,0.15806200000000001,0.16474900000000001,9.7376000000000004E-2,null,null,5.7543990000000003,0.41847400000000001,0.47736200000000001,0.46101700000000001,null,null,null,null,5.7543990000000003,0.22806066666666666,0.22909433333333332,0.12055,0.2056615,8.0845E-2,0,0.16560800000000001,0.231326,0.21581033333333333,0.75126533333333334,1.516227,0,0,0.16186433333333333,1.368509666666667,0.18575333333333333,8.8016666666666674E-2,7.0666000000000007E-2,3.4660999999999997E-2,0.14006233333333334,0.45228433333333334]
[null,6.6069339999999999,0.199486,0.25125900000000001,0.25824799999999998,null,null,6.6069339999999999,0.25380399999999997,0.24093899999999999,0.216448,null,null,6.6069339999999999,9.1596999999999998E-2,0.13927300000000001,0.13534099999999999,null,null,6.6069339999999999,0.126722,0.211176,0.21840399999999999,null,null,null,6.6069339999999999,8.9550000000000005E-2,7.4109999999999995E-2,9.5292000000000002E-2,null,null,6.6069339999999999,0,0,0,null,null,6.6069339999999999,0.16912199999999999,0.16413900000000001,0.17320199999999999,null,null,6.6069339999999999,0.19975799999999999,0.206042,0.303427,null,null,6.6069339999999999,0.209537,0.184256,0.244972,null,null,6.6069339999999999,0.77632599999999996,0.81631500000000001,0.78686900000000004,null,null,6.6069339999999999,1.4555739999999999,1.629273,1.6080000000000001,null,null,6.6069339999999999,0,0,0,null,null,6.6069339999999999,0,0,0,null,null,6.6069339999999999,0.156057,0.158114,0.18554999999999999,null,null,6.6069339999999999,1.5709649999999999,1.436393,1.37188,null,null,6.6069339999999999,0.16709299999999999,0.163386,0.199542,null,null,6.6069339999999999,0,0.12867300000000001,0.116426,null,null,6.6069339999999999,0,0.110017,0.11294700000000001,null,null,6.6069339999999999,0,7.6282000000000003E-2,3.977E-2,null,null,6.6069339999999999,0.16872400000000001,0.17449300000000001,0.104267,null,null,6.6069339999999999,0.44372899999999998,0.50599799999999995,0.48846200000000001,null,null,null,null,6.6069339999999999,0.23633099999999999,0.23706366666666664,0.12207033333333334,0.21478999999999998,8.6317333333333343E-2,0,0.168821,0.23640900000000001,0.21292166666666668,0.79316999999999993,1.5642823333333336,0,0,0.16657366666666665,1.459746,0.17667366666666665,8.169966666666667E-2,7.4321333333333336E-2,3.8684000000000003E-2,0.14916133333333334,0.47939633333333331]
[null,7.5857760000000001,0.20322999999999999,0.25687399999999999,0.26477200000000001,null,null,7.5857760000000001,0.25629800000000003,0.242724,0.21632000000000001,null,null,7.5857760000000001,9.1513999999999998E-2,0.13801099999999999,0.13429199999999999,null,null,7.5857760000000001,0.129329,0.21504100000000001,0.223245,null,null,null,7.5857760000000001,9.3873999999999999E-2,7.4268000000000001E-2,9.6204999999999999E-2,null,null,7.5857760000000001,0,0,0,null,null,7.5857760000000001,0.167409,0.16167200000000001,0.16955899999999999,null,null,7.5857760000000001,0.19846,0.204684,0.30557899999999999,null,null,7.5857760000000001,0.199515,0.17236000000000001,0.236731,null,null,7.5857760000000001,0.81267199999999995,0.85141900000000004,0.81988099999999997,null,null,7.5857760000000001,1.4958009999999999,1.677775,1.6583049999999999,null,null,7.5857760000000001,0,0,0,null,null,7.5857760000000001,0,0,0,null,null,7.5857760000000001,0.15148600000000001,0.15232799999999999,0.18107599999999999,null,null,7.5857760000000001,1.669252,1.5268040000000001,1.4585889999999999,null,null,7.5857760000000001,0.148204,0.146014,0.18423100000000001,null,null,7.5857760000000001,0,0.114678,0.10173599999999999,null,null,7.5857760000000001,0,0.10920000000000001,0.112192,null,null,7.5857760000000001,0,7.9866999999999994E-2,4.0481000000000003E-2,null,null,7.5857760000000001,0.17934800000000001,0.18421299999999999,0.111167,null,null,7.5857760000000001,0.467885,0.53373999999999999,0.51488,null,null,null,null,7.5857760000000001,0.24162533333333333,0.23844733333333334,0.12127233333333332,0.219143,8.8115666666666662E-2,0,0.16621333333333332,0.23624100000000001,0.20286866666666667,0.82799066666666665,1.6106269999999998,0,0,0.16163000000000002,1.5515483333333335,0.15948300000000001,7.2137999999999994E-2,7.379733333333334E-2,4.0115999999999999E-2,0.15824266666666667,0.50550166666666663]
[null,8.7096359999999997,0.203907,0.25960499999999997,0.26895200000000002,null,null,8.7096359999999997,0.25186399999999998,0.23747299999999999,0.20899899999999999,null,null,8.7096359999999997,8.5920999999999997E-2,0.13348199999999999,0.130389,null,null,8.7096359999999997,0.12651799999999999,0.21290400000000001,0.222417,null,null,null,8.7096359999999997,9.2360999999999999E-2,7.0729E-2,9.1125999999999999E-2,null,null,8.7096359999999997,0,0,0,null,null,8.7096359999999997,0.16142699999999999,0.154283,0.16072800000000001,null,null,8.7096359999999997,0.19239999999999999,0.19855600000000001,0.30350100000000002,null,null,8.7096359999999997,0.18454899999999999,0.15637799999999999,0.22459299999999999,null,null,8.7096359999999997,0.84368399999999999,0.881027,0.84733400000000003,null,null,8.7096359999999997,1.534619,1.7252430000000001,1.709074,null,null,8.7096359999999997,0,0,0,null,null,8.7096359999999997,0,0,0,null,null,8.7096359999999997,0.13664899999999999,0.13634599999999999,0.16703399999999999,null,null,8.7096359999999997,1.769353,1.6187180000000001,1.550462,null,null,8.7096359999999997,0.124838,0.124249,0.16534299999999999,null,null,8.7096359999999997,0,0.10034899999999999,8.6823999999999998E-2,null,null,8.7096359999999997,0,0.10158,0.10483099999999999,null,null,8.7096359999999997,0,7.8326000000000007E-2,4.0328000000000003E-2,null,null,8.7096359999999997,0.189331,0.193553,0.117531,null,null,8.7096359999999997,0.49160599999999999,0.56133200000000005,0.54095099999999996,null,null,null,null,8.7096359999999997,0.24415466666666666,0.23277866666666666,0.11659733333333333,0.21766050000000001,8.473866666666667E-2,0,0.15881266666666669,0.23148566666666667,0.18850666666666668,0.85734833333333338,1.656312,0,0,0.14667633333333333,1.6461776666666665,0.13814333333333331,6.2390999999999995E-2,6.8803666666666666E-2,3.9551333333333334E-2,0.16680500000000001,0.53129633333333337]
[null,10,0.202325,0.26030399999999998,0.27151700000000001,null,null,10,0.24187600000000001,0.22657099999999999,0.19600500000000001,null,null,10,6.4038999999999999E-2,0.12590599999999999,0.12421500000000001,null,null,10,0.117718,0.20444300000000001,0.21571599999999999,null,null,null,10,8.4551000000000001E-2,6.2946000000000002E-2,7.7808000000000002E-2,null,null,10,0,0,0,null,null,10,0.154333,0.145234,0.15024799999999999,null,null,10,0.18387500000000001,0.19003200000000001,0.29944599999999999,null,null,10,0.170655,0.14230100000000001,0.21446299999999999,null,null,10,0.870726,0.90688199999999997,0.87094499999999997,null,null,10,1.5715509999999999,1.7708699999999999,1.759247,null,null,10,0,0,0,null,null,10,0,0,0,null,null,10,0.11412600000000001,0.113442,0.146397,null,null,10,1.8685609999999999,1.709382,1.6456599999999999,null,null,10,0.10520500000000001,0.10620499999999999,0.150758,null,null,10,0,9.3227000000000004E-2,7.9295000000000004E-2,null,null,10,0,8.9317999999999995E-2,9.3146999999999994E-2,null,null,10,0,7.1282999999999999E-2,3.6613E-2,null,null,10,0.19720199999999999,0.20130899999999999,0.122221,null,null,10,0.51512599999999997,0.58893300000000004,0.56688700000000003,null,null,null,null,10,0.24471533333333331,0.22148400000000001,0.10471999999999999,0.2100795,7.5101666666666664E-2,0,0.14993833333333334,0.22445099999999998,0.17580633333333331,0.88285099999999994,1.700556,0,0,0.124655,1.741201,0.12072266666666666,5.7507333333333334E-2,6.0821666666666663E-2,3.5965333333333328E-2,0.17357733333333333,0.55698199999999998]
[null,11.481536,0.20044500000000001,0.26104300000000003,0.274308,null,null,11.481536,0.22961899999999999,0.21332300000000001,0.180676,null,null,11.481536,6.0573000000000002E-2,0.115993,0.11683200000000001,null,null,11.481536,0.103409,0.19048699999999999,0.20422399999999999,null,null,null,11.481536,6.9797999999999999E-2,5.1096000000000003E-2,4.2014000000000003E-2,null,null,11.481536,0,0,0,null,null,11.481536,0.15104200000000001,0.13967399999999999,0.14354600000000001,null,null,11.481536,0.17663999999999999,0.182972,0.297184,null,null,11.481536,0.165577,0.13739100000000001,0.21378800000000001,null,null,11.481536,0.89862500000000001,0.93408000000000002,0.89563499999999996,null,null,11.481536,1.609869,1.8180430000000001,1.81176,null,null,11.481536,0,0,0,null,null,11.481536,0,0,0,null,null,11.481536,8.8867000000000002E-2,8.9256000000000002E-2,0.124392,null,null,11.481536,1.970361,1.8016859999999999,1.7475130000000001,null,null,11.481536,9.9019999999999997E-2,0.101717,0.14993500000000001,null,null,11.481536,0,0.101756,8.7607000000000004E-2,null,null,11.481536,0,7.6762999999999998E-2,8.1610000000000002E-2,null,null,11.481536,0,5.8396000000000003E-2,2.9926999999999999E-2,null,null,11.481536,0.20196900000000001,0.20669299999999999,0.124321,null,null,11.481536,0.54153099999999998,0.61991099999999999,0.59604599999999996,null,null,null,null,11.481536,0.24526533333333334,0.20787266666666668,9.7799333333333335E-2,0.19735549999999999,5.4302666666666666E-2,0,0.14475399999999999,0.21893199999999999,0.17225199999999999,0.90944666666666674,1.7465573333333335,0,0,0.10083833333333332,1.8398533333333333,0.11689066666666666,6.3120999999999997E-2,5.2790999999999998E-2,2.9440999999999998E-2,0.17766099999999999,0.58582933333333331]
[null,13.182567000000001,0.20153099999999999,0.26494699999999999,0.27993000000000001,null,null,13.182567000000001,0.22139400000000001,0.20421800000000001,0.169595,null,null,13.182567000000001,5.7285000000000003E-2,0.10613,0.11059099999999999,null,null,13.182567000000001,8.6832000000000006E-2,0.17462,0.19164900000000001,null,null,null,13.182567000000001,3.8400000000000001E-3,3.9974999999999997E-2,1.882E-3,null,null,13.182567000000001,0,0,0,null,null,13.182567000000001,0.15817800000000001,0.14485500000000001,0.14820700000000001,null,null,13.182567000000001,0.17641699999999999,0.18323600000000001,0.30207699999999998,null,null,13.182567000000001,0.17846899999999999,0.14986099999999999,0.23082,null,null,13.182567000000001,0.93188199999999999,0.96729799999999999,0.926118,null,null,13.182567000000001,1.652525,1.869523,1.868233,null,null,13.182567000000001,0,0,0,null,null,13.182567000000001,0,0,0,null,null,13.182567000000001,7.0366999999999999E-2,7.3710999999999999E-2,0.110309,null,null,13.182567000000001,2.0726110000000002,1.8934960000000001,1.85321,null,null,13.182567000000001,0.117036,0.121702,0.17291699999999999,null,null,13.182567000000001,4.6647000000000001E-2,0.13337399999999999,0.119181,null,null,13.182567000000001,0,7.1676000000000004E-2,7.7963000000000005E-2,null,null,13.182567000000001,0,3.2130000000000001E-3,1.66E-3,null,null,13.182567000000001,0.202907,0.20908499999999999,0.12314600000000001,null,null,13.182567000000001,0.57443100000000002,0.65809799999999996,0.63234400000000002,null,null,null,null,13.182567000000001,0.24880266666666664,0.19840233333333335,9.1335333333333324E-2,0.18313450000000001,1.5232333333333334E-2,0,0.15041333333333332,0.22057666666666664,0.18638333333333335,0.94176599999999999,1.7967603333333333,0,0,8.4795666666666658E-2,1.9397723333333332,0.13721833333333333,9.9733999999999989E-2,4.9879666666666676E-2,1.6243333333333335E-3,0.17837933333333333,0.62162433333333333]
[null,15.135612,0.20979800000000001,0.27612900000000001,0.291993,null,null,15.135612,0.22464400000000001,0.20696200000000001,0.17030100000000001,null,null,15.135612,5.6464E-2,9.9366999999999997E-2,0.10824300000000001,null,null,15.135612,7.2627999999999998E-2,0.16183600000000001,0.18324299999999999,null,null,null,15.135612,0,3.9379999999999997E-3,0,null,null,15.135612,0,0,0,null,null,15.135612,0.18267900000000001,0.16843900000000001,0.17198099999999999,null,null,15.135612,0.18937399999999999,0.19716600000000001,0.32034499999999999,null,null,15.135612,0.21730099999999999,0.186331,0.27267000000000002,null,null,15.135612,0.97737399999999997,1.0133239999999999,0.969248,null,null,15.135612,1.7074309999999999,1.9339090000000001,1.9361699999999999,null,null,15.135612,0,0,0,null,null,15.135612,0,0,0,null,null,15.135612,6.8675E-2,7.6893000000000003E-2,0.113811,null,null,15.135612,2.1799430000000002,1.989012,1.9664010000000001,null,null,15.135612,0.16761000000000001,0.174904,0.227608,null,null,15.135612,0.110764,0.19311800000000001,0.17893500000000001,null,null,15.135612,2.9464000000000001E-2,8.3069000000000004E-2,9.1148000000000007E-2,null,null,15.135612,0,0,0,null,null,15.135612,0.20088400000000001,0.20938200000000001,0.119064,null,null,15.135612,0.62178999999999995,0.71225300000000002,0.68442199999999997,null,null,null,null,15.135612,0.25930666666666663,0.20063566666666668,8.8024666666666682E-2,0.17253950000000001,1.3126666666666666E-3,0,0.17436633333333332,0.23562833333333333,0.225434,0.98664866666666662,1.85917,0,0,8.6459666666666671E-2,2.0451186666666668,0.19004066666666666,0.160939,6.7893666666666672E-2,0,0.17644333333333337,0.67282166666666665]
[null,17.378008000000001,0.22919200000000001,0.29816599999999999,0.313556,null,null,17.378008000000001,0.246783,0.229356,0.19039900000000001,null,null,17.378008000000001,5.6147000000000002E-2,0.100021,0.11300300000000001,null,null,17.378008000000001,6.7954000000000001E-2,0.159469,0.186255,null,null,null,17.378008000000001,0,0,0,null,null,17.378008000000001,0,0,0,null,null,17.378008000000001,0.228518,0.21521100000000001,0.21933900000000001,null,null,17.378008000000001,0.22013199999999999,0.229491,0.35669899999999999,null,null,17.378008000000001,0.28374100000000002,0.24715500000000001,0.34004000000000001,null,null,17.378008000000001,1.0382579999999999,1.074875,1.0282359999999999,null,null,17.378008000000001,1.7820210000000001,2.0189379999999999,2.0219269999999998,null,null,17.378008000000001,0,0,1.3089999999999999E-2,null,null,17.378008000000001,0,0,7.3179999999999995E-2,null,null,17.378008000000001,9.3275999999999998E-2,0.107404,0.14332700000000001,null,null,17.378008000000001,2.290991,2.087348,2.0843020000000001,null,null,17.378008000000001,0.25035499999999999,0.26115699999999997,0.312975,null,null,17.378008000000001,0.200042,0.27681800000000001,0.262463,null,null,17.378008000000001,8.8338E-2,0.11910999999999999,0.12901399999999999,null,null,17.378008000000001,0,0,0,null,null,17.378008000000001,0.19880700000000001,0.210206,0.114122,null,null,17.378008000000001,0.69118800000000002,0.79067699999999996,0.76040799999999997,null,null,null,null,17.378008000000001,0.28030466666666665,0.22217933333333331,8.972366666666666E-2,0.17286200000000002,0,0,0.22102266666666667,0.26877400000000001,0.29031200000000001,1.047123,1.9409619999999999,4.3633333333333328E-3,2.4393333333333333E-2,0.11466900000000001,2.1542136666666667,0.27482899999999999,0.24644099999999999,0.11215399999999999,0,0.17437833333333333,0.74742433333333336]
[null,19.952622999999999,0.26301600000000003,0.33407799999999999,0.34737400000000002,null,null,19.952622999999999,0.29314200000000001,0.27706799999999998,0.23516899999999999,null,null,19.952622999999999,7.8224000000000002E-2,0.11230800000000001,0.12753100000000001,null,null,19.952622999999999,7.9856999999999997E-2,0.17465,0.20776,null,null,null,19.952622999999999,0,0,0,null,null,19.952622999999999,0,0,0,null,null,19.952622999999999,0.29674499999999998,0.28673700000000002,0.290933,null,null,19.952622999999999,0.27096700000000001,0.28256599999999998,0.414412,null,null,19.952622999999999,0.37361,0.32712999999999998,0.428425,null,null,19.952622999999999,1.1167389999999999,1.1533880000000001,1.105137,null,null,19.952622999999999,1.8888259999999999,2.1376719999999998,2.1374840000000002,null,null,19.952622999999999,0,0,9.0397000000000005E-2,null,null,19.952622999999999,0,0,0.165774,null,null,19.952622999999999,0.14940300000000001,0.16902200000000001,0.20299300000000001,null,null,19.952622999999999,2.40917,2.1921179999999998,2.2092390000000002,null,null,19.952622999999999,0.35743399999999997,0.37274400000000002,0.42082599999999998,null,null,19.952622999999999,0.286414,0.374581,0.35949700000000001,null,null,19.952622999999999,0.14365900000000001,0.18529399999999999,0.196688,null,null,19.952622999999999,0,0,0,null,null,19.952622999999999,0.201928,0.21637600000000001,0.112077,null,null,19.952622999999999,0.79389699999999996,0.90601699999999996,0.87240300000000004,null,null,null,null,19.952622999999999,0.3148226666666667,0.26845966666666665,0.10602099999999999,0.19120500000000001,0,0,0.29147166666666668,0.32264833333333337,0.37638833333333332,1.1250880000000001,2.0546606666666669,3.0132333333333334E-2,5.5258000000000002E-2,0.17380600000000002,2.2701756666666668,0.38366799999999995,0.34016399999999997,0.17521366666666668,0,0.17679366666666665,0.85743899999999995]
[null,22.908677000000001,0.31048700000000001,0.38278800000000002,0.39258399999999999,null,null,22.908677000000001,0.36191000000000001,0.34836,0.30265799999999998,null,null,22.908677000000001,0.10241500000000001,0.13895099999999999,0.152364,null,null,22.908677000000001,0.1132,0.212002,0.25185099999999999,null,null,null,22.908677000000001,0,4.3361999999999998E-2,0,null,null,22.908677000000001,0,0,0,null,null,22.908677000000001,0.37939200000000001,0.374807,0.37698999999999999,null,null,22.908677000000001,0.33700999999999998,0.351325,0.49018499999999998,null,null,22.908677000000001,0.46938000000000002,0.40903400000000001,0.520899,null,null,22.908677000000001,1.206825,1.241924,1.193797,null,null,22.908677000000001,2.0365660000000001,2.2981319999999998,2.2902300000000002,null,null,22.908677000000001,0,0,0.23752300000000001,null,null,22.908677000000001,0,0,0.27825100000000003,null,null,22.908677000000001,0.23216500000000001,0.25468400000000002,0.28664400000000001,null,null,22.908677000000001,2.5313859999999999,2.3012000000000001,2.3371189999999999,null,null,22.908677000000001,0.46487800000000001,0.48508499999999999,0.52701699999999996,null,null,22.908677000000001,0.36477999999999999,0.463839,0.44701800000000003,null,null,22.908677000000001,0.235372,0.277671,0.28975299999999998,null,null,22.908677000000001,4.9915000000000001E-2,2.1975000000000001E-2,4.3824000000000002E-2,null,null,22.908677000000001,0.21740200000000001,0.234237,0.118435,null,null,22.908677000000001,0.93616699999999997,1.0656049999999999,1.027029,null,null,null,null,22.908677000000001,0.36195300000000002,0.3376426666666667,0.13124333333333335,0.23192649999999998,1.4454E-2,0,0.37706299999999998,0.39283999999999991,0.46643766666666669,1.2141820000000001,2.2083093333333332,7.9174333333333333E-2,9.2750333333333337E-2,0.25783099999999998,2.3899016666666668,0.49232666666666663,0.42521233333333336,0.26759866666666671,3.8571333333333339E-2,0.19002466666666665,1.0096003333333332]
[null,26.302679999999999,0.367867,0.440604,0.44618799999999997,null,null,26.302679999999999,0.44508799999999998,0.434917,0.38444899999999999,null,null,26.302679999999999,0.120601,0.18077699999999999,0.185969,null,null,26.302679999999999,0.168879,0.272115,0.31866899999999998,null,null,null,26.302679999999999,0,0.153394,0,null,null,26.302679999999999,0,0,0,null,null,26.302679999999999,0.46381099999999997,0.46570099999999998,0.461613,null,null,26.302679999999999,0.40881200000000001,0.42592400000000002,0.57742199999999999,null,null,26.302679999999999,0.54680799999999996,0.47051100000000001,0.59548199999999996,null,null,26.302679999999999,1.299893,1.3310580000000001,1.2852969999999999,null,null,26.302679999999999,2.2363789999999999,2.5100880000000001,2.4896060000000002,null,null,26.302679999999999,0,0,0.32571,null,null,26.302679999999999,0,0,0.37209700000000001,null,null,26.302679999999999,0.32777400000000001,0.34825600000000001,0.379803,null,null,26.302679999999999,2.656962,2.4143340000000002,2.467123,null,null,26.302679999999999,0.54283300000000001,0.56721200000000005,0.60154300000000005,null,null,26.302679999999999,0.402557,0.51963000000000004,0.49953799999999998,null,null,26.302679999999999,0.33022099999999999,0.38509100000000002,0.39677000000000001,null,null,26.302679999999999,0.162851,0.13139999999999999,0.18110799999999999,null,null,26.302679999999999,0.25356000000000001,0.27128000000000002,0.13955000000000001,null,null,26.302679999999999,1.1251930000000001,1.2782979999999999,1.232048,null,null,null,null,26.302679999999999,0.41821966666666666,0.42148466666666667,0.16244899999999998,0.29539199999999999,5.1131333333333334E-2,0,0.46370833333333333,0.47071933333333332,0.53760033333333335,1.3054159999999999,2.4120243333333335,0.10857,0.12403233333333334,0.35194433333333336,2.5128063333333333,0.57052933333333333,0.47390833333333338,0.37069400000000002,0.15845299999999998,0.22146333333333335,1.2118463333333331]
[null,30.199517,0.42505900000000002,0.49791099999999999,0.49995400000000001,null,null,30.199517,0.52384399999999998,0.51691699999999996,0.461115,null,null,30.199517,0.142619,0.23403399999999999,0.222748,null,null,30.199517,0.239477,0.34709499999999999,0.39966499999999999,null,null,null,30.199517,0,0.227744,0,null,null,30.199517,0,0,0,null,null,30.199517,0.52972600000000003,0.53683700000000001,0.519922,null,null,30.199517,0.469273,0.48847800000000002,0.66230900000000004,null,null,30.199517,0.57546699999999995,0.48411900000000002,0.62468900000000005,null,null,30.199517,1.3809309999999999,1.4057170000000001,1.3643959999999999,null,null,30.199517,2.4888170000000001,2.7713549999999998,2.733806,null,null,30.199517,0,0,0.39789400000000003,null,null,30.199517,0,0,0.43363800000000002,null,null,30.199517,0.409939,0.42263800000000001,0.45616499999999999,null,null,30.199517,2.779455,2.5254819999999998,2.5932719999999998,null,null,30.199517,0.55353699999999995,0.57916400000000001,0.60756500000000002,null,null,30.199517,0.37814799999999998,0.51688000000000001,0.491622,null,null,30.199517,0.419354,0.48355300000000001,0.493815,null,null,30.199517,0.32391399999999998,0.27271600000000001,0.32064599999999999,null,null,30.199517,0.31665700000000002,0.33300299999999999,0.18040900000000001,null,null,30.199517,1.3578079999999999,1.541785,1.4842169999999999,null,null,null,null,30.199517,0.47430800000000001,0.50062533333333326,0.19980033333333336,0.37337999999999999,7.5914666666666672E-2,0,0.52882833333333334,0.54002000000000006,0.56142499999999995,1.3836813333333333,2.6646593333333333,0.13263133333333335,0.14454600000000001,0.42958066666666667,2.6327363333333333,0.5800886666666667,0.46221666666666666,0.46557399999999999,0.30575866666666668,0.27668966666666667,1.4612699999999998]
[null,34.673684999999999,0.46952899999999997,0.54324300000000003,0.54412499999999997,null,null,34.673684999999999,0.57492399999999999,0.56947000000000003,0.50859799999999999,null,null,34.673684999999999,0.159637,0.29229899999999998,0.25513400000000003,null,null,34.673684999999999,0.311089,0.42280099999999998,0.48044599999999998,null,null,null,34.673684999999999,0,0.312282,0,null,null,34.673684999999999,0,0,0,null,null,34.673684999999999,0.55860900000000002,0.56670600000000004,0.52811200000000003,null,null,34.673684999999999,0.50063899999999995,0.52029899999999996,0.73135399999999995,null,null,34.673684999999999,0.52813600000000005,0.42966700000000002,0.58821699999999999,null,null,34.673684999999999,1.437951,1.454847,1.418995,null,null,34.673684999999999,2.7914409999999998,3.076746,3.0179490000000002,null,null,34.673684999999999,0,0,0.396648,null,null,34.673684999999999,0,0,0.42438999999999999,null,null,34.673684999999999,0.44629400000000002,0.44370399999999999,0.48514099999999999,null,null,34.673684999999999,2.8945370000000001,2.6297839999999999,2.712567,null,null,34.673684999999999,0.475107,0.497475,0.52239899999999995,null,null,34.673684999999999,0.28574899999999998,0.44438499999999997,0.41186099999999998,null,null,34.673684999999999,0.472829,0.54499600000000004,0.55348600000000003,null,null,34.673684999999999,0.48004200000000002,0.40721299999999999,0.48850300000000002,null,null,34.673684999999999,0.41020400000000001,0.42265200000000003,0.243591,null,null,34.673684999999999,1.6297710000000001,1.8528720000000001,1.7794369999999999,null,null,null,null,34.673684999999999,0.51896566666666666,0.55099733333333345,0.23569000000000004,0.45162349999999996,0.10409400000000001,0,0.5511423333333334,0.58409733333333325,0.51534000000000002,1.4372643333333333,2.9620453333333336,0.132216,0.14146333333333333,0.45837966666666669,2.7456293333333335,0.49832700000000002,0.38066499999999998,0.52377033333333334,0.45858599999999999,0.35881566666666664,1.7540266666666666]
[null,39.810716999999997,0.487294,0.56417300000000004,0.56803599999999999,null,null,39.810716999999997,0.57392600000000005,0.56620899999999996,0.50159200000000004,null,null,39.810716999999997,0.16749800000000001,0.34571299999999999,0.27402900000000002,null,null,39.810716999999997,0.36252400000000001,0.47822399999999998,0.54021300000000005,null,null,null,39.810716999999997,0,0.36364400000000002,0,null,null,39.810716999999997,0,0,0,null,null,39.810716999999997,0.53936700000000004,0.54108999999999996,0.47080899999999998,null,null,39.810716999999997,0.48853799999999997,0.50612000000000001,0.77375799999999995,null,null,39.810716999999997,0.40264899999999998,0.30316500000000002,0.48359099999999999,null,null,39.810716999999997,1.465552,1.475457,1.4439420000000001,null,null,39.810716999999997,3.1269930000000001,3.4069780000000001,3.323582,null,null,39.810716999999997,0,0,0.30610199999999999,null,null,39.810716999999997,0,0,0.3276,null,null,39.810716999999997,0.41053200000000001,0.39228800000000003,0.44189000000000001,null,null,39.810716999999997,2.996667,2.7207690000000002,2.8212440000000001,null,null,39.810716999999997,0.29282999999999998,0.30461100000000002,0.33706700000000001,null,null,39.810716999999997,0.12692600000000001,0.31700600000000001,0.27543000000000001,null,null,39.810716999999997,0.46912599999999999,0.541744,0.54950900000000003,null,null,39.810716999999997,0.626247,0.521845,0.63595900000000005,null,null,39.810716999999997,0.53001799999999999,0.53669199999999995,0.32555200000000001,null,null,39.810716999999997,1.9277139999999999,2.197889,2.103917,null,null,null,null,39.810716999999997,0.53983433333333342,0.54724233333333328,0.26241333333333333,0.50921850000000002,0.12121466666666668,0,0.51708866666666664,0.589472,0.39646833333333326,1.4616503333333333,3.2858509999999996,0.102034,0.10920000000000001,0.41490333333333335,2.8462266666666665,0.31150266666666665,0.23978733333333335,0.52012633333333336,0.59468366666666672,0.46408733333333335,2.0765066666666665]
[null,45.708818999999998,0.46933599999999998,0.55347599999999997,0.56559199999999998,null,null,45.708818999999998,0.50646000000000002,0.49044199999999999,0.425062,null,null,45.708818999999998,0.16309899999999999,0.38532499999999997,0.27280500000000002,null,null,45.708818999999998,0.37266199999999999,0.49291800000000002,0.55963600000000002,null,null,null,45.708818999999998,0,0.35948200000000002,0,null,null,45.708818999999998,0,0,0,null,null,45.708818999999998,0.47953200000000001,0.465391,0.35356100000000001,null,null,45.708818999999998,0.43151499999999998,0.44411899999999999,0.79103800000000002,null,null,45.708818999999998,0.208318,0.129631,0.33813199999999999,null,null,45.708818999999998,1.474561,1.482005,1.4506840000000001,null,null,45.708818999999998,3.4719169999999999,3.738219,3.627764,null,null,45.708818999999998,0,0,0.13498199999999999,null,null,45.708818999999998,0,0,0.151452,null,null,45.708818999999998,0.28049000000000002,0.237627,0.31040800000000002,null,null,45.708818999999998,3.0848110000000002,2.7959830000000001,2.9201190000000001,null,null,45.708818999999998,6.5444000000000002E-2,6.3436000000000006E-2,0.104091,null,null,45.708818999999998,0,0.18499399999999999,0.13336899999999999,null,null,45.708818999999998,0.40051199999999998,0.460559,0.47074100000000002,null,null,45.708818999999998,0.70655699999999999,0.57405200000000001,0.72224999999999995,null,null,45.708818999999998,0.66505300000000001,0.66583099999999995,0.41681800000000002,null,null,45.708818999999998,2.2398210000000001,2.5642360000000002,2.445535,null,null,null,null,45.708818999999998,0.52946800000000005,0.47398800000000002,0.27374300000000001,0.52627699999999999,0.11982733333333334,0,0.43282799999999999,0.55555733333333335,0.2253603333333333,1.4690833333333335,3.6126333333333336,4.4993999999999999E-2,5.0484000000000001E-2,0.276175,2.9336376666666664,7.765699999999999E-2,0.10612099999999998,0.44393733333333335,0.66761966666666661,0.58256733333333333,2.4165306666666666]
[null,52.480746000000003,0.41723500000000002,0.51419099999999995,0.53955799999999998,null,null,52.480746000000003,0.37883,0.34748400000000002,0.28500900000000001,null,null,52.480746000000003,0.14854700000000001,0.40618199999999999,0.25078600000000001,null,null,52.480746000000003,0.327623,0.45453700000000002,0.52842800000000001,null,null,null,52.480746000000003,0,0.28262599999999999,0,null,null,52.480746000000003,0,0,0,null,null,52.480746000000003,0.41392400000000001,0.37454999999999999,0.21387900000000001,null,null,52.480746000000003,0.349271,0.35476000000000002,0.80330699999999999,null,null,52.480746000000003,0,0,0.21812599999999999,null,null,52.480746000000003,1.497096,1.5110239999999999,1.472267,null,null,52.480746000000003,3.7939150000000001,4.039676,3.9013990000000001,null,null,52.480746000000003,0,0,0,null,null,52.480746000000003,0,0,0,null,null,52.480746000000003,7.5611999999999999E-2,0,0.111244,null,null,52.480746000000003,3.1623269999999999,2.8574920000000001,3.0136039999999999,null,null,52.480746000000003,0,0,0,null,null,52.480746000000003,0,0.138907,7.7654000000000001E-2,null,null,52.480746000000003,0.28743099999999999,0.31576799999999999,0.33402300000000001,null,null,52.480746000000003,0.68872,0.53671500000000005,0.710623,null,null,52.480746000000003,0.79619600000000001,0.79388499999999995,0.50118099999999999,null,null,52.480746000000003,2.5557439999999998,2.9394230000000001,2.7932959999999998,null,null,null,null,52.480746000000003,0.49032800000000004,0.33710766666666664,0.26850499999999999,0.49148250000000004,9.4208666666666663E-2,0,0.3341176666666667,0.50244600000000006,7.2708666666666658E-2,1.4934623333333334,3.9116633333333333,0,0,6.2285333333333331E-2,3.0111409999999998,0,7.2187000000000001E-2,0.31240733333333331,0.64535266666666669,0.69708733333333328,2.7628210000000002]
[null,60.255958999999997,0.34921400000000002,0.46498600000000001,0.50621099999999997,null,null,60.255958999999997,0.22825400000000001,0.176122,0.119169,null,null,60.255958999999997,0.133132,0.411997,0.21723700000000001,null,null,60.255958999999997,0.23186000000000001,0.36980200000000002,0.45619599999999999,null,null,null,60.255958999999997,0,0.137017,0,null,null,60.255958999999997,0,0,0,null,null,60.255958999999997,0.40884100000000001,0.33829100000000001,0.127026,null,null,60.255958999999997,0.28864099999999998,0.28736299999999998,0.85391300000000003,null,null,60.255958999999997,0,0,0.22792899999999999,null,null,60.255958999999997,1.587712,1.6210340000000001,1.564141,null,null,60.255958999999997,4.058192,4.2790350000000004,4.1151720000000003,null,null,60.255958999999997,0,0,0,null,null,60.255958999999997,0,0,0,null,null,60.255958999999997,9.4300000000000004E-4,0,2.1619999999999999E-3,null,null,60.255958999999997,3.2378089999999999,2.9132349999999998,3.10975,null,null,60.255958999999997,0,0,0,null,null,60.255958999999997,0,0.301014,0.23238800000000001,null,null,60.255958999999997,0.18834999999999999,0.161243,0.195575,null,null,60.255958999999997,0.56553399999999998,0.407779,0.59235800000000005,null,null,60.255958999999997,0.90000599999999997,0.90104300000000004,0.55884,null,null,60.255958999999997,2.8725160000000001,3.3169740000000001,3.1431629999999999,null,null,null,null,60.255958999999997,0.440137,0.174515,0.25412200000000001,0.412999,4.5672333333333336E-2,0,0.29138599999999998,0.47663900000000003,7.5976333333333326E-2,1.5909623333333334,4.1507996666666669,0,0,1.0350000000000001E-3,3.0869313333333337,0,0.17780066666666669,0.18172266666666667,0.52189033333333334,0.78662966666666667,3.1108843333333334]
[null,69.183097000000004,0.30240499999999998,0.44206400000000001,0.497058,null,null,69.183097000000004,0.125671,3.1919000000000003E-2,6.1630000000000001E-3,null,null,69.183097000000004,0.134131,0.41826999999999998,0.19319500000000001,null,null,69.183097000000004,0.122254,0.27296399999999998,0.38053799999999999,null,null,null,69.183097000000004,0,8.1790000000000005E-3,0,null,null,69.183097000000004,0,0,0,null,null,69.183097000000004,0.557616,0.45683800000000002,0.20148099999999999,null,null,69.183097000000004,0.32275999999999999,0.319521,1.0083249999999999,null,null,69.183097000000004,7.4586E-2,7.7224000000000001E-2,0.49696499999999999,null,null,69.183097000000004,1.8175380000000001,1.885235,1.7977399999999999,null,null,69.183097000000004,4.2350560000000002,4.4284679999999996,4.2459020000000001,null,null,69.183097000000004,0,0,0,null,null,69.183097000000004,0,0,0,null,null,69.183097000000004,0,0,0,null,null,69.183097000000004,3.3235190000000001,2.9757440000000002,3.2184520000000001,null,null,69.183097000000004,0,0,1.9276999999999999E-2,null,null,69.183097000000004,0.193523,0.80543799999999999,0.73355700000000001,null,null,69.183097000000004,0.20122300000000001,9.3005000000000004E-2,0.15293999999999999,null,null,69.183097000000004,0.37585400000000002,0.213862,0.40304200000000001,null,null,69.183097000000004,0.95586899999999997,0.97013700000000003,0.57242300000000002,null,null,69.183097000000004,3.2002250000000001,3.7024119999999998,3.5036619999999998,null,null,null,null,69.183097000000004,0.41384233333333337,5.4584333333333339E-2,0.24853199999999998,0.32675100000000001,2.7263333333333336E-3,0,0.40531166666666668,0.55020199999999997,0.21625833333333333,1.8335043333333332,4.3031420000000002,0,0,0,3.1725716666666663,6.4256666666666663E-3,0.57750599999999996,0.14905599999999999,0.33091933333333334,0.83280966666666678,3.4687663333333334]
[null,79.432822999999999,0.33136900000000002,0.49707699999999999,0.55679699999999999,null,null,79.432822999999999,0.17205200000000001,4.2090000000000002E-2,3.1946000000000002E-2,null,null,79.432822999999999,0.17517199999999999,0.45213999999999999,0.21085899999999999,null,null,79.432822999999999,3.3848999999999997E-2,0.23157800000000001,0.37150699999999998,null,null,null,79.432822999999999,0,0,0,null,null,79.432822999999999,0,0,0,null,null,79.432822999999999,0.96177599999999996,0.84220700000000004,0.56055699999999997,null,null,79.432822999999999,0.54070799999999997,0.54655799999999999,1.340819,null,null,79.432822999999999,0.46172600000000003,0.50274600000000003,1.1469769999999999,null,null,79.432822999999999,2.2538049999999998,2.3687640000000001,2.2392989999999999,null,null,79.432822999999999,4.3006890000000002,4.4646410000000003,4.2767949999999999,null,null,79.432822999999999,0,0,0,null,null,79.432822999999999,0,0,0,null,null,79.432822999999999,0,0,0,null,null,79.432822999999999,3.4291740000000002,3.0566840000000002,3.3450630000000001,null,null,79.432822999999999,0.247087,0.26307999999999998,0.33634999999999998,null,null,79.432822999999999,0.89322100000000004,1.754014,1.6845250000000001,null,null,79.432822999999999,0.45238499999999998,0.24141799999999999,0.33576299999999998,null,null,79.432822999999999,0.216886,9.6579999999999999E-2,0.23616599999999999,null,null,79.432822999999999,0.95318599999999998,0.99223099999999997,0.53430500000000003,null,null,79.432822999999999,3.5540029999999998,4.1037650000000001,3.8866350000000001,null,null,null,null,79.432822999999999,{"$f":"AVERAGE(C86:E86)","v":0.46174766666666667},{"$f":"AVERAGE(I86:K86)","v":8.2029333333333329E-2},{"$f":"AVERAGE(O86:Q86)","v":0.27939033333333335},{"$f":"AVERAGE(V86:X86)","v":0.30154249999999999},{"$f":"AVERAGE(AB86:AD86)","v":0},{"$f":"AVERAGE(AH86:AJ86)","v":0},{"$f":"AVERAGE(AN86:AP86)","v":0.78817999999999999},{"$f":"AVERAGE(AT86:AV86)","v":0.80936166666666676},{"$f":"AVERAGE(AZ86:BB86)","v":0.70381633333333327},{"$f":"AVERAGE(BF86:BH86)","v":2.2872893333333333},{"$f":"AVERAGE(BL86:BN86)","v":4.3473750000000004},{"$f":"AVERAGE(BR86:BT86)","v":0},{"$f":"AVERAGE(BX86:BZ86)","v":0},{"$f":"AVERAGE(CD86:CF86)","v":0},{"$f":"AVERAGE(CJ86:CL86)","v":3.2769736666666667},{"$f":"AVERAGE(CP86:CR86)","v":0.2821723333333333},{"$f":"AVERAGE(CV86:CX86)","v":1.4439200000000001},{"$f":"AVERAGE(DB86:DD86)","v":0.34318866666666664},{"$f":"AVERAGE(DH86:DJ86)","v":0.18321066666666666},{"$f":"AVERAGE(DN86:DP86)","v":0.82657399999999992},{"$f":"AVERAGE(DT86:DV86)","v":3.8481343333333329}]
[null,91.201083999999994,0.49965900000000002,0.68988300000000002,0.73745000000000005,null,null,91.201083999999994,0.48130200000000001,0.26576699999999998,0.29226200000000002,null,null,91.201083999999994,0.282864,0.54956899999999997,0.308861,null,null,91.201083999999994,0.12673400000000001,0.34064699999999998,0.52540100000000001,null,null,null,91.201083999999994,0,0,0,null,null,91.201083999999994,0,0,0,null,null,91.201083999999994,1.714493,1.5994919999999999,1.320821,null,null,91.201083999999994,1.0329999999999999,1.0662959999999999,1.9244730000000001,null,null,91.201083999999994,1.363318,1.4225589999999999,2.2693669999999999,null,null,91.201083999999994,2.9483090000000001,3.11734,2.9377759999999999,null,null,91.201083999999994,4.2445130000000004,4.3749609999999999,4.2022300000000001,null,null,91.201083999999994,0,4.2254E-2,0,null,null,91.201083999999994,0,0,5.1618999999999998E-2,null,null,91.201083999999994,0,2.506E-3,2.4246E-2,null,null,91.201083999999994,3.5593859999999999,3.1637089999999999,3.4897930000000001,null,null,91.201083999999994,1.1313899999999999,1.208348,1.277825,null,null,91.201083999999994,2.1744729999999999,3.199389,3.1387689999999999,null,null,91.201083999999994,1.0766690000000001,0.74949600000000005,0.88425900000000002,null,null,91.201083999999994,0.234288,9.9107000000000001E-2,0.23405200000000001,null,null,91.201083999999994,0.90163899999999997,0.97599999999999998,0.45501000000000003,null,null,91.201083999999994,3.9600629999999999,4.5392479999999997,4.3138160000000001,null,null,null,null,91.201083999999994,0.64233066666666672,0.34644366666666665,0.38043133333333334,0.43302399999999996,0,0,1.5449353333333331,1.3412563333333332,1.6850813333333334,3.0011416666666668,4.2739013333333338,1.4084666666666667E-2,1.7206333333333334E-2,8.9173333333333344E-3,3.404296,1.2058543333333331,2.8375436666666665,0.90347466666666676,0.18914900000000001,0.77754966666666669,4.2710423333333329]
[null,104.712855,0.85996700000000004,1.068651,1.080687,null,null,104.712855,1.1435219999999999,0.82817099999999999,0.90871100000000005,null,null,104.712855,0.47666999999999998,0.74391799999999997,0.520486,null,null,104.712855,0.47272199999999998,0.70436200000000004,0.94341799999999998,null,null,null,104.712855,0,0,0,null,null,104.712855,7.4924000000000004E-2,0.310917,0.10419399999999999,null,null,104.712855,2.841968,2.7660070000000001,2.5289320000000002,null,null,104.712855,1.848422,1.9334229999999999,2.7857189999999998,null,null,104.712855,2.8832100000000001,2.8845779999999999,3.8453710000000001,null,null,104.712855,3.8876629999999999,4.1054079999999997,3.8746309999999999,null,null,104.712855,4.0696099999999999,4.1604640000000002,4.0284950000000004,null,null,104.712855,5.8036999999999998E-2,0.45801799999999998,0.28325800000000001,null,null,104.712855,0.100075,0.21690699999999999,0.58926199999999995,null,null,104.712855,0.234259,0.33653,0.38703100000000001,null,null,104.712855,3.703478,3.2913139999999999,3.638671,null,null,104.712855,2.8667579999999999,3.0330400000000002,3.051882,null,null,104.712855,4.0176119999999997,5.0560980000000004,5.0105579999999996,null,null,104.712855,2.1586859999999999,1.7190810000000001,1.8934009999999999,null,null,104.712855,0.59742499999999998,0.29201300000000002,0.56492900000000001,null,null,104.712855,0.83875299999999997,0.95287200000000005,0.37217800000000001,null,null,104.712855,4.427683,5.0077850000000002,4.7875569999999996,null,null,null,null,104.712855,1.0031016666666668,0.96013466666666669,0.58035800000000004,0.82389000000000001,0,0.16334499999999999,2.7123023333333336,2.1891879999999997,3.2043863333333333,3.9559006666666665,4.0861896666666668,0.26643766666666663,0.30208133333333331,0.31927333333333335,3.5444876666666669,2.9838933333333331,4.6947559999999999,1.9237226666666665,0.48478899999999997,0.72126766666666675,4.7410083333333333]
[null,120.226443,1.4500660000000001,1.6687019999999999,1.618093,null,null,120.226443,2.2176119999999999,1.8702209999999999,1.972502,null,null,120.226443,0.76999600000000001,1.0635950000000001,0.87116899999999997,null,null,120.226443,1.159176,1.42354,1.720702,null,null,null,120.226443,6.2244000000000001E-2,8.4461999999999995E-2,0.34332499999999999,null,null,120.226443,0.87525200000000003,1.668974,1.0578339999999999,null,null,120.226443,4.3250250000000001,4.3307520000000004,4.1786440000000002,null,null,120.226443,3.001738,3.167405,3.9200569999999999,null,null,120.226443,5.0308729999999997,4.8674140000000001,5.7897400000000001,null,null,120.226443,5.0203490000000004,5.2677519999999998,4.9914639999999997,null,null,120.226443,3.7879670000000001,3.8304649999999998,3.7673779999999999,null,null,120.226443,0.77256499999999995,2.0630389999999998,1.433657,null,null,120.226443,0.979074,1.382566,1.9809909999999999,null,null,120.226443,1.1733830000000001,1.3990530000000001,1.4295100000000001,null,null,120.226443,3.8413719999999998,3.4250189999999998,3.7719610000000001,null,null,120.226443,5.5174799999999999,5.7763049999999998,5.6952870000000004,null,null,120.226443,6.302727,7.1731569999999998,7.1481950000000003,null,null,120.226443,3.7360549999999999,3.206156,3.410898,null,null,120.226443,1.465219,0.88180099999999995,1.388722,null,null,120.226443,0.83013199999999998,0.97894300000000001,0.34968399999999999,null,null,120.226443,4.9630729999999996,5.5048209999999997,5.3060600000000004,null,null,null,null,120.226443,1.5789536666666668,2.0201116666666667,0.90158666666666676,1.5721210000000001,0.16334366666666666,1.2006866666666667,4.2781403333333339,3.3630666666666666,5.2293423333333333,5.0931883333333339,3.7952699999999999,1.423087,1.4475436666666666,1.333982,3.6794506666666664,5.6630240000000001,6.8746930000000006,3.4510363333333332,1.2452473333333334,0.71958633333333333,5.2579846666666663]
[null,138.03842599999999,2.2452549999999998,2.4655589999999998,2.3299120000000002,null,null,138.03842599999999,3.6458539999999999,3.3921589999999999,3.4523030000000001,null,null,138.03842599999999,1.1490560000000001,1.505096,1.350328,null,null,138.03842599999999,2.2454830000000001,2.5291169999999998,2.8757470000000001,null,null,null,138.03842599999999,0.67378700000000002,0.72823599999999999,1.4727170000000001,null,null,138.03842599999999,2.8756119999999998,3.9724189999999999,3.2588879999999998,null,null,138.03842599999999,5.9985869999999997,6.1269629999999999,6.0965189999999998,null,null,138.03842599999999,4.3903470000000002,4.6630019999999996,5.2118679999999999,null,null,138.03842599999999,7.5348889999999997,7.1038370000000004,7.8316290000000004,null,null,138.03842599999999,6.1863770000000002,6.4299660000000003,6.1221860000000001,null,null,138.03842599999999,3.432661,3.419349,3.4469759999999998,null,null,138.03842599999999,2.7044299999999999,4.5736759999999999,3.805733,null,null,138.03842599999999,2.9689749999999999,3.6828569999999998,4.3025149999999996,null,null,138.03842599999999,2.957865,3.3284400000000001,3.2949730000000002,null,null,138.03842599999999,3.9364859999999999,3.5339299999999998,3.8578709999999998,null,null,138.03842599999999,8.6956030000000002,9.0017879999999995,8.8009850000000007,null,null,138.03842599999999,8.6486190000000001,9.2169640000000008,9.2160170000000008,null,null,138.03842599999999,5.6791960000000001,5.10426,5.3197799999999997,null,null,138.03842599999999,2.8921239999999999,2.0550259999999998,2.766178,null,null,138.03842599999999,0.96450400000000003,1.1286989999999999,0.47508099999999998,null,null,138.03842599999999,5.5251400000000004,5.9806569999999999,5.8206540000000002,null,null,null,null,138.03842599999999,2.3469086666666663,3.496772,1.3348266666666666,2.7024319999999999,0.95824666666666669,3.368973,6.0740230000000004,4.7550723333333336,7.4901183333333341,6.2461763333333336,3.432995333333333,3.6946129999999999,3.6514489999999995,3.1937593333333338,3.7760956666666665,8.8327919999999995,9.0272000000000006,5.3677453333333345,2.5711093333333332,0.85609466666666656,5.7754836666666671]
[null,158.48931899999999,3.2018279999999999,3.4204249999999998,3.1868180000000002,null,null,158.48931899999999,5.3341060000000002,5.3288679999999999,5.261736,null,null,158.48931899999999,1.5983609999999999,2.0566179999999998,1.938015,null,null,158.48931899999999,3.7332390000000002,4.0233790000000003,4.3966969999999996,null,null,null,158.48931899999999,2.0778699999999999,2.155227,3.2801909999999999,null,null,158.48931899999999,6.296284,7.2680680000000004,6.8845299999999998,null,null,158.48931899999999,7.6826480000000004,7.9684290000000004,8.0842390000000002,null,null,158.48931899999999,5.8901009999999996,6.2923609999999996,6.5314509999999997,null,null,158.48931899999999,10.036448999999999,9.2734710000000007,9.7008650000000003,null,null,158.48931899999999,7.2260460000000002,7.4230359999999997,7.102633,null,null,158.48931899999999,3.0302389999999999,2.9553419999999999,3.0844649999999998,null,null,158.48931899999999,6.1541499999999996,8.0184499999999996,7.4489890000000001,null,null,158.48931899999999,6.2777729999999998,7.2183900000000003,7.4565789999999996,null,null,158.48931899999999,5.6472709999999999,6.1275490000000001,5.9948499999999996,null,null,158.48931899999999,3.9510969999999999,3.5851649999999999,3.867702,null,null,158.48931899999999,11.786306,12.059194,11.761558000000001,null,null,158.48931899999999,10.661023,10.88618,10.911296,null,null,158.48931899999999,7.8161259999999997,7.2581660000000001,7.456493,null,null,158.48931899999999,4.8652790000000001,3.9244249999999998,4.6922509999999997,null,null,158.48931899999999,1.345215,1.4910699999999999,0.85131199999999996,null,null,158.48931899999999,6.0667920000000004,6.3794120000000003,6.2766440000000001,null,null,null,null,158.48931899999999,3.2696903333333331,5.3082366666666667,1.8643313333333333,4.2100379999999999,2.504429333333333,6.8162939999999992,7.911772,6.237970999999999,9.6702616666666668,7.2505716666666666,3.0233486666666667,7.2071963333333331,6.9842473333333333,5.9232233333333326,3.8013213333333336,11.869019333333334,10.819499666666667,7.5102616666666675,4.4939849999999995,1.2291990000000002,6.2409493333333339]
[null,181.97008600000001,4.1828919999999998,4.4056550000000003,4.0833890000000004,null,null,181.97008600000001,7.0229699999999999,7.381043,7.1153250000000003,null,null,181.97008600000001,2.0692710000000001,2.655688,2.56047,null,null,181.97008600000001,5.47295,5.7496520000000002,6.1098189999999999,null,null,null,181.97008600000001,4.1317969999999997,4.3781150000000002,5.659287,null,null,181.97008600000001,10.546868999999999,10.855413,11.20468,null,null,181.97008600000001,9.0653590000000008,9.520073,9.7787319999999998,null,null,181.97008600000001,7.2462260000000001,7.7855679999999996,7.640212,null,null,181.97008600000001,11.953384,10.882681,11.011214000000001,null,null,181.97008600000001,7.9160820000000003,8.0249009999999998,7.7135790000000002,null,null,181.97008600000001,2.6285500000000002,2.4929960000000002,2.7094740000000002,null,null,181.97008600000001,10.585558000000001,11.574975999999999,11.587377,null,null,181.97008600000001,10.337728,11.239445999999999,10.803865,null,null,181.97008600000001,8.8220500000000008,9.3129249999999999,9.0754289999999997,null,null,181.97008600000001,3.8487330000000002,3.5434779999999999,3.777358,null,null,181.97008600000001,13.891678000000001,14.03313,13.704371,null,null,181.97008600000001,11.845777,11.815018999999999,11.865499,null,null,181.97008600000001,9.7747879999999991,9.3027979999999992,9.4528169999999996,null,null,181.97008600000001,7.131964,6.3423780000000001,6.9264570000000001,null,null,181.97008600000001,2.0437539999999998,2.1269089999999999,1.552624,null,null,181.97008600000001,6.4890410000000003,6.6058269999999997,6.575628,null,null,null,null,181.97008600000001,4.2239786666666665,7.1731126666666656,2.4284763333333337,5.9297354999999996,4.7230663333333327,10.868987333333331,9.4547213333333335,7.5573353333333335,11.282426333333333,7.8848539999999998,2.6103400000000003,11.249303666666668,10.793679666666668,9.0701346666666662,3.7231896666666664,13.876393,11.842098333333333,9.5101343333333315,6.8002663333333331,1.9077623333333331,6.556832]
[null,208.92961299999999,5.0754599999999996,5.3206720000000001,4.9423570000000003,null,null,208.92961299999999,8.4965790000000005,9.2535930000000004,8.7526060000000001,null,null,208.92961299999999,2.53912,3.2579929999999999,3.1636600000000001,null,null,208.92961299999999,7.3162690000000001,7.556387,7.8489389999999997,null,null,null,208.92961299999999,6.7452870000000003,7.2824390000000001,8.3696870000000008,null,null,208.92961299999999,14.584229000000001,13.953647,15.085755000000001,null,null,208.92961299999999,9.9254789999999993,10.538703999999999,10.911625000000001,null,null,208.92961299999999,8.2654230000000002,8.9376789999999993,8.3630650000000006,null,null,208.92961299999999,12.867108,11.596291000000001,11.522156000000001,null,null,208.92961299999999,8.1168499999999995,8.1037920000000003,7.822711,null,null,208.92961299999999,2.2483270000000002,2.056632,2.319671,null,null,208.92961299999999,14.887302999999999,14.419854000000001,15.103577,null,null,208.92961299999999,14.203355,14.729514999999999,13.604539000000001,null,null,208.92961299999999,11.892647999999999,12.26113,11.946745,null,null,208.92961299999999,3.6009250000000002,3.382069,3.5723850000000001,null,null,208.92961299999999,14.383836000000001,14.349964999999999,14.069124,null,null,208.92961299999999,11.931725,11.812139,11.886079000000001,null,null,208.92961299999999,11.25731,10.936166999999999,11.008785,null,null,208.92961299999999,9.4209479999999992,9.0503800000000005,9.2073619999999998,null,null,208.92961299999999,3.1223939999999999,3.0932879999999998,2.648377,null,null,208.92961299999999,6.7094420000000001,6.5801540000000003,6.6364799999999997,null,null,null,null,208.92961299999999,5.1128296666666664,8.8342593333333337,2.9869243333333331,7.7026629999999994,7.4658043333333337,14.541210333333334,10.458602666666666,8.5220556666666667,11.995185000000001,8.0144509999999993,2.2082099999999998,14.803578,14.179136333333334,12.033507666666665,3.5184596666666668,14.267641666666668,11.876647666666669,11.067420666666669,9.2262299999999993,2.9546863333333331,6.6420253333333328]
[null,239.88329200000001,5.7166459999999999,6.0130129999999999,5.6391330000000002,null,null,239.88329200000001,9.4620660000000001,10.523707,9.8165669999999992,null,null,239.88329200000001,2.9720550000000001,3.7879939999999999,3.664088,null,null,239.88329200000001,8.9543389999999992,9.1347590000000007,9.3011929999999996,null,null,null,239.88329200000001,9.4466590000000004,10.290781000000001,10.870430000000001,null,null,239.88329200000001,16.899405000000002,15.562237,17.037645000000001,null,null,239.88329200000001,10.057527,10.784731000000001,11.213392000000001,null,null,239.88329200000001,8.7300319999999996,9.5098509999999994,8.5272120000000005,null,null,239.88329200000001,12.497353,11.208425,11.086398000000001,null,null,239.88329200000001,7.7521490000000002,7.6054449999999996,7.3719700000000001,null,null,239.88329200000001,1.9236409999999999,1.6858120000000001,1.9229149999999999,null,null,239.88329200000001,17.364341,15.605029999999999,16.612190999999999,null,null,239.88329200000001,16.481718000000001,16.413457000000001,14.961717,null,null,239.88329200000001,13.961019,14.095374,13.764348999999999,null,null,239.88329200000001,3.211147,3.0987040000000001,3.2660049999999998,null,null,239.88329200000001,13.101851,12.882305000000001,12.706265999999999,null,null,239.88329200000001,10.869648,10.840927000000001,10.933813000000001,null,null,239.88329200000001,11.923705,11.791836,11.771478999999999,null,null,239.88329200000001,11.256380999999999,11.447573,11.066143,null,null,239.88329200000001,4.5173880000000004,4.3392759999999999,4.0855300000000003,null,null,239.88329200000001,6.6436060000000001,6.2451660000000002,6.3934069999999998,null,null,null,null,239.88329200000001,5.789597333333333,9.9341133333333342,3.4747123333333332,9.2179760000000002,10.202623333333333,16.499762333333333,10.685216666666667,8.9223649999999992,11.597392000000001,7.576521333333333,1.8441226666666666,16.52718733333333,15.952297333333334,13.940247333333332,3.1919520000000001,12.896807333333333,10.881462666666666,11.829006666666666,11.256698999999999,4.3140646666666669,6.4273929999999995]
[null,275.42286999999999,6.0306030000000002,6.4134830000000003,6.1246169999999998,null,null,275.42286999999999,9.77867,10.954724000000001,10.121737,null,null,275.42286999999999,3.3858769999999998,4.227309,4.0393150000000002,null,null,275.42286999999999,10.174353999999999,10.271077999999999,10.256183999999999,null,null,null,275.42286999999999,11.783129000000001,12.794048999999999,12.710554999999999,null,null,275.42286999999999,16.624568,15.183292,16.324949,null,null,275.42286999999999,9.4193549999999995,10.193301999999999,10.605307,null,null,275.42286999999999,8.56311,9.4117519999999999,8.0864709999999995,null,null,275.42286999999999,10.900409,9.7934009999999994,9.7512840000000001,null,null,275.42286999999999,6.8551869999999999,6.5812160000000004,6.4101439999999998,null,null,275.42286999999999,1.65574,1.3805719999999999,1.497506,null,null,275.42286999999999,17.002724000000001,14.761084,15.51835,null,null,275.42286999999999,16.352535,15.707008999999999,14.458897,null,null,275.42286999999999,14.452437,14.306041,14.028231999999999,null,null,275.42286999999999,2.6903860000000002,2.7012330000000002,2.8765670000000001,null,null,275.42286999999999,10.418602,10.048608,9.9927840000000003,null,null,275.42286999999999,8.8683739999999993,9.0360510000000005,9.1420060000000003,null,null,275.42286999999999,11.639582000000001,11.707601,11.592836999999999,null,null,275.42286999999999,12.306126000000001,13.020879000000001,12.171393,null,null,275.42286999999999,6.1488350000000001,5.8050199999999998,5.7996080000000001,null,null,275.42286999999999,6.2518919999999998,5.5841029999999998,5.8237690000000004,null,null,null,null,275.42286999999999,6.1895676666666661,10.285043666666667,3.8841670000000001,10.263631,12.429244333333335,16.044269666666665,10.072654666666667,8.6871109999999998,10.148364666666666,6.615515666666667,1.5112726666666667,15.760719333333334,15.506147,14.262236666666666,2.756062,10.153331333333334,9.0154769999999989,11.646673333333334,12.499466,5.917821,5.8865880000000006]
[null,316.22776599999997,5.9879879999999996,6.4842659999999999,6.364554,null,null,316.22776599999997,9.3997510000000002,10.449737000000001,9.6075669999999995,null,null,316.22776599999997,3.8038780000000001,4.5679999999999996,4.2872870000000001,null,null,316.22776599999997,10.744870000000001,10.737287,10.513237,null,null,null,316.22776599999997,13.175319,14.068451,13.42422,null,null,316.22776599999997,13.839665,12.909003999999999,13.228104999999999,null,null,316.22776599999997,8.1309009999999997,8.8668720000000008,9.193543,null,null,316.22776599999997,7.8042389999999999,8.6674620000000004,7.1193400000000002,null,null,316.22776599999997,8.4807939999999995,7.7126270000000003,7.7938219999999996,null,null,316.22776599999997,5.5926080000000002,5.2237200000000001,5.1224660000000002,null,null,316.22776599999997,1.4534860000000001,1.145084,1.0571090000000001,null,null,316.22776599999997,13.92333,12.162236,12.429594,null,null,316.22776599999997,13.835882,12.884653,12.232759,null,null,316.22776599999997,13.180752,12.808107,12.637262,null,null,316.22776599999997,2.0988449999999998,2.2386810000000001,2.4561519999999999,null,null,316.22776599999997,6.9590649999999998,6.7359629999999999,6.7687590000000002,null,null,316.22776599999997,6.4116960000000001,6.745825,6.8570599999999997,null,null,316.22776599999997,10.44896,10.687741000000001,10.496604,null,null,316.22776599999997,12.296899,13.301067,12.240575,null,null,316.22776599999997,7.7742500000000003,7.288081,7.5591390000000001,null,null,316.22776599999997,5.5625640000000001,4.6668349999999998,4.9852619999999996,null,null,null,null,316.22776599999997,6.278935999999999,9.8190183333333341,4.2197216666666657,10.625261999999999,13.555996666666665,13.325591333333334,8.7304386666666662,7.8636803333333338,7.9957476666666665,5.3129313333333341,1.2185596666666667,12.838386666666667,12.984431333333333,12.875373666666666,2.2645593333333331,6.8212623333333333,6.6715270000000002,10.544435,12.612847,7.540490000000001,5.0715536666666665]
[null,363.07805500000001,5.6527010000000004,6.270086,6.3921049999999999,null,null,363.07805500000001,8.423921,9.1330200000000001,8.3971450000000001,null,null,363.07805500000001,4.2883019999999998,4.8584560000000003,4.4687450000000002,null,null,363.07805500000001,10.587823,10.454067,10.026548999999999,null,null,null,363.07805500000001,13.312232,13.768571,12.850441,null,null,363.07805500000001,9.5687990000000003,9.4083959999999998,8.883089,null,null,363.07805500000001,6.401713,7.0131680000000003,7.2118289999999998,null,null,363.07805500000001,6.5987099999999996,7.4126620000000001,5.7837329999999998,null,null,363.07805500000001,5.7286659999999996,5.3916120000000003,5.4588140000000003,null,null,363.07805500000001,4.144755,3.724275,3.7009479999999999,null,null,363.07805500000001,1.3064469999999999,0.955762,0.56610499999999997,null,null,363.07805500000001,9.3513439999999992,8.5813889999999997,7.7898899999999998,null,null,363.07805500000001,9.828265,8.9157340000000005,8.9128319999999999,null,null,363.07805500000001,10.507602,10.027983000000001,9.9860729999999993,null,null,363.07805500000001,1.4879720000000001,1.7556849999999999,2.0410620000000002,null,null,363.07805500000001,4.0004850000000003,3.6766649999999998,3.7647330000000001,null,null,363.07805500000001,4.0019109999999998,4.362158,4.4784040000000003,null,null,363.07805500000001,8.5555900000000005,8.911645,8.6735910000000001,null,null,363.07805500000001,11.199771999999999,12.188745000000001,11.231521000000001,null,null,363.07805500000001,9.1707549999999998,8.6027430000000003,9.1514900000000008,null,null,363.07805500000001,4.6287219999999998,3.5848170000000001,3.957408,null,null,null,null,363.07805500000001,6.1049639999999998,8.6513620000000007,4.5385010000000001,10.240307999999999,13.310414666666667,9.2867613333333328,6.8755700000000006,6.5983683333333332,5.5263640000000001,3.8566593333333334,0.94277133333333329,8.5742076666666662,9.218943666666668,10.173886000000001,1.7615730000000001,3.8139610000000004,4.2808243333333342,8.7136086666666674,11.540012666666668,8.9749959999999991,4.0569823333333339]
[null,416.86938300000003,5.1616020000000002,5.8696390000000003,6.2639339999999999,null,null,416.86938300000003,7.0765070000000003,7.3276219999999999,6.7843830000000001,null,null,416.86938300000003,4.8768409999999998,5.1519729999999999,4.6633389999999997,null,null,416.86938300000003,9.742521,9.4642079999999993,8.8885430000000003,null,null,null,416.86938300000003,12.15286,11.973198999999999,11.119578000000001,null,null,416.86938300000003,5.3065740000000003,5.6942079999999997,4.773873,null,null,416.86938300000003,4.5669019999999998,4.9773880000000004,5.0407169999999999,null,null,416.86938300000003,5.2084910000000004,5.9043419999999998,4.3354619999999997,null,null,416.86938300000003,3.2207240000000001,3.3087330000000001,3.4158539999999999,null,null,416.86938300000003,2.731579,2.415429,2.3852039999999999,null,null,416.86938300000003,1.2028989999999999,0.78426300000000004,0.33310499999999998,null,null,416.86938300000003,5.0775230000000002,5.036073,4.3356669999999999,null,null,416.86938300000003,5.7083149999999998,5.0665800000000001,5.4519399999999996,null,null,416.86938300000003,7.2112230000000004,6.7716770000000004,6.8411249999999999,null,null,416.86938300000003,0.92762999999999995,1.316978,1.671896,null,null,416.86938300000003,1.723166,1.5967929999999999,1.6161190000000001,null,null,416.86938300000003,2.0023339999999998,1.9303809999999999,2.1022479999999999,null,null,416.86938300000003,6.3254200000000003,6.7339060000000002,6.481859,null,null,416.86938300000003,9.245552,9.9766600000000007,9.3542830000000006,null,null,416.86938300000003,10.052757,9.4968260000000004,10.283809,null,null,416.86938300000003,3.61076,2.4744419999999998,2.8822169999999998,null,null,null,null,416.86938300000003,5.7650583333333332,7.0628373333333343,4.897384333333334,9.1763754999999989,11.748545666666667,5.2582183333333337,4.861669,5.1494316666666666,3.3151036666666669,2.5107373333333332,0.77342233333333343,4.816421000000001,5.4089450000000001,6.9413416666666663,1.3055013333333332,1.6453593333333334,2.011654333333333,6.5137283333333329,9.5254983333333332,9.9444639999999982,2.9891396666666665]
[null,478.63009199999999,4.6712350000000002,5.3961350000000001,6.0413199999999998,null,null,478.63009199999999,5.5928719999999998,5.3728899999999999,5.0695459999999999,null,null,478.63009199999999,5.5928399999999998,5.5039369999999996,4.9566970000000001,null,null,478.63009199999999,8.3539359999999991,7.9123359999999998,7.2822300000000002,null,null,null,478.63009199999999,9.9758829999999996,9.1603899999999996,8.6206980000000009,null,null,478.63009199999999,2.2199369999999998,2.7652899999999998,1.9166780000000001,null,null,478.63009199999999,2.877224,3.0351859999999999,3.0320770000000001,null,null,478.63009199999999,3.8728989999999999,4.3787609999999999,3.010945,null,null,478.63009199999999,0.800342,1.632039,0.67761099999999996,null,null,478.63009199999999,1.273026,0.56073399999999995,1.1790080000000001,null,null,478.63009199999999,1.1187290000000001,0.59753000000000001,0.29128999999999999,null,null,478.63009199999999,1.9222129999999999,2.3620839999999999,1.5486070000000001,null,null,478.63009199999999,2.5594009999999998,2.2363930000000001,2.5994769999999998,null,null,478.63009199999999,4.1789880000000004,3.8292860000000002,3.968343,null,null,478.63009199999999,0.48045100000000002,0.96318800000000004,1.354892,null,null,478.63009199999999,0.19056400000000001,0.164494,0.15951399999999999,null,null,478.63009199999999,0.60493200000000003,0.16789399999999999,0.201853,null,null,478.63009199999999,4.0976169999999996,4.4980279999999997,4.2631259999999997,null,null,478.63009199999999,6.7511289999999997,7.1452,6.9134270000000004,null,null,478.63009199999999,10.240024999999999,9.8004219999999993,10.761023,null,null,478.63009199999999,2.5536020000000001,1.4568730000000001,1.8536889999999999,null,null,null,null,478.63009199999999,5.3695633333333328,5.3451026666666666,5.3511580000000007,7.597283,9.2523236666666673,2.3006350000000002,2.9814956666666661,3.7542016666666664,1.036664,1.004256,0.66918299999999997,1.944301333333333,2.4650903333333329,3.992205666666667,0.93284366666666674,0.17152400000000001,0.32489300000000004,4.286257,6.9365853333333334,10.267156666666667,1.9547213333333335]
[null,549.54087400000003,4.3335970000000001,4.9595760000000002,5.769158,null,null,549.54087400000003,4.1811759999999998,3.623472,3.5817030000000001,null,null,549.54087400000003,6.3863690000000002,5.9217740000000001,5.3895359999999997,null,null,549.54087400000003,6.6636050000000004,6.0497379999999996,5.4856740000000004,null,null,null,549.54087400000003,7.305955,6.0785150000000003,5.8440209999999997,null,null,549.54087400000003,0.287881,0.44813599999999998,0.23978099999999999,null,null,549.54087400000003,1.4182859999999999,1.0628409999999999,1.0947560000000001,null,null,549.54087400000003,2.8209559999999998,3.0719099999999999,1.923324,null,null,549.54087400000003,0,0.85854399999999997,2.1731E-2,null,null,549.54087400000003,0.15004799999999999,5.0254E-2,0.50765800000000005,null,null,549.54087400000003,1.031377,0.35444500000000001,0.27338699999999999,null,null,549.54087400000003,0.19648199999999999,0.34183799999999998,0.20132,null,null,549.54087400000003,0.36690299999999998,0.30649199999999999,0.36662600000000001,null,null,549.54087400000003,1.7453460000000001,1.4624029999999999,1.6612579999999999,null,null,549.54087400000003,0.13428799999999999,0.72739299999999996,1.085939,null,null,549.54087400000003,0,0,0,null,null,549.54087400000003,0.204036,0,0,null,null,549.54087400000003,1.6704479999999999,2.2233719999999999,1.92249,null,null,549.54087400000003,4.3101079999999996,4.4305209999999997,4.4832729999999996,null,null,549.54087400000003,9.6569029999999998,9.4178960000000007,10.46974,null,null,549.54087400000003,1.6475979999999999,0.246693,0.76273000000000002,null,null,null,null,549.54087400000003,5.0207769999999998,3.7954503333333336,5.8992263333333339,5.7677060000000004,6.4094969999999991,0.325266,1.191961,2.6053966666666666,0.29342499999999999,0.23598666666666668,0.55306966666666668,0.24654666666666661,0.3466736666666666,1.6230023333333332,0.6492066666666666,0,6.8012000000000003E-2,1.9387699999999999,4.4079673333333327,9.8481796666666668,0.88567366666666658]
[null,630.95734400000003,4.2309070000000002,4.6163910000000001,5.4549839999999996,null,null,630.95734400000003,2.8227319999999998,2.231989,2.4197320000000002,null,null,630.95734400000003,7.1640769999999998,6.3648069999999999,5.9462570000000001,null,null,630.95734400000003,4.9101790000000003,4.1169140000000004,3.7171829999999999,null,null,null,630.95734400000003,4.6934950000000004,3.3493750000000002,3.4779429999999998,null,null,630.95734400000003,0,0,0,null,null,630.95734400000003,0.68726600000000004,5.1227000000000002E-2,0.13206000000000001,null,null,630.95734400000003,2.1588379999999998,2.1013630000000001,1.1616219999999999,null,null,630.95734400000003,0,0.72455999999999998,0,null,null,630.95734400000003,0,0,0.32332499999999997,null,null,630.95734400000003,0.921454,0.205818,0.25646799999999997,null,null,630.95734400000003,0,0,0,null,null,630.95734400000003,0,0,0,null,null,630.95734400000003,0.21277499999999999,0.135438,0.20491400000000001,null,null,630.95734400000003,2.4198000000000001E-2,0.62470800000000004,0.84211400000000003,null,null,630.95734400000003,0,0,0,null,null,630.95734400000003,0.37379699999999999,0,0,null,null,630.95734400000003,0.121584,0.331289,0.22017200000000001,null,null,630.95734400000003,1.742767,1.841998,1.9206099999999999,null,null,630.95734400000003,8.3814220000000006,8.3820329999999998,9.4448509999999999,null,null,630.95734400000003,0.38413799999999998,0,6.0546000000000003E-2,null,null,null,null,630.95734400000003,4.767427333333333,2.4914843333333336,6.4917136666666666,3.9170484999999999,3.840271,0,0.29018433333333338,1.8072743333333332,0.24151999999999998,0.107775,0.46124666666666664,0,0,0.18437566666666669,0.49700666666666676,0,0.124599,0.22434833333333334,1.8351249999999999,8.7361020000000007,0.148228]
[null,724.43596000000002,4.3622589999999999,4.3719150000000004,5.0841139999999996,null,null,724.43596000000002,1.911608,1.1892529999999999,1.6227959999999999,null,null,724.43596000000002,7.7803149999999999,6.733733,6.5349279999999998,null,null,724.43596000000002,3.2772600000000001,2.1689579999999999,1.8997839999999999,null,null,null,724.43596000000002,2.348868,1.2085669999999999,1.1404970000000001,null,null,724.43596000000002,0,0,0,null,null,724.43596000000002,0.68809900000000002,0.14918500000000001,0.214363,null,null,724.43596000000002,1.8923220000000001,1.5004759999999999,0.93586000000000003,null,null,724.43596000000002,0,0.69968300000000005,0,null,null,724.43596000000002,0,0,0.26428400000000002,null,null,724.43596000000002,0.78374100000000002,0.144117,0.25031100000000001,null,null,724.43596000000002,0,0,0,null,null,724.43596000000002,0,0,0,null,null,724.43596000000002,0,0,0,null,null,724.43596000000002,0,0.63389399999999996,0.60586799999999996,null,null,724.43596000000002,0,0,0,null,null,724.43596000000002,0.579148,0,0,null,null,724.43596000000002,0,0,0,null,null,724.43596000000002,8.7498999999999993E-2,0.16277900000000001,0.15934100000000001,null,null,724.43596000000002,6.6197749999999997,6.8475270000000004,7.8466959999999997,null,null,724.43596000000002,0,0,0,null,null,null,null,724.43596000000002,4.606096,1.5745523333333333,7.0163253333333335,2.0343710000000002,1.5659773333333333,0,0.350549,1.4428859999999999,0.23322766666666669,8.8094666666666668E-2,0.39272299999999999,0,0,0,0.41325399999999995,0,0.19304933333333332,0,0.13653966666666667,7.104665999999999,0]
[null,831.76377100000002,4.6385870000000002,4.1782539999999999,4.6303219999999996,null,null,831.76377100000002,1.5729169999999999,0.61122100000000001,1.3102370000000001,null,null,831.76377100000002,8.0949500000000008,6.908906,7.0199639999999999,null,null,831.76377100000002,1.676569,0.44971100000000003,0.33706999999999998,null,null,null,831.76377100000002,0.73793299999999995,6.2853000000000006E-2,8.0009999999999998E-2,null,null,831.76377100000002,0,0,0,null,null,831.76377100000002,0.79441600000000001,0.215748,0.22425800000000001,null,null,831.76377100000002,1.9211419999999999,1.205635,1.125372,null,null,831.76377100000002,0,0.78071100000000004,0,null,null,831.76377100000002,0,0,0.29449900000000001,null,null,831.76377100000002,0.62428099999999997,6.5334000000000003E-2,0.256772,null,null,831.76377100000002,0,0,0,null,null,831.76377100000002,0,0,0,null,null,831.76377100000002,0,0,0,null,null,831.76377100000002,0,0.70070299999999996,0.36914200000000003,null,null,831.76377100000002,0,0,0,null,null,831.76377100000002,0.86328700000000003,0,0,null,null,831.76377100000002,0,0,0,null,null,831.76377100000002,0,0,0,null,null,831.76377100000002,4.6819499999999996,5.0670330000000003,5.9539210000000002,null,null,831.76377100000002,0,0,0,null,null,null,null,831.76377100000002,4.4823876666666669,1.1647916666666667,7.3412733333333335,0.39339049999999998,0.29359866666666667,0,0.41147400000000006,1.4173829999999998,0.260237,9.8166333333333342E-2,0.31546233333333334,0,0,0,0.35661499999999996,0,0.28776233333333334,0,0,5.2343013333333337,0]
[null,954.99258599999996,4.9118539999999999,3.962491,4.0833649999999997,null,null,954.99258599999996,1.2030240000000001,0.549925,1.375661,null,null,954.99258599999996,8.0064069999999994,6.7874470000000002,7.2528379999999997,null,null,954.99258599999996,0.41569299999999998,0,0,null,null,null,954.99258599999996,0.34590799999999999,0,0,null,null,954.99258599999996,0,0,0,null,null,954.99258599999996,0.97541199999999995,0.40396399999999999,0.35241899999999998,null,null,954.99258599999996,2.0900690000000002,1.10632,1.3404430000000001,null,null,954.99258599999996,0,0.85928000000000004,0,null,null,954.99258599999996,0,0,0.335532,null,null,954.99258599999996,0.460839,0,0.27620899999999998,null,null,954.99258599999996,0,0,0,null,null,954.99258599999996,0,0,0,null,null,954.99258599999996,0,0,0,null,null,954.99258599999996,0,0.78866599999999998,0.143483,null,null,954.99258599999996,0,0,0,null,null,954.99258599999996,1.1071770000000001,0,0,null,null,954.99258599999996,0,0,0,null,null,954.99258599999996,0,0,0,null,null,954.99258599999996,2.7947160000000002,3.2001759999999999,4.0423210000000003,null,null,954.99258599999996,0,0,0,null,null,null,null,954.99258599999996,4.3192366666666659,1.04287,7.3488973333333334,0,0.11530266666666666,0,0.57726500000000003,1.5122773333333335,0.28642666666666666,0.111844,0.24568266666666663,0,0,0,0.31071633333333332,0,0.36905900000000003,0,0,3.3457376666666669,0]
[null,1096.478196,5.0145679999999997,3.6571389999999999,3.4549590000000001,null,null,1096.478196,0.89395899999999995,0.54120199999999996,1.4183330000000001,null,null,1096.478196,7.4872100000000001,6.3243720000000003,7.1174169999999997,null,null,1096.478196,0.15057999999999999,0,0,null,null,null,1096.478196,0.17638499999999999,0,0,null,null,1096.478196,0,0,0,null,null,1096.478196,1.0858460000000001,0.57569000000000004,0.46914,null,null,1096.478196,2.237276,1.0831139999999999,1.521757,null,null,1096.478196,0,0.88319599999999998,0,null,null,1096.478196,0,0,0.35082799999999997,null,null,1096.478196,0.29953299999999999,0,0.30104999999999998,null,null,1096.478196,0,0,0,null,null,1096.478196,0,0,0,null,null,1096.478196,0,0,0,null,null,1096.478196,0,0.86322100000000002,3.4507999999999997E-2,null,null,1096.478196,0,0,0,null,null,1096.478196,1.2551920000000001,0,0,null,null,1096.478196,0,0,0,null,null,1096.478196,0,0,0,null,null,1096.478196,0.91897499999999999,1.4006050000000001,2.1639910000000002,null,null,1096.478196,0,0,0,null,null,null,null,1096.478196,4.0422219999999998,0.95116466666666666,6.9763330000000003,0,5.8794999999999993E-2,0,0.71022533333333338,1.6140489999999998,0.29439866666666664,0.11694266666666665,0.20019433333333334,0,0,0,0.29924299999999998,0,0.41839733333333334,0,0,1.4945236666666668,0]
[null,1258.9254120000001,4.7962239999999996,3.2179229999999999,2.7141860000000002,null,null,1258.9254120000001,0.59828199999999998,0.53689399999999998,1.3922110000000001,null,null,1258.9254120000001,6.5729870000000004,5.4867600000000003,6.5503729999999996,null,null,1258.9254120000001,0,0,0,null,null,null,1258.9254120000001,8.8506000000000001E-2,0,0,null,null,1258.9254120000001,0,0,0,null,null,1258.9254120000001,1.0931599999999999,0.68092299999999994,0.54060299999999994,null,null,1258.9254120000001,2.2386940000000002,1.04097,1.5716060000000001,null,null,1258.9254120000001,0,0.82418899999999995,0,null,null,1258.9254120000001,0,0,0.32764300000000002,null,null,1258.9254120000001,0.13792299999999999,0,0.316187,null,null,1258.9254120000001,0,0,0,null,null,1258.9254120000001,0,0,0,null,null,1258.9254120000001,0,0,0,null,null,1258.9254120000001,0,0.88693900000000003,0,null,null,1258.9254120000001,0,0,0,null,null,1258.9254120000001,1.270624,0,0,null,null,1258.9254120000001,0,0,0,null,null,1258.9254120000001,0,0,0,null,null,1258.9254120000001,0,0.32830700000000002,0.54589500000000002,null,null,1258.9254120000001,0,0,0,null,null,null,null,1258.9254120000001,3.5761109999999996,0.84246233333333331,6.2033733333333343,0,2.9502E-2,0,0.77156199999999997,1.6170900000000001,0.27472966666666665,0.10921433333333334,0.15137,0,0,0,0.29564633333333334,0,0.42354133333333333,0,0,0.2914006666666667,0]
[null,1445.4397710000001,4.1644110000000003,2.6391119999999999,1.8691040000000001,null,null,1445.4397710000001,0.41124699999999997,0.48936200000000002,1.2423360000000001,null,null,1445.4397710000001,5.3503939999999997,4.2899649999999996,5.5543440000000004,null,null,1445.4397710000001,0,0,0,null,null,null,1445.4397710000001,4.3415000000000002E-2,0,0,null,null,1445.4397710000001,0,0,0,null,null,1445.4397710000001,0.98033499999999996,0.678894,0.53507099999999996,null,null,1445.4397710000001,2.0277400000000001,0.92555900000000002,1.447848,null,null,1445.4397710000001,0,0.68985399999999997,0,null,null,1445.4397710000001,0,0,0.27241100000000001,null,null,1445.4397710000001,8.5835999999999996E-2,0,0.30313200000000001,null,null,1445.4397710000001,0,0,0,null,null,1445.4397710000001,0,0,0,null,null,1445.4397710000001,0,0,0,null,null,1445.4397710000001,0,0.82802399999999998,0,null,null,1445.4397710000001,0,0,0,null,null,1445.4397710000001,1.1466890000000001,0,0,null,null,1445.4397710000001,0,0,0,null,null,1445.4397710000001,0,0,0,null,null,1445.4397710000001,0,0,0,null,null,1445.4397710000001,0,0,0,null,null,null,null,1445.4397710000001,2.8908756666666666,0.71431500000000003,5.0649009999999999,0,1.4471666666666667E-2,0,0.73143333333333327,1.467049,0.22995133333333331,9.0803666666666671E-2,0.12965599999999999,0,0,0,0.27600799999999998,0,0.38222966666666669,0,0,0,0]
[null,1659.5869070000001,3.1159349999999999,1.953975,1.305553,null,null,1659.5869070000001,0.19726399999999999,0.39089000000000002,0.97453599999999996,null,null,1659.5869070000001,3.9363229999999998,3.2025730000000001,4.2187460000000003,null,null,1659.5869070000001,0,0,0,null,null,null,1659.5869070000001,1.8943999999999999E-2,0,0,null,null,1659.5869070000001,0,0,0,null,null,1659.5869070000001,0.76795800000000003,0.57073799999999997,0.451017,null,null,1659.5869070000001,1.6131040000000001,0.72753599999999996,1.162318,null,null,1659.5869070000001,0,0.50748199999999999,0,null,null,1659.5869070000001,0,0,0.203543,null,null,1659.5869070000001,6.2771999999999994E-2,0,0.25833899999999999,null,null,1659.5869070000001,0,0,0,null,null,1659.5869070000001,0,0,0,null,null,1659.5869070000001,0,0,0,null,null,1659.5869070000001,0,0.67856899999999998,0,null,null,1659.5869070000001,0,0,0,null,null,1659.5869070000001,0.90746700000000002,0,0,null,null,1659.5869070000001,0,0,0,null,null,1659.5869070000001,0,0,0,null,null,1659.5869070000001,0,0,0,null,null,1659.5869070000001,0,0,0,null,null,null,null,1659.5869070000001,2.1251543333333331,0.52089666666666667,3.7858806666666669,0,6.3146666666666663E-3,0,0.59657100000000007,1.1676526666666667,0.16916066666666665,6.7847666666666667E-2,0.10703699999999999,0,0,0,0.22618966666666665,0,0.30248900000000001,0,0,0,0]
[null,1905.460718,1.8098190000000001,1.0957619999999999,0.65924000000000005,null,null,1905.460718,3.0402999999999999E-2,0.23047300000000001,0.568693,null,null,1905.460718,2.217384,1.8432919999999999,2.424274,null,null,1905.460718,0,0,0,null,null,null,1905.460718,8.4030000000000007E-3,0,0,null,null,1905.460718,0,0,0,null,null,1905.460718,0.44709399999999999,0.34597,0.27489200000000003,null,null,1905.460718,0.95153399999999999,0.42563099999999998,0.68846700000000005,null,null,1905.460718,0,0.27902100000000002,0,null,null,1905.460718,0,0,0.107375,null,null,1905.460718,3.6333999999999998E-2,0,0.150114,null,null,1905.460718,0,0,0,null,null,1905.460718,0,0,0,null,null,1905.460718,0,0,0,null,null,1905.460718,0,0.40864899999999998,0,null,null,1905.460718,0,0,0,null,null,1905.460718,0.53389299999999995,0,0,null,null,1905.460718,0,0,0,null,null,1905.460718,0,0,0,null,null,1905.460718,0,0,0,null,null,1905.460718,0,0,0,null,null,null,null,1905.460718,1.1882736666666667,0.27652300000000002,2.1616499999999998,0,2.8010000000000001E-3,0,0.35598533333333338,0.68854399999999993,9.3007000000000006E-2,3.5791666666666666E-2,6.2149333333333334E-2,0,0,0,0.13621633333333333,0,0.17796433333333331,0,0,0,0]
[null,2187.7616240000002,0.44635799999999998,0.256712,0.12864100000000001,null,null,2187.7616240000002,0,5.5627000000000003E-2,0.13667499999999999,null,null,2187.7616240000002,0.52428900000000001,0.43616300000000002,0.579175,null,null,2187.7616240000002,0,0,0,null,null,null,2187.7616240000002,0,0,0,null,null,2187.7616240000002,0,0,0,null,null,2187.7616240000002,0.10729,8.4699999999999998E-2,6.7571999999999993E-2,null,null,2187.7616240000002,0.23021800000000001,0.10248500000000001,0.166855,null,null,2187.7616240000002,0,6.4196000000000003E-2,0,null,null,2187.7616240000002,0,0,2.9399000000000002E-2,null,null,2187.7616240000002,8.1180000000000002E-3,0,4.2084000000000003E-2,null,null,2187.7616240000002,0,0,0,null,null,2187.7616240000002,0,0,0,null,null,2187.7616240000002,0,0,0,null,null,2187.7616240000002,0,9.9975999999999995E-2,0,null,null,2187.7616240000002,0,0,0,null,null,2187.7616240000002,0.12906599999999999,0,0,null,null,2187.7616240000002,0,0,0,null,null,2187.7616240000002,0,0,0,null,null,2187.7616240000002,0,0,0,null,null,2187.7616240000002,0,0,0,null,null,null,null,2187.7616240000002,0.27723700000000001,6.4100666666666667E-2,0.51320900000000003,0,0,0,8.6520666666666649E-2,0.16651933333333335,2.1398666666666667E-2,9.7996666666666666E-3,1.6734000000000002E-2,0,0,0,3.3325333333333332E-2,0,4.3021999999999998E-2,0,0,0,0]
[null,2511.8864319999998,0,0,0,null,null,2511.8864319999998,0,0,0,null,null,2511.8864319999998,0,0,0,null,null,2511.8864319999998,0,0,0,null,null,null,2511.8864319999998,0,0,0,null,null,2511.8864319999998,0,0,0,null,null,2511.8864319999998,0,0,0,null,null,2511.8864319999998,0,0,0,null,null,2511.8864319999998,0,0,0,null,null,2511.8864319999998,0,0,0,null,null,2511.8864319999998,0,0,0,null,null,2511.8864319999998,0,0,0,null,null,2511.8864319999998,0,0,0,null,null,2511.8864319999998,0,0,0,null,null,2511.8864319999998,0,0,0,null,null,2511.8864319999998,0,0,0,null,null,2511.8864319999998,0,0,0,null,null,2511.8864319999998,0,0,0,null,null,2511.8864319999998,0,0,0,null,null,2511.8864319999998,0,0,0,null,null,2511.8864319999998,0,0,0,null,null,null,null,2511.8864319999998,0,0,0,0,0,0,0,0,0,0,0,0,0,0,0,0,0,0,0,0,0]
[null,2884.0315030000002,0,0,0,null,null,2884.0315030000002,0,0,0,null,null,2884.0315030000002,0,0,0,null,null,2884.0315030000002,0,0,0,null,null,null,2884.0315030000002,0,0,0,null,null,2884.0315030000002,0,0,0,null,null,2884.0315030000002,0,0,0,null,null,2884.0315030000002,0,0,0,null,null,2884.0315030000002,0,0,0,null,null,2884.0315030000002,0,0,0,null,null,2884.0315030000002,0,0,0,null,null,2884.0315030000002,0,0,0,null,null,2884.0315030000002,0,0,0,null,null,2884.0315030000002,0,0,0,null,null,2884.0315030000002,0,0,0,null,null,2884.0315030000002,0,0,0,null,null,2884.0315030000002,0,0,0,null,null,2884.0315030000002,0,0,0,null,null,2884.0315030000002,0,0,0,null,null,2884.0315030000002,0,0,0,null,null,2884.0315030000002,0,0,0,null,null,null,null,2884.0315030000002,0,0,0,0,0,0,0,0,0,0,0,0,0,0,0,0,0,0,0,0,0]
[null,3311.3112150000002,0,0,0,null,null,3311.3112150000002,0,0,0,null,null,3311.3112150000002,0,0,0,null,null,3311.3112150000002,0,0,0,null,null,null,3311.3112150000002,0,0,0,null,null,3311.3112150000002,0,0,0,null,null,3311.3112150000002,0,0,0,null,null,3311.3112150000002,0,0,0,null,null,3311.3112150000002,0,0,0,null,null,3311.3112150000002,0,0,0,null,null,3311.3112150000002,0,0,0,null,null,3311.3112150000002,0,0,0,null,null,3311.3112150000002,0,0,0,null,null,3311.3112150000002,0,0,0,null,null,3311.3112150000002,0,0,0,null,null,3311.3112150000002,0,0,0,null,null,3311.3112150000002,0,0,0,null,null,3311.3112150000002,0,0,0,null,null,3311.3112150000002,0,0,0,null,null,3311.3112150000002,0,0,0,null,null,3311.3112150000002,0,0,0,null,null,null,null,3311.3112150000002,0,0,0,0,0,0,0,0,0,0,0,0,0,0,0,0,0,0,0,0,0]
[null,3801.893963,0,0,0,null,null,3801.893963,0,0,0,null,null,3801.893963,0,0,0,null,null,3801.893963,0,0,0,null,null,null,3801.893963,0,0,0,null,null,3801.893963,0,0,0,null,null,3801.893963,0,0,0,null,null,3801.893963,0,0,0,null,null,3801.893963,0,0,0,null,null,3801.893963,0,0,0,null,null,3801.893963,0,0,0,null,null,3801.893963,0,0,0,null,null,3801.893963,0,0,0,null,null,3801.893963,0,0,0,null,null,3801.893963,0,0,0,null,null,3801.893963,0,0,0,null,null,3801.893963,0,0,0,null,null,3801.893963,0,0,0,null,null,3801.893963,0,0,0,null,null,3801.893963,0,0,0,null,null,3801.893963,0,0,0,null,null,null,null,3801.893963,0,0,0,0,0,0,0,0,0,0,0,0,0,0,0,0,0,0,0,0,0]
[null,4365.1583220000002,0,0,0,null,null,4365.1583220000002,0,0,0,null,null,4365.1583220000002,0,0,0,null,null,4365.1583220000002,0,0,0,null,null,null,4365.1583220000002,0,0,0,null,null,4365.1583220000002,0,0,0,null,null,4365.1583220000002,0,0,0,null,null,4365.1583220000002,0,0,0,null,null,4365.1583220000002,0,0,0,null,null,4365.1583220000002,0,0,0,null,null,4365.1583220000002,0,0,0,null,null,4365.1583220000002,0,0,0,null,null,4365.1583220000002,0,0,0,null,null,4365.1583220000002,0,0,0,null,null,4365.1583220000002,0,0,0,null,null,4365.1583220000002,0,0,0,null,null,4365.1583220000002,0,0,0,null,null,4365.1583220000002,0,0,0,null,null,4365.1583220000002,0,0,0,null,null,4365.1583220000002,0,0,0,null,null,4365.1583220000002,0,0,0,null,null,null,null,4365.1583220000002,0,0,0,0,0,0,0,0,0,0,0,0,0,0,0,0,0,0,0,0,0]
[null,5011.8723360000004,0,0,0,null,null,5011.8723360000004,0,0,0,null,null,5011.8723360000004,0,0,0,null,null,5011.8723360000004,0,0,0,null,null,null,5011.8723360000004,0,0,0,null,null,5011.8723360000004,0,0,0,null,null,5011.8723360000004,0,0,0,null,null,5011.8723360000004,0,0,0,null,null,5011.8723360000004,0,0,0,null,null,5011.8723360000004,0,0,0,null,null,5011.8723360000004,0,0,0,null,null,5011.8723360000004,0,0,0,null,null,5011.8723360000004,0,0,0,null,null,5011.8723360000004,0,0,0,null,null,5011.8723360000004,0,0,0,null,null,5011.8723360000004,0,0,0,null,null,5011.8723360000004,0,0,0,null,null,5011.8723360000004,0,0,0,null,null,5011.8723360000004,0,0,0,null,null,5011.8723360000004,0,0,0,null,null,5011.8723360000004,0,0,0,null,null,null,null,5011.8723360000004,0,0,0,0,0,0,0,0,0,0,0,0,0,0,0,0,0,0,0,0,0]
[null,5754.3993730000002,0,0,0,null,null,5754.3993730000002,0,0,0,null,null,5754.3993730000002,0,0,0,null,null,5754.3993730000002,0,0,0,null,null,null,5754.3993730000002,0,0,0,null,null,5754.3993730000002,0,0,0,null,null,5754.3993730000002,0,0,0,null,null,5754.3993730000002,0,0,0,null,null,5754.3993730000002,0,0,0,null,null,5754.3993730000002,0,0,0,null,null,5754.3993730000002,0,0,0,null,null,5754.3993730000002,0,0,0,null,null,5754.3993730000002,0,0,0,null,null,5754.3993730000002,0,0,0,null,null,5754.3993730000002,0,0,0,null,null,5754.3993730000002,0,0,0,null,null,5754.3993730000002,0,0,0,null,null,5754.3993730000002,0,0,0,null,null,5754.3993730000002,0,0,0,null,null,5754.3993730000002,0,0,0,null,null,5754.3993730000002,0,0,0,null,null,null,null,5754.3993730000002,0,0,0,0,0,0,0,0,0,0,0,0,0,0,0,0,0,0,0,0,0]
[null,6606.9344799999999,0,0,0,null,null,6606.9344799999999,0,0,0,null,null,6606.9344799999999,0,0,0,null,null,6606.9344799999999,0,0,0,null,null,null,6606.9344799999999,0,0,0,null,null,6606.9344799999999,0,0,0,null,null,6606.9344799999999,0,0,0,null,null,6606.9344799999999,0,0,0,null,null,6606.9344799999999,0,0,0,null,null,6606.9344799999999,0,0,0,null,null,6606.9344799999999,0,0,0,null,null,6606.9344799999999,0,0,0,null,null,6606.9344799999999,0,0,0,null,null,6606.9344799999999,0,0,0,null,null,6606.9344799999999,0,0,0,null,null,6606.9344799999999,0,0,0,null,null,6606.9344799999999,0,0,0,null,null,6606.9344799999999,0,0,0,null,null,6606.9344799999999,0,0,0,null,null,6606.9344799999999,0,0,0,null,null,6606.9344799999999,0,0,0,null,null,null,null,6606.9344799999999,0,0,0,0,0,0,0,0,0,0,0,0,0,0,0,0,0,0,0,0,0]
[null,7585.7757499999998,0,0,0,null,null,7585.7757499999998,0,0,0,null,null,7585.7757499999998,0,0,0,null,null,7585.7757499999998,0,0,0,null,null,null,7585.7757499999998,0,0,0,null,null,7585.7757499999998,0,0,0,null,null,7585.7757499999998,0,0,0,null,null,7585.7757499999998,0,0,0,null,null,7585.7757499999998,0,0,0,null,null,7585.7757499999998,0,0,0,null,null,7585.7757499999998,0,0,0,null,null,7585.7757499999998,0,0,0,null,null,7585.7757499999998,0,0,0,null,null,7585.7757499999998,0,0,0,null,null,7585.7757499999998,0,0,0,null,null,7585.7757499999998,0,0,0,null,null,7585.7757499999998,0,0,0,null,null,7585.7757499999998,0,0,0,null,null,7585.7757499999998,0,0,0,null,null,7585.7757499999998,0,0,0,null,null,7585.7757499999998,0,0,0,null,null,null,null,7585.7757499999998,0,0,0,0,0,0,0,0,0,0,0,0,0,0,0,0,0,0,0,0,0]
[null,8709.6358999999993,0,0,0,null,null,8709.6358999999993,0,0,0,null,null,8709.6358999999993,0,0,0,null,null,8709.6358999999993,0,0,0,null,null,null,8709.6358999999993,0,0,0,null,null,8709.6358999999993,0,0,0,null,null,8709.6358999999993,0,0,0,null,null,8709.6358999999993,0,0,0,null,null,8709.6358999999993,0,0,0,null,null,8709.6358999999993,0,0,0,null,null,8709.6358999999993,0,0,0,null,null,8709.6358999999993,0,0,0,null,null,8709.6358999999993,0,0,0,null,null,8709.6358999999993,0,0,0,null,null,8709.6358999999993,0,0,0,null,null,8709.6358999999993,0,0,0,null,null,8709.6358999999993,0,0,0,null,null,8709.6358999999993,0,0,0,null,null,8709.6358999999993,0,0,0,null,null,8709.6358999999993,0,0,0,null,null,8709.6358999999993,0,0,0,null,null,null,null,8709.6358999999993,0,0,0,0,0,0,0,0,0,0,0,0,0,0,0,0,0,0,0,0,0]
[null,10000,0,0,0,null,null,10000,0,0,0,null,null,10000,0,0,0,null,null,10000,0,0,0,null,null,null,10000,0,0,0,null,null,10000,0,0,0,null,null,10000,0,0,0,null,null,10000,0,0,0,null,null,10000,0,0,0,null,null,10000,0,0,0,null,null,10000,0,0,0,null,null,10000,0,0,0,null,null,10000,0,0,0,null,null,10000,0,0,0,null,null,10000,0,0,0,null,null,10000,0,0,0,null,null,10000,0,0,0,null,null,10000,0,0,0,null,null,10000,0,0,0,null,null,10000,0,0,0,null,null,10000,0,0,0,null,null,null,null,10000,0,0,0,0,0,0,0,0,0,0,0,0,0,0,0,0,0,0,0,0,0]
[]
[]
[null,null,null,null,null,null,null,null,null,null,null,null,null,null,null,null,null,null,null,null,null,null,null,null,null,"Sample Name","Analysis date and time","Operator name","Obscuration","Residual","Mode","Sample Name","Analysis date and time","Operator name","Obscuration","Residual","Mode","Skewness","Kurtosis","d (0.1)","d (0.5)","d (0.9)","Specific surface area","Result Below 6.000 µm","Result 6.00µm-63.00µm","Result 63.00µm-2000.00µm","Result 63.00µm-125.00µm","Result 125.00µm-250.00µm","Result 250.00µm-500.00µm","Result 500.00µm-1000.00µm","Result 1000.00µm-2000.00µm","Result Between User Sizes (Sizes in um)"]
[null,null,null,null,null,null,null,null,null,null,null,null,null,null,null,null,null,null,null,null,null,null,null,null,null,null,null,null,null,null,null,null,null,null,null,null,null,null,null,null,null,null,null,null,null,null,null,null,null,null,null,0.01,1.1481999999999999E-2,1.3183E-2,1.5136E-2,1.7378000000000001E-2,1.9952999999999999E-2,2.2908999999999999E-2,2.6303E-2,3.0200000000000001E-2,3.4674000000000003E-2,3.9810999999999999E-2,4.5709E-2,5.2481E-2,6.0255999999999997E-2,6.9182999999999995E-2,7.9433000000000004E-2,9.1201000000000004E-2,0.104713,0.120226,0.13803799999999999,0.15848899999999999,0.18196999999999999,0.20893,0.23988300000000001,0.27542299999999997,0.31622800000000001,0.36307800000000001,0.41686899999999999,0.47863,0.54954099999999995,0.63095699999999999,0.72443599999999997,0.83176399999999995,0.95499299999999998,1.0964780000000001,1.2589250000000001,1.4454400000000001,1.6595869999999999,1.9054610000000001,2.1877620000000002,2.5118860000000001,2.8840309999999998,3.3113109999999999,3.8018939999999999,4.3651580000000001,5.0118720000000003,5.7543990000000003,6.6069339999999999,7.5857760000000001,8.7096359999999997,10,11.481536,13.182567000000001,15.135612,17.378008000000001,19.952622999999999,22.908677000000001,26.302679999999999,30.199517,34.673684999999999,39.810716999999997,45.708818999999998,52.480746000000003,60.255958999999997,69.183097000000004,79.432822999999999,91.201083999999994,104.712855,120.226443,138.03842599999999,158.48931899999999,181.97008600000001,208.92961299999999,239.88329200000001,275.42286999999999,316.22776599999997,363.07805500000001,416.86938300000003,478.63009199999999,549.54087400000003,630.95734400000003,724.43596000000002,831.76377100000002,954.99258599999996,1096.478196,1258.9254120000001,1445.4397710000001,1659.5869070000001,1905.460718,2187.7616240000002,2511.8864319999998,2884.0315030000002,3311.3112150000002,3801.893963,4365.1583220000002,5011.8723360000004,5754.3993730000002,6606.9344799999999,7585.7757499999998,8709.6358999999993,10000]
[null,null,null,null,null,null,null,null,null,null,null,null,null,null,null,null,null,null,null,null,null,null,null,null,null,"[4433] C10_T1_25 bulk - a - Average","éåí ùìéùé 03 ñôèîáø 2019 10:49:33","dorina",8.94,0.84499999999999997,236.471,"[4433] C10_T1_25 bulk - a - Average","éåí ùìéùé 03 ñôèîáø 2019 10:49:33","dorina",8.94,0.84499999999999997,236.471,0.66400000000000003,0.127,158.16999999999999,235.78100000000001,349.49099999999999,2.6700000000000002E-2,0,0,100,1.4910000000000001,55.783000000000001,42.68,4.4999999999999998E-2,0,null,0,0,0,0,0,0,0,0,0,0,0,0,0,0,0,0,0,0,0,0,0,0,0,0,0,0,0,0,0,0,0,0,0,0,0,0,0,0,0,0,0,0,0,0,0,0,0,0,0,0,0,0,0,0,0,0,0,0,0,0,0,0,0,0,0,0,7.4924000000000004E-2,0.87525200000000003,2.8756119999999998,6.296284,10.546868999999999,14.584229000000001,16.899405000000002,16.624568,13.839665,9.5687990000000003,5.3065740000000003,2.2199369999999998,0.287881,0,0,0,0,0,0,0,0,0,0,0,0,0,0,0,0,0,0,0,0,0]
[null,null,null,null,null,null,null,null,null,null,null,null,null,null,null,null,null,null,null,null,null,null,null,null,null,"[4433] C10_T1_25 bulk - b - Average","éåí ùìéùé 03 ñôèîáø 2019 10:56:22","dorina",10.94,0.95899999999999996,233.77500000000001,"[4433] C10_T1_25 bulk - b - Average","éåí ùìéùé 03 ñôèîáø 2019 10:56:22","dorina",10.94,0.95899999999999996,233.77500000000001,0.66900000000000004,4.5999999999999999E-2,150.285,232.44200000000001,356.108,2.7300000000000001E-2,0,0,100,2.8119999999999998,55.451000000000001,41.646999999999998,0.09,0,null,0,0,0,0,0,0,0,0,0,0,0,0,0,0,0,0,0,0,0,0,0,0,0,0,0,0,0,0,0,0,0,0,0,0,0,0,0,0,0,0,0,0,0,0,0,0,0,0,0,0,0,0,0,0,0,0,0,0,0,0,0,0,0,0,0,0,0.310917,1.668974,3.9724189999999999,7.2680680000000004,10.855413,13.953647,15.562237,15.183292,12.909003999999999,9.4083959999999998,5.6942079999999997,2.7652899999999998,0.44813599999999998,0,0,0,0,0,0,0,0,0,0,0,0,0,0,0,0,0,0,0,0,0]
[null,null,null,null,null,null,null,null,null,null,null,null,null,null,null,null,null,null,null,null,null,null,null,null,null,"[4433] C10_T1_25 bulk - d - Average","éåí ùìéùé 03 ñôèîáø 2019 11:10:14","dorina",11.87,6.649,1340.3920000000001,"[4433] C10_T1_25 bulk - f - Average","éåí çîéùé 12 ñôèîáø 2019 09:13:43","Yael",7.48,0.92800000000000005,231.221,0.69099999999999995,0.20300000000000001,155.24199999999999,231.124,343.245,2.7199999999999998E-2,0,0,100,1.788,57.92,40.253999999999998,3.6999999999999998E-2,0,null,0,0,0,0,0,0,0,0,0,0,0,0,0,0,0,0,0,0,0,0,0,0,0,0,0,0,0,0,0,0,0,0,0,0,0,0,0,0,0,0,0,0,0,0,0,0,0,0,0,0,0,0,0,0,0,0,0,0,0,0,0,0,0,0,0,0,0.10419399999999999,1.0578339999999999,3.2588879999999998,6.8845299999999998,11.20468,15.085755000000001,17.037645000000001,16.324949,13.228104999999999,8.883089,4.773873,1.9166780000000001,0.23978099999999999,0,0,0,0,0,0,0,0,0,0,0,0,0,0,0,0,0,0,0,0,0]
[]
[]
[]
[]
[]
[]
[]
[]
[]
[]
[]
[null,null,null,null,null,null,null,null,null,null,null,null,null,null,null,null,null,null,null,null,null,null,null,null,null,null,null,null,null,null,null,null,null,null,null,null,null,null,null,null,null,null,null,null,null,null,null,null,null,null,null,null,null,null,null,null,null,null,null,null,null,null,null,null,null,null,null,null,null,null,null,null,null,null,null,null,null,null,null,null,null,null,null,null,null,null,null,null,null,null,null,null,null,null,null,null,null,null,null,null,null,null,null,null,null,null,null,null,null,null,null,null,null,null,null,null,null,null,null,null,null,null,null,null,null,null,null,null,null,null,"Result Below 6.000 µm","Result 6.00µm-63.00µm","Result 63.00µm-2000.00µm","Result 63.00µm-125.00µm","Result 125.00µm-250.00µm","Result 250.00µm-500.00µm","Result 500.00µm-1000.00µm","Result 1000.00µm-2000.00µm","Result Between User Sizes (Sizes in um)"]
[null,null,null,null,null,null,null,null,null,null,null,null,null,null,null,null,null,null,null,null,null,null,null,null,null,null,null,null,null,null,null,null,null,null,null,null,null,null,null,null,null,null,null,null,null,null,null,null,null,null,null,null,null,null,null,null,null,null,null,null,null,null,null,null,null,null,null,null,null,null,null,null,null,null,null,null,null,null,null,null,null,null,null,null,null,null,null,null,null,null,null,null,null,null,null,null,null,null,null,null,null,null,null,null,null,null,null,null,null,null,null,null,null,null,null,null,null,null,null,null,null,null,null,null,null,null,null,null,null,null,null,null,null,null,null,null,null,null,0.01,1.1481999999999999E-2,1.3183E-2,1.5136E-2,1.7378000000000001E-2,1.9952999999999999E-2,2.2908999999999999E-2,2.6303E-2,3.0200000000000001E-2,3.4674000000000003E-2,3.9810999999999999E-2,4.5709E-2,5.2481E-2,6.0255999999999997E-2,null,null,null,null,null,null,null,null,null,0.23988300000000001,0.27542299999999997,0.31622800000000001,0.36307800000000001,0.41686899999999999,0.47863,0.54954099999999995,0.63095699999999999,0.72443599999999997,0.83176399999999995,0.95499299999999998,1.0964780000000001,1.2589250000000001,1.4454400000000001,1.6595869999999999,1.9054610000000001,2.1877620000000002,2.5118860000000001,2.8840309999999998,3.3113109999999999,3.8018939999999999,4.3651580000000001,5.0118720000000003,5.7543990000000003,6.6069339999999999,7.5857760000000001,8.7096359999999997,10,11.481536,13.182567000000001,15.135612,17.378008000000001,19.952622999999999,22.908677000000001,26.302679999999999,30.199517,34.673684999999999,39.810716999999997,45.708818999999998,52.480746000000003,60.255958999999997,69.183097000000004,79.432822999999999,91.201083999999994,104.712855,120.226443,138.03842599999999,158.48931899999999,181.97008600000001,208.92961299999999,239.88329200000001,275.42286999999999,316.22776599999997,363.07805500000001,416.86938300000003,478.63009199999999,549.54087400000003,630.95734400000003,724.43596000000002,831.76377100000002,954.99258599999996,1096.478196,1258.9254120000001,1445.4397710000001,1659.5869070000001,1905.460718,2187.7616240000002,2511.8864319999998,2884.0315030000002,3311.3112150000002,3801.893963,4365.1583220000002,5011.8723360000004,5754.3993730000002,6606.9344799999999,7585.7757499999998,8709.6358999999993,10000]
[null,null,null,null,null,null,null,null,null,null,null,null,null,null,null,null,null,null,null,null,null,null,null,null,null,null,null,null,null,null,null,null,null,null,null,null,null,null,null,null,null,null,null,null,null,null,null,null,null,null,null,null,null,null,null,null,null,null,null,null,null,null,null,null,null,null,null,null,null,null,null,null,null,null,null,null,null,null,null,null,null,null,null,null,null,null,null,null,null,null,null,null,null,null,null,null,null,null,null,null,null,null,null,null,null,null,null,null,null,null,null,null,null,null,null,null,null,null,null,null,null,null,null,null,null,null,null,null,null,null,43.402000000000001,56.597999999999999,0,0,0,0,0,0,null,0,0,0,0,0,0,0,0,0,0,0,0,0,null,null,null,null,null,null,null,null,null,0,0,0,0,0,0.19271099999999999,0.36906299999999997,0.51690199999999997,0.64096600000000004,0.73367700000000002,0.80896900000000005,0.88766,0.99521599999999999,1.1612690000000001,1.405459,1.740864,2.161089,2.6544249999999998,3.2011910000000001,3.7763490000000002,4.3515379999999997,4.8902619999999999,5.3670780000000002,5.7487300000000001,6.0204000000000004,6.1618279999999999,6.1668539999999998,6.0328200000000001,5.7593370000000004,5.3671230000000003,4.8656649999999999,4.2953520000000003,3.6741109999999999,3.0464829999999998,2.429478,1.8616429999999999,1.3401110000000001,0.87457600000000002,0.423842,7.6957999999999999E-2,0,0,0,0,0,0,0,0,0,0,0,0,0,0,0,0,0,0,0,0,0,0,0,0,0,0,0,0,0,0,0,0,0,0,0,0,0,0]

{"sheet":"Calculations","index":20,"n_rows":50,"n_cols":12,"rows_kept":50,"cut":false,"hidden":true,"merged":[[0,6,0,7],[16,6,16,7],[26,6,26,7],[35,6,35,7],[0,9,0,10],[16,9,16,10],[26,9,26,10],[35,9,35,10],[0,0,0,1],[16,0,16,1],[26,0,26,1],[35,0,35,1],[0,3,0,4],[16,3,16,4],[26,3,26,4],[35,3,35,4]]}
["Basics",null,null,"Basics",null,null,"Basics",null,null,"Basics"]
[{"$f":"IF('Texture Calculator'!$G$4+1.5*'Texture Calculator'!$E$4<0.15,1,0)","v":1},"((silt + 1.5*clay) < 15)","SAND",{"$f":"IF('Texture Calculator'!$G$5+1.5*'Texture Calculator'!$E$5<0.15,1,0)","v":1},"((silt + 1.5*clay) < 15)","SAND",{"$f":"IF('Texture Calculator'!$G$6+1.5*'Texture Calculator'!$E$6<0.15,1,0)","v":1},"((silt + 1.5*clay) < 15)","SAND",{"$f":"IF('Texture Calculator'!$G$7+1.5*'Texture Calculator'!$E$7<0.15,1,0)","v":1},"((silt + 1.5*clay) < 15)","SAND"]
[{"$f":"IF(AND('Texture Calculator'!$G$4+1.5*'Texture Calculator'!$E$4>=0.15, 'Texture Calculator'!$G$4+2*'Texture Calculator'!$E$4<0.3), 2, 0)","v":0},"((silt + 1.5*clay >= 15) && (silt + 2*clay < 30))","LOAMY SAND",{"$f":"IF(AND('Texture Calculator'!$G$5+1.5*'Texture Calculator'!$E$5>=0.15, 'Texture Calculator'!$G$5+2*'Texture Calculator'!$E$5<0.3), 2, 0)","v":0},"((silt + 1.5*clay >= 15) && (silt + 2*clay < 30))","LOAMY SAND",{"$f":"IF(AND('Texture Calculator'!$G$6+1.5*'Texture Calculator'!$E$6>=0.15, 'Texture Calculator'!$G$6+2*'Texture Calculator'!$E$6<0.3), 2, 0)","v":0},"((silt + 1.5*clay >= 15) && (silt + 2*clay < 30))","LOAMY SAND",{"$f":"IF(AND('Texture Calculator'!$G$7+1.5*'Texture Calculator'!$E$7>=0.15, 'Texture Calculator'!$G$7+2*'Texture Calculator'!$E$7<0.3), 2, 0)","v":0},"((silt + 1.5*clay >= 15) && (silt + 2*clay < 30))","LOAMY SAND"]
[{"$f":"IF(OR(AND('Texture Calculator'!$E$4>=0.07, 'Texture Calculator'!$E$4<0.2,'Texture Calculator'!$C$4>0.52,'Texture Calculator'!$G$4+2*'Texture Calculator'!$E$4>=0.3), AND('Texture Calculator'!$E$4<0.07, 'Texture Calculator'!$G$4<0.5, 'Texture Calculator'!$G$4+2*'Texture Calculator'!$E$4>=0.3)), 3,0)","v":0},"((clay >= 7 && clay < 20) && (sand > 52) && ((silt + 2*clay) >= 30) || (clay < 7 && silt < 50 && (silt+2*clay)>=30))","SANDY LOAM",{"$f":"IF(OR(AND('Texture Calculator'!$E$5>=0.07, 'Texture Calculator'!$E$5<0.2,'Texture Calculator'!$C$5>0.52,'Texture Calculator'!$G$5+2*'Texture Calculator'!$E$5>=0.3), AND('Texture Calculator'!$E$5<0.07, 'Texture Calculator'!$G$5<0.5, 'Texture Calculator'!$G$5+2*'Texture Calculator'!$E$5>=0.3)), 3,0)","v":0},"((clay >= 7 && clay < 20) && (sand > 52) && ((silt + 2*clay) >= 30) || (clay < 7 && silt < 50 && (silt+2*clay)>=30))","SANDY LOAM",{"$f":"IF(OR(AND('Texture Calculator'!$E$6>=0.07, 'Texture Calculator'!$E$6<0.2,'Texture Calculator'!$C$6>0.52,'Texture Calculator'!$G$6+2*'Texture Calculator'!$E$6>=0.3), AND('Texture Calculator'!$E$6<0.07, 'Texture Calculator'!$G$6<0.5, 'Texture Calculator'!$G$6+2*'Texture Calculator'!$E$6>=0.3)), 3,0)","v":0},"((clay >= 7 && clay < 20) && (sand > 52) && ((silt + 2*clay) >= 30) || (clay < 7 && silt < 50 && (silt+2*clay)>=30))","SANDY LOAM",{"$f":"IF(OR(AND('Texture Calculator'!$E$7>=0.07, 'Texture Calculator'!$E$7<0.2,'Texture Calculator'!$C$7>0.52,'Texture Calculator'!$G$7+2*'Texture Calculator'!$E$7>=0.3), AND('Texture Calculator'!$E$7<0.07, 'Texture Calculator'!$G$7<0.5, 'Texture Calculator'!$G$7+2*'Texture Calculator'!$E$7>=0.3)), 3,0)","v":0},"((clay >= 7 && clay < 20) && (sand > 52) && ((silt + 2*clay) >= 30) || (clay < 7 && silt < 50 && (silt+2*clay)>=30))","SANDY LOAM"]
[{"$f":"IF(AND('Texture Calculator'!$E$4>=0.07, 'Texture Calculator'!$E$4<0.27, 'Texture Calculator'!$G$4>=0.28, 'Texture Calculator'!$G$4<0.5, 'Texture Calculator'!$C$4<=0.52), 4, 0)","v":0},"((clay >= 7 && clay < 27) && (silt >= 28 && silt < 50) && (sand <= 52))","LOAM",{"$f":"IF(AND('Texture Calculator'!$E$5>=0.07, 'Texture Calculator'!$E$5<0.27, 'Texture Calculator'!$G$5>=0.28, 'Texture Calculator'!$G$5<0.5, 'Texture Calculator'!$C$5<=0.52), 4, 0)","v":0},"((clay >= 7 && clay < 27) && (silt >= 28 && silt < 50) && (sand <= 52))","LOAM",{"$f":"IF(AND('Texture Calculator'!$E$6>=0.07, 'Texture Calculator'!$E$6<0.27, 'Texture Calculator'!$G$6>=0.28, 'Texture Calculator'!$G$6<0.5, 'Texture Calculator'!$C$6<=0.52), 4, 0)","v":0},"((clay >= 7 && clay < 27) && (silt >= 28 && silt < 50) && (sand <= 52))","LOAM",{"$f":"IF(AND('Texture Calculator'!$E$7>=0.07, 'Texture Calculator'!$E$7<0.27, 'Texture Calculator'!$G$7>=0.28, 'Texture Calculator'!$G$7<0.5, 'Texture Calculator'!$C$7<=0.52), 4, 0)","v":0},"((clay >= 7 && clay < 27) && (silt >= 28 && silt < 50) && (sand <= 52))","LOAM"]
[{"$f":"IF(OR(AND('Texture Calculator'!$G$4>=0.5, 'Texture Calculator'!$E$4>=0.12,'Texture Calculator'!$E$4<0.27), AND('Texture Calculator'!$G$4>=0.5,'Texture Calculator'!$G$4<0.8,'Texture Calculator'!$E$4<0.12)), 5,0)","v":0},"((silt >= 50 && (clay >= 12 && clay < 27)) || ((silt >= 50 && silt < 80) && clay < 12))","SILT LOAM",{"$f":"IF(OR(AND('Texture Calculator'!$G$5>=0.5, 'Texture Calculator'!$E$5>=0.12,'Texture Calculator'!$E$5<0.27), AND('Texture Calculator'!$G$5>=0.5,'Texture Calculator'!$G$5<0.8,'Texture Calculator'!$E$5<0.12)), 5,0)","v":0},"((silt >= 50 && (clay >= 12 && clay < 27)) || ((silt >= 50 && silt < 80) && clay < 12))","SILT LOAM",{"$f":"IF(OR(AND('Texture Calculator'!$G$6>=0.5, 'Texture Calculator'!$E$6>=0.12,'Texture Calculator'!$E$6<0.27), AND('Texture Calculator'!$G$6>=0.5,'Texture Calculator'!$G$6<0.8,'Texture Calculator'!$E$6<0.12)), 5,0)","v":0},"((silt >= 50 && (clay >= 12 && clay < 27)) || ((silt >= 50 && silt < 80) && clay < 12))","SILT LOAM",{"$f":"IF(OR(AND('Texture Calculator'!$G$7>=0.5, 'Texture Calculator'!$E$7>=0.12,'Texture Calculator'!$E$7<0.27), AND('Texture Calculator'!$G$7>=0.5,'Texture Calculator'!$G$7<0.8,'Texture Calculator'!$E$7<0.12)), 5,0)","v":0},"((silt >= 50 && (clay >= 12 && clay < 27)) || ((silt >= 50 && silt < 80) && clay < 12))","SILT LOAM"]
[{"$f":"IF(AND('Texture Calculator'!$G$4>=0.8, 'Texture Calculator'!$E$4<0.12), 6, 0)","v":0},"(silt >= 80 && clay < 12)","SILT",{"$f":"IF(AND('Texture Calculator'!$G$5>=0.8, 'Texture Calculator'!$E$5<0.12), 6, 0)","v":0},"(silt >= 80 && clay < 12)","SILT",{"$f":"IF(AND('Texture Calculator'!$G$6>=0.8, 'Texture Calculator'!$E$6<0.12), 6, 0)","v":0},"(silt >= 80 && clay < 12)","SILT",{"$f":"IF(AND('Texture Calculator'!$G$7>=0.8, 'Texture Calculator'!$E$7<0.12), 6, 0)","v":0},"(silt >= 80 && clay < 12)","SILT"]
[{"$f":"IF(AND('Texture Calculator'!$E$4>=0.2, 'Texture Calculator'!$E$4<0.35, 'Texture Calculator'!$G$4<0.28, 'Texture Calculator'!$C$4>0.45), 7, 0)","v":0},"((clay >= 20 && clay < 35) && (silt < 28) && (sand > 45)) ","SANDY CLAY LOAM",{"$f":"IF(AND('Texture Calculator'!$E$5>=0.2, 'Texture Calculator'!$E$5<0.35, 'Texture Calculator'!$G$5<0.28, 'Texture Calculator'!$C$5>0.45), 7, 0)","v":0},"((clay >= 20 && clay < 35) && (silt < 28) && (sand > 45)) ","SANDY CLAY LOAM",{"$f":"IF(AND('Texture Calculator'!$E$6>=0.2, 'Texture Calculator'!$E$6<0.35, 'Texture Calculator'!$G$6<0.28, 'Texture Calculator'!$C$6>0.45), 7, 0)","v":0},"((clay >= 20 && clay < 35) && (silt < 28) && (sand > 45)) ","SANDY CLAY LOAM",{"$f":"IF(AND('Texture Calculator'!$E$7>=0.2, 'Texture Calculator'!$E$7<0.35, 'Texture Calculator'!$G$7<0.28, 'Texture Calculator'!$C$7>0.45), 7, 0)","v":0},"((clay >= 20 && clay < 35) && (silt < 28) && (sand > 45)) ","SANDY CLAY LOAM"]
[{"$f":"IF(AND('Texture Calculator'!$E$4>=0.27, 'Texture Calculator'!$E$4<0.4, 'Texture Calculator'!$C$4>0.2, 'Texture Calculator'!$C$4<=0.45), 8, 0)","v":0},"((clay >= 27 && clay < 40) && (sand > 20 && sand <= 45))","CLAY LOAM",{"$f":"IF(AND('Texture Calculator'!$E$5>=0.27, 'Texture Calculator'!$E$5<0.4, 'Texture Calculator'!$C$5>0.2, 'Texture Calculator'!$C$5<=0.45), 8, 0)","v":0},"((clay >= 27 && clay < 40) && (sand > 20 && sand <= 45))","CLAY LOAM",{"$f":"IF(AND('Texture Calculator'!$E$6>=0.27, 'Texture Calculator'!$E$6<0.4, 'Texture Calculator'!$C$6>0.2, 'Texture Calculator'!$C$6<=0.45), 8, 0)","v":0},"((clay >= 27 && clay < 40) && (sand > 20 && sand <= 45))","CLAY LOAM",{"$f":"IF(AND('Texture Calculator'!$E$7>=0.27, 'Texture Calculator'!$E$7<0.4, 'Texture Calculator'!$C$7>0.2, 'Texture Calculator'!$C$7<=0.45), 8, 0)","v":0},"((clay >= 27 && clay < 40) && (sand > 20 && sand <= 45))","CLAY LOAM"]
[{"$f":"IF(AND('Texture Calculator'!$E$4>=0.27, 'Texture Calculator'!$E$4<0.4, 'Texture Calculator'!$C$4<=0.2), 9, 0)","v":0},"((clay >= 27 && clay < 40) && (sand  <= 20))","SILTY CLAY LOAM",{"$f":"IF(AND('Texture Calculator'!$E$5>=0.27, 'Texture Calculator'!$E$5<0.4, 'Texture Calculator'!$C$5<=0.2), 9, 0)","v":0},"((clay >= 27 && clay < 40) && (sand  <= 20))","SILTY CLAY LOAM",{"$f":"IF(AND('Texture Calculator'!$E$6>=0.27, 'Texture Calculator'!$E$6<0.4, 'Texture Calculator'!$C$6<=0.2), 9, 0)","v":0},"((clay >= 27 && clay < 40) && (sand  <= 20))","SILTY CLAY LOAM",{"$f":"IF(AND('Texture Calculator'!$E$7>=0.27, 'Texture Calculator'!$E$7<0.4, 'Texture Calculator'!$C$7<=0.2), 9, 0)","v":0},"((clay >= 27 && clay < 40) && (sand  <= 20))","SILTY CLAY LOAM"]
[{"$f":"IF(AND('Texture Calculator'!$E$4>=0.35, 'Texture Calculator'!$C$4>0.45), 10, 0)","v":0},"(clay >= 35 && sand > 45)","SANDY CLAY",{"$f":"IF(AND('Texture Calculator'!$E$5>=0.35, 'Texture Calculator'!$C$5>0.45), 10, 0)","v":0},"(clay >= 35 && sand > 45)","SANDY CLAY",{"$f":"IF(AND('Texture Calculator'!$E$6>=0.35, 'Texture Calculator'!$C$6>0.45), 10, 0)","v":0},"(clay >= 35 && sand > 45)","SANDY CLAY",{"$f":"IF(AND('Texture Calculator'!$E$7>=0.35, 'Texture Calculator'!$C$7>0.45), 10, 0)","v":0},"(clay >= 35 && sand > 45)","SANDY CLAY"]
[{"$f":"IF(AND('Texture Calculator'!$E$4>=0.4, 'Texture Calculator'!$G$4>=0.4), 11, 0)","v":0},"(clay >= 40 && silt >= 40)","SILTY CLAY",{"$f":"IF(AND('Texture Calculator'!$E$5>=0.4, 'Texture Calculator'!$G$5>=0.4), 11, 0)","v":0},"(clay >= 40 && silt >= 40)","SILTY CLAY",{"$f":"IF(AND('Texture Calculator'!$E$6>=0.4, 'Texture Calculator'!$G$6>=0.4), 11, 0)","v":0},"(clay >= 40 && silt >= 40)","SILTY CLAY",{"$f":"IF(AND('Texture Calculator'!$E$7>=0.4, 'Texture Calculator'!$G$7>=0.4), 11, 0)","v":0},"(clay >= 40 && silt >= 40)","SILTY CLAY"]
[{"$f":"IF(AND('Texture Calculator'!$E$4>=0.4, 'Texture Calculator'!$C$4<=0.45,'Texture Calculator'!$G$4<0.4), 12, 0)","v":0},"(clay >= 40 && sand <= 45 && silt < 40)","CLAY",{"$f":"IF(AND('Texture Calculator'!$E$5>=0.4, 'Texture Calculator'!$C$5<=0.45,'Texture Calculator'!$G$5<0.4), 12, 0)","v":0},"(clay >= 40 && sand <= 45 && silt < 40)","CLAY",{"$f":"IF(AND('Texture Calculator'!$E$6>=0.4, 'Texture Calculator'!$C$6<=0.45,'Texture Calculator'!$G$6<0.4), 12, 0)","v":0},"(clay >= 40 && sand <= 45 && silt < 40)","CLAY",{"$f":"IF(AND('Texture Calculator'!$E$7>=0.4, 'Texture Calculator'!$C$7<=0.45,'Texture Calculator'!$G$7<0.4), 12, 0)","v":0},"(clay >= 40 && sand <= 45 && silt < 40)","CLAY"]
[{"$f":"SUM(A2:A13)","v":1},null,null,{"$f":"SUM(D2:D13)","v":1},null,null,{"$f":"SUM(G2:G13)","v":1},null,null,{"$f":"SUM(J2:J13)","v":1}]
[]
[]
["Sand",null,null,"Sand",null,null,"Sand",null,null,"Sand"]
[{"$f":"IF(AND(SUM('Texture Calculator'!$C$13:$C$17)='Texture Calculator'!$C$4, 'Texture Calculator'!$C$13+'Texture Calculator'!$C$14>=0.25, 'Texture Calculator'!$C$15<0.5, 'Texture Calculator'!$C$16<0.5, 'Texture Calculator'!$C$17<0.5), 1, 0)","v":0},"vcscs >= 25 && ms < 50 && fs < 50 && vfs < 50","COARSE SAND",{"$f":"IF(AND(SUM('Texture Calculator'!$C$26:$C$47)='Texture Calculator'!$C$5, 'Texture Calculator'!$C$26+'Texture Calculator'!#REF!>=0.25, 'Texture Calculator'!#REF!<0.5, 'Texture Calculator'!#REF!<0.5, 'Texture Calculator'!$C$47<0.5), 1, 0)","v":{"$error":"#REF!"}},"vcscs >= 25 && ms < 50 && fs < 50 && vfs < 50","COARSE SAND",{"$f":"IF(AND(SUM('Texture Calculator'!$C$52:$C$56)='Texture Calculator'!$C$6, 'Texture Calculator'!#REF!+'Texture Calculator'!$C$53>=0.25, 'Texture Calculator'!$C$54<0.5, 'Texture Calculator'!$C$55<0.5, 'Texture Calculator'!$C$56<0.5), 1, 0)","v":{"$error":"#REF!"}},"vcscs >= 25 && ms < 50 && fs < 50 && vfs < 50","COARSE SAND",{"$f":"IF(AND(SUM('Texture Calculator'!$C$60:$C$66)='Texture Calculator'!$C$7, 'Texture Calculator'!#REF!+'Texture Calculator'!#REF!>=0.25, 'Texture Calculator'!$C$64<0.5, 'Texture Calculator'!$C$65<0.5, 'Texture Calculator'!$C$66<0.5), 1, 0)","v":{"$error":"#REF!"}},"vcscs >= 25 && ms < 50 && fs < 50 && vfs < 50","COARSE SAND"]
[{"$f":"IF(AND(SUM('Texture Calculator'!$C$13:$C$17)='Texture Calculator'!$C$4,SUM($A$18) = 0, 'Texture Calculator'!$C$13+'Texture Calculator'!$C$14+'Texture Calculator'!$C$15>=0.25, 'Texture Calculator'!$C$13+'Texture Calculator'!$C$14<0.25, 'Texture Calculator'!$C$16<0.5,'Texture Calculator'!$C$17<0.5), 2, 0)","v":0},"vcscsms >= 25 && vcscs < 25 && fs < 50 && vfs < 50","SAND",{"$f":"IF(AND(SUM('Texture Calculator'!$C$26:$C$47)='Texture Calculator'!$C$5,SUM($D$18) = 0, 'Texture Calculator'!$C$26+'Texture Calculator'!#REF!+'Texture Calculator'!#REF!>=0.25, 'Texture Calculator'!$C$26+'Texture Calculator'!#REF!<0.25, 'Texture Calculator'!#REF!<0.5,'Texture Calculator'!$C$47<0.5), 2, 0)","v":{"$error":"#REF!"}},"vcscsms >= 25 && vcscs < 25 && fs < 50 && vfs < 50","SAND",{"$f":"IF(AND(SUM('Texture Calculator'!$C$52:$C$56)='Texture Calculator'!$C$6,SUM($G$18) = 0, 'Texture Calculator'!#REF!+'Texture Calculator'!$C$53+'Texture Calculator'!$C$54>=0.25, 'Texture Calculator'!#REF!+'Texture Calculator'!$C$53<0.25, 'Texture Calculator'!$C$55<0.5,'Texture Calculator'!$C$56<0.5), 2, 0)","v":{"$error":"#REF!"}},"vcscsms >= 25 && vcscs < 25 && fs < 50 && vfs < 50","SAND",{"$f":"IF(AND(SUM('Texture Calculator'!$C$60:$C$66)='Texture Calculator'!$C$7,SUM($J$18) = 0, 'Texture Calculator'!#REF!+'Texture Calculator'!#REF!+'Texture Calculator'!$C$64>=0.25, 'Texture Calculator'!#REF!+'Texture Calculator'!#REF!<0.25, 'Texture Calculator'!$C$65<0.5,'Texture Calculator'!$C$66<0.5), 2, 0)","v":{"$error":"#REF!"}},"vcscsms >= 25 && vcscs < 25 && fs < 50 && vfs < 50","SAND"]
[{"$f":"IF(AND(SUM('Texture Calculator'!$C$13:$C$17)='Texture Calculator'!$C$4,SUM($A$18:$A$19) = 0, 'Texture Calculator'!$C$15>=0.5, 'Texture Calculator'!$C$13+'Texture Calculator'!$C$14>=0.25), 3, 0)","v":0},"ms >= 50 && vcscs >= 25","SAND",{"$f":"IF(AND(SUM('Texture Calculator'!$C$26:$C$47)='Texture Calculator'!$C$5,SUM($D$18:$D$19) = 0, 'Texture Calculator'!#REF!>=0.5, 'Texture Calculator'!$C$26+'Texture Calculator'!#REF!>=0.25), 3, 0)","v":{"$error":"#REF!"}},"ms >= 50 && vcscs >= 25","SAND",{"$f":"IF(AND(SUM('Texture Calculator'!$C$52:$C$56)='Texture Calculator'!$C$6,SUM($G$18:$G$19) = 0, 'Texture Calculator'!$C$54>=0.5, 'Texture Calculator'!#REF!+'Texture Calculator'!$C$53>=0.25), 3, 0)","v":{"$error":"#REF!"}},"ms >= 50 && vcscs >= 25","SAND",{"$f":"IF(AND(SUM('Texture Calculator'!$C$60:$C$66)='Texture Calculator'!$C$7,SUM($J$18:$J$19) = 0, 'Texture Calculator'!$C$64>=0.5, 'Texture Calculator'!#REF!+'Texture Calculator'!#REF!>=0.25), 3, 0)","v":{"$error":"#REF!"}},"ms >= 50 && vcscs >= 25","SAND"]
[{"$f":"IF(AND(SUM('Texture Calculator'!$C$13:$C$17)='Texture Calculator'!$C$4,SUM($A$18:$A$20) = 0, 'Texture Calculator'!$C$16>=0.5, 'Texture Calculator'!$C$16>'Texture Calculator'!$C$17), 4, 0)","v":0},"fs >= 50 && fs > vfs","FINE SAND",{"$f":"IF(AND(SUM('Texture Calculator'!$C$26:$C$47)='Texture Calculator'!$C$5,SUM($D$18:$D$20) = 0, 'Texture Calculator'!#REF!>=0.5, 'Texture Calculator'!#REF!>'Texture Calculator'!$C$47), 4, 0)","v":{"$error":"#REF!"}},"fs >= 50 && fs > vfs","FINE SAND",{"$f":"IF(AND(SUM('Texture Calculator'!$C$52:$C$56)='Texture Calculator'!$C$6,SUM($G$18:$G$20) = 0, 'Texture Calculator'!$C$55>=0.5, 'Texture Calculator'!$C$55>'Texture Calculator'!$C$56), 4, 0)","v":{"$error":"#REF!"}},"fs >= 50 && fs > vfs","FINE SAND",{"$f":"IF(AND(SUM('Texture Calculator'!$C$60:$C$66)='Texture Calculator'!$C$7,SUM($J$18:$J$20) = 0, 'Texture Calculator'!$C$65>=0.5, 'Texture Calculator'!$C$65>'Texture Calculator'!$C$66), 4, 0)","v":{"$error":"#REF!"}},"fs >= 50 && fs > vfs","FINE SAND"]
[{"$f":"IF(AND(SUM('Texture Calculator'!$C$13:$C$17)='Texture Calculator'!$C$4,SUM($A$18:$A$21) = 0, 'Texture Calculator'!$C$13+'Texture Calculator'!$C$14+'Texture Calculator'!$C$15<0.25, 'Texture Calculator'!$C$17<0.5), 5, 0)","v":0},"vcscsms < 25 && vfs < 50","FINE SAND",{"$f":"IF(AND(SUM('Texture Calculator'!$C$26:$C$47)='Texture Calculator'!$C$5,SUM($D$18:$D$21) = 0, 'Texture Calculator'!$C$26+'Texture Calculator'!#REF!+'Texture Calculator'!#REF!<0.25, 'Texture Calculator'!$C$47<0.5), 5, 0)","v":{"$error":"#REF!"}},"vcscsms < 25 && vfs < 50","FINE SAND",{"$f":"IF(AND(SUM('Texture Calculator'!$C$52:$C$56)='Texture Calculator'!$C$6,SUM($G$18:$G$21) = 0, 'Texture Calculator'!#REF!+'Texture Calculator'!$C$53+'Texture Calculator'!$C$54<0.25, 'Texture Calculator'!$C$56<0.5), 5, 0)","v":{"$error":"#REF!"}},"vcscsms < 25 && vfs < 50","FINE SAND",{"$f":"IF(AND(SUM('Texture Calculator'!$C$60:$C$66)='Texture Calculator'!$C$7,SUM($J$18:$J$21) = 0, 'Texture Calculator'!#REF!+'Texture Calculator'!#REF!+'Texture Calculator'!$C$64<0.25, 'Texture Calculator'!$C$66<0.5), 5, 0)","v":{"$error":"#REF!"}},"vcscsms < 25 && vfs < 50","FINE SAND"]
[{"$f":"IF(AND(SUM('Texture Calculator'!$C$13:$C$17)='Texture Calculator'!$C$4,SUM($A$18:$A$22) = 0, 'Texture Calculator'!$C$17>=0.5), 6, 0)","v":0},"vfs >= 50","VERY FINE SAND",{"$f":"IF(AND(SUM('Texture Calculator'!$C$26:$C$47)='Texture Calculator'!$C$5,SUM($D$18:$D$22) = 0, 'Texture Calculator'!$C$47>=0.5), 6, 0)","v":{"$error":"#REF!"}},"vfs >= 50","VERY FINE SAND",{"$f":"IF(AND(SUM('Texture Calculator'!$C$52:$C$56)='Texture Calculator'!$C$6,SUM($G$18:$G$22) = 0, 'Texture Calculator'!$C$56>=0.5), 6, 0)","v":{"$error":"#REF!"}},"vfs >= 50","VERY FINE SAND",{"$f":"IF(AND(SUM('Texture Calculator'!$C$60:$C$66)='Texture Calculator'!$C$7,SUM($J$18:$J$22) = 0, 'Texture Calculator'!$C$66>=0.5), 6, 0)","v":{"$error":"#REF!"}},"vfs >= 50","VERY FINE SAND"]
[{"$f":"SUM(A18:A23)+1","v":1},null,null,{"$f":"SUM(D18:D23)+1","v":{"$error":"#REF!"}},null,null,{"$f":"SUM(G18:G23)+1","v":{"$error":"#REF!"}},null,null,{"$f":"SUM(J18:J23)+1","v":{"$error":"#REF!"}}]
[]
[]
["Loam Sand",null,null,"Loam Sand",null,null,"Loam Sand",null,null,"Loam Sand"]
[{"$f":"IF(AND(SUM('Texture Calculator'!$C$13:$C$17)='Texture Calculator'!$C$4, 'Texture Calculator'!$C$13+'Texture Calculator'!$C$14>=0.25, 'Texture Calculator'!$C$15<0.5, 'Texture Calculator'!$C$16<0.5, 'Texture Calculator'!$C$17<0.5), 1, 0)","v":0},"vcscs >= 25 && ms < 50 && fs < 50 && vfs < 50","LOAMY COARSE SAND",{"$f":"IF(AND(SUM('Texture Calculator'!$C$26:$C$47)='Texture Calculator'!$C$5, 'Texture Calculator'!$C$26+'Texture Calculator'!#REF!>=0.25, 'Texture Calculator'!#REF!<0.5, 'Texture Calculator'!#REF!<0.5, 'Texture Calculator'!$C$47<0.5), 1, 0)","v":{"$error":"#REF!"}},"vcscs >= 25 && ms < 50 && fs < 50 && vfs < 50","LOAMY COARSE SAND",{"$f":"IF(AND(SUM('Texture Calculator'!$C$52:$C$56)='Texture Calculator'!$C$6, 'Texture Calculator'!#REF!+'Texture Calculator'!$C$53>=0.25, 'Texture Calculator'!$C$54<0.5, 'Texture Calculator'!$C$55<0.5, 'Texture Calculator'!$C$56<0.5), 1, 0)","v":{"$error":"#REF!"}},"vcscs >= 25 && ms < 50 && fs < 50 && vfs < 50","LOAMY COARSE SAND",{"$f":"IF(AND(SUM('Texture Calculator'!$C$60:$C$66)='Texture Calculator'!$C$7, 'Texture Calculator'!#REF!+'Texture Calculator'!#REF!>=0.25, 'Texture Calculator'!$C$64<0.5, 'Texture Calculator'!$C$65<0.5, 'Texture Calculator'!$C$66<0.5), 1, 0)","v":{"$error":"#REF!"}},"vcscs >= 25 && ms < 50 && fs < 50 && vfs < 50","LOAMY COARSE SAND"]
[{"$f":"IF(AND(SUM('Texture Calculator'!$C$13:$C$17)='Texture Calculator'!$C$4,SUM($A$28) = 0, 'Texture Calculator'!$C$13+'Texture Calculator'!$C$14+'Texture Calculator'!$C$15>=0.25, 'Texture Calculator'!$C$13+'Texture Calculator'!$C$14<0.25, 'Texture Calculator'!$C$16<0.5,'Texture Calculator'!$C$17<0.5), 2, 0)","v":0},"vcscsms >= 25 && vcscs < 25 && fs < 50 && vfs < 50","LOAMY SAND",{"$f":"IF(AND(SUM('Texture Calculator'!$C$26:$C$47)='Texture Calculator'!$C$5,SUM($D$28) = 0, 'Texture Calculator'!$C$26+'Texture Calculator'!#REF!+'Texture Calculator'!#REF!>=0.25, 'Texture Calculator'!$C$26+'Texture Calculator'!#REF!<0.25, 'Texture Calculator'!#REF!<0.5,'Texture Calculator'!$C$47<0.5), 2, 0)","v":{"$error":"#REF!"}},"vcscsms >= 25 && vcscs < 25 && fs < 50 && vfs < 50","LOAMY SAND",{"$f":"IF(AND(SUM('Texture Calculator'!$C$52:$C$56)='Texture Calculator'!$C$6,SUM($A$28) = 0, 'Texture Calculator'!$C$13+'Texture Calculator'!$C$14+'Texture Calculator'!$C$15>=0.25, 'Texture Calculator'!$C$13+'Texture Calculator'!$C$14<0.25, 'Texture Calculator'!$C$16<0.5,'Texture Calculator'!$C$17<0.5), 2, 0)","v":0},"vcscsms >= 25 && vcscs < 25 && fs < 50 && vfs < 50","LOAMY SAND",{"$f":"IF(AND(SUM('Texture Calculator'!$C$60:$C$66)='Texture Calculator'!$C$7,SUM($J$28) = 0, 'Texture Calculator'!#REF!+'Texture Calculator'!#REF!+'Texture Calculator'!$C$64>=0.25, 'Texture Calculator'!#REF!+'Texture Calculator'!#REF!<0.25, 'Texture Calculator'!$C$65<0.5,'Texture Calculator'!$C$66<0.5), 2, 0)","v":{"$error":"#REF!"}},"vcscsms >= 25 && vcscs < 25 && fs < 50 && vfs < 50","LOAMY SAND"]
[{"$f":"IF(AND(SUM('Texture Calculator'!$C$13:$C$17)='Texture Calculator'!$C$4,SUM($A$28:$A$29) = 0, 'Texture Calculator'!$C$15>=0.5, 'Texture Calculator'!$C$13+'Texture Calculator'!$C$14>=0.25),3, 0)","v":0},"ms >= 50 && vcscs >= 25","LOAMY SAND",{"$f":"IF(AND(SUM('Texture Calculator'!$C$26:$C$47)='Texture Calculator'!$C$5,SUM($D$28:$D$29) = 0, 'Texture Calculator'!#REF!>=0.5, 'Texture Calculator'!$C$26+'Texture Calculator'!#REF!>=0.25),3, 0)","v":{"$error":"#REF!"}},"ms >= 50 && vcscs >= 25","LOAMY SAND",{"$f":"IF(AND(SUM('Texture Calculator'!$C$52:$C$56)='Texture Calculator'!$C$6,SUM($G$28:$G$29) = 0, 'Texture Calculator'!$C$54>=0.5, 'Texture Calculator'!#REF!+'Texture Calculator'!$C$53>=0.25),3, 0)","v":{"$error":"#REF!"}},"ms >= 50 && vcscs >= 25","LOAMY SAND",{"$f":"IF(AND(SUM('Texture Calculator'!$C$60:$C$66)='Texture Calculator'!$C$7,SUM($J$28:$J$29) = 0, 'Texture Calculator'!$C$64>=0.5, 'Texture Calculator'!#REF!+'Texture Calculator'!#REF!>=0.25),3, 0)","v":{"$error":"#REF!"}},"ms >= 50 && vcscs >= 25","LOAMY SAND"]
[{"$f":"IF(AND(SUM('Texture Calculator'!$C$13:$C$17)='Texture Calculator'!$C$4,SUM($A$28:$A$30) = 0, 'Texture Calculator'!$C$16>=0.5), 4, 0)","v":0},"fs >= 50","LOAMY FINE SAND",{"$f":"IF(AND(SUM('Texture Calculator'!$C$26:$C$47)='Texture Calculator'!$C$5,SUM($D$28:$D$30) = 0, 'Texture Calculator'!#REF!>=0.5), 4, 0)","v":{"$error":"#REF!"}},"fs >= 50","LOAMY FINE SAND",{"$f":"IF(AND(SUM('Texture Calculator'!$C$52:$C$56)='Texture Calculator'!$C$6,SUM($G$28:$G$30) = 0, 'Texture Calculator'!$C$55>=0.5), 4, 0)","v":{"$error":"#REF!"}},"fs >= 50","LOAMY FINE SAND",{"$f":"IF(AND(SUM('Texture Calculator'!$C$60:$C$66)='Texture Calculator'!$C$7,SUM($J$28:$J$30) = 0, 'Texture Calculator'!$C$65>=0.5), 4, 0)","v":{"$error":"#REF!"}},"fs >= 50","LOAMY FINE SAND"]
[{"$f":"IF(AND(SUM('Texture Calculator'!$C$13:$C$17)='Texture Calculator'!$C$4,SUM($A$28:$A$31) = 0, 'Texture Calculator'!$C$13+'Texture Calculator'!$C$14+'Texture Calculator'!$C$15<0.25, 'Texture Calculator'!$C$17<0.5), 5, 0)","v":0},"vcscsms < 25 && vfs < 50","LOAMY FINE SAND",{"$f":"IF(AND(SUM('Texture Calculator'!$C$26:$C$47)='Texture Calculator'!$C$5,SUM($D$28:$D$31) = 0, 'Texture Calculator'!$C$26+'Texture Calculator'!#REF!+'Texture Calculator'!#REF!<0.25, 'Texture Calculator'!$C$47<0.5), 5, 0)","v":{"$error":"#REF!"}},"vcscsms < 25 && vfs < 50","LOAMY FINE SAND",{"$f":"IF(AND(SUM('Texture Calculator'!$C$52:$C$56)='Texture Calculator'!$C$6,SUM($G$28:$G$31) = 0, 'Texture Calculator'!#REF!+'Texture Calculator'!$C$53+'Texture Calculator'!$C$54<0.25, 'Texture Calculator'!$C$56<0.5), 5, 0)","v":{"$error":"#REF!"}},"vcscsms < 25 && vfs < 50","LOAMY FINE SAND",{"$f":"IF(AND(SUM('Texture Calculator'!$C$60:$C$66)='Texture Calculator'!$C$7,SUM($J$28:$J$31) = 0, 'Texture Calculator'!#REF!+'Texture Calculator'!#REF!+'Texture Calculator'!$C$64<0.25, 'Texture Calculator'!$C$66<0.5), 5, 0)","v":{"$error":"#REF!"}},"vcscsms < 25 && vfs < 50","LOAMY FINE SAND"]
[{"$f":"IF(AND(SUM('Texture Calculator'!$C$13:$C$17)='Texture Calculator'!$C$4,SUM($A$28:$A$32) = 0, 'Texture Calculator'!$C$17>=0.5), 6, 0)","v":0},"vfs >= 50","LOAMY VERY FINE SAND",{"$f":"IF(AND(SUM('Texture Calculator'!$C$26:$C$47)='Texture Calculator'!$C$5,SUM($D$28:$D$32) = 0, 'Texture Calculator'!$C$47>=0.5), 6, 0)","v":{"$error":"#REF!"}},"vfs >= 50","LOAMY VERY FINE SAND",{"$f":"IF(AND(SUM('Texture Calculator'!$C$52:$C$56)='Texture Calculator'!$C$6,SUM($G$28:$G$32) = 0, 'Texture Calculator'!$C$56>=0.5), 6, 0)","v":{"$error":"#REF!"}},"vfs >= 50","LOAMY VERY FINE SAND",{"$f":"IF(AND(SUM('Texture Calculator'!$C$60:$C$66)='Texture Calculator'!$C$7,SUM($J$28:$J$32) = 0, 'Texture Calculator'!$C$66>=0.5), 6, 0)","v":{"$error":"#REF!"}},"vfs >= 50","LOAMY VERY FINE SAND"]
[{"$f":"SUM(A28:A33)+1","v":1},null,null,{"$f":"SUM(D28:D33)+1","v":{"$error":"#REF!"}},null,null,{"$f":"SUM(G28:G33)+1","v":{"$error":"#REF!"}},null,null,{"$f":"SUM(J28:J33)+1","v":{"$error":"#REF!"}}]
[]
["Sand Loam",null,null,"Sand Loam",null,null,"Sand Loam",null,null,"Sand Loam"]
[{"$f":"IF(AND(SUM('Texture Calculator'!$C$13:$C$17)='Texture Calculator'!$C$4, 'Texture Calculator'!$C$13+'Texture Calculator'!$C$14>=0.25, 'Texture Calculator'!$C$15<0.5, 'Texture Calculator'!$C$16<0.5, 'Texture Calculator'!$C$17<0.5), 1, 0)","v":0},"vcscs >= 25 && ms < 50 && fs < 50 && vfs < 50","COARSE SANDY LOAM",{"$f":"IF(AND(SUM('Texture Calculator'!$C$26:$C$47)='Texture Calculator'!$C$5, 'Texture Calculator'!$C$26+'Texture Calculator'!#REF!>=0.25, 'Texture Calculator'!#REF!<0.5, 'Texture Calculator'!#REF!<0.5, 'Texture Calculator'!$C$47<0.5), 1, 0)","v":{"$error":"#REF!"}},"vcscs >= 25 && ms < 50 && fs < 50 && vfs < 50","COARSE SANDY LOAM",{"$f":"IF(AND(SUM('Texture Calculator'!$C$52:$C$56)='Texture Calculator'!$C$6, 'Texture Calculator'!#REF!+'Texture Calculator'!$C$53>=0.25, 'Texture Calculator'!$C$54<0.5, 'Texture Calculator'!$C$55<0.5, 'Texture Calculator'!$C$56<0.5), 1, 0)","v":{"$error":"#REF!"}},"vcscs >= 25 && ms < 50 && fs < 50 && vfs < 50","COARSE SANDY LOAM",{"$f":"IF(AND(SUM('Texture Calculator'!$C$60:$C$66)='Texture Calculator'!$C$7, 'Texture Calculator'!#REF!+'Texture Calculator'!#REF!>=0.25, 'Texture Calculator'!$C$64<0.5, 'Texture Calculator'!$C$65<0.5, 'Texture Calculator'!$C$66<0.5), 1, 0)","v":{"$error":"#REF!"}},"vcscs >= 25 && ms < 50 && fs < 50 && vfs < 50","COARSE SANDY LOAM"]
[{"$f":"IF(AND(SUM('Texture Calculator'!$C$13:$C$17)='Texture Calculator'!$C$4,SUM($A$37) = 0,'Texture Calculator'!$C$13+'Texture Calculator'!$C$14+'Texture Calculator'!$C$15>=0.3, 'Texture Calculator'!$C$17>=0.3, 'Texture Calculator'!$C$17<0.5), 2,0)","v":0},"vcscsms >= 30 && vfs >= 30 && vfs < 50","COARSE SANDY LOAM",{"$f":"IF(AND(SUM('Texture Calculator'!$C$26:$C$47)='Texture Calculator'!$C$5,SUM($D$37) = 0,'Texture Calculator'!$C$26+'Texture Calculator'!#REF!+'Texture Calculator'!#REF!>=0.3, 'Texture Calculator'!$C$47>=0.3, 'Texture Calculator'!$C$47<0.5), 2,0)","v":{"$error":"#REF!"}},"vcscsms >= 30 && vfs >= 30 && vfs < 50","COARSE SANDY LOAM",{"$f":"IF(AND(SUM('Texture Calculator'!$C$52:$C$56)='Texture Calculator'!$C$6,SUM($G$37) = 0,'Texture Calculator'!#REF!+'Texture Calculator'!$C$53+'Texture Calculator'!$C$54>=0.3, 'Texture Calculator'!$C$56>=0.3, 'Texture Calculator'!$C$56<0.5), 2,0)","v":{"$error":"#REF!"}},"vcscsms >= 30 && vfs >= 30 && vfs < 50","COARSE SANDY LOAM",{"$f":"IF(AND(SUM('Texture Calculator'!$C$60:$C$66)='Texture Calculator'!$C$7,SUM($J$37) = 0,'Texture Calculator'!#REF!+'Texture Calculator'!#REF!+'Texture Calculator'!$C$64>=0.3, 'Texture Calculator'!$C$66>=0.3, 'Texture Calculator'!$C$66<0.5), 2,0)","v":{"$error":"#REF!"}},"vcscsms >= 30 && vfs >= 30 && vfs < 50","COARSE SANDY LOAM"]
[{"$f":"IF(AND(SUM('Texture Calculator'!$C$13:$C$17)='Texture Calculator'!$C$4,SUM($A$37:$A$38) = 0, 'Texture Calculator'!$C$13+'Texture Calculator'!$C$14+'Texture Calculator'!$C$15>=0.3, 'Texture Calculator'!$C$13+'Texture Calculator'!$C$14<0.25, 'Texture Calculator'!$C$16<0.3,'Texture Calculator'!$C$17<0.3), 3, 0)","v":0},"vcscsms >= 30 && vcscs < 25 && fs < 30 && vfs < 30","SANDY LOAM",{"$f":"IF(AND(SUM('Texture Calculator'!$C$26:$C$47)='Texture Calculator'!$C$5,SUM($D$37:$D$38) = 0, 'Texture Calculator'!$C$26+'Texture Calculator'!#REF!+'Texture Calculator'!#REF!>=0.3, 'Texture Calculator'!$C$26+'Texture Calculator'!#REF!<0.25, 'Texture Calculator'!#REF!<0.3,'Texture Calculator'!$C$47<0.3), 3, 0)","v":{"$error":"#REF!"}},"vcscsms >= 30 && vcscs < 25 && fs < 30 && vfs < 30","SANDY LOAM",{"$f":"IF(AND(SUM('Texture Calculator'!$C$52:$C$56)='Texture Calculator'!$C$6,SUM($G$37:$G$38) = 0, 'Texture Calculator'!#REF!+'Texture Calculator'!$C$53+'Texture Calculator'!$C$54>=0.3, 'Texture Calculator'!#REF!+'Texture Calculator'!$C$53<0.25, 'Texture Calculator'!$C$55<0.3,'Texture Calculator'!$C$56<0.3), 3, 0)","v":{"$error":"#REF!"}},"vcscsms >= 30 && vcscs < 25 && fs < 30 && vfs < 30","SANDY LOAM",{"$f":"IF(AND(SUM('Texture Calculator'!$C$60:$C$66)='Texture Calculator'!$C$7,SUM($J$37:$J$38) = 0, 'Texture Calculator'!#REF!+'Texture Calculator'!#REF!+'Texture Calculator'!$C$64>=0.3, 'Texture Calculator'!#REF!+'Texture Calculator'!#REF!<0.25, 'Texture Calculator'!$C$65<0.3,'Texture Calculator'!$C$66<0.3), 3, 0)","v":{"$error":"#REF!"}},"vcscsms >= 30 && vcscs < 25 && fs < 30 && vfs < 30","SANDY LOAM"]
[{"$f":"IF(AND(SUM('Texture Calculator'!$C$13:$C$17)='Texture Calculator'!$C$4,SUM($A$37:$A$39) = 0,'Texture Calculator'!$C$13+'Texture Calculator'!$C$14+'Texture Calculator'!$C$15<=0.15,'Texture Calculator'!$C$16<0.3,'Texture Calculator'!$C$17<0.3,'Texture Calculator'!$C$16+'Texture Calculator'!$C$17<0.4), 4, 0)","v":0},"vcscsms <= 15 && fs < 30 && vfs < 30 && fsvfs < 40","SANDY LOAM",{"$f":"IF(AND(SUM('Texture Calculator'!$C$26:$C$47)='Texture Calculator'!$C$5,SUM($D$37:$D$39) = 0,'Texture Calculator'!$C$26+'Texture Calculator'!#REF!+'Texture Calculator'!#REF!<=0.15,'Texture Calculator'!#REF!<0.3,'Texture Calculator'!$C$47<0.3,'Texture Calculator'!#REF!+'Texture Calculator'!$C$47<0.4), 4, 0)","v":{"$error":"#REF!"}},"vcscsms <= 15 && fs < 30 && vfs < 30 && fsvfs < 40","SANDY LOAM",{"$f":"IF(AND(SUM('Texture Calculator'!$C$52:$C$56)='Texture Calculator'!$C$6,SUM($G$37:$G$39) = 0,'Texture Calculator'!#REF!+'Texture Calculator'!$C$53+'Texture Calculator'!$C$54<=0.15,'Texture Calculator'!$C$55<0.3,'Texture Calculator'!$C$56<0.3,'Texture Calculator'!$C$55+'Texture Calculator'!$C$56<0.4), 4, 0)","v":{"$error":"#REF!"}},"vcscsms <= 15 && fs < 30 && vfs < 30 && fsvfs < 40","SANDY LOAM",{"$f":"IF(AND(SUM('Texture Calculator'!$C$60:$C$66)='Texture Calculator'!$C$7,SUM($J$37:$J$39) = 0,'Texture Calculator'!#REF!+'Texture Calculator'!#REF!+'Texture Calculator'!$C$64<=0.15,'Texture Calculator'!$C$65<0.3,'Texture Calculator'!$C$66<0.3,'Texture Calculator'!$C$65+'Texture Calculator'!$C$66<0.4), 4, 0)","v":{"$error":"#REF!"}},"vcscsms <= 15 && fs < 30 && vfs < 30 && fsvfs < 40","SANDY LOAM"]
[{"$f":"IF(AND(SUM('Texture Calculator'!$C$13:$C$17)='Texture Calculator'!$C$4,SUM($A$37:$A$40) = 0,'Texture Calculator'!$C$13+'Texture Calculator'!$C$14>=0.25, 'Texture Calculator'!$C$15>=0.5), 5, 0)","v":0},"vcscs >= 25 && ms >= 50","SANDY LOAM",{"$f":"IF(AND(SUM('Texture Calculator'!$C$26:$C$47)='Texture Calculator'!$C$5,SUM($D$37:$D$40) = 0,'Texture Calculator'!$C$26+'Texture Calculator'!#REF!>=0.25, 'Texture Calculator'!#REF!>=0.5), 5, 0)","v":{"$error":"#REF!"}},"vcscs >= 25 && ms >= 50","SANDY LOAM",{"$f":"IF(AND(SUM('Texture Calculator'!$C$52:$C$56)='Texture Calculator'!$C$6,SUM($G$37:$G$40) = 0,'Texture Calculator'!#REF!+'Texture Calculator'!$C$53>=0.25, 'Texture Calculator'!$C$54>=0.5), 5, 0)","v":{"$error":"#REF!"}},"vcscs >= 25 && ms >= 50","SANDY LOAM",{"$f":"IF(AND(SUM('Texture Calculator'!$C$60:$C$66)='Texture Calculator'!$C$7,SUM($J$37:$J$40) = 0,'Texture Calculator'!#REF!+'Texture Calculator'!#REF!>=0.25, 'Texture Calculator'!$C$64>=0.5), 5, 0)","v":{"$error":"#REF!"}},"vcscs >= 25 && ms >= 50","SANDY LOAM"]
[{"$f":"IF(AND(SUM('Texture Calculator'!$C$13:$C$17)='Texture Calculator'!$C$4,SUM($A$37:$A$41) = 0,'Texture Calculator'!$C$16>=0.3,'Texture Calculator'!$C$17<0.3, 'Texture Calculator'!$C$13+'Texture Calculator'!$C$14<0.25), 6, 0)","v":0},"fs >= 30 && vfs < 30 && vcscs < 25","FINE SANDY LOAM",{"$f":"IF(AND(SUM('Texture Calculator'!$C$26:$C$47)='Texture Calculator'!$C$5,SUM($D$37:$D$41) = 0,'Texture Calculator'!#REF!>=0.3,'Texture Calculator'!$C$47<0.3, 'Texture Calculator'!$C$26+'Texture Calculator'!#REF!<0.25), 6, 0)","v":{"$error":"#REF!"}},"fs >= 30 && vfs < 30 && vcscs < 25","FINE SANDY LOAM",{"$f":"IF(AND(SUM('Texture Calculator'!$C$52:$C$56)='Texture Calculator'!$C$6,SUM($G$37:$G$41) = 0,'Texture Calculator'!$C$55>=0.3,'Texture Calculator'!$C$56<0.3, 'Texture Calculator'!#REF!+'Texture Calculator'!$C$53<0.25), 6, 0)","v":{"$error":"#REF!"}},"fs >= 30 && vfs < 30 && vcscs < 25","FINE SANDY LOAM",{"$f":"IF(AND(SUM('Texture Calculator'!$C$60:$C$66)='Texture Calculator'!$C$7,SUM($J$37:$J$41) = 0,'Texture Calculator'!$C$65>=0.3,'Texture Calculator'!$C$66<0.3, 'Texture Calculator'!#REF!+'Texture Calculator'!#REF!<0.25), 6, 0)","v":{"$error":"#REF!"}},"fs >= 30 && vfs < 30 && vcscs < 25","FINE SANDY LOAM"]
[{"$f":"IF(AND(SUM('Texture Calculator'!$C$13:$C$17)='Texture Calculator'!$C$4,SUM($A$37:$A$42) = 0,'Texture Calculator'!$C$13+'Texture Calculator'!$C$14+'Texture Calculator'!$C$15>=0.15, 'Texture Calculator'!$C$13+'Texture Calculator'!$C$14+'Texture Calculator'!$C$15<0.3, 'Texture Calculator'!$C$13+'Texture Calculator'!$C$14<0.25), 7, 0)","v":0},"vcscsms >= 15 && vcscsms < 30 && vcscs < 25","FINE SANDY LOAM",{"$f":"IF(AND(SUM('Texture Calculator'!$C$26:$C$47)='Texture Calculator'!$C$5,SUM($D$37:$D$42) = 0,'Texture Calculator'!$C$26+'Texture Calculator'!#REF!+'Texture Calculator'!#REF!>=0.15, 'Texture Calculator'!$C$26+'Texture Calculator'!#REF!+'Texture Calculator'!#REF!<0.3, 'Texture Calculator'!$C$26+'Texture Calculator'!#REF!<0.25), 7, 0)","v":{"$error":"#REF!"}},"vcscsms >= 15 && vcscsms < 30 && vcscs < 25","FINE SANDY LOAM",{"$f":"IF(AND(SUM('Texture Calculator'!$C$52:$C$56)='Texture Calculator'!$C$6,SUM($G$37:$G$42) = 0,'Texture Calculator'!#REF!+'Texture Calculator'!$C$53+'Texture Calculator'!$C$54>=0.15, 'Texture Calculator'!#REF!+'Texture Calculator'!$C$53+'Texture Calculator'!$C$54<0.3, 'Texture Calculator'!#REF!+'Texture Calculator'!$C$53<0.25), 7, 0)","v":{"$error":"#REF!"}},"vcscsms >= 15 && vcscsms < 30 && vcscs < 25","FINE SANDY LOAM",{"$f":"IF(AND(SUM('Texture Calculator'!$C$60:$C$66)='Texture Calculator'!$C$7,SUM($J$37:$J$42) = 0,'Texture Calculator'!#REF!+'Texture Calculator'!#REF!+'Texture Calculator'!$C$64>=0.15, 'Texture Calculator'!#REF!+'Texture Calculator'!#REF!+'Texture Calculator'!$C$64<0.3, 'Texture Calculator'!#REF!+'Texture Calculator'!#REF!<0.25), 7, 0)","v":{"$error":"#REF!"}},"vcscsms >= 15 && vcscsms < 30 && vcscs < 25","FINE SANDY LOAM"]
[{"$f":"IF(AND(SUM('Texture Calculator'!$C$13:$C$17)='Texture Calculator'!$C$4,SUM($A$37:$A$43) = 0,'Texture Calculator'!$C$16+'Texture Calculator'!$C$17>=0.4, 'Texture Calculator'!$C$16>='Texture Calculator'!$C$17, 'Texture Calculator'!$C$13+'Texture Calculator'!$C$14+'Texture Calculator'!$C$15<=0.15), 8, 0)","v":0},"fsvfs >= 40 && fs >= vfs && vcscsms <= 15","FINE SANDY LOAM",{"$f":"IF(AND(SUM('Texture Calculator'!$C$26:$C$47)='Texture Calculator'!$C$5,SUM($D$37:$D$43) = 0,'Texture Calculator'!#REF!+'Texture Calculator'!$C$47>=0.4, 'Texture Calculator'!#REF!>='Texture Calculator'!$C$47, 'Texture Calculator'!$C$26+'Texture Calculator'!#REF!+'Texture Calculator'!#REF!<=0.15), 8, 0)","v":{"$error":"#REF!"}},"fsvfs >= 40 && fs >= vfs && vcscsms <= 15","FINE SANDY LOAM",{"$f":"IF(AND(SUM('Texture Calculator'!$C$52:$C$56)='Texture Calculator'!$C$6,SUM($G$37:$G$43) = 0,'Texture Calculator'!$C$55+'Texture Calculator'!$C$56>=0.4, 'Texture Calculator'!$C$55>='Texture Calculator'!$C$56, 'Texture Calculator'!#REF!+'Texture Calculator'!$C$53+'Texture Calculator'!$C$54<=0.15), 8, 0)","v":{"$error":"#REF!"}},"fsvfs >= 40 && fs >= vfs && vcscsms <= 15","FINE SANDY LOAM",{"$f":"IF(AND(SUM('Texture Calculator'!$C$60:$C$66)='Texture Calculator'!$C$7,SUM($J$37:$J$43) = 0,'Texture Calculator'!$C$65+'Texture Calculator'!$C$66>=0.4, 'Texture Calculator'!$C$65>='Texture Calculator'!$C$66, 'Texture Calculator'!#REF!+'Texture Calculator'!#REF!+'Texture Calculator'!$C$64<=0.15), 8, 0)","v":{"$error":"#REF!"}},"fsvfs >= 40 && fs >= vfs && vcscsms <= 15","FINE SANDY LOAM"]
[{"$f":"IF(AND(SUM('Texture Calculator'!$C$13:$C$17)='Texture Calculator'!$C$4,SUM($A$37:$A$44) = 0,'Texture Calculator'!$C$13+'Texture Calculator'!$C$14>=0.25, 'Texture Calculator'!$C$16>=0.5), 9, 0)","v":0},"vcscs >= 25 && fs >= 50","FINE SANDY LOAM",{"$f":"IF(AND(SUM('Texture Calculator'!$C$26:$C$47)='Texture Calculator'!$C$5,SUM($D$37:$D$44) = 0,'Texture Calculator'!$C$26+'Texture Calculator'!#REF!>=0.25, 'Texture Calculator'!#REF!>=0.5), 9, 0)","v":{"$error":"#REF!"}},"vcscs >= 25 && fs >= 50","FINE SANDY LOAM",{"$f":"IF(AND(SUM('Texture Calculator'!$C$52:$C$56)='Texture Calculator'!$C$6,SUM($G$37:$G$44) = 0,'Texture Calculator'!#REF!+'Texture Calculator'!$C$53>=0.25, 'Texture Calculator'!$C$55>=0.5), 9, 0)","v":{"$error":"#REF!"}},"vcscs >= 25 && fs >= 50","FINE SANDY LOAM",{"$f":"IF(AND(SUM('Texture Calculator'!$C$60:$C$66)='Texture Calculator'!$C$7,SUM($J$37:$J$44) = 0,'Texture Calculator'!#REF!+'Texture Calculator'!#REF!>=0.25, 'Texture Calculator'!$C$65>=0.5), 9, 0)","v":{"$error":"#REF!"}},"vcscs >= 25 && fs >= 50","FINE SANDY LOAM"]
[{"$f":"IF(AND(SUM('Texture Calculator'!$C$13:$C$17)='Texture Calculator'!$C$4,SUM($A$37:$A$45) = 0,'Texture Calculator'!$C$17>=0.3, 'Texture Calculator'!$C$13+'Texture Calculator'!$C$14+'Texture Calculator'!$C$15<0.15, 'Texture Calculator'!$C$17>'Texture Calculator'!$C$16), 10, 0)","v":0},"vfs >= 30 && vcscsms < 15 && vfs > fs","VERY FINE SANDY LOAM",{"$f":"IF(AND(SUM('Texture Calculator'!$C$26:$C$47)='Texture Calculator'!$C$5,SUM($D$37:$D$45) = 0,'Texture Calculator'!$C$47>=0.3, 'Texture Calculator'!$C$26+'Texture Calculator'!#REF!+'Texture Calculator'!#REF!<0.15, 'Texture Calculator'!$C$47>'Texture Calculator'!#REF!), 10, 0)","v":{"$error":"#REF!"}},"vfs >= 30 && vcscsms < 15 && vfs > fs","VERY FINE SANDY LOAM",{"$f":"IF(AND(SUM('Texture Calculator'!$C$52:$C$56)='Texture Calculator'!$C$6,SUM($G$37:$G$45) = 0,'Texture Calculator'!$C$56>=0.3, 'Texture Calculator'!#REF!+'Texture Calculator'!$C$53+'Texture Calculator'!$C$54<0.15, 'Texture Calculator'!$C$56>'Texture Calculator'!$C$55), 10, 0)","v":{"$error":"#REF!"}},"vfs >= 30 && vcscsms < 15 && vfs > fs","VERY FINE SANDY LOAM",{"$f":"IF(AND(SUM('Texture Calculator'!$C$60:$C$66)='Texture Calculator'!$C$7,SUM($J$37:$J$45) = 0,'Texture Calculator'!$C$66>=0.3, 'Texture Calculator'!#REF!+'Texture Calculator'!#REF!+'Texture Calculator'!$C$64<0.15, 'Texture Calculator'!$C$66>'Texture Calculator'!$C$65), 10, 0)","v":{"$error":"#REF!"}},"vfs >= 30 && vcscsms < 15 && vfs > fs","VERY FINE SANDY LOAM"]
[{"$f":"IF(AND(SUM('Texture Calculator'!$C$13:$C$17)='Texture Calculator'!$C$4,SUM($A$37:$A$46) = 0,'Texture Calculator'!$C$16+'Texture Calculator'!$C$17>=0.4, 'Texture Calculator'!$C$17>'Texture Calculator'!$C$16, 'Texture Calculator'!$C$13+'Texture Calculator'!$C$14+'Texture Calculator'!$C$15<15), 11, 0)","v":0},"fsvfs >= 40 && vfs > fs && vcscsms < 15","VERY FINE SANDY LOAM",{"$f":"IF(AND(SUM('Texture Calculator'!$C$26:$C$47)='Texture Calculator'!$C$5,SUM($D$37:$D$46) = 0,'Texture Calculator'!#REF!+'Texture Calculator'!$C$47>=0.4, 'Texture Calculator'!$C$47>'Texture Calculator'!#REF!, 'Texture Calculator'!$C$26+'Texture Calculator'!#REF!+'Texture Calculator'!#REF!<15), 11, 0)","v":{"$error":"#REF!"}},"fsvfs >= 40 && vfs > fs && vcscsms < 15","VERY FINE SANDY LOAM",{"$f":"IF(AND(SUM('Texture Calculator'!$C$52:$C$56)='Texture Calculator'!$C$6,SUM($G$37:$G$46) = 0,'Texture Calculator'!$C$55+'Texture Calculator'!$C$56>=0.4, 'Texture Calculator'!$C$56>'Texture Calculator'!$C$55, 'Texture Calculator'!#REF!+'Texture Calculator'!$C$53+'Texture Calculator'!$C$54<15), 11, 0)","v":{"$error":"#REF!"}},"fsvfs >= 40 && vfs > fs && vcscsms < 15","VERY FINE SANDY LOAM",{"$f":"IF(AND(SUM('Texture Calculator'!$C$60:$C$66)='Texture Calculator'!$C$7,SUM($J$37:$J$46) = 0,'Texture Calculator'!$C$65+'Texture Calculator'!$C$66>=0.4, 'Texture Calculator'!$C$66>'Texture Calculator'!$C$65, 'Texture Calculator'!#REF!+'Texture Calculator'!#REF!+'Texture Calculator'!$C$64<15), 11, 0)","v":{"$error":"#REF!"}},"fsvfs >= 40 && vfs > fs && vcscsms < 15","VERY FINE SANDY LOAM"]
[{"$f":"IF(AND(SUM('Texture Calculator'!$C$13:$C$17)='Texture Calculator'!$C$4,SUM($A$37:$A$47) = 0,'Texture Calculator'!$C$13+'Texture Calculator'!$C$14>=0.25, 'Texture Calculator'!$C$17>=0.5), 12, 0)","v":0},"vcscs >= 25 && vfs >= 50","VERY FINE SANDY LOAM",{"$f":"IF(AND(SUM('Texture Calculator'!$C$26:$C$47)='Texture Calculator'!$C$5,SUM($D$37:$D$47) = 0,'Texture Calculator'!$C$26+'Texture Calculator'!#REF!>=0.25, 'Texture Calculator'!$C$47>=0.5), 12, 0)","v":{"$error":"#REF!"}},"vcscs >= 25 && vfs >= 50","VERY FINE SANDY LOAM",{"$f":"IF(AND(SUM('Texture Calculator'!$C$52:$C$56)='Texture Calculator'!$C$6,SUM($G$37:$G$47) = 0,'Texture Calculator'!#REF!+'Texture Calculator'!$C$53>=0.25, 'Texture Calculator'!$C$56>=0.5), 12, 0)","v":{"$error":"#REF!"}},"vcscs >= 25 && vfs >= 50","VERY FINE SANDY LOAM",{"$f":"IF(AND(SUM('Texture Calculator'!$C$60:$C$66)='Texture Calculator'!$C$7,SUM($J$37:$J$47) = 0,'Texture Calculator'!#REF!+'Texture Calculator'!#REF!>=0.25, 'Texture Calculator'!$C$66>=0.5), 12, 0)","v":{"$error":"#REF!"}},"vcscs >= 25 && vfs >= 50","VERY FINE SANDY LOAM"]
[{"$f":"IF(AND(SUM('Texture Calculator'!$C$13:$C$17)='Texture Calculator'!$C$4,SUM($A$37:$A$48) = 0,'Texture Calculator'!$C$13+'Texture Calculator'!$C$14+'Texture Calculator'!$C$15>=0.3, 'Texture Calculator'!$C$17>=0.5), 13,0)","v":0},"vcscsms >= 30 && vfs >= 50","VERY FINE SANDY LOAM",{"$f":"IF(AND(SUM('Texture Calculator'!$C$26:$C$47)='Texture Calculator'!$C$5,SUM($D$37:$D$48) = 0,'Texture Calculator'!$C$26+'Texture Calculator'!#REF!+'Texture Calculator'!#REF!>=0.3, 'Texture Calculator'!$C$47>=0.5), 13,0)","v":{"$error":"#REF!"}},"vcscsms >= 30 && vfs >= 50","VERY FINE SANDY LOAM",{"$f":"IF(AND(SUM('Texture Calculator'!$C$52:$C$56)='Texture Calculator'!$C$6,SUM($G$37:$G$48) = 0,'Texture Calculator'!#REF!+'Texture Calculator'!$C$53+'Texture Calculator'!$C$54>=0.3, 'Texture Calculator'!$C$56>=0.5), 13,0)","v":{"$error":"#REF!"}},"vcscsms >= 30 && vfs >= 50","VERY FINE SANDY LOAM",{"$f":"IF(AND(SUM('Texture Calculator'!$C$60:$C$66)='Texture Calculator'!$C$7,SUM($J$37:$J$48) = 0,'Texture Calculator'!#REF!+'Texture Calculator'!#REF!+'Texture Calculator'!$C$64>=0.3, 'Texture Calculator'!$C$66>=0.5), 13,0)","v":{"$error":"#REF!"}},"vcscsms >= 30 && vfs >= 50","VERY FINE SANDY LOAM"]
[{"$f":"SUM(A37:A49)+1","v":1},null,null,{"$f":"SUM(D37:D49)+1","v":{"$error":"#REF!"}},null,null,{"$f":"SUM(G37:G49)+1","v":{"$error":"#REF!"}},null,null,{"$f":"SUM(J37:J49)+1","v":{"$error":"#REF!"}}]

{"sheet":"Sheet1","index":25,"n_rows":0,"n_cols":0,"rows_kept":0,"cut":false,"hidden":false,"merged":[]}